{"text_format":"1","workbook":"xlsx","n_sheets":8,"sheets":["DATOS","ESTUDIANTES","CERTIFICADO","FICHA","CARNET","LISTAS","EDAD","ESTADISTICAS"],"not_rendered":{"charts":2,"images":27,"macros":1,"external_links":0,"defined_names":5,"comments":2,"pivot_tables":0},"unopened":[],"bounds":{"document_bytes":16777216,"sheet_cells":100000,"rows_first":2000,"rows_last":500,"rows_between":2000,"halvings":0,"cell_chars":16384,"cell_head_chars":4096},"cells_cut":0,"cells_raw":0,"read":"whole","date_system":"1900"}

{"sheet":"DATOS","index":0,"n_rows":64,"n_cols":10,"rows_kept":64,"cut":false,"hidden":false,"merged":[[1,0,1,1],[20,0,27,1]]}
[]
["DATOS INFORMATIVOS INSTITUCIÓN",null,null,"N°","Grado/Curso","Nivel","Parelelo","Tutores",null,"MENÚ"]
["Institución:","COLEGIO BACHILLERATO PCEI \"SIN FRONTERAS\"","Matutina ",1,"Octavo Año","EGB",null,"DOCENTE ","SI"]
["Provincia:","IMBABURA","Vespertina",2,"Noveno Año","EGB",null,"DOCENTE ","NO"]
["Cuidad:","IBARRA","Nocturna",3,"Décimo Año","EGB",null,"DOCENTE ","M"]
["Parroquia:","SAGRARIO","Matutina-Vespertina",4,"Primer Año","BGU",null,"DOCENTE ","F"]
["Dirección:","BARTOLOME DE LAS CASA","Matutina-Vespertina-Nocturna",5,"Segundo Año","BGU",null,"DOCENTE ","MESTIZO"]
["Telefonos:",996618655,"Única",6,"Tercer Año","BGU",null,"DOCENTE ","AFRO ECUATORIANO"]
["Jornadas:","Matutina-Vespertina-Nocturna","Zona 1",7,null,null,null,null,"INDÍGENA"]
["Código Amei:",null,"Zona 2",8,null,null,null,null,"EXTRANJERO"]
["Circuito:",null,"Zona 3",9]
["Zona:",null,"Zona 4",10]
["Distrito:","10D01","Zona 5",11]
["Año Lectivo","2024 - 2025","Zona 6",12]
["Rector/a:","MSC. RENE CAMPOS","Zona 7",13]
["Vicerrector/a:",null,"Zona 8",14]
["Inspector/a:",null,"Zona 9",15]
["Secretario/a:",null,"2020 - 2021",16]
["Email :","prodisec9@gmail.com","2021 - 2022",17]
[null,null,"2022 - 2023",18]
[null,null,"2023 - 2024",19]
[null,null,"2024 - 2025",20]
[null,null,"2025 - 2026",21]
[null,null,"Inicial 1",22]
[null,null,"Inicial 2",23]
[null,null,"Primer Año",24]
[null,null,null,25]
[null,null,"Segundo Año",26]
[null,null,"Tercero Año",27]
[null,null,"Cuarto Año",28]
[null,null,null,29]
[null,null,"Quinto Año",30]
[null,null,"Sexto Año",31]
[null,null,"Séptimo Año",32]
[null,null,null,33]
[null,null,"Octavo Año",34]
[null,null,"Noveno Año",35]
[null,null,"Décimo Año",36]
[null,null,null,37]
[null,null,"Primer Año",38]
[null,null,"Segundo Año",39]
[null,null,"Tercer Año",40]
[null,null,"PREPARATORIA"]
[null,null,"EGB"]
[null,null,"BGU"]
[null,null,"BT"]
[null,null,"BTP"]
[null,null,"BI"]
[null,null,"BA"]
[null,null,"Único"]
[null,null,"\"A\""]
[null,null,"\"B\""]
[null,null,"\"C\""]
[null,null,"\"D\""]
[null,null,"\"E\""]
[null,null,"\"F\""]
[null,null,"\"G\""]
[null,null,"\"1\""]
[null,null,"\"2\""]
[null,null,"\"3\""]
[null,null,"\"4\""]
[null,null,"\"5\""]
[null,null,"\"6\""]
[null,null,"\"7\""]

{"sheet":"ESTUDIANTES","index":1,"n_rows":2003,"n_cols":35,"rows_kept":2003,"cut":false,"hidden":false,"merged":[[1,16,1,21],[1,22,1,27],[1,28,1,34],[1,3,1,15],[1,0,1,2]]}
[1,2,3,4,5,6,7,8,9,10,11,12,13,14,15,16,17,18,19,20,21,22,23,24,25,26,27,28,29,30,31,32,33,34,35]
[null,null,null,"DATOS ESTUDIANTE",null,null,null,null,null,null,null,null,null,null,null,null,"DATOS DEL PADRE",null,null,null,null,null,"DATOS DE LA MADRE",null,null,null,null,null,"DATOS GENERALES"]
["Fol.","M.","Nº","G/C","Nivel","Paralelo","Apellidos y Nombres","N° Cédula","Fecha N.","Años","Meses","Días","Cuidad N.","Provincia N.","País N.","Plantel Procedente","Nombre Padre","Cédula","Instrucción","Trabajo","T.Conv.","Movil","Nombre Madre","Cédula","Instrucción","Trabajo","T.Conv.","Movil","Dirección del Estudiante","Contacto E.","Hernanos/as","Descripción H.","Género","Etnía","Observaciones"]
[{"$f":"IF(B4=0,\"\",B4)","v":1},1,1,{"$f":"DATOS!E3","v":"Octavo Año"},{"$f":"DATOS!F3","v":"EGB"},{"$f":"DATOS!G3","v":0},"ACHIG OÑATE DONIMIC DANIEL",1757199672,"2016-02-03",{"$f":"DATEDIF(I4,TODAY(),\"Y\")","v":8},{"$f":"DATEDIF(I4,TODAY(),\"YM\")","v":3},{"$f":"DATEDIF(I4,TODAY(),\"MD\")","v":19},"QUITO","PICHINCHA ","ECUADOR","UEF NONO","RAUL ACHIG",1716783483,"PRIMARIA","JORNALERO","2786256","0969915051","NANCI OÑATE",1716533037,"PRIMARIA","AMA DE CASA","2786256","0995452867","NONO BARRIO LA CURVA","0961369225","SI","STEVEEN ACHIG 8°EGB","M","AFRO ECUATORIANO"]
[{"$f":"IF(B5=0,\"\",B5)","v":""},null,2,{"$f":"D4","v":"Octavo Año"},{"$f":"E4","v":"EGB"},{"$f":"F4","v":0},null,null,null,124,4,22]
["",null,3,{"$f":"D5","v":"Octavo Año"},"EGB",{"$f":"F5","v":0},null,null,null,124,4,22]
["",null,4,"Octavo Año","EGB",{"$f":"F6","v":0},null,null,null,124,4,22]
["",null,5,"Octavo Año","EGB",{"$f":"F7","v":0},null,null,null,124,4,22]
["",null,6,"Octavo Año","EGB",{"$f":"F8","v":0},null,null,null,124,4,22]
["",null,7,"Octavo Año","EGB",{"$f":"F9","v":0},null,null,null,124,4,22]
["",null,8,"Octavo Año","EGB",{"$f":"F10","v":0},null,null,null,124,4,22]
["",null,9,"Octavo Año","EGB",{"$f":"F11","v":0},null,null,null,124,4,22]
["",null,10,"Octavo Año","EGB",{"$f":"F12","v":0},null,null,null,124,4,22]
["",null,11,"Octavo Año","EGB",{"$f":"F13","v":0},null,null,null,124,4,22]
["",null,12,"Octavo Año","EGB",{"$f":"F14","v":0},null,null,null,124,4,22]
["",null,13,"Octavo Año","EGB",{"$f":"F15","v":0},null,null,null,124,4,22]
["",null,14,"Octavo Año","EGB",{"$f":"F16","v":0},null,null,null,124,4,22]
["",null,15,"Octavo Año","EGB",{"$f":"F17","v":0},null,null,null,124,4,22]
["",null,16,"Octavo Año","EGB",{"$f":"F18","v":0},null,null,null,124,4,22]
["",null,17,"Octavo Año","EGB",{"$f":"F19","v":0},null,null,null,124,4,22]
["",null,18,"Octavo Año","EGB",{"$f":"F20","v":0},null,null,null,124,4,22]
["",null,19,"Octavo Año","EGB",{"$f":"F21","v":0},null,null,null,124,4,22]
["",null,20,"Octavo Año","EGB",{"$f":"F22","v":0},null,null,null,124,4,22]
["",null,21,"Octavo Año","EGB",{"$f":"F23","v":0},null,null,null,124,4,22]
["",null,22,"Octavo Año","EGB",{"$f":"F24","v":0},null,null,null,124,4,22]
["",null,23,"Octavo Año","EGB",{"$f":"F25","v":0},null,null,null,124,4,22]
["",null,24,"Octavo Año","EGB",{"$f":"F26","v":0},null,null,null,124,4,22]
["",null,25,"Octavo Año","EGB",{"$f":"F27","v":0},null,null,null,124,4,22]
["",null,26,"Octavo Año","EGB",{"$f":"F28","v":0},null,null,null,124,4,22]
["",null,27,"Octavo Año","EGB",{"$f":"F29","v":0},null,null,null,124,4,22]
["",null,28,"Octavo Año","EGB",{"$f":"F30","v":0},null,null,null,124,4,22]
["",null,29,"Octavo Año","EGB",{"$f":"F31","v":0},null,null,null,124,4,22]
["",null,30,"Octavo Año","EGB",{"$f":"F32","v":0},null,null,null,124,4,22]
["",null,31,"Octavo Año","EGB",{"$f":"F33","v":0},null,null,null,124,4,22]
["",null,32,"Octavo Año","EGB",{"$f":"F34","v":0},null,null,null,124,4,22]
["",null,33,"Octavo Año","EGB",{"$f":"F35","v":0},null,null,null,124,4,22]
["",null,34,"Octavo Año","EGB",{"$f":"F36","v":0},null,null,null,124,4,22]
["",null,35,"Octavo Año","EGB",{"$f":"F37","v":0},null,null,null,124,4,22]
["",null,36,"Octavo Año","EGB",{"$f":"F38","v":0},null,null,null,124,4,22]
["",null,37,"Octavo Año","EGB",{"$f":"F39","v":0},null,null,null,124,4,22]
["",null,38,"Octavo Año","EGB",{"$f":"F40","v":0},null,null,null,124,4,22]
["",null,39,"Octavo Año","EGB",{"$f":"F41","v":0},null,null,null,124,4,22]
["",null,40,"Octavo Año","EGB",{"$f":"F42","v":0},null,null,null,124,4,22]
["",null,41,"Octavo Año","EGB",{"$f":"F43","v":0},null,null,null,124,4,22]
["",null,42,"Octavo Año","EGB",{"$f":"F44","v":0},null,null,null,124,4,22]
["",null,43,"Octavo Año","EGB",{"$f":"F45","v":0},null,null,null,124,4,22]
["",null,44,"Octavo Año","EGB",{"$f":"F46","v":0},null,null,null,124,4,22]
["",null,45,"Octavo Año","EGB",{"$f":"F47","v":0},null,null,null,124,4,22]
["",null,46,"Octavo Año","EGB",{"$f":"F48","v":0},null,null,null,124,4,22]
["",null,47,"Octavo Año","EGB",{"$f":"F49","v":0},null,null,null,124,4,22]
["",null,48,"Octavo Año","EGB",{"$f":"F50","v":0},null,null,null,124,4,22]
["",null,49,"Octavo Año","EGB",{"$f":"F51","v":0},null,null,null,124,4,22]
["",null,50,"Octavo Año","EGB",{"$f":"F52","v":0},null,null,null,124,4,22]
[2,2,1,{"$f":"DATOS!E4","v":"Noveno Año"},{"$f":"DATOS!F4","v":"EGB"},{"$f":"DATOS!G4","v":0},null,null,null,124,4,22]
["",null,2,{"$f":"D54","v":"Noveno Año"},{"$f":"E54","v":"EGB"},{"$f":"F54","v":0},null,null,null,124,4,22]
["",null,3,{"$f":"D55","v":"Noveno Año"},"EGB",{"$f":"F55","v":0},null,null,null,124,4,22]
["",null,4,"Noveno Año","EGB",{"$f":"F56","v":0},null,null,null,124,4,22]
["",null,5,"Noveno Año","EGB",{"$f":"F57","v":0},null,null,null,124,4,22]
["",null,6,"Noveno Año","EGB",{"$f":"F58","v":0},null,null,null,124,4,22]
["",null,7,"Noveno Año","EGB",{"$f":"F59","v":0},null,null,null,124,4,22]
["",null,8,"Noveno Año","EGB",{"$f":"F60","v":0},null,null,null,124,4,22]
["",null,9,"Noveno Año","EGB",{"$f":"F61","v":0},null,null,null,124,4,22]
["",null,10,"Noveno Año","EGB",{"$f":"F62","v":0},null,null,null,124,4,22]
["",null,11,"Noveno Año","EGB",{"$f":"F63","v":0},null,null,null,124,4,22]
["",null,12,"Noveno Año","EGB",{"$f":"F64","v":0},null,null,null,124,4,22]
["",null,13,"Noveno Año","EGB",{"$f":"F65","v":0},null,null,null,124,4,22]
["",null,14,"Noveno Año","EGB",{"$f":"F66","v":0},null,null,null,124,4,22]
["",null,15,"Noveno Año","EGB",{"$f":"F67","v":0},null,null,null,{"$f":"DATEDIF(I68,TODAY(),\"Y\")","v":124},{"$f":"DATEDIF(I68,TODAY(),\"YM\")","v":4},{"$f":"DATEDIF(I68,TODAY(),\"MD\")","v":22}]
[{"$f":"IF(B69=0,\"\",B69)","v":""},null,16,"Noveno Año","EGB",{"$f":"F68","v":0},null,null,null,124,4,22]
["",null,17,"Noveno Año","EGB",{"$f":"F69","v":0},null,null,null,124,4,22]
["",null,18,"Noveno Año","EGB",{"$f":"F70","v":0},null,null,null,124,4,22]
["",null,19,"Noveno Año","EGB",{"$f":"F71","v":0},null,null,null,124,4,22]
["",null,20,"Noveno Año","EGB",{"$f":"F72","v":0},null,null,null,124,4,22]
["",null,21,"Noveno Año","EGB",{"$f":"F73","v":0},null,null,null,124,4,22]
["",null,22,"Noveno Año","EGB",{"$f":"F74","v":0},null,null,null,124,4,22]
["",null,23,"Noveno Año","EGB",{"$f":"F75","v":0},null,null,null,124,4,22]
["",null,24,"Noveno Año","EGB",{"$f":"F76","v":0},null,null,null,124,4,22]
["",null,25,"Noveno Año","EGB",{"$f":"F77","v":0},null,null,null,124,4,22]
["",null,26,"Noveno Año","EGB",{"$f":"F78","v":0},null,null,null,124,4,22]
["",null,27,"Noveno Año","EGB",{"$f":"F79","v":0},null,null,null,124,4,22]
["",null,28,"Noveno Año","EGB",{"$f":"F80","v":0},null,null,null,124,4,22]
["",null,29,"Noveno Año","EGB",{"$f":"F81","v":0},null,null,null,124,4,22]
["",null,30,"Noveno Año","EGB",{"$f":"F82","v":0},null,null,null,124,4,22]
["",null,31,"Noveno Año","EGB",{"$f":"F83","v":0},null,null,null,124,4,22]
["",null,32,"Noveno Año","EGB",{"$f":"F84","v":0},null,null,null,124,4,22]
["",null,33,"Noveno Año","EGB",{"$f":"F85","v":0},null,null,null,124,4,22]
["",null,34,"Noveno Año","EGB",{"$f":"F86","v":0},null,null,null,124,4,22]
["",null,35,"Noveno Año","EGB",{"$f":"F87","v":0},null,null,null,124,4,22]
["",null,36,"Noveno Año","EGB",{"$f":"F88","v":0},null,null,null,124,4,22]
["",null,37,"Noveno Año","EGB",{"$f":"F89","v":0},null,null,null,124,4,22]
["",null,38,"Noveno Año","EGB",{"$f":"F90","v":0},null,null,null,124,4,22]
["",null,39,"Noveno Año","EGB",{"$f":"F91","v":0},null,null,null,124,4,22]
["",null,40,"Noveno Año","EGB",{"$f":"F92","v":0},null,null,null,124,4,22]
["",null,41,"Noveno Año","EGB",{"$f":"F93","v":0},null,null,null,124,4,22]
["",null,42,"Noveno Año","EGB",{"$f":"F94","v":0},null,null,null,124,4,22]
["",null,43,"Noveno Año","EGB",{"$f":"F95","v":0},null,null,null,124,4,22]
["",null,44,"Noveno Año","EGB",{"$f":"F96","v":0},null,null,null,124,4,22]
["",null,45,"Noveno Año","EGB",{"$f":"F97","v":0},null,null,null,124,4,22]
["",null,46,"Noveno Año","EGB",{"$f":"F98","v":0},null,null,null,124,4,22]
["",null,47,"Noveno Año","EGB",{"$f":"F99","v":0},null,null,null,124,4,22]
["",null,48,"Noveno Año","EGB",{"$f":"F100","v":0},null,null,null,124,4,22]
["",null,49,"Noveno Año","EGB",{"$f":"F101","v":0},null,null,null,124,4,22]
["",null,50,"Noveno Año","EGB",{"$f":"F102","v":0},null,null,null,124,4,22]
[{"$f":"IF(B104=0,\"\",B104)","v":22},22,1,{"$f":"DATOS!E5","v":"Décimo Año"},{"$f":"DATOS!F5","v":"EGB"},{"$f":"DATOS!G5","v":0},null,null,null,124,4,22]
[23,23,2,{"$f":"D104","v":"Décimo Año"},{"$f":"E104","v":"EGB"},{"$f":"F104","v":0},null,null,null,124,4,22]
[24,24,3,{"$f":"D105","v":"Décimo Año"},"EGB",{"$f":"F105","v":0},null,null,null,124,4,22]
[25,25,4,"Décimo Año","EGB",{"$f":"F106","v":0},null,null,null,124,4,22]
[26,26,5,"Décimo Año","EGB",{"$f":"F107","v":0},null,null,null,124,4,22]
[27,27,6,"Décimo Año","EGB",{"$f":"F108","v":0},null,null,null,124,4,22]
[28,28,7,"Décimo Año","EGB",{"$f":"F109","v":0},null,null,null,124,4,22]
[29,29,8,"Décimo Año","EGB",{"$f":"F110","v":0},null,null,null,124,4,22]
[30,30,9,"Décimo Año","EGB",{"$f":"F111","v":0},null,null,null,124,4,22]
[31,31,10,"Décimo Año","EGB",{"$f":"F112","v":0},null,null,null,124,4,22]
[32,32,11,"Décimo Año","EGB",{"$f":"F113","v":0},null,null,null,124,4,22]
[33,33,12,"Décimo Año","EGB",{"$f":"F114","v":0},null,null,null,124,4,22]
[34,34,13,"Décimo Año","EGB",{"$f":"F115","v":0},null,null,null,124,4,22]
[35,35,14,"Décimo Año","EGB",{"$f":"F116","v":0},null,null,null,124,4,22]
[36,36,15,"Décimo Año","EGB",{"$f":"F117","v":0},null,null,null,124,4,22]
[37,37,16,"Décimo Año","EGB",{"$f":"F118","v":0},null,null,null,124,4,22]
[38,38,17,"Décimo Año","EGB",{"$f":"F119","v":0},null,null,null,124,4,22]
[39,39,18,"Décimo Año","EGB",{"$f":"F120","v":0},null,null,null,124,4,22]
[40,40,19,"Décimo Año","EGB",{"$f":"F121","v":0},null,null,null,124,4,22]
["",null,20,"Décimo Año","EGB",{"$f":"F122","v":0},null,null,null,124,4,22]
["",null,21,"Décimo Año","EGB",{"$f":"F123","v":0},null,null,null,124,4,22]
["",null,22,"Décimo Año","EGB",{"$f":"F124","v":0},null,null,null,124,4,22]
["",null,23,"Décimo Año","EGB",{"$f":"F125","v":0},null,null,null,124,4,22]
["",null,24,"Décimo Año","EGB",{"$f":"F126","v":0},null,null,null,124,4,22]
["",null,25,"Décimo Año","EGB",{"$f":"F127","v":0},null,null,null,124,4,22]
["",null,26,"Décimo Año","EGB",{"$f":"F128","v":0},null,null,null,124,4,22]
["",null,27,"Décimo Año","EGB",{"$f":"F129","v":0},null,null,null,124,4,22]
["",null,28,"Décimo Año","EGB",{"$f":"F130","v":0},null,null,null,124,4,22]
["",null,29,"Décimo Año","EGB",{"$f":"F131","v":0},null,null,null,{"$f":"DATEDIF(I132,TODAY(),\"Y\")","v":124},{"$f":"DATEDIF(I132,TODAY(),\"YM\")","v":4},{"$f":"DATEDIF(I132,TODAY(),\"MD\")","v":22}]
[{"$f":"IF(B133=0,\"\",B133)","v":""},null,30,"Décimo Año","EGB",{"$f":"F132","v":0},null,null,null,124,4,22]
["",null,31,"Décimo Año","EGB",{"$f":"F133","v":0},null,null,null,124,4,22]
["",null,32,"Décimo Año","EGB",{"$f":"F134","v":0},null,null,null,124,4,22]
["",null,33,"Décimo Año","EGB",{"$f":"F135","v":0},null,null,null,124,4,22]
["",null,34,"Décimo Año","EGB",{"$f":"F136","v":0},null,null,null,124,4,22]
["",null,35,"Décimo Año","EGB",{"$f":"F137","v":0},null,null,null,124,4,22]
["",null,36,"Décimo Año","EGB",{"$f":"F138","v":0},null,null,null,124,4,22]
["",null,37,"Décimo Año","EGB",{"$f":"F139","v":0},null,null,null,124,4,22]
["",null,38,"Décimo Año","EGB",{"$f":"F140","v":0},null,null,null,124,4,22]
["",null,39,"Décimo Año","EGB",{"$f":"F141","v":0},null,null,null,124,4,22]
["",null,40,"Décimo Año","EGB",{"$f":"F142","v":0},null,null,null,124,4,22]
["",null,41,"Décimo Año","EGB",{"$f":"F143","v":0},null,null,null,124,4,22]
["",null,42,"Décimo Año","EGB",{"$f":"F144","v":0},null,null,null,124,4,22]
["",null,43,"Décimo Año","EGB",{"$f":"F145","v":0},null,null,null,124,4,22]
["",null,44,"Décimo Año","EGB",{"$f":"F146","v":0},null,null,null,124,4,22]
["",null,45,"Décimo Año","EGB",{"$f":"F147","v":0},null,null,null,124,4,22]
["",null,46,"Décimo Año","EGB",{"$f":"F148","v":0},null,null,null,124,4,22]
["",null,47,"Décimo Año","EGB",{"$f":"F149","v":0},null,null,null,124,4,22]
["",null,48,"Décimo Año","EGB",{"$f":"F150","v":0},null,null,null,124,4,22]
["",null,49,"Décimo Año","EGB",{"$f":"F151","v":0},null,null,null,124,4,22]
["",null,50,"Décimo Año","EGB",{"$f":"F152","v":0},null,null,null,124,4,22]
["",null,1,{"$f":"DATOS!E6","v":"Primer Año"},{"$f":"DATOS!F6","v":"BGU"},{"$f":"DATOS!G6","v":0},null,null,null,124,4,22]
["",null,2,{"$f":"D154","v":"Primer Año"},{"$f":"E154","v":"BGU"},{"$f":"F154","v":0},null,null,null,124,4,22]
["",null,3,{"$f":"D155","v":"Primer Año"},"BGU",{"$f":"F155","v":0},null,null,null,124,4,22]
["",null,4,"Primer Año","BGU",{"$f":"F156","v":0},null,null,null,124,4,22]
["",null,5,"Primer Año","BGU",{"$f":"F157","v":0},null,null,null,124,4,22]
["",null,6,"Primer Año","BGU",{"$f":"F158","v":0},null,null,null,124,4,22]
["",null,7,"Primer Año","BGU",{"$f":"F159","v":0},null,null,null,124,4,22]
["",null,8,"Primer Año","BGU",{"$f":"F160","v":0},null,null,null,124,4,22]
["",null,9,"Primer Año","BGU",{"$f":"F161","v":0},null,null,null,124,4,22]
["",null,10,"Primer Año","BGU",{"$f":"F162","v":0},null,null,null,124,4,22]
["",null,11,"Primer Año","BGU",{"$f":"F163","v":0},null,null,null,124,4,22]
["",null,12,"Primer Año","BGU",{"$f":"F164","v":0},null,null,null,124,4,22]
["",null,13,"Primer Año","BGU",{"$f":"F165","v":0},null,null,null,124,4,22]
["",null,14,"Primer Año","BGU",{"$f":"F166","v":0},null,null,null,124,4,22]
["",null,15,"Primer Año","BGU",{"$f":"F167","v":0},null,null,null,124,4,22]
["",null,16,"Primer Año","BGU",{"$f":"F168","v":0},null,null,null,124,4,22]
["",null,17,"Primer Año","BGU",{"$f":"F169","v":0},null,null,null,124,4,22]
["",null,18,"Primer Año","BGU",{"$f":"F170","v":0},null,null,null,124,4,22]
["",null,19,"Primer Año","BGU",{"$f":"F171","v":0},null,null,null,124,4,22]
["",null,20,"Primer Año","BGU",{"$f":"F172","v":0},null,null,null,124,4,22]
["",null,21,"Primer Año","BGU",{"$f":"F173","v":0},null,null,null,124,4,22]
["",null,22,"Primer Año","BGU",{"$f":"F174","v":0},null,null,null,124,4,22]
["",null,23,"Primer Año","BGU",{"$f":"F175","v":0},null,null,null,124,4,22]
["",null,24,"Primer Año","BGU",{"$f":"F176","v":0},null,null,null,124,4,22]
["",null,25,"Primer Año","BGU",{"$f":"F177","v":0},null,null,null,124,4,22]
["",null,26,"Primer Año","BGU",{"$f":"F178","v":0},null,null,null,124,4,22]
["",null,27,"Primer Año","BGU",{"$f":"F179","v":0},null,null,null,124,4,22]
["",null,28,"Primer Año","BGU",{"$f":"F180","v":0},null,null,null,124,4,22]
["",null,29,"Primer Año","BGU",{"$f":"F181","v":0},null,null,null,124,4,22]
["",null,30,"Primer Año","BGU",{"$f":"F182","v":0},null,null,null,124,4,22]
["",null,31,"Primer Año","BGU",{"$f":"F183","v":0},null,null,null,124,4,22]
["",null,32,"Primer Año","BGU",{"$f":"F184","v":0},null,null,null,124,4,22]
["",null,33,"Primer Año","BGU",{"$f":"F185","v":0},null,null,null,124,4,22]
["",null,34,"Primer Año","BGU",{"$f":"F186","v":0},null,null,null,124,4,22]
["",null,35,"Primer Año","BGU",{"$f":"F187","v":0},null,null,null,124,4,22]
["",null,36,"Primer Año","BGU",{"$f":"F188","v":0},null,null,null,124,4,22]
["",null,37,"Primer Año","BGU",{"$f":"F189","v":0},null,null,null,124,4,22]
["",null,38,"Primer Año","BGU",{"$f":"F190","v":0},null,null,null,124,4,22]
["",null,39,"Primer Año","BGU",{"$f":"F191","v":0},null,null,null,124,4,22]
["",null,40,"Primer Año","BGU",{"$f":"F192","v":0},null,null,null,124,4,22]
["",null,41,"Primer Año","BGU",{"$f":"F193","v":0},null,null,null,124,4,22]
["",null,42,"Primer Año","BGU",{"$f":"F194","v":0},null,null,null,124,4,22]
["",null,43,"Primer Año","BGU",{"$f":"F195","v":0},null,null,null,{"$f":"DATEDIF(I196,TODAY(),\"Y\")","v":124},{"$f":"DATEDIF(I196,TODAY(),\"YM\")","v":4},{"$f":"DATEDIF(I196,TODAY(),\"MD\")","v":22}]
[{"$f":"IF(B197=0,\"\",B197)","v":""},null,44,"Primer Año","BGU",{"$f":"F196","v":0},null,null,null,124,4,22]
["",null,45,"Primer Año","BGU",{"$f":"F197","v":0},null,null,null,124,4,22]
["",null,46,"Primer Año","BGU",{"$f":"F198","v":0},null,null,null,124,4,22]
["",null,47,"Primer Año","BGU",{"$f":"F199","v":0},null,null,null,124,4,22]
["",null,48,"Primer Año","BGU",{"$f":"F200","v":0},null,null,null,124,4,22]
["",null,49,"Primer Año","BGU",{"$f":"F201","v":0},null,null,null,124,4,22]
["",null,50,"Primer Año","BGU",{"$f":"F202","v":0},null,null,null,124,4,22]
["",null,1,{"$f":"DATOS!E7","v":"Segundo Año"},{"$f":"DATOS!F7","v":"BGU"},{"$f":"DATOS!G7","v":0},null,null,null,124,4,22]
["",null,2,{"$f":"D204","v":"Segundo Año"},{"$f":"E204","v":"BGU"},{"$f":"F204","v":0},null,null,null,124,4,22]
["",null,3,{"$f":"D205","v":"Segundo Año"},"BGU",{"$f":"F205","v":0},null,null,null,124,4,22]
["",null,4,"Segundo Año","BGU",{"$f":"F206","v":0},null,null,null,124,4,22]
["",null,5,"Segundo Año","BGU",{"$f":"F207","v":0},null,null,null,124,4,22]
["",null,6,"Segundo Año","BGU",{"$f":"F208","v":0},null,null,null,124,4,22]
["",null,7,"Segundo Año","BGU",{"$f":"F209","v":0},null,null,null,124,4,22]
["",null,8,"Segundo Año","BGU",{"$f":"F210","v":0},null,null,null,124,4,22]
["",null,9,"Segundo Año","BGU",{"$f":"F211","v":0},null,null,null,124,4,22]
["",null,10,"Segundo Año","BGU",{"$f":"F212","v":0},null,null,null,124,4,22]
["",null,11,"Segundo Año","BGU",{"$f":"F213","v":0},null,null,null,124,4,22]
["",null,12,"Segundo Año","BGU",{"$f":"F214","v":0},null,null,null,124,4,22]
["",null,13,"Segundo Año","BGU",{"$f":"F215","v":0},null,null,null,124,4,22]
["",null,14,"Segundo Año","BGU",{"$f":"F216","v":0},null,null,null,124,4,22]
["",null,15,"Segundo Año","BGU",{"$f":"F217","v":0},null,null,null,124,4,22]
["",null,16,"Segundo Año","BGU",{"$f":"F218","v":0},null,null,null,124,4,22]
["",null,17,"Segundo Año","BGU",{"$f":"F219","v":0},null,null,null,124,4,22]
["",null,18,"Segundo Año","BGU",{"$f":"F220","v":0},null,null,null,124,4,22]
["",null,19,"Segundo Año","BGU",{"$f":"F221","v":0},null,null,null,124,4,22]
["",null,20,"Segundo Año","BGU",{"$f":"F222","v":0},null,null,null,124,4,22]
["",null,21,"Segundo Año","BGU",{"$f":"F223","v":0},null,null,null,124,4,22]
["",null,22,"Segundo Año","BGU",{"$f":"F224","v":0},null,null,null,124,4,22]
["",null,23,"Segundo Año","BGU",{"$f":"F225","v":0},null,null,null,124,4,22]
["",null,24,"Segundo Año","BGU",{"$f":"F226","v":0},null,null,null,124,4,22]
["",null,25,"Segundo Año","BGU",{"$f":"F227","v":0},null,null,null,124,4,22]
["",null,26,"Segundo Año","BGU",{"$f":"F228","v":0},null,null,null,124,4,22]
["",null,27,"Segundo Año","BGU",{"$f":"F229","v":0},null,null,null,124,4,22]
["",null,28,"Segundo Año","BGU",{"$f":"F230","v":0},null,null,null,124,4,22]
["",null,29,"Segundo Año","BGU",{"$f":"F231","v":0},null,null,null,124,4,22]
["",null,30,"Segundo Año","BGU",{"$f":"F232","v":0},null,null,null,124,4,22]
["",null,31,"Segundo Año","BGU",{"$f":"F233","v":0},null,null,null,124,4,22]
["",null,32,"Segundo Año","BGU",{"$f":"F234","v":0},null,null,null,124,4,22]
["",null,33,"Segundo Año","BGU",{"$f":"F235","v":0},null,null,null,124,4,22]
["",null,34,"Segundo Año","BGU",{"$f":"F236","v":0},null,null,null,124,4,22]
["",null,35,"Segundo Año","BGU",{"$f":"F237","v":0},null,null,null,124,4,22]
["",null,36,"Segundo Año","BGU",{"$f":"F238","v":0},null,null,null,124,4,22]
["",null,37,"Segundo Año","BGU",{"$f":"F239","v":0},null,null,null,124,4,22]
["",null,38,"Segundo Año","BGU",{"$f":"F240","v":0},null,null,null,124,4,22]
["",null,39,"Segundo Año","BGU",{"$f":"F241","v":0},null,null,null,124,4,22]
["",null,40,"Segundo Año","BGU",{"$f":"F242","v":0},null,null,null,124,4,22]
["",null,41,"Segundo Año","BGU",{"$f":"F243","v":0},null,null,null,124,4,22]
["",null,42,"Segundo Año","BGU",{"$f":"F244","v":0},null,null,null,124,4,22]
["",null,43,"Segundo Año","BGU",{"$f":"F245","v":0},null,null,null,124,4,22]
["",null,44,"Segundo Año","BGU",{"$f":"F246","v":0},null,null,null,124,4,22]
["",null,45,"Segundo Año","BGU",{"$f":"F247","v":0},null,null,null,124,4,22]
["",null,46,"Segundo Año","BGU",{"$f":"F248","v":0},null,null,null,124,4,22]
["",null,47,"Segundo Año","BGU",{"$f":"F249","v":0},null,null,null,124,4,22]
["",null,48,"Segundo Año","BGU",{"$f":"F250","v":0},null,null,null,124,4,22]
["",null,49,"Segundo Año","BGU",{"$f":"F251","v":0},null,null,null,124,4,22]
["",null,50,"Segundo Año","BGU",{"$f":"F252","v":0},null,null,null,124,4,22]
["",null,1,{"$f":"DATOS!E8","v":"Tercer Año"},{"$f":"DATOS!F8","v":"BGU"},{"$f":"DATOS!G8","v":0},null,null,null,124,4,22]
["",null,2,{"$f":"D254","v":"Tercer Año"},{"$f":"E254","v":"BGU"},{"$f":"F254","v":0},null,null,null,124,4,22]
["",null,3,{"$f":"D255","v":"Tercer Año"},"BGU",{"$f":"F255","v":0},null,null,null,124,4,22]
["",null,4,"Tercer Año","BGU",{"$f":"F256","v":0},null,null,null,124,4,22]
["",null,5,"Tercer Año","BGU",{"$f":"F257","v":0},null,null,null,124,4,22]
["",null,6,"Tercer Año","BGU",{"$f":"F258","v":0},null,null,null,124,4,22]
["",null,7,"Tercer Año","BGU",{"$f":"F259","v":0},null,null,null,{"$f":"DATEDIF(I260,TODAY(),\"Y\")","v":124},{"$f":"DATEDIF(I260,TODAY(),\"YM\")","v":4},{"$f":"DATEDIF(I260,TODAY(),\"MD\")","v":22}]
[{"$f":"IF(B261=0,\"\",B261)","v":""},null,8,"Tercer Año","BGU",{"$f":"F260","v":0},null,null,null,124,4,22]
["",null,9,"Tercer Año","BGU",{"$f":"F261","v":0},null,null,null,124,4,22]
["",null,10,"Tercer Año","BGU",{"$f":"F262","v":0},null,null,null,124,4,22]
["",null,11,"Tercer Año","BGU",{"$f":"F263","v":0},null,null,null,124,4,22]
["",null,12,"Tercer Año","BGU",{"$f":"F264","v":0},null,null,null,124,4,22]
["",null,13,"Tercer Año","BGU",{"$f":"F265","v":0},null,null,null,124,4,22]
["",null,14,"Tercer Año","BGU",{"$f":"F266","v":0},null,null,null,124,4,22]
["",null,15,"Tercer Año","BGU",{"$f":"F267","v":0},null,null,null,124,4,22]
["",null,16,"Tercer Año","BGU",{"$f":"F268","v":0},null,null,null,124,4,22]
["",null,17,"Tercer Año","BGU",{"$f":"F269","v":0},null,null,null,124,4,22]
["",null,18,"Tercer Año","BGU",{"$f":"F270","v":0},null,null,null,124,4,22]
["",null,19,"Tercer Año","BGU",{"$f":"F271","v":0},null,null,null,124,4,22]
["",null,20,"Tercer Año","BGU",{"$f":"F272","v":0},null,null,null,124,4,22]
["",null,21,"Tercer Año","BGU",{"$f":"F273","v":0},null,null,null,124,4,22]
["",null,22,"Tercer Año","BGU",{"$f":"F274","v":0},null,null,null,124,4,22]
["",null,23,"Tercer Año","BGU",{"$f":"F275","v":0},null,null,null,124,4,22]
["",null,24,"Tercer Año","BGU",{"$f":"F276","v":0},null,null,null,124,4,22]
["",null,25,"Tercer Año","BGU",{"$f":"F277","v":0},null,null,null,124,4,22]
["",null,26,"Tercer Año","BGU",{"$f":"F278","v":0},null,null,null,124,4,22]
["",null,27,"Tercer Año","BGU",{"$f":"F279","v":0},null,null,null,124,4,22]
["",null,28,"Tercer Año","BGU",{"$f":"F280","v":0},null,null,null,124,4,22]
["",null,29,"Tercer Año","BGU",{"$f":"F281","v":0},null,null,null,124,4,22]
["",null,30,"Tercer Año","BGU",{"$f":"F282","v":0},null,null,null,124,4,22]
["",null,31,"Tercer Año","BGU",{"$f":"F283","v":0},null,null,null,124,4,22]
["",null,32,"Tercer Año","BGU",{"$f":"F284","v":0},null,null,null,124,4,22]
["",null,33,"Tercer Año","BGU",{"$f":"F285","v":0},null,null,null,124,4,22]
["",null,34,"Tercer Año","BGU",{"$f":"F286","v":0},null,null,null,124,4,22]
["",null,35,"Tercer Año","BGU",{"$f":"F287","v":0},null,null,null,124,4,22]
["",null,36,"Tercer Año","BGU",{"$f":"F288","v":0},null,null,null,124,4,22]
["",null,37,"Tercer Año","BGU",{"$f":"F289","v":0},null,null,null,124,4,22]
["",null,38,"Tercer Año","BGU",{"$f":"F290","v":0},null,null,null,124,4,22]
["",null,39,"Tercer Año","BGU",{"$f":"F291","v":0},null,null,null,124,4,22]
["",null,40,"Tercer Año","BGU",{"$f":"F292","v":0},null,null,null,124,4,22]
["",null,41,"Tercer Año","BGU",{"$f":"F293","v":0},null,null,null,124,4,22]
["",null,42,"Tercer Año","BGU",{"$f":"F294","v":0},null,null,null,124,4,22]
["",null,43,"Tercer Año","BGU",{"$f":"F295","v":0},null,null,null,124,4,22]
["",null,44,"Tercer Año","BGU",{"$f":"F296","v":0},null,null,null,124,4,22]
["",null,45,"Tercer Año","BGU",{"$f":"F297","v":0},null,null,null,124,4,22]
["",null,46,"Tercer Año","BGU",{"$f":"F298","v":0},null,null,null,124,4,22]
["",null,47,"Tercer Año","BGU",{"$f":"F299","v":0},null,null,null,124,4,22]
["",null,48,"Tercer Año","BGU",{"$f":"F300","v":0},null,null,null,124,4,22]
["",null,49,"Tercer Año","BGU",{"$f":"F301","v":0},null,null,null,124,4,22]
["",null,50,"Tercer Año","BGU",{"$f":"F302","v":0},null,null,null,124,4,22]
["",null,1,{"$f":"DATOS!E9","v":0},{"$f":"DATOS!F9","v":0},{"$f":"DATOS!G9","v":0},null,null,null,124,4,22]
["",null,2,{"$f":"D304","v":0},{"$f":"E304","v":0},{"$f":"F304","v":0},null,null,null,124,4,22]
["",null,3,{"$f":"D305","v":0},0,{"$f":"F305","v":0},null,null,null,124,4,22]
["",null,4,0,0,{"$f":"F306","v":0},null,null,null,124,4,22]
["",null,5,0,0,{"$f":"F307","v":0},null,null,null,124,4,22]
["",null,6,0,0,{"$f":"F308","v":0},null,null,null,124,4,22]
["",null,7,0,0,{"$f":"F309","v":0},null,null,null,124,4,22]
["",null,8,0,0,{"$f":"F310","v":0},null,null,null,124,4,22]
["",null,9,0,0,{"$f":"F311","v":0},null,null,null,124,4,22]
["",null,10,0,0,{"$f":"F312","v":0},null,null,null,124,4,22]
["",null,11,0,0,{"$f":"F313","v":0},null,null,null,124,4,22]
["",null,12,0,0,{"$f":"F314","v":0},null,null,null,124,4,22]
["",null,13,0,0,{"$f":"F315","v":0},null,null,null,124,4,22]
["",null,14,0,0,{"$f":"F316","v":0},null,null,null,124,4,22]
["",null,15,0,0,{"$f":"F317","v":0},null,null,null,124,4,22]
["",null,16,0,0,{"$f":"F318","v":0},null,null,null,124,4,22]
["",null,17,0,0,{"$f":"F319","v":0},null,null,null,124,4,22]
["",null,18,0,0,{"$f":"F320","v":0},null,null,null,124,4,22]
["",null,19,0,0,{"$f":"F321","v":0},null,null,null,124,4,22]
["",null,20,0,0,{"$f":"F322","v":0},null,null,null,124,4,22]
["",null,21,0,0,{"$f":"F323","v":0},null,null,null,{"$f":"DATEDIF(I324,TODAY(),\"Y\")","v":124},{"$f":"DATEDIF(I324,TODAY(),\"YM\")","v":4},{"$f":"DATEDIF(I324,TODAY(),\"MD\")","v":22}]
[{"$f":"IF(B325=0,\"\",B325)","v":""},null,22,0,0,{"$f":"F324","v":0},null,null,null,124,4,22]
["",null,23,0,0,{"$f":"F325","v":0},null,null,null,124,4,22]
["",null,24,0,0,{"$f":"F326","v":0},null,null,null,124,4,22]
["",null,25,0,0,{"$f":"F327","v":0},null,null,null,124,4,22]
["",null,26,0,0,{"$f":"F328","v":0},null,null,null,124,4,22]
["",null,27,0,0,{"$f":"F329","v":0},null,null,null,124,4,22]
["",null,28,0,0,{"$f":"F330","v":0},null,null,null,124,4,22]
["",null,29,0,0,{"$f":"F331","v":0},null,null,null,124,4,22]
["",null,30,0,0,{"$f":"F332","v":0},null,null,null,124,4,22]
["",null,31,0,0,{"$f":"F333","v":0},null,null,null,124,4,22]
["",null,32,0,0,{"$f":"F334","v":0},null,null,null,124,4,22]
["",null,33,0,0,{"$f":"F335","v":0},null,null,null,124,4,22]
["",null,34,0,0,{"$f":"F336","v":0},null,null,null,124,4,22]
["",null,35,0,0,{"$f":"F337","v":0},null,null,null,124,4,22]
["",null,36,0,0,{"$f":"F338","v":0},null,null,null,124,4,22]
["",null,37,0,0,{"$f":"F339","v":0},null,null,null,124,4,22]
["",null,38,0,0,{"$f":"F340","v":0},null,null,null,124,4,22]
["",null,39,0,0,{"$f":"F341","v":0},null,null,null,124,4,22]
["",null,40,0,0,{"$f":"F342","v":0},null,null,null,124,4,22]
["",null,41,0,0,{"$f":"F343","v":0},null,null,null,124,4,22]
["",null,42,0,0,{"$f":"F344","v":0},null,null,null,124,4,22]
["",null,43,0,0,{"$f":"F345","v":0},null,null,null,124,4,22]
["",null,44,0,0,{"$f":"F346","v":0},null,null,null,124,4,22]
["",null,45,0,0,{"$f":"F347","v":0},null,null,null,124,4,22]
["",null,46,0,0,{"$f":"F348","v":0},null,null,null,124,4,22]
["",null,47,0,0,{"$f":"F349","v":0},null,null,null,124,4,22]
["",null,48,0,0,{"$f":"F350","v":0},null,null,null,124,4,22]
["",null,49,0,0,{"$f":"F351","v":0},null,null,null,124,4,22]
["",null,50,0,0,{"$f":"F352","v":0},null,null,null,124,4,22]
["",null,1,{"$f":"DATOS!E10","v":0},{"$f":"DATOS!F10","v":0},{"$f":"DATOS!G10","v":0},null,null,null,124,4,22]
["",null,2,{"$f":"D354","v":0},{"$f":"E354","v":0},{"$f":"F354","v":0},null,null,null,124,4,22]
["",null,3,{"$f":"D355","v":0},0,{"$f":"F355","v":0},null,null,null,124,4,22]
["",null,4,0,0,{"$f":"F356","v":0},null,null,null,124,4,22]
["",null,5,0,0,{"$f":"F357","v":0},null,null,null,124,4,22]
["",null,6,0,0,{"$f":"F358","v":0},null,null,null,124,4,22]
["",null,7,0,0,{"$f":"F359","v":0},null,null,null,124,4,22]
["",null,8,0,0,{"$f":"F360","v":0},null,null,null,124,4,22]
["",null,9,0,0,{"$f":"F361","v":0},null,null,null,124,4,22]
["",null,10,0,0,{"$f":"F362","v":0},null,null,null,124,4,22]
["",null,11,0,0,{"$f":"F363","v":0},null,null,null,124,4,22]
["",null,12,0,0,{"$f":"F364","v":0},null,null,null,124,4,22]
["",null,13,0,0,{"$f":"F365","v":0},null,null,null,124,4,22]
["",null,14,0,0,{"$f":"F366","v":0},null,null,null,124,4,22]
["",null,15,0,0,{"$f":"F367","v":0},null,null,null,124,4,22]
["",null,16,0,0,{"$f":"F368","v":0},null,null,null,124,4,22]
["",null,17,0,0,{"$f":"F369","v":0},null,null,null,124,4,22]
["",null,18,0,0,{"$f":"F370","v":0},null,null,null,124,4,22]
["",null,19,0,0,{"$f":"F371","v":0},null,null,null,124,4,22]
["",null,20,0,0,{"$f":"F372","v":0},null,null,null,124,4,22]
["",null,21,0,0,{"$f":"F373","v":0},null,null,null,124,4,22]
["",null,22,0,0,{"$f":"F374","v":0},null,null,null,124,4,22]
["",null,23,0,0,{"$f":"F375","v":0},null,null,null,124,4,22]
["",null,24,0,0,{"$f":"F376","v":0},null,null,null,124,4,22]
["",null,25,0,0,{"$f":"F377","v":0},null,null,null,124,4,22]
["",null,26,0,0,{"$f":"F378","v":0},null,null,null,124,4,22]
["",null,27,0,0,{"$f":"F379","v":0},null,null,null,124,4,22]
["",null,28,0,0,{"$f":"F380","v":0},null,null,null,124,4,22]
["",null,29,0,0,{"$f":"F381","v":0},null,null,null,124,4,22]
["",null,30,0,0,{"$f":"F382","v":0},null,null,null,124,4,22]
["",null,31,0,0,{"$f":"F383","v":0},null,null,null,124,4,22]
["",null,32,0,0,{"$f":"F384","v":0},null,null,null,124,4,22]
["",null,33,0,0,{"$f":"F385","v":0},null,null,null,124,4,22]
["",null,34,0,0,{"$f":"F386","v":0},null,null,null,124,4,22]
["",null,35,0,0,{"$f":"F387","v":0},null,null,null,{"$f":"DATEDIF(I388,TODAY(),\"Y\")","v":124},{"$f":"DATEDIF(I388,TODAY(),\"YM\")","v":4},{"$f":"DATEDIF(I388,TODAY(),\"MD\")","v":22}]
[{"$f":"IF(B389=0,\"\",B389)","v":""},null,36,0,0,{"$f":"F388","v":0},null,null,null,124,4,22]
["",null,37,0,0,{"$f":"F389","v":0},null,null,null,124,4,22]
["",null,38,0,0,{"$f":"F390","v":0},null,null,null,124,4,22]
["",null,39,0,0,{"$f":"F391","v":0},null,null,null,124,4,22]
["",null,40,0,0,{"$f":"F392","v":0},null,null,null,124,4,22]
["",null,41,0,0,{"$f":"F393","v":0},null,null,null,124,4,22]
["",null,42,0,0,{"$f":"F394","v":0},null,null,null,124,4,22]
["",null,43,0,0,{"$f":"F395","v":0},null,null,null,124,4,22]
["",null,44,0,0,{"$f":"F396","v":0},null,null,null,124,4,22]
["",null,45,0,0,{"$f":"F397","v":0},null,null,null,124,4,22]
["",null,46,0,0,{"$f":"F398","v":0},null,null,null,124,4,22]
["",null,47,0,0,{"$f":"F399","v":0},null,null,null,124,4,22]
["",null,48,0,0,{"$f":"F400","v":0},null,null,null,124,4,22]
["",null,49,0,0,{"$f":"F401","v":0},null,null,null,124,4,22]
["",null,50,0,0,{"$f":"F402","v":0},null,null,null,124,4,22]
["",null,1,{"$f":"DATOS!E11","v":0},{"$f":"DATOS!F11","v":0},{"$f":"DATOS!G11","v":0},null,null,null,124,4,22]
["",null,2,{"$f":"D404","v":0},{"$f":"E404","v":0},{"$f":"F404","v":0},null,null,null,124,4,22]
["",null,3,{"$f":"D405","v":0},0,{"$f":"F405","v":0},null,null,null,124,4,22]
["",null,4,0,0,{"$f":"F406","v":0},null,null,null,124,4,22]
["",null,5,0,0,{"$f":"F407","v":0},null,null,null,124,4,22]
["",null,6,0,0,{"$f":"F408","v":0},null,null,null,124,4,22]
["",null,7,0,0,{"$f":"F409","v":0},null,null,null,124,4,22]
["",null,8,0,0,{"$f":"F410","v":0},null,null,null,124,4,22]
["",null,9,0,0,{"$f":"F411","v":0},null,null,null,124,4,22]
["",null,10,0,0,{"$f":"F412","v":0},null,null,null,124,4,22]
["",null,11,0,0,{"$f":"F413","v":0},null,null,null,124,4,22]
["",null,12,0,0,{"$f":"F414","v":0},null,null,null,124,4,22]
["",null,13,0,0,{"$f":"F415","v":0},null,null,null,124,4,22]
["",null,14,0,0,{"$f":"F416","v":0},null,null,null,124,4,22]
["",null,15,0,0,{"$f":"F417","v":0},null,null,null,124,4,22]
["",null,16,0,0,{"$f":"F418","v":0},null,null,null,124,4,22]
["",null,17,0,0,{"$f":"F419","v":0},null,null,null,124,4,22]
["",null,18,0,0,{"$f":"F420","v":0},null,null,null,124,4,22]
["",null,19,0,0,{"$f":"F421","v":0},null,null,null,124,4,22]
["",null,20,0,0,{"$f":"F422","v":0},null,null,null,124,4,22]
["",null,21,0,0,{"$f":"F423","v":0},null,null,null,124,4,22]
["",null,22,0,0,{"$f":"F424","v":0},null,null,null,124,4,22]
["",null,23,0,0,{"$f":"F425","v":0},null,null,null,124,4,22]
["",null,24,0,0,{"$f":"F426","v":0},null,null,null,124,4,22]
["",null,25,0,0,{"$f":"F427","v":0},null,null,null,124,4,22]
["",null,26,0,0,{"$f":"F428","v":0},null,null,null,124,4,22]
["",null,27,0,0,{"$f":"F429","v":0},null,null,null,124,4,22]
["",null,28,0,0,{"$f":"F430","v":0},null,null,null,124,4,22]
["",null,29,0,0,{"$f":"F431","v":0},null,null,null,124,4,22]
["",null,30,0,0,{"$f":"F432","v":0},null,null,null,124,4,22]
["",null,31,0,0,{"$f":"F433","v":0},null,null,null,124,4,22]
["",null,32,0,0,{"$f":"F434","v":0},null,null,null,124,4,22]
["",null,33,0,0,{"$f":"F435","v":0},null,null,null,124,4,22]
["",null,34,0,0,{"$f":"F436","v":0},null,null,null,124,4,22]
["",null,35,0,0,{"$f":"F437","v":0},null,null,null,124,4,22]
["",null,36,0,0,{"$f":"F438","v":0},null,null,null,124,4,22]
["",null,37,0,0,{"$f":"F439","v":0},null,null,null,124,4,22]
["",null,38,0,0,{"$f":"F440","v":0},null,null,null,124,4,22]
["",null,39,0,0,{"$f":"F441","v":0},null,null,null,124,4,22]
["",null,40,0,0,{"$f":"F442","v":0},null,null,null,124,4,22]
["",null,41,0,0,{"$f":"F443","v":0},null,null,null,124,4,22]
["",null,42,0,0,{"$f":"F444","v":0},null,null,null,124,4,22]
["",null,43,0,0,{"$f":"F445","v":0},null,null,null,124,4,22]
["",null,44,0,0,{"$f":"F446","v":0},null,null,null,124,4,22]
["",null,45,0,0,{"$f":"F447","v":0},null,null,null,124,4,22]
["",null,46,0,0,{"$f":"F448","v":0},null,null,null,124,4,22]
["",null,47,0,0,{"$f":"F449","v":0},null,null,null,124,4,22]
["",null,48,0,0,{"$f":"F450","v":0},null,null,null,124,4,22]
["",null,49,0,0,{"$f":"F451","v":0},null,null,null,{"$f":"DATEDIF(I452,TODAY(),\"Y\")","v":124},{"$f":"DATEDIF(I452,TODAY(),\"YM\")","v":4},{"$f":"DATEDIF(I452,TODAY(),\"MD\")","v":22}]
[{"$f":"IF(B453=0,\"\",B453)","v":""},null,50,0,0,{"$f":"F452","v":0},null,null,null,124,4,22]
["",null,1,{"$f":"DATOS!E12","v":0},{"$f":"DATOS!F12","v":0},{"$f":"DATOS!G12","v":0},null,null,null,124,4,22]
["",null,2,{"$f":"D454","v":0},{"$f":"E454","v":0},{"$f":"F454","v":0},null,null,null,124,4,22]
["",null,3,{"$f":"D455","v":0},0,{"$f":"F455","v":0},null,null,null,124,4,22]
["",null,4,0,0,{"$f":"F456","v":0},null,null,null,124,4,22]
["",null,5,0,0,{"$f":"F457","v":0},null,null,null,124,4,22]
["",null,6,0,0,{"$f":"F458","v":0},null,null,null,124,4,22]
["",null,7,0,0,{"$f":"F459","v":0},null,null,null,124,4,22]
["",null,8,0,0,{"$f":"F460","v":0},null,null,null,124,4,22]
["",null,9,0,0,{"$f":"F461","v":0},null,null,null,124,4,22]
["",null,10,0,0,{"$f":"F462","v":0},null,null,null,124,4,22]
["",null,11,0,0,{"$f":"F463","v":0},null,null,null,124,4,22]
["",null,12,0,0,{"$f":"F464","v":0},null,null,null,124,4,22]
["",null,13,0,0,{"$f":"F465","v":0},null,null,null,124,4,22]
["",null,14,0,0,{"$f":"F466","v":0},null,null,null,124,4,22]
["",null,15,0,0,{"$f":"F467","v":0},null,null,null,124,4,22]
["",null,16,0,0,{"$f":"F468","v":0},null,null,null,124,4,22]
["",null,17,0,0,{"$f":"F469","v":0},null,null,null,124,4,22]
["",null,18,0,0,{"$f":"F470","v":0},null,null,null,124,4,22]
["",null,19,0,0,{"$f":"F471","v":0},null,null,null,124,4,22]
["",null,20,0,0,{"$f":"F472","v":0},null,null,null,124,4,22]
["",null,21,0,0,{"$f":"F473","v":0},null,null,null,124,4,22]
["",null,22,0,0,{"$f":"F474","v":0},null,null,null,124,4,22]
["",null,23,0,0,{"$f":"F475","v":0},null,null,null,124,4,22]
["",null,24,0,0,{"$f":"F476","v":0},null,null,null,124,4,22]
["",null,25,0,0,{"$f":"F477","v":0},null,null,null,124,4,22]
["",null,26,0,0,{"$f":"F478","v":0},null,null,null,124,4,22]
["",null,27,0,0,{"$f":"F479","v":0},null,null,null,124,4,22]
["",null,28,0,0,{"$f":"F480","v":0},null,null,null,124,4,22]
["",null,29,0,0,{"$f":"F481","v":0},null,null,null,124,4,22]
["",null,30,0,0,{"$f":"F482","v":0},null,null,null,124,4,22]
["",null,31,0,0,{"$f":"F483","v":0},null,null,null,124,4,22]
["",null,32,0,0,{"$f":"F484","v":0},null,null,null,124,4,22]
["",null,33,0,0,{"$f":"F485","v":0},null,null,null,124,4,22]
["",null,34,0,0,{"$f":"F486","v":0},null,null,null,124,4,22]
["",null,35,0,0,{"$f":"F487","v":0},null,null,null,124,4,22]
["",null,36,0,0,{"$f":"F488","v":0},null,null,null,124,4,22]
["",null,37,0,0,{"$f":"F489","v":0},null,null,null,124,4,22]
["",null,38,0,0,{"$f":"F490","v":0},null,null,null,124,4,22]
["",null,39,0,0,{"$f":"F491","v":0},null,null,null,124,4,22]
["",null,40,0,0,{"$f":"F492","v":0},null,null,null,124,4,22]
["",null,41,0,0,{"$f":"F493","v":0},null,null,null,124,4,22]
["",null,42,0,0,{"$f":"F494","v":0},null,null,null,124,4,22]
["",null,43,0,0,{"$f":"F495","v":0},null,null,null,124,4,22]
["",null,44,0,0,{"$f":"F496","v":0},null,null,null,124,4,22]
["",null,45,0,0,{"$f":"F497","v":0},null,null,null,124,4,22]
["",null,46,0,0,{"$f":"F498","v":0},null,null,null,124,4,22]
["",null,47,0,0,{"$f":"F499","v":0},null,null,null,124,4,22]
["",null,48,0,0,{"$f":"F500","v":0},null,null,null,124,4,22]
["",null,49,0,0,{"$f":"F501","v":0},null,null,null,124,4,22]
["",null,50,0,0,{"$f":"F502","v":0},null,null,null,124,4,22]
["",null,1,{"$f":"DATOS!E13","v":0},{"$f":"DATOS!F13","v":0},{"$f":"DATOS!G13","v":0},null,null,null,124,4,22]
["",null,2,{"$f":"D504","v":0},{"$f":"E504","v":0},{"$f":"F504","v":0},null,null,null,124,4,22]
["",null,3,{"$f":"D505","v":0},0,{"$f":"F505","v":0},null,null,null,124,4,22]
["",null,4,0,0,{"$f":"F506","v":0},null,null,null,124,4,22]
["",null,5,0,0,{"$f":"F507","v":0},null,null,null,124,4,22]
["",null,6,0,0,{"$f":"F508","v":0},null,null,null,124,4,22]
["",null,7,0,0,{"$f":"F509","v":0},null,null,null,124,4,22]
["",null,8,0,0,{"$f":"F510","v":0},null,null,null,124,4,22]
["",null,9,0,0,{"$f":"F511","v":0},null,null,null,124,4,22]
["",null,10,0,0,{"$f":"F512","v":0},null,null,null,124,4,22]
["",null,11,0,0,{"$f":"F513","v":0},null,null,null,124,4,22]
["",null,12,0,0,{"$f":"F514","v":0},null,null,null,124,4,22]
["",null,13,0,0,{"$f":"F515","v":0},null,null,null,{"$f":"DATEDIF(I516,TODAY(),\"Y\")","v":124},{"$f":"DATEDIF(I516,TODAY(),\"YM\")","v":4},{"$f":"DATEDIF(I516,TODAY(),\"MD\")","v":22}]
[{"$f":"IF(B517=0,\"\",B517)","v":""},null,14,0,0,{"$f":"F516","v":0},null,null,null,124,4,22]
["",null,15,0,0,{"$f":"F517","v":0},null,null,null,124,4,22]
["",null,16,0,0,{"$f":"F518","v":0},null,null,null,124,4,22]
["",null,17,0,0,{"$f":"F519","v":0},null,null,null,124,4,22]
["",null,18,0,0,{"$f":"F520","v":0},null,null,null,124,4,22]
["",null,19,0,0,{"$f":"F521","v":0},null,null,null,124,4,22]
["",null,20,0,0,{"$f":"F522","v":0},null,null,null,124,4,22]
["",null,21,0,0,{"$f":"F523","v":0},null,null,null,124,4,22]
["",null,22,0,0,{"$f":"F524","v":0},null,null,null,124,4,22]
["",null,23,0,0,{"$f":"F525","v":0},null,null,null,124,4,22]
["",null,24,0,0,{"$f":"F526","v":0},null,null,null,124,4,22]
["",null,25,0,0,{"$f":"F527","v":0},null,null,null,124,4,22]
["",null,26,0,0,{"$f":"F528","v":0},null,null,null,124,4,22]
["",null,27,0,0,{"$f":"F529","v":0},null,null,null,124,4,22]
["",null,28,0,0,{"$f":"F530","v":0},null,null,null,124,4,22]
["",null,29,0,0,{"$f":"F531","v":0},null,null,null,124,4,22]
["",null,30,0,0,{"$f":"F532","v":0},null,null,null,124,4,22]
["",null,31,0,0,{"$f":"F533","v":0},null,null,null,124,4,22]
["",null,32,0,0,{"$f":"F534","v":0},null,null,null,124,4,22]
["",null,33,0,0,{"$f":"F535","v":0},null,null,null,124,4,22]
["",null,34,0,0,{"$f":"F536","v":0},null,null,null,124,4,22]
["",null,35,0,0,{"$f":"F537","v":0},null,null,null,124,4,22]
["",null,36,0,0,{"$f":"F538","v":0},null,null,null,124,4,22]
["",null,37,0,0,{"$f":"F539","v":0},null,null,null,124,4,22]
["",null,38,0,0,{"$f":"F540","v":0},null,null,null,124,4,22]
["",null,39,0,0,{"$f":"F541","v":0},null,null,null,124,4,22]
["",null,40,0,0,{"$f":"F542","v":0},null,null,null,124,4,22]
["",null,41,0,0,{"$f":"F543","v":0},null,null,null,124,4,22]
["",null,42,0,0,{"$f":"F544","v":0},null,null,null,124,4,22]
["",null,43,0,0,{"$f":"F545","v":0},null,null,null,124,4,22]
["",null,44,0,0,{"$f":"F546","v":0},null,null,null,124,4,22]
["",null,45,0,0,{"$f":"F547","v":0},null,null,null,124,4,22]
["",null,46,0,0,{"$f":"F548","v":0},null,null,null,124,4,22]
["",null,47,0,0,{"$f":"F549","v":0},null,null,null,124,4,22]
["",null,48,0,0,{"$f":"F550","v":0},null,null,null,124,4,22]
["",null,49,0,0,{"$f":"F551","v":0},null,null,null,124,4,22]
["",null,50,0,0,{"$f":"F552","v":0},null,null,null,124,4,22]
["",null,1,{"$f":"DATOS!E14","v":0},{"$f":"DATOS!F14","v":0},{"$f":"DATOS!G14","v":0},null,null,null,124,4,22]
["",null,2,{"$f":"D554","v":0},{"$f":"E554","v":0},{"$f":"F554","v":0},null,null,null,124,4,22]
["",null,3,{"$f":"D555","v":0},0,{"$f":"F555","v":0},null,null,null,124,4,22]
["",null,4,0,0,{"$f":"F556","v":0},null,null,null,124,4,22]
["",null,5,0,0,{"$f":"F557","v":0},null,null,null,124,4,22]
["",null,6,0,0,{"$f":"F558","v":0},null,null,null,124,4,22]
["",null,7,0,0,{"$f":"F559","v":0},null,null,null,124,4,22]
["",null,8,0,0,{"$f":"F560","v":0},null,null,null,124,4,22]
["",null,9,0,0,{"$f":"F561","v":0},null,null,null,124,4,22]
["",null,10,0,0,{"$f":"F562","v":0},null,null,null,124,4,22]
["",null,11,0,0,{"$f":"F563","v":0},null,null,null,124,4,22]
["",null,12,0,0,{"$f":"F564","v":0},null,null,null,124,4,22]
["",null,13,0,0,{"$f":"F565","v":0},null,null,null,124,4,22]
["",null,14,0,0,{"$f":"F566","v":0},null,null,null,124,4,22]
["",null,15,0,0,{"$f":"F567","v":0},null,null,null,124,4,22]
["",null,16,0,0,{"$f":"F568","v":0},null,null,null,124,4,22]
["",null,17,0,0,{"$f":"F569","v":0},null,null,null,124,4,22]
["",null,18,0,0,{"$f":"F570","v":0},null,null,null,124,4,22]
["",null,19,0,0,{"$f":"F571","v":0},null,null,null,124,4,22]
["",null,20,0,0,{"$f":"F572","v":0},null,null,null,124,4,22]
["",null,21,0,0,{"$f":"F573","v":0},null,null,null,124,4,22]
["",null,22,0,0,{"$f":"F574","v":0},null,null,null,124,4,22]
["",null,23,0,0,{"$f":"F575","v":0},null,null,null,124,4,22]
["",null,24,0,0,{"$f":"F576","v":0},null,null,null,124,4,22]
["",null,25,0,0,{"$f":"F577","v":0},null,null,null,124,4,22]
["",null,26,0,0,{"$f":"F578","v":0},null,null,null,124,4,22]
["",null,27,0,0,{"$f":"F579","v":0},null,null,null,{"$f":"DATEDIF(I580,TODAY(),\"Y\")","v":124},{"$f":"DATEDIF(I580,TODAY(),\"YM\")","v":4},{"$f":"DATEDIF(I580,TODAY(),\"MD\")","v":22}]
[{"$f":"IF(B581=0,\"\",B581)","v":""},null,28,0,0,{"$f":"F580","v":0},null,null,null,124,4,22]
["",null,29,0,0,{"$f":"F581","v":0},null,null,null,124,4,22]
["",null,30,0,0,{"$f":"F582","v":0},null,null,null,124,4,22]
["",null,31,0,0,{"$f":"F583","v":0},null,null,null,124,4,22]
["",null,32,0,0,{"$f":"F584","v":0},null,null,null,124,4,22]
["",null,33,0,0,{"$f":"F585","v":0},null,null,null,124,4,22]
["",null,34,0,0,{"$f":"F586","v":0},null,null,null,124,4,22]
["",null,35,0,0,{"$f":"F587","v":0},null,null,null,124,4,22]
["",null,36,0,0,{"$f":"F588","v":0},null,null,null,124,4,22]
["",null,37,0,0,{"$f":"F589","v":0},null,null,null,124,4,22]
["",null,38,0,0,{"$f":"F590","v":0},null,null,null,124,4,22]
["",null,39,0,0,{"$f":"F591","v":0},null,null,null,124,4,22]
["",null,40,0,0,{"$f":"F592","v":0},null,null,null,124,4,22]
["",null,41,0,0,{"$f":"F593","v":0},null,null,null,124,4,22]
["",null,42,0,0,{"$f":"F594","v":0},null,null,null,124,4,22]
["",null,43,0,0,{"$f":"F595","v":0},null,null,null,124,4,22]
["",null,44,0,0,{"$f":"F596","v":0},null,null,null,124,4,22]
["",null,45,0,0,{"$f":"F597","v":0},null,null,null,124,4,22]
["",null,46,0,0,{"$f":"F598","v":0},null,null,null,124,4,22]
["",null,47,0,0,{"$f":"F599","v":0},null,null,null,124,4,22]
["",null,48,0,0,{"$f":"F600","v":0},null,null,null,124,4,22]
["",null,49,0,0,{"$f":"F601","v":0},null,null,null,124,4,22]
["",null,50,0,0,{"$f":"F602","v":0},null,null,null,124,4,22]
["",null,1,{"$f":"DATOS!E15","v":0},{"$f":"DATOS!F15","v":0},{"$f":"DATOS!G15","v":0},null,null,null,124,4,22]
["",null,2,{"$f":"D604","v":0},{"$f":"E604","v":0},{"$f":"F604","v":0},null,null,null,124,4,22]
["",null,3,{"$f":"D605","v":0},0,{"$f":"F605","v":0},null,null,null,124,4,22]
["",null,4,0,0,{"$f":"F606","v":0},null,null,null,124,4,22]
["",null,5,0,0,{"$f":"F607","v":0},null,null,null,124,4,22]
["",null,6,0,0,{"$f":"F608","v":0},null,null,null,124,4,22]
["",null,7,0,0,{"$f":"F609","v":0},null,null,null,124,4,22]
["",null,8,0,0,{"$f":"F610","v":0},null,null,null,124,4,22]
["",null,9,0,0,{"$f":"F611","v":0},null,null,null,124,4,22]
["",null,10,0,0,{"$f":"F612","v":0},null,null,null,124,4,22]
["",null,11,0,0,{"$f":"F613","v":0},null,null,null,124,4,22]
["",null,12,0,0,{"$f":"F614","v":0},null,null,null,124,4,22]
["",null,13,0,0,{"$f":"F615","v":0},null,null,null,124,4,22]
["",null,14,0,0,{"$f":"F616","v":0},null,null,null,124,4,22]
["",null,15,0,0,{"$f":"F617","v":0},null,null,null,124,4,22]
["",null,16,0,0,{"$f":"F618","v":0},null,null,null,124,4,22]
["",null,17,0,0,{"$f":"F619","v":0},null,null,null,124,4,22]
["",null,18,0,0,{"$f":"F620","v":0},null,null,null,124,4,22]
["",null,19,0,0,{"$f":"F621","v":0},null,null,null,124,4,22]
["",null,20,0,0,{"$f":"F622","v":0},null,null,null,124,4,22]
["",null,21,0,0,{"$f":"F623","v":0},null,null,null,124,4,22]
["",null,22,0,0,{"$f":"F624","v":0},null,null,null,124,4,22]
["",null,23,0,0,{"$f":"F625","v":0},null,null,null,124,4,22]
["",null,24,0,0,{"$f":"F626","v":0},null,null,null,124,4,22]
["",null,25,0,0,{"$f":"F627","v":0},null,null,null,124,4,22]
["",null,26,0,0,{"$f":"F628","v":0},null,null,null,124,4,22]
["",null,27,0,0,{"$f":"F629","v":0},null,null,null,124,4,22]
["",null,28,0,0,{"$f":"F630","v":0},null,null,null,124,4,22]
["",null,29,0,0,{"$f":"F631","v":0},null,null,null,124,4,22]
["",null,30,0,0,{"$f":"F632","v":0},null,null,null,124,4,22]
["",null,31,0,0,{"$f":"F633","v":0},null,null,null,124,4,22]
["",null,32,0,0,{"$f":"F634","v":0},null,null,null,124,4,22]
["",null,33,0,0,{"$f":"F635","v":0},null,null,null,124,4,22]
["",null,34,0,0,{"$f":"F636","v":0},null,null,null,124,4,22]
["",null,35,0,0,{"$f":"F637","v":0},null,null,null,124,4,22]
["",null,36,0,0,{"$f":"F638","v":0},null,null,null,124,4,22]
["",null,37,0,0,{"$f":"F639","v":0},null,null,null,124,4,22]
["",null,38,0,0,{"$f":"F640","v":0},null,null,null,124,4,22]
["",null,39,0,0,{"$f":"F641","v":0},null,null,null,124,4,22]
["",null,40,0,0,{"$f":"F642","v":0},null,null,null,124,4,22]
["",null,41,0,0,{"$f":"F643","v":0},null,null,null,{"$f":"DATEDIF(I644,TODAY(),\"Y\")","v":124},{"$f":"DATEDIF(I644,TODAY(),\"YM\")","v":4},{"$f":"DATEDIF(I644,TODAY(),\"MD\")","v":22}]
[{"$f":"IF(B645=0,\"\",B645)","v":""},null,42,0,0,{"$f":"F644","v":0},null,null,null,124,4,22]
["",null,43,0,0,{"$f":"F645","v":0},null,null,null,124,4,22]
["",null,44,0,0,{"$f":"F646","v":0},null,null,null,124,4,22]
["",null,45,0,0,{"$f":"F647","v":0},null,null,null,124,4,22]
["",null,46,0,0,{"$f":"F648","v":0},null,null,null,124,4,22]
["",null,47,0,0,{"$f":"F649","v":0},null,null,null,124,4,22]
["",null,48,0,0,{"$f":"F650","v":0},null,null,null,124,4,22]
["",null,49,0,0,{"$f":"F651","v":0},null,null,null,124,4,22]
["",null,50,0,0,{"$f":"F652","v":0},null,null,null,124,4,22]
["",null,1,{"$f":"DATOS!E16","v":0},{"$f":"DATOS!F16","v":0},{"$f":"DATOS!G16","v":0},null,null,null,124,4,22]
["",null,2,{"$f":"D654","v":0},{"$f":"E654","v":0},{"$f":"F654","v":0},null,null,null,124,4,22]
["",null,3,{"$f":"D655","v":0},0,{"$f":"F655","v":0},null,null,null,124,4,22]
["",null,4,0,0,{"$f":"F656","v":0},null,null,null,124,4,22]
["",null,5,0,0,{"$f":"F657","v":0},null,null,null,124,4,22]
["",null,6,0,0,{"$f":"F658","v":0},null,null,null,124,4,22]
["",null,7,0,0,{"$f":"F659","v":0},null,null,null,124,4,22]
["",null,8,0,0,{"$f":"F660","v":0},null,null,null,124,4,22]
["",null,9,0,0,{"$f":"F661","v":0},null,null,null,124,4,22]
["",null,10,0,0,{"$f":"F662","v":0},null,null,null,124,4,22]
["",null,11,0,0,{"$f":"F663","v":0},null,null,null,124,4,22]
["",null,12,0,0,{"$f":"F664","v":0},null,null,null,124,4,22]
["",null,13,0,0,{"$f":"F665","v":0},null,null,null,124,4,22]
["",null,14,0,0,{"$f":"F666","v":0},null,null,null,124,4,22]
["",null,15,0,0,{"$f":"F667","v":0},null,null,null,124,4,22]
["",null,16,0,0,{"$f":"F668","v":0},null,null,null,124,4,22]
["",null,17,0,0,{"$f":"F669","v":0},null,null,null,124,4,22]
["",null,18,0,0,{"$f":"F670","v":0},null,null,null,124,4,22]
["",null,19,0,0,{"$f":"F671","v":0},null,null,null,124,4,22]
["",null,20,0,0,{"$f":"F672","v":0},null,null,null,124,4,22]
["",null,21,0,0,{"$f":"F673","v":0},null,null,null,124,4,22]
["",null,22,0,0,{"$f":"F674","v":0},null,null,null,124,4,22]
["",null,23,0,0,{"$f":"F675","v":0},null,null,null,124,4,22]
["",null,24,0,0,{"$f":"F676","v":0},null,null,null,124,4,22]
["",null,25,0,0,{"$f":"F677","v":0},null,null,null,124,4,22]
["",null,26,0,0,{"$f":"F678","v":0},null,null,null,124,4,22]
["",null,27,0,0,{"$f":"F679","v":0},null,null,null,124,4,22]
["",null,28,0,0,{"$f":"F680","v":0},null,null,null,124,4,22]
["",null,29,0,0,{"$f":"F681","v":0},null,null,null,124,4,22]
["",null,30,0,0,{"$f":"F682","v":0},null,null,null,124,4,22]
["",null,31,0,0,{"$f":"F683","v":0},null,null,null,124,4,22]
["",null,32,0,0,{"$f":"F684","v":0},null,null,null,124,4,22]
["",null,33,0,0,{"$f":"F685","v":0},null,null,null,124,4,22]
["",null,34,0,0,{"$f":"F686","v":0},null,null,null,124,4,22]
["",null,35,0,0,{"$f":"F687","v":0},null,null,null,124,4,22]
["",null,36,0,0,{"$f":"F688","v":0},null,null,null,124,4,22]
["",null,37,0,0,{"$f":"F689","v":0},null,null,null,124,4,22]
["",null,38,0,0,{"$f":"F690","v":0},null,null,null,124,4,22]
["",null,39,0,0,{"$f":"F691","v":0},null,null,null,124,4,22]
["",null,40,0,0,{"$f":"F692","v":0},null,null,null,124,4,22]
["",null,41,0,0,{"$f":"F693","v":0},null,null,null,124,4,22]
["",null,42,0,0,{"$f":"F694","v":0},null,null,null,124,4,22]
["",null,43,0,0,{"$f":"F695","v":0},null,null,null,124,4,22]
["",null,44,0,0,{"$f":"F696","v":0},null,null,null,124,4,22]
["",null,45,0,0,{"$f":"F697","v":0},null,null,null,124,4,22]
["",null,46,0,0,{"$f":"F698","v":0},null,null,null,124,4,22]
["",null,47,0,0,{"$f":"F699","v":0},null,null,null,124,4,22]
["",null,48,0,0,{"$f":"F700","v":0},null,null,null,124,4,22]
["",null,49,0,0,{"$f":"F701","v":0},null,null,null,124,4,22]
["",null,50,0,0,{"$f":"F702","v":0},null,null,null,124,4,22]
["",null,1,{"$f":"DATOS!E17","v":0},{"$f":"DATOS!F17","v":0},{"$f":"DATOS!G17","v":0},null,null,null,124,4,22]
["",null,2,{"$f":"D704","v":0},{"$f":"E704","v":0},{"$f":"F704","v":0},null,null,null,124,4,22]
["",null,3,{"$f":"D705","v":0},0,{"$f":"F705","v":0},null,null,null,124,4,22]
["",null,4,0,0,{"$f":"F706","v":0},null,null,null,124,4,22]
["",null,5,0,0,{"$f":"F707","v":0},null,null,null,{"$f":"DATEDIF(I708,TODAY(),\"Y\")","v":124},{"$f":"DATEDIF(I708,TODAY(),\"YM\")","v":4},{"$f":"DATEDIF(I708,TODAY(),\"MD\")","v":22}]
[{"$f":"IF(B709=0,\"\",B709)","v":""},null,6,0,0,{"$f":"F708","v":0},null,null,null,124,4,22]
["",null,7,0,0,{"$f":"F709","v":0},null,null,null,124,4,22]
["",null,8,0,0,{"$f":"F710","v":0},null,null,null,124,4,22]
["",null,9,0,0,{"$f":"F711","v":0},null,null,null,124,4,22]
["",null,10,0,0,{"$f":"F712","v":0},null,null,null,124,4,22]
["",null,11,0,0,{"$f":"F713","v":0},null,null,null,124,4,22]
["",null,12,0,0,{"$f":"F714","v":0},null,null,null,124,4,22]
["",null,13,0,0,{"$f":"F715","v":0},null,null,null,124,4,22]
["",null,14,0,0,{"$f":"F716","v":0},null,null,null,124,4,22]
["",null,15,0,0,{"$f":"F717","v":0},null,null,null,124,4,22]
["",null,16,0,0,{"$f":"F718","v":0},null,null,null,124,4,22]
["",null,17,0,0,{"$f":"F719","v":0},null,null,null,124,4,22]
["",null,18,0,0,{"$f":"F720","v":0},null,null,null,124,4,22]
["",null,19,0,0,{"$f":"F721","v":0},null,null,null,124,4,22]
["",null,20,0,0,{"$f":"F722","v":0},null,null,null,124,4,22]
["",null,21,0,0,{"$f":"F723","v":0},null,null,null,124,4,22]
["",null,22,0,0,{"$f":"F724","v":0},null,null,null,124,4,22]
["",null,23,0,0,{"$f":"F725","v":0},null,null,null,124,4,22]
["",null,24,0,0,{"$f":"F726","v":0},null,null,null,124,4,22]
["",null,25,0,0,{"$f":"F727","v":0},null,null,null,124,4,22]
["",null,26,0,0,{"$f":"F728","v":0},null,null,null,124,4,22]
["",null,27,0,0,{"$f":"F729","v":0},null,null,null,124,4,22]
["",null,28,0,0,{"$f":"F730","v":0},null,null,null,124,4,22]
["",null,29,0,0,{"$f":"F731","v":0},null,null,null,124,4,22]
["",null,30,0,0,{"$f":"F732","v":0},null,null,null,124,4,22]
["",null,31,0,0,{"$f":"F733","v":0},null,null,null,124,4,22]
["",null,32,0,0,{"$f":"F734","v":0},null,null,null,124,4,22]
["",null,33,0,0,{"$f":"F735","v":0},null,null,null,124,4,22]
["",null,34,0,0,{"$f":"F736","v":0},null,null,null,124,4,22]
["",null,35,0,0,{"$f":"F737","v":0},null,null,null,124,4,22]
["",null,36,0,0,{"$f":"F738","v":0},null,null,null,124,4,22]
["",null,37,0,0,{"$f":"F739","v":0},null,null,null,124,4,22]
["",null,38,0,0,{"$f":"F740","v":0},null,null,null,124,4,22]
["",null,39,0,0,{"$f":"F741","v":0},null,null,null,124,4,22]
["",null,40,0,0,{"$f":"F742","v":0},null,null,null,124,4,22]
["",null,41,0,0,{"$f":"F743","v":0},null,null,null,124,4,22]
["",null,42,0,0,{"$f":"F744","v":0},null,null,null,124,4,22]
["",null,43,0,0,{"$f":"F745","v":0},null,null,null,124,4,22]
["",null,44,0,0,{"$f":"F746","v":0},null,null,null,124,4,22]
["",null,45,0,0,{"$f":"F747","v":0},null,null,null,124,4,22]
["",null,46,0,0,{"$f":"F748","v":0},null,null,null,124,4,22]
["",null,47,0,0,{"$f":"F749","v":0},null,null,null,124,4,22]
["",null,48,0,0,{"$f":"F750","v":0},null,null,null,124,4,22]
["",null,49,0,0,{"$f":"F751","v":0},null,null,null,124,4,22]
["",null,50,0,0,{"$f":"F752","v":0},null,null,null,124,4,22]
["",null,1,{"$f":"DATOS!E18","v":0},{"$f":"DATOS!F18","v":0},{"$f":"DATOS!G18","v":0},null,null,null,124,4,22]
["",null,2,{"$f":"D754","v":0},{"$f":"E754","v":0},{"$f":"F754","v":0},null,null,null,124,4,22]
["",null,3,{"$f":"D755","v":0},0,{"$f":"F755","v":0},null,null,null,124,4,22]
["",null,4,0,0,{"$f":"F756","v":0},null,null,null,124,4,22]
["",null,5,0,0,{"$f":"F757","v":0},null,null,null,124,4,22]
["",null,6,0,0,{"$f":"F758","v":0},null,null,null,124,4,22]
["",null,7,0,0,{"$f":"F759","v":0},null,null,null,124,4,22]
["",null,8,0,0,{"$f":"F760","v":0},null,null,null,124,4,22]
["",null,9,0,0,{"$f":"F761","v":0},null,null,null,124,4,22]
["",null,10,0,0,{"$f":"F762","v":0},null,null,null,124,4,22]
["",null,11,0,0,{"$f":"F763","v":0},null,null,null,124,4,22]
["",null,12,0,0,{"$f":"F764","v":0},null,null,null,124,4,22]
["",null,13,0,0,{"$f":"F765","v":0},null,null,null,124,4,22]
["",null,14,0,0,{"$f":"F766","v":0},null,null,null,124,4,22]
["",null,15,0,0,{"$f":"F767","v":0},null,null,null,124,4,22]
["",null,16,0,0,{"$f":"F768","v":0},null,null,null,124,4,22]
["",null,17,0,0,{"$f":"F769","v":0},null,null,null,124,4,22]
["",null,18,0,0,{"$f":"F770","v":0},null,null,null,124,4,22]
["",null,19,0,0,{"$f":"F771","v":0},null,null,null,{"$f":"DATEDIF(I772,TODAY(),\"Y\")","v":124},{"$f":"DATEDIF(I772,TODAY(),\"YM\")","v":4},{"$f":"DATEDIF(I772,TODAY(),\"MD\")","v":22}]
[{"$f":"IF(B773=0,\"\",B773)","v":""},null,20,0,0,{"$f":"F772","v":0},null,null,null,124,4,22]
["",null,21,0,0,{"$f":"F773","v":0},null,null,null,124,4,22]
["",null,22,0,0,{"$f":"F774","v":0},null,null,null,124,4,22]
["",null,23,0,0,{"$f":"F775","v":0},null,null,null,124,4,22]
["",null,24,0,0,{"$f":"F776","v":0},null,null,null,124,4,22]
["",null,25,0,0,{"$f":"F777","v":0},null,null,null,124,4,22]
["",null,26,0,0,{"$f":"F778","v":0},null,null,null,124,4,22]
["",null,27,0,0,{"$f":"F779","v":0},null,null,null,124,4,22]
["",null,28,0,0,{"$f":"F780","v":0},null,null,null,124,4,22]
["",null,29,0,0,{"$f":"F781","v":0},null,null,null,124,4,22]
["",null,30,0,0,{"$f":"F782","v":0},null,null,null,124,4,22]
["",null,31,0,0,{"$f":"F783","v":0},null,null,null,124,4,22]
["",null,32,0,0,{"$f":"F784","v":0},null,null,null,124,4,22]
["",null,33,0,0,{"$f":"F785","v":0},null,null,null,124,4,22]
["",null,34,0,0,{"$f":"F786","v":0},null,null,null,124,4,22]
["",null,35,0,0,{"$f":"F787","v":0},null,null,null,124,4,22]
["",null,36,0,0,{"$f":"F788","v":0},null,null,null,124,4,22]
["",null,37,0,0,{"$f":"F789","v":0},null,null,null,124,4,22]
["",null,38,0,0,{"$f":"F790","v":0},null,null,null,124,4,22]
["",null,39,0,0,{"$f":"F791","v":0},null,null,null,124,4,22]
["",null,40,0,0,{"$f":"F792","v":0},null,null,null,124,4,22]
["",null,41,0,0,{"$f":"F793","v":0},null,null,null,124,4,22]
["",null,42,0,0,{"$f":"F794","v":0},null,null,null,124,4,22]
["",null,43,0,0,{"$f":"F795","v":0},null,null,null,124,4,22]
["",null,44,0,0,{"$f":"F796","v":0},null,null,null,124,4,22]
["",null,45,0,0,{"$f":"F797","v":0},null,null,null,124,4,22]
["",null,46,0,0,{"$f":"F798","v":0},null,null,null,124,4,22]
["",null,47,0,0,{"$f":"F799","v":0},null,null,null,124,4,22]
["",null,48,0,0,{"$f":"F800","v":0},null,null,null,124,4,22]
["",null,49,0,0,{"$f":"F801","v":0},null,null,null,124,4,22]
["",null,50,0,0,{"$f":"F802","v":0},null,null,null,124,4,22]
["",null,1,{"$f":"DATOS!E19","v":0},{"$f":"DATOS!F19","v":0},{"$f":"DATOS!G19","v":0},null,null,null,124,4,22]
["",null,2,{"$f":"D804","v":0},{"$f":"E804","v":0},{"$f":"F804","v":0},null,null,null,124,4,22]
["",null,3,{"$f":"D805","v":0},0,{"$f":"F805","v":0},null,null,null,124,4,22]
["",null,4,0,0,{"$f":"F806","v":0},null,null,null,124,4,22]
["",null,5,0,0,{"$f":"F807","v":0},null,null,null,124,4,22]
["",null,6,0,0,{"$f":"F808","v":0},null,null,null,124,4,22]
["",null,7,0,0,{"$f":"F809","v":0},null,null,null,124,4,22]
["",null,8,0,0,{"$f":"F810","v":0},null,null,null,124,4,22]
["",null,9,0,0,{"$f":"F811","v":0},null,null,null,124,4,22]
["",null,10,0,0,{"$f":"F812","v":0},null,null,null,124,4,22]
["",null,11,0,0,{"$f":"F813","v":0},null,null,null,124,4,22]
["",null,12,0,0,{"$f":"F814","v":0},null,null,null,124,4,22]
["",null,13,0,0,{"$f":"F815","v":0},null,null,null,124,4,22]
["",null,14,0,0,{"$f":"F816","v":0},null,null,null,124,4,22]
["",null,15,0,0,{"$f":"F817","v":0},null,null,null,124,4,22]
["",null,16,0,0,{"$f":"F818","v":0},null,null,null,124,4,22]
["",null,17,0,0,{"$f":"F819","v":0},null,null,null,124,4,22]
["",null,18,0,0,{"$f":"F820","v":0},null,null,null,124,4,22]
["",null,19,0,0,{"$f":"F821","v":0},null,null,null,124,4,22]
["",null,20,0,0,{"$f":"F822","v":0},null,null,null,124,4,22]
["",null,21,0,0,{"$f":"F823","v":0},null,null,null,124,4,22]
["",null,22,0,0,{"$f":"F824","v":0},null,null,null,124,4,22]
["",null,23,0,0,{"$f":"F825","v":0},null,null,null,124,4,22]
["",null,24,0,0,{"$f":"F826","v":0},null,null,null,124,4,22]
["",null,25,0,0,{"$f":"F827","v":0},null,null,null,124,4,22]
["",null,26,0,0,{"$f":"F828","v":0},null,null,null,124,4,22]
["",null,27,0,0,{"$f":"F829","v":0},null,null,null,124,4,22]
["",null,28,0,0,{"$f":"F830","v":0},null,null,null,124,4,22]
["",null,29,0,0,{"$f":"F831","v":0},null,null,null,124,4,22]
["",null,30,0,0,{"$f":"F832","v":0},null,null,null,124,4,22]
["",null,31,0,0,{"$f":"F833","v":0},null,null,null,124,4,22]
["",null,32,0,0,{"$f":"F834","v":0},null,null,null,124,4,22]
["",null,33,0,0,{"$f":"F835","v":0},null,null,null,{"$f":"DATEDIF(I836,TODAY(),\"Y\")","v":124},{"$f":"DATEDIF(I836,TODAY(),\"YM\")","v":4},{"$f":"DATEDIF(I836,TODAY(),\"MD\")","v":22}]
[{"$f":"IF(B837=0,\"\",B837)","v":""},null,34,0,0,{"$f":"F836","v":0},null,null,null,124,4,22]
["",null,35,0,0,{"$f":"F837","v":0},null,null,null,124,4,22]
["",null,36,0,0,{"$f":"F838","v":0},null,null,null,124,4,22]
["",null,37,0,0,{"$f":"F839","v":0},null,null,null,124,4,22]
["",null,38,0,0,{"$f":"F840","v":0},null,null,null,124,4,22]
["",null,39,0,0,{"$f":"F841","v":0},null,null,null,124,4,22]
["",null,40,0,0,{"$f":"F842","v":0},null,null,null,124,4,22]
["",null,41,0,0,{"$f":"F843","v":0},null,null,null,124,4,22]
["",null,42,0,0,{"$f":"F844","v":0},null,null,null,124,4,22]
["",null,43,0,0,{"$f":"F845","v":0},null,null,null,124,4,22]
["",null,44,0,0,{"$f":"F846","v":0},null,null,null,124,4,22]
["",null,45,0,0,{"$f":"F847","v":0},null,null,null,124,4,22]
["",null,46,0,0,{"$f":"F848","v":0},null,null,null,124,4,22]
["",null,47,0,0,{"$f":"F849","v":0},null,null,null,124,4,22]
["",null,48,0,0,{"$f":"F850","v":0},null,null,null,124,4,22]
["",null,49,0,0,{"$f":"F851","v":0},null,null,null,124,4,22]
["",null,50,0,0,{"$f":"F852","v":0},null,null,null,124,4,22]
["",null,1,{"$f":"DATOS!E20","v":0},{"$f":"DATOS!F20","v":0},{"$f":"DATOS!G20","v":0},null,null,null,124,4,22]
["",null,2,{"$f":"D854","v":0},{"$f":"E854","v":0},{"$f":"F854","v":0},null,null,null,124,4,22]
["",null,3,{"$f":"D855","v":0},0,{"$f":"F855","v":0},null,null,null,124,4,22]
["",null,4,0,0,{"$f":"F856","v":0},null,null,null,124,4,22]
["",null,5,0,0,{"$f":"F857","v":0},null,null,null,124,4,22]
["",null,6,0,0,{"$f":"F858","v":0},null,null,null,124,4,22]
["",null,7,0,0,{"$f":"F859","v":0},null,null,null,124,4,22]
["",null,8,0,0,{"$f":"F860","v":0},null,null,null,124,4,22]
["",null,9,0,0,{"$f":"F861","v":0},null,null,null,124,4,22]
["",null,10,0,0,{"$f":"F862","v":0},null,null,null,124,4,22]
["",null,11,0,0,{"$f":"F863","v":0},null,null,null,124,4,22]
["",null,12,0,0,{"$f":"F864","v":0},null,null,null,124,4,22]
["",null,13,0,0,{"$f":"F865","v":0},null,null,null,124,4,22]
["",null,14,0,0,{"$f":"F866","v":0},null,null,null,124,4,22]
["",null,15,0,0,{"$f":"F867","v":0},null,null,null,124,4,22]
["",null,16,0,0,{"$f":"F868","v":0},null,null,null,124,4,22]
["",null,17,0,0,{"$f":"F869","v":0},null,null,null,124,4,22]
["",null,18,0,0,{"$f":"F870","v":0},null,null,null,124,4,22]
["",null,19,0,0,{"$f":"F871","v":0},null,null,null,124,4,22]
["",null,20,0,0,{"$f":"F872","v":0},null,null,null,124,4,22]
["",null,21,0,0,{"$f":"F873","v":0},null,null,null,124,4,22]
["",null,22,0,0,{"$f":"F874","v":0},null,null,null,124,4,22]
["",null,23,0,0,{"$f":"F875","v":0},null,null,null,124,4,22]
["",null,24,0,0,{"$f":"F876","v":0},null,null,null,124,4,22]
["",null,25,0,0,{"$f":"F877","v":0},null,null,null,124,4,22]
["",null,26,0,0,{"$f":"F878","v":0},null,null,null,124,4,22]
["",null,27,0,0,{"$f":"F879","v":0},null,null,null,124,4,22]
["",null,28,0,0,{"$f":"F880","v":0},null,null,null,124,4,22]
["",null,29,0,0,{"$f":"F881","v":0},null,null,null,124,4,22]
["",null,30,0,0,{"$f":"F882","v":0},null,null,null,124,4,22]
["",null,31,0,0,{"$f":"F883","v":0},null,null,null,124,4,22]
["",null,32,0,0,{"$f":"F884","v":0},null,null,null,124,4,22]
["",null,33,0,0,{"$f":"F885","v":0},null,null,null,124,4,22]
["",null,34,0,0,{"$f":"F886","v":0},null,null,null,124,4,22]
["",null,35,0,0,{"$f":"F887","v":0},null,null,null,124,4,22]
["",null,36,0,0,{"$f":"F888","v":0},null,null,null,124,4,22]
["",null,37,0,0,{"$f":"F889","v":0},null,null,null,124,4,22]
["",null,38,0,0,{"$f":"F890","v":0},null,null,null,124,4,22]
["",null,39,0,0,{"$f":"F891","v":0},null,null,null,124,4,22]
["",null,40,0,0,{"$f":"F892","v":0},null,null,null,124,4,22]
["",null,41,0,0,{"$f":"F893","v":0},null,null,null,124,4,22]
["",null,42,0,0,{"$f":"F894","v":0},null,null,null,124,4,22]
["",null,43,0,0,{"$f":"F895","v":0},null,null,null,124,4,22]
["",null,44,0,0,{"$f":"F896","v":0},null,null,null,124,4,22]
["",null,45,0,0,{"$f":"F897","v":0},null,null,null,124,4,22]
["",null,46,0,0,{"$f":"F898","v":0},null,null,null,124,4,22]
["",null,47,0,0,{"$f":"F899","v":0},null,null,null,{"$f":"DATEDIF(I900,TODAY(),\"Y\")","v":124},{"$f":"DATEDIF(I900,TODAY(),\"YM\")","v":4},{"$f":"DATEDIF(I900,TODAY(),\"MD\")","v":22}]
[{"$f":"IF(B901=0,\"\",B901)","v":""},null,48,0,0,{"$f":"F900","v":0},null,null,null,124,4,22]
["",null,49,0,0,{"$f":"F901","v":0},null,null,null,124,4,22]
["",null,50,0,0,{"$f":"F902","v":0},null,null,null,124,4,22]
["",null,1,{"$f":"DATOS!E21","v":0},{"$f":"DATOS!F21","v":0},{"$f":"DATOS!G21","v":0},null,null,null,124,4,22]
["",null,2,{"$f":"D904","v":0},{"$f":"E904","v":0},{"$f":"F904","v":0},null,null,null,124,4,22]
["",null,3,{"$f":"D905","v":0},0,{"$f":"F905","v":0},null,null,null,124,4,22]
["",null,4,0,0,{"$f":"F906","v":0},null,null,null,124,4,22]
["",null,5,0,0,{"$f":"F907","v":0},null,null,null,124,4,22]
["",null,6,0,0,{"$f":"F908","v":0},null,null,null,124,4,22]
["",null,7,0,0,{"$f":"F909","v":0},null,null,null,124,4,22]
["",null,8,0,0,{"$f":"F910","v":0},null,null,null,124,4,22]
["",null,9,0,0,{"$f":"F911","v":0},null,null,null,124,4,22]
["",null,10,0,0,{"$f":"F912","v":0},null,null,null,124,4,22]
["",null,11,0,0,{"$f":"F913","v":0},null,null,null,124,4,22]
["",null,12,0,0,{"$f":"F914","v":0},null,null,null,124,4,22]
["",null,13,0,0,{"$f":"F915","v":0},null,null,null,124,4,22]
["",null,14,0,0,{"$f":"F916","v":0},null,null,null,124,4,22]
["",null,15,0,0,{"$f":"F917","v":0},null,null,null,124,4,22]
["",null,16,0,0,{"$f":"F918","v":0},null,null,null,124,4,22]
["",null,17,0,0,{"$f":"F919","v":0},null,null,null,124,4,22]
["",null,18,0,0,{"$f":"F920","v":0},null,null,null,124,4,22]
["",null,19,0,0,{"$f":"F921","v":0},null,null,null,124,4,22]
["",null,20,0,0,{"$f":"F922","v":0},null,null,null,124,4,22]
["",null,21,0,0,{"$f":"F923","v":0},null,null,null,124,4,22]
["",null,22,0,0,{"$f":"F924","v":0},null,null,null,124,4,22]
["",null,23,0,0,{"$f":"F925","v":0},null,null,null,124,4,22]
["",null,24,0,0,{"$f":"F926","v":0},null,null,null,124,4,22]
["",null,25,0,0,{"$f":"F927","v":0},null,null,null,124,4,22]
["",null,26,0,0,{"$f":"F928","v":0},null,null,null,124,4,22]
["",null,27,0,0,{"$f":"F929","v":0},null,null,null,124,4,22]
["",null,28,0,0,{"$f":"F930","v":0},null,null,null,124,4,22]
["",null,29,0,0,{"$f":"F931","v":0},null,null,null,124,4,22]
["",null,30,0,0,{"$f":"F932","v":0},null,null,null,124,4,22]
["",null,31,0,0,{"$f":"F933","v":0},null,null,null,124,4,22]
["",null,32,0,0,{"$f":"F934","v":0},null,null,null,124,4,22]
["",null,33,0,0,{"$f":"F935","v":0},null,null,null,124,4,22]
["",null,34,0,0,{"$f":"F936","v":0},null,null,null,124,4,22]
["",null,35,0,0,{"$f":"F937","v":0},null,null,null,124,4,22]
["",null,36,0,0,{"$f":"F938","v":0},null,null,null,124,4,22]
["",null,37,0,0,{"$f":"F939","v":0},null,null,null,124,4,22]
["",null,38,0,0,{"$f":"F940","v":0},null,null,null,124,4,22]
["",null,39,0,0,{"$f":"F941","v":0},null,null,null,124,4,22]
["",null,40,0,0,{"$f":"F942","v":0},null,null,null,124,4,22]
["",null,41,0,0,{"$f":"F943","v":0},null,null,null,124,4,22]
["",null,42,0,0,{"$f":"F944","v":0},null,null,null,124,4,22]
["",null,43,0,0,{"$f":"F945","v":0},null,null,null,124,4,22]
["",null,44,0,0,{"$f":"F946","v":0},null,null,null,124,4,22]
["",null,45,0,0,{"$f":"F947","v":0},null,null,null,124,4,22]
["",null,46,0,0,{"$f":"F948","v":0},null,null,null,124,4,22]
["",null,47,0,0,{"$f":"F949","v":0},null,null,null,124,4,22]
["",null,48,0,0,{"$f":"F950","v":0},null,null,null,124,4,22]
["",null,49,0,0,{"$f":"F951","v":0},null,null,null,124,4,22]
["",null,50,0,0,{"$f":"F952","v":0},null,null,null,124,4,22]
["",null,1,{"$f":"DATOS!E22","v":0},{"$f":"DATOS!F22","v":0},{"$f":"DATOS!G22","v":0},null,null,null,124,4,22]
["",null,2,{"$f":"D954","v":0},{"$f":"E954","v":0},{"$f":"F954","v":0},null,null,null,124,4,22]
["",null,3,{"$f":"D955","v":0},0,{"$f":"F955","v":0},null,null,null,124,4,22]
["",null,4,0,0,{"$f":"F956","v":0},null,null,null,124,4,22]
["",null,5,0,0,{"$f":"F957","v":0},null,null,null,124,4,22]
["",null,6,0,0,{"$f":"F958","v":0},null,null,null,124,4,22]
["",null,7,0,0,{"$f":"F959","v":0},null,null,null,124,4,22]
["",null,8,0,0,{"$f":"F960","v":0},null,null,null,124,4,22]
["",null,9,0,0,{"$f":"F961","v":0},null,null,null,124,4,22]
["",null,10,0,0,{"$f":"F962","v":0},null,null,null,124,4,22]
["",null,11,0,0,{"$f":"F963","v":0},null,null,null,{"$f":"DATEDIF(I964,TODAY(),\"Y\")","v":124},{"$f":"DATEDIF(I964,TODAY(),\"YM\")","v":4},{"$f":"DATEDIF(I964,TODAY(),\"MD\")","v":22}]
[{"$f":"IF(B965=0,\"\",B965)","v":""},null,12,0,0,{"$f":"F964","v":0},null,null,null,124,4,22]
["",null,13,0,0,{"$f":"F965","v":0},null,null,null,124,4,22]
["",null,14,0,0,{"$f":"F966","v":0},null,null,null,124,4,22]
["",null,15,0,0,{"$f":"F967","v":0},null,null,null,124,4,22]
["",null,16,0,0,{"$f":"F968","v":0},null,null,null,124,4,22]
["",null,17,0,0,{"$f":"F969","v":0},null,null,null,124,4,22]
["",null,18,0,0,{"$f":"F970","v":0},null,null,null,124,4,22]
["",null,19,0,0,{"$f":"F971","v":0},null,null,null,124,4,22]
["",null,20,0,0,{"$f":"F972","v":0},null,null,null,124,4,22]
["",null,21,0,0,{"$f":"F973","v":0},null,null,null,124,4,22]
["",null,22,0,0,{"$f":"F974","v":0},null,null,null,124,4,22]
["",null,23,0,0,{"$f":"F975","v":0},null,null,null,124,4,22]
["",null,24,0,0,{"$f":"F976","v":0},null,null,null,124,4,22]
["",null,25,0,0,{"$f":"F977","v":0},null,null,null,124,4,22]
["",null,26,0,0,{"$f":"F978","v":0},null,null,null,124,4,22]
["",null,27,0,0,{"$f":"F979","v":0},null,null,null,124,4,22]
["",null,28,0,0,{"$f":"F980","v":0},null,null,null,124,4,22]
["",null,29,0,0,{"$f":"F981","v":0},null,null,null,124,4,22]
["",null,30,0,0,{"$f":"F982","v":0},null,null,null,124,4,22]
["",null,31,0,0,{"$f":"F983","v":0},null,null,null,124,4,22]
["",null,32,0,0,{"$f":"F984","v":0},null,null,null,124,4,22]
["",null,33,0,0,{"$f":"F985","v":0},null,null,null,124,4,22]
["",null,34,0,0,{"$f":"F986","v":0},null,null,null,124,4,22]
["",null,35,0,0,{"$f":"F987","v":0},null,null,null,124,4,22]
["",null,36,0,0,{"$f":"F988","v":0},null,null,null,124,4,22]
["",null,37,0,0,{"$f":"F989","v":0},null,null,null,124,4,22]
["",null,38,0,0,{"$f":"F990","v":0},null,null,null,124,4,22]
["",null,39,0,0,{"$f":"F991","v":0},null,null,null,124,4,22]
["",null,40,0,0,{"$f":"F992","v":0},null,null,null,124,4,22]
["",null,41,0,0,{"$f":"F993","v":0},null,null,null,124,4,22]
["",null,42,0,0,{"$f":"F994","v":0},null,null,null,124,4,22]
["",null,43,0,0,{"$f":"F995","v":0},null,null,null,124,4,22]
["",null,44,0,0,{"$f":"F996","v":0},null,null,null,124,4,22]
["",null,45,0,0,{"$f":"F997","v":0},null,null,null,124,4,22]
["",null,46,0,0,{"$f":"F998","v":0},null,null,null,124,4,22]
["",null,47,0,0,{"$f":"F999","v":0},null,null,null,124,4,22]
["",null,48,0,0,{"$f":"F1000","v":0},null,null,null,124,4,22]
["",null,49,0,0,{"$f":"F1001","v":0},null,null,null,124,4,22]
["",null,50,0,0,{"$f":"F1002","v":0},null,null,null,124,4,22]
["",null,1,{"$f":"DATOS!E23","v":0},{"$f":"DATOS!F23","v":0},{"$f":"DATOS!G23","v":0},null,null,null,124,4,22]
["",null,2,{"$f":"D1004","v":0},{"$f":"E1004","v":0},{"$f":"F1004","v":0},null,null,null,124,4,22]
["",null,3,{"$f":"D1005","v":0},0,{"$f":"F1005","v":0},null,null,null,124,4,22]
["",null,4,0,0,{"$f":"F1006","v":0},null,null,null,124,4,22]
["",null,5,0,0,{"$f":"F1007","v":0},null,null,null,124,4,22]
["",null,6,0,0,{"$f":"F1008","v":0},null,null,null,124,4,22]
["",null,7,0,0,{"$f":"F1009","v":0},null,null,null,124,4,22]
["",null,8,0,0,{"$f":"F1010","v":0},null,null,null,124,4,22]
["",null,9,0,0,{"$f":"F1011","v":0},null,null,null,124,4,22]
["",null,10,0,0,{"$f":"F1012","v":0},null,null,null,124,4,22]
["",null,11,0,0,{"$f":"F1013","v":0},null,null,null,124,4,22]
["",null,12,0,0,{"$f":"F1014","v":0},null,null,null,124,4,22]
["",null,13,0,0,{"$f":"F1015","v":0},null,null,null,124,4,22]
["",null,14,0,0,{"$f":"F1016","v":0},null,null,null,124,4,22]
["",null,15,0,0,{"$f":"F1017","v":0},null,null,null,124,4,22]
["",null,16,0,0,{"$f":"F1018","v":0},null,null,null,124,4,22]
["",null,17,0,0,{"$f":"F1019","v":0},null,null,null,124,4,22]
["",null,18,0,0,{"$f":"F1020","v":0},null,null,null,124,4,22]
["",null,19,0,0,{"$f":"F1021","v":0},null,null,null,124,4,22]
["",null,20,0,0,{"$f":"F1022","v":0},null,null,null,124,4,22]
["",null,21,0,0,{"$f":"F1023","v":0},null,null,null,124,4,22]
["",null,22,0,0,{"$f":"F1024","v":0},null,null,null,124,4,22]
["",null,23,0,0,{"$f":"F1025","v":0},null,null,null,124,4,22]
["",null,24,0,0,{"$f":"F1026","v":0},null,null,null,124,4,22]
["",null,25,0,0,{"$f":"F1027","v":0},null,null,null,{"$f":"DATEDIF(I1028,TODAY(),\"Y\")","v":124},{"$f":"DATEDIF(I1028,TODAY(),\"YM\")","v":4},{"$f":"DATEDIF(I1028,TODAY(),\"MD\")","v":22}]
[{"$f":"IF(B1029=0,\"\",B1029)","v":""},null,26,0,0,{"$f":"F1028","v":0},null,null,null,124,4,22]
["",null,27,0,0,{"$f":"F1029","v":0},null,null,null,124,4,22]
["",null,28,0,0,{"$f":"F1030","v":0},null,null,null,124,4,22]
["",null,29,0,0,{"$f":"F1031","v":0},null,null,null,124,4,22]
["",null,30,0,0,{"$f":"F1032","v":0},null,null,null,124,4,22]
["",null,31,0,0,{"$f":"F1033","v":0},null,null,null,124,4,22]
["",null,32,0,0,{"$f":"F1034","v":0},null,null,null,124,4,22]
["",null,33,0,0,{"$f":"F1035","v":0},null,null,null,124,4,22]
["",null,34,0,0,{"$f":"F1036","v":0},null,null,null,124,4,22]
["",null,35,0,0,{"$f":"F1037","v":0},null,null,null,124,4,22]
["",null,36,0,0,{"$f":"F1038","v":0},null,null,null,124,4,22]
["",null,37,0,0,{"$f":"F1039","v":0},null,null,null,124,4,22]
["",null,38,0,0,{"$f":"F1040","v":0},null,null,null,124,4,22]
["",null,39,0,0,{"$f":"F1041","v":0},null,null,null,124,4,22]
["",null,40,0,0,{"$f":"F1042","v":0},null,null,null,124,4,22]
["",null,41,0,0,{"$f":"F1043","v":0},null,null,null,124,4,22]
["",null,42,0,0,{"$f":"F1044","v":0},null,null,null,124,4,22]
["",null,43,0,0,{"$f":"F1045","v":0},null,null,null,124,4,22]
["",null,44,0,0,{"$f":"F1046","v":0},null,null,null,124,4,22]
["",null,45,0,0,{"$f":"F1047","v":0},null,null,null,124,4,22]
["",null,46,0,0,{"$f":"F1048","v":0},null,null,null,124,4,22]
["",null,47,0,0,{"$f":"F1049","v":0},null,null,null,124,4,22]
["",null,48,0,0,{"$f":"F1050","v":0},null,null,null,124,4,22]
["",null,49,0,0,{"$f":"F1051","v":0},null,null,null,124,4,22]
["",null,50,0,0,{"$f":"F1052","v":0},null,null,null,124,4,22]
["",null,1,{"$f":"DATOS!E24","v":0},{"$f":"DATOS!F24","v":0},{"$f":"DATOS!G24","v":0},null,null,null,124,4,22]
["",null,2,{"$f":"D1054","v":0},{"$f":"E1054","v":0},{"$f":"F1054","v":0},null,null,null,124,4,22]
["",null,3,{"$f":"D1055","v":0},0,{"$f":"F1055","v":0},null,null,null,124,4,22]
["",null,4,0,0,{"$f":"F1056","v":0},null,null,null,124,4,22]
["",null,5,0,0,{"$f":"F1057","v":0},null,null,null,124,4,22]
["",null,6,0,0,{"$f":"F1058","v":0},null,null,null,124,4,22]
["",null,7,0,0,{"$f":"F1059","v":0},null,null,null,124,4,22]
["",null,8,0,0,{"$f":"F1060","v":0},null,null,null,124,4,22]
["",null,9,0,0,{"$f":"F1061","v":0},null,null,null,124,4,22]
["",null,10,0,0,{"$f":"F1062","v":0},null,null,null,124,4,22]
["",null,11,0,0,{"$f":"F1063","v":0},null,null,null,124,4,22]
["",null,12,0,0,{"$f":"F1064","v":0},null,null,null,124,4,22]
["",null,13,0,0,{"$f":"F1065","v":0},null,null,null,124,4,22]
["",null,14,0,0,{"$f":"F1066","v":0},null,null,null,124,4,22]
["",null,15,0,0,{"$f":"F1067","v":0},null,null,null,124,4,22]
["",null,16,0,0,{"$f":"F1068","v":0},null,null,null,124,4,22]
["",null,17,0,0,{"$f":"F1069","v":0},null,null,null,124,4,22]
["",null,18,0,0,{"$f":"F1070","v":0},null,null,null,124,4,22]
["",null,19,0,0,{"$f":"F1071","v":0},null,null,null,124,4,22]
["",null,20,0,0,{"$f":"F1072","v":0},null,null,null,124,4,22]
["",null,21,0,0,{"$f":"F1073","v":0},null,null,null,124,4,22]
["",null,22,0,0,{"$f":"F1074","v":0},null,null,null,124,4,22]
["",null,23,0,0,{"$f":"F1075","v":0},null,null,null,124,4,22]
["",null,24,0,0,{"$f":"F1076","v":0},null,null,null,124,4,22]
["",null,25,0,0,{"$f":"F1077","v":0},null,null,null,124,4,22]
["",null,26,0,0,{"$f":"F1078","v":0},null,null,null,124,4,22]
["",null,27,0,0,{"$f":"F1079","v":0},null,null,null,124,4,22]
["",null,28,0,0,{"$f":"F1080","v":0},null,null,null,124,4,22]
["",null,29,0,0,{"$f":"F1081","v":0},null,null,null,124,4,22]
["",null,30,0,0,{"$f":"F1082","v":0},null,null,null,124,4,22]
["",null,31,0,0,{"$f":"F1083","v":0},null,null,null,124,4,22]
["",null,32,0,0,{"$f":"F1084","v":0},null,null,null,124,4,22]
["",null,33,0,0,{"$f":"F1085","v":0},null,null,null,124,4,22]
["",null,34,0,0,{"$f":"F1086","v":0},null,null,null,124,4,22]
["",null,35,0,0,{"$f":"F1087","v":0},null,null,null,124,4,22]
["",null,36,0,0,{"$f":"F1088","v":0},null,null,null,124,4,22]
["",null,37,0,0,{"$f":"F1089","v":0},null,null,null,124,4,22]
["",null,38,0,0,{"$f":"F1090","v":0},null,null,null,124,4,22]
["",null,39,0,0,{"$f":"F1091","v":0},null,null,null,{"$f":"DATEDIF(I1092,TODAY(),\"Y\")","v":124},{"$f":"DATEDIF(I1092,TODAY(),\"YM\")","v":4},{"$f":"DATEDIF(I1092,TODAY(),\"MD\")","v":22}]
[{"$f":"IF(B1093=0,\"\",B1093)","v":""},null,40,0,0,{"$f":"F1092","v":0},null,null,null,124,4,22]
["",null,41,0,0,{"$f":"F1093","v":0},null,null,null,124,4,22]
["",null,42,0,0,{"$f":"F1094","v":0},null,null,null,124,4,22]
["",null,43,0,0,{"$f":"F1095","v":0},null,null,null,124,4,22]
["",null,44,0,0,{"$f":"F1096","v":0},null,null,null,124,4,22]
["",null,45,0,0,{"$f":"F1097","v":0},null,null,null,124,4,22]
["",null,46,0,0,{"$f":"F1098","v":0},null,null,null,124,4,22]
["",null,47,0,0,{"$f":"F1099","v":0},null,null,null,124,4,22]
["",null,48,0,0,{"$f":"F1100","v":0},null,null,null,124,4,22]
["",null,49,0,0,{"$f":"F1101","v":0},null,null,null,124,4,22]
["",null,50,0,0,{"$f":"F1102","v":0},null,null,null,124,4,22]
["",null,1,{"$f":"DATOS!E25","v":0},{"$f":"DATOS!F25","v":0},{"$f":"DATOS!G25","v":0},null,null,null,124,4,22]
["",null,2,{"$f":"D1104","v":0},{"$f":"E1104","v":0},{"$f":"F1104","v":0},null,null,null,124,4,22]
["",null,3,{"$f":"D1105","v":0},0,{"$f":"F1105","v":0},null,null,null,124,4,22]
["",null,4,0,0,{"$f":"F1106","v":0},null,null,null,124,4,22]
["",null,5,0,0,{"$f":"F1107","v":0},null,null,null,124,4,22]
["",null,6,0,0,{"$f":"F1108","v":0},null,null,null,124,4,22]
["",null,7,0,0,{"$f":"F1109","v":0},null,null,null,124,4,22]
["",null,8,0,0,{"$f":"F1110","v":0},null,null,null,124,4,22]
["",null,9,0,0,{"$f":"F1111","v":0},null,null,null,124,4,22]
["",null,10,0,0,{"$f":"F1112","v":0},null,null,null,124,4,22]
["",null,11,0,0,{"$f":"F1113","v":0},null,null,null,124,4,22]
["",null,12,0,0,{"$f":"F1114","v":0},null,null,null,124,4,22]
["",null,13,0,0,{"$f":"F1115","v":0},null,null,null,124,4,22]
["",null,14,0,0,{"$f":"F1116","v":0},null,null,null,124,4,22]
["",null,15,0,0,{"$f":"F1117","v":0},null,null,null,124,4,22]
["",null,16,0,0,{"$f":"F1118","v":0},null,null,null,124,4,22]
["",null,17,0,0,{"$f":"F1119","v":0},null,null,null,124,4,22]
["",null,18,0,0,{"$f":"F1120","v":0},null,null,null,124,4,22]
["",null,19,0,0,{"$f":"F1121","v":0},null,null,null,124,4,22]
["",null,20,0,0,{"$f":"F1122","v":0},null,null,null,124,4,22]
["",null,21,0,0,{"$f":"F1123","v":0},null,null,null,124,4,22]
["",null,22,0,0,{"$f":"F1124","v":0},null,null,null,124,4,22]
["",null,23,0,0,{"$f":"F1125","v":0},null,null,null,124,4,22]
["",null,24,0,0,{"$f":"F1126","v":0},null,null,null,124,4,22]
["",null,25,0,0,{"$f":"F1127","v":0},null,null,null,124,4,22]
["",null,26,0,0,{"$f":"F1128","v":0},null,null,null,124,4,22]
["",null,27,0,0,{"$f":"F1129","v":0},null,null,null,124,4,22]
["",null,28,0,0,{"$f":"F1130","v":0},null,null,null,124,4,22]
["",null,29,0,0,{"$f":"F1131","v":0},null,null,null,124,4,22]
["",null,30,0,0,{"$f":"F1132","v":0},null,null,null,124,4,22]
["",null,31,0,0,{"$f":"F1133","v":0},null,null,null,124,4,22]
["",null,32,0,0,{"$f":"F1134","v":0},null,null,null,124,4,22]
["",null,33,0,0,{"$f":"F1135","v":0},null,null,null,124,4,22]
["",null,34,0,0,{"$f":"F1136","v":0},null,null,null,124,4,22]
["",null,35,0,0,{"$f":"F1137","v":0},null,null,null,124,4,22]
["",null,36,0,0,{"$f":"F1138","v":0},null,null,null,124,4,22]
["",null,37,0,0,{"$f":"F1139","v":0},null,null,null,124,4,22]
["",null,38,0,0,{"$f":"F1140","v":0},null,null,null,124,4,22]
["",null,39,0,0,{"$f":"F1141","v":0},null,null,null,124,4,22]
["",null,40,0,0,{"$f":"F1142","v":0},null,null,null,124,4,22]
["",null,41,0,0,{"$f":"F1143","v":0},null,null,null,124,4,22]
["",null,42,0,0,{"$f":"F1144","v":0},null,null,null,124,4,22]
["",null,43,0,0,{"$f":"F1145","v":0},null,null,null,124,4,22]
["",null,44,0,0,{"$f":"F1146","v":0},null,null,null,124,4,22]
["",null,45,0,0,{"$f":"F1147","v":0},null,null,null,124,4,22]
["",null,46,0,0,{"$f":"F1148","v":0},null,null,null,124,4,22]
["",null,47,0,0,{"$f":"F1149","v":0},null,null,null,124,4,22]
["",null,48,0,0,{"$f":"F1150","v":0},null,null,null,124,4,22]
["",null,49,0,0,{"$f":"F1151","v":0},null,null,null,124,4,22]
["",null,50,0,0,{"$f":"F1152","v":0},null,null,null,124,4,22]
["",null,1,{"$f":"DATOS!E26","v":0},{"$f":"DATOS!F26","v":0},{"$f":"DATOS!G26","v":0},null,null,null,124,4,22]
["",null,2,{"$f":"D1154","v":0},{"$f":"E1154","v":0},{"$f":"F1154","v":0},null,null,null,124,4,22]
["",null,3,{"$f":"D1155","v":0},0,{"$f":"F1155","v":0},null,null,null,{"$f":"DATEDIF(I1156,TODAY(),\"Y\")","v":124},{"$f":"DATEDIF(I1156,TODAY(),\"YM\")","v":4},{"$f":"DATEDIF(I1156,TODAY(),\"MD\")","v":22}]
[{"$f":"IF(B1157=0,\"\",B1157)","v":""},null,4,0,0,{"$f":"F1156","v":0},null,null,null,124,4,22]
["",null,5,0,0,{"$f":"F1157","v":0},null,null,null,124,4,22]
["",null,6,0,0,{"$f":"F1158","v":0},null,null,null,124,4,22]
["",null,7,0,0,{"$f":"F1159","v":0},null,null,null,124,4,22]
["",null,8,0,0,{"$f":"F1160","v":0},null,null,null,124,4,22]
["",null,9,0,0,{"$f":"F1161","v":0},null,null,null,124,4,22]
["",null,10,0,0,{"$f":"F1162","v":0},null,null,null,124,4,22]
["",null,11,0,0,{"$f":"F1163","v":0},null,null,null,124,4,22]
["",null,12,0,0,{"$f":"F1164","v":0},null,null,null,124,4,22]
["",null,13,0,0,{"$f":"F1165","v":0},null,null,null,124,4,22]
["",null,14,0,0,{"$f":"F1166","v":0},null,null,null,124,4,22]
["",null,15,0,0,{"$f":"F1167","v":0},null,null,null,124,4,22]
["",null,16,0,0,{"$f":"F1168","v":0},null,null,null,124,4,22]
["",null,17,0,0,{"$f":"F1169","v":0},null,null,null,124,4,22]
["",null,18,0,0,{"$f":"F1170","v":0},null,null,null,124,4,22]
["",null,19,0,0,{"$f":"F1171","v":0},null,null,null,124,4,22]
["",null,20,0,0,{"$f":"F1172","v":0},null,null,null,124,4,22]
["",null,21,0,0,{"$f":"F1173","v":0},null,null,null,124,4,22]
["",null,22,0,0,{"$f":"F1174","v":0},null,null,null,124,4,22]
["",null,23,0,0,{"$f":"F1175","v":0},null,null,null,124,4,22]
["",null,24,0,0,{"$f":"F1176","v":0},null,null,null,124,4,22]
["",null,25,0,0,{"$f":"F1177","v":0},null,null,null,124,4,22]
["",null,26,0,0,{"$f":"F1178","v":0},null,null,null,124,4,22]
["",null,27,0,0,{"$f":"F1179","v":0},null,null,null,124,4,22]
["",null,28,0,0,{"$f":"F1180","v":0},null,null,null,124,4,22]
["",null,29,0,0,{"$f":"F1181","v":0},null,null,null,124,4,22]
["",null,30,0,0,{"$f":"F1182","v":0},null,null,null,124,4,22]
["",null,31,0,0,{"$f":"F1183","v":0},null,null,null,124,4,22]
["",null,32,0,0,{"$f":"F1184","v":0},null,null,null,124,4,22]
["",null,33,0,0,{"$f":"F1185","v":0},null,null,null,124,4,22]
["",null,34,0,0,{"$f":"F1186","v":0},null,null,null,124,4,22]
["",null,35,0,0,{"$f":"F1187","v":0},null,null,null,124,4,22]
["",null,36,0,0,{"$f":"F1188","v":0},null,null,null,124,4,22]
["",null,37,0,0,{"$f":"F1189","v":0},null,null,null,124,4,22]
["",null,38,0,0,{"$f":"F1190","v":0},null,null,null,124,4,22]
["",null,39,0,0,{"$f":"F1191","v":0},null,null,null,124,4,22]
["",null,40,0,0,{"$f":"F1192","v":0},null,null,null,124,4,22]
["",null,41,0,0,{"$f":"F1193","v":0},null,null,null,124,4,22]
["",null,42,0,0,{"$f":"F1194","v":0},null,null,null,124,4,22]
["",null,43,0,0,{"$f":"F1195","v":0},null,null,null,124,4,22]
["",null,44,0,0,{"$f":"F1196","v":0},null,null,null,124,4,22]
["",null,45,0,0,{"$f":"F1197","v":0},null,null,null,124,4,22]
["",null,46,0,0,{"$f":"F1198","v":0},null,null,null,124,4,22]
["",null,47,0,0,{"$f":"F1199","v":0},null,null,null,124,4,22]
["",null,48,0,0,{"$f":"F1200","v":0},null,null,null,124,4,22]
["",null,49,0,0,{"$f":"F1201","v":0},null,null,null,124,4,22]
["",null,50,0,0,{"$f":"F1202","v":0},null,null,null,124,4,22]
["",null,1,{"$f":"DATOS!E27","v":0},{"$f":"DATOS!F27","v":0},{"$f":"DATOS!G27","v":0},null,null,null,124,4,22]
["",null,2,{"$f":"D1204","v":0},{"$f":"E1204","v":0},{"$f":"F1204","v":0},null,null,null,124,4,22]
["",null,3,{"$f":"D1205","v":0},0,{"$f":"F1205","v":0},null,null,null,124,4,22]
["",null,4,0,0,{"$f":"F1206","v":0},null,null,null,124,4,22]
["",null,5,0,0,{"$f":"F1207","v":0},null,null,null,124,4,22]
["",null,6,0,0,{"$f":"F1208","v":0},null,null,null,124,4,22]
["",null,7,0,0,{"$f":"F1209","v":0},null,null,null,124,4,22]
["",null,8,0,0,{"$f":"F1210","v":0},null,null,null,124,4,22]
["",null,9,0,0,{"$f":"F1211","v":0},null,null,null,124,4,22]
["",null,10,0,0,{"$f":"F1212","v":0},null,null,null,124,4,22]
["",null,11,0,0,{"$f":"F1213","v":0},null,null,null,124,4,22]
["",null,12,0,0,{"$f":"F1214","v":0},null,null,null,124,4,22]
["",null,13,0,0,{"$f":"F1215","v":0},null,null,null,124,4,22]
["",null,14,0,0,{"$f":"F1216","v":0},null,null,null,124,4,22]
["",null,15,0,0,{"$f":"F1217","v":0},null,null,null,124,4,22]
["",null,16,0,0,{"$f":"F1218","v":0},null,null,null,124,4,22]
["",null,17,0,0,{"$f":"F1219","v":0},null,null,null,{"$f":"DATEDIF(I1220,TODAY(),\"Y\")","v":124},{"$f":"DATEDIF(I1220,TODAY(),\"YM\")","v":4},{"$f":"DATEDIF(I1220,TODAY(),\"MD\")","v":22}]
[{"$f":"IF(B1221=0,\"\",B1221)","v":""},null,18,0,0,{"$f":"F1220","v":0},null,null,null,124,4,22]
["",null,19,0,0,{"$f":"F1221","v":0},null,null,null,124,4,22]
["",null,20,0,0,{"$f":"F1222","v":0},null,null,null,124,4,22]
["",null,21,0,0,{"$f":"F1223","v":0},null,null,null,124,4,22]
["",null,22,0,0,{"$f":"F1224","v":0},null,null,null,124,4,22]
["",null,23,0,0,{"$f":"F1225","v":0},null,null,null,124,4,22]
["",null,24,0,0,{"$f":"F1226","v":0},null,null,null,124,4,22]
["",null,25,0,0,{"$f":"F1227","v":0},null,null,null,124,4,22]
["",null,26,0,0,{"$f":"F1228","v":0},null,null,null,124,4,22]
["",null,27,0,0,{"$f":"F1229","v":0},null,null,null,124,4,22]
["",null,28,0,0,{"$f":"F1230","v":0},null,null,null,124,4,22]
["",null,29,0,0,{"$f":"F1231","v":0},null,null,null,124,4,22]
["",null,30,0,0,{"$f":"F1232","v":0},null,null,null,124,4,22]
["",null,31,0,0,{"$f":"F1233","v":0},null,null,null,124,4,22]
["",null,32,0,0,{"$f":"F1234","v":0},null,null,null,124,4,22]
["",null,33,0,0,{"$f":"F1235","v":0},null,null,null,124,4,22]
["",null,34,0,0,{"$f":"F1236","v":0},null,null,null,124,4,22]
["",null,35,0,0,{"$f":"F1237","v":0},null,null,null,124,4,22]
["",null,36,0,0,{"$f":"F1238","v":0},null,null,null,124,4,22]
["",null,37,0,0,{"$f":"F1239","v":0},null,null,null,124,4,22]
["",null,38,0,0,{"$f":"F1240","v":0},null,null,null,124,4,22]
["",null,39,0,0,{"$f":"F1241","v":0},null,null,null,124,4,22]
["",null,40,0,0,{"$f":"F1242","v":0},null,null,null,124,4,22]
["",null,41,0,0,{"$f":"F1243","v":0},null,null,null,124,4,22]
["",null,42,0,0,{"$f":"F1244","v":0},null,null,null,124,4,22]
["",null,43,0,0,{"$f":"F1245","v":0},null,null,null,124,4,22]
["",null,44,0,0,{"$f":"F1246","v":0},null,null,null,124,4,22]
["",null,45,0,0,{"$f":"F1247","v":0},null,null,null,124,4,22]
["",null,46,0,0,{"$f":"F1248","v":0},null,null,null,124,4,22]
["",null,47,0,0,{"$f":"F1249","v":0},null,null,null,124,4,22]
["",null,48,0,0,{"$f":"F1250","v":0},null,null,null,124,4,22]
["",null,49,0,0,{"$f":"F1251","v":0},null,null,null,124,4,22]
["",null,50,0,0,{"$f":"F1252","v":0},null,null,null,124,4,22]
["",null,1,{"$f":"DATOS!E28","v":0},{"$f":"DATOS!F28","v":0},{"$f":"DATOS!G28","v":0},null,null,null,124,4,22]
["",null,2,{"$f":"D1254","v":0},{"$f":"E1254","v":0},{"$f":"F1254","v":0},null,null,null,124,4,22]
["",null,3,{"$f":"D1255","v":0},0,{"$f":"F1255","v":0},null,null,null,124,4,22]
["",null,4,0,0,{"$f":"F1256","v":0},null,null,null,124,4,22]
["",null,5,0,0,{"$f":"F1257","v":0},null,null,null,124,4,22]
["",null,6,0,0,{"$f":"F1258","v":0},null,null,null,124,4,22]
["",null,7,0,0,{"$f":"F1259","v":0},null,null,null,124,4,22]
["",null,8,0,0,{"$f":"F1260","v":0},null,null,null,124,4,22]
["",null,9,0,0,{"$f":"F1261","v":0},null,null,null,124,4,22]
["",null,10,0,0,{"$f":"F1262","v":0},null,null,null,124,4,22]
["",null,11,0,0,{"$f":"F1263","v":0},null,null,null,124,4,22]
["",null,12,0,0,{"$f":"F1264","v":0},null,null,null,124,4,22]
["",null,13,0,0,{"$f":"F1265","v":0},null,null,null,124,4,22]
["",null,14,0,0,{"$f":"F1266","v":0},null,null,null,124,4,22]
["",null,15,0,0,{"$f":"F1267","v":0},null,null,null,124,4,22]
["",null,16,0,0,{"$f":"F1268","v":0},null,null,null,124,4,22]
["",null,17,0,0,{"$f":"F1269","v":0},null,null,null,124,4,22]
["",null,18,0,0,{"$f":"F1270","v":0},null,null,null,124,4,22]
["",null,19,0,0,{"$f":"F1271","v":0},null,null,null,124,4,22]
["",null,20,0,0,{"$f":"F1272","v":0},null,null,null,124,4,22]
["",null,21,0,0,{"$f":"F1273","v":0},null,null,null,124,4,22]
["",null,22,0,0,{"$f":"F1274","v":0},null,null,null,124,4,22]
["",null,23,0,0,{"$f":"F1275","v":0},null,null,null,124,4,22]
["",null,24,0,0,{"$f":"F1276","v":0},null,null,null,124,4,22]
["",null,25,0,0,{"$f":"F1277","v":0},null,null,null,124,4,22]
["",null,26,0,0,{"$f":"F1278","v":0},null,null,null,124,4,22]
["",null,27,0,0,{"$f":"F1279","v":0},null,null,null,124,4,22]
["",null,28,0,0,{"$f":"F1280","v":0},null,null,null,124,4,22]
["",null,29,0,0,{"$f":"F1281","v":0},null,null,null,124,4,22]
["",null,30,0,0,{"$f":"F1282","v":0},null,null,null,124,4,22]
["",null,31,0,0,{"$f":"F1283","v":0},null,null,null,{"$f":"DATEDIF(I1284,TODAY(),\"Y\")","v":124},{"$f":"DATEDIF(I1284,TODAY(),\"YM\")","v":4},{"$f":"DATEDIF(I1284,TODAY(),\"MD\")","v":22}]
[{"$f":"IF(B1285=0,\"\",B1285)","v":""},null,32,0,0,{"$f":"F1284","v":0},null,null,null,124,4,22]
["",null,33,0,0,{"$f":"F1285","v":0},null,null,null,124,4,22]
["",null,34,0,0,{"$f":"F1286","v":0},null,null,null,124,4,22]
["",null,35,0,0,{"$f":"F1287","v":0},null,null,null,124,4,22]
["",null,36,0,0,{"$f":"F1288","v":0},null,null,null,124,4,22]
["",null,37,0,0,{"$f":"F1289","v":0},null,null,null,124,4,22]
["",null,38,0,0,{"$f":"F1290","v":0},null,null,null,124,4,22]
["",null,39,0,0,{"$f":"F1291","v":0},null,null,null,124,4,22]
["",null,40,0,0,{"$f":"F1292","v":0},null,null,null,124,4,22]
["",null,41,0,0,{"$f":"F1293","v":0},null,null,null,124,4,22]
["",null,42,0,0,{"$f":"F1294","v":0},null,null,null,124,4,22]
["",null,43,0,0,{"$f":"F1295","v":0},null,null,null,124,4,22]
["",null,44,0,0,{"$f":"F1296","v":0},null,null,null,124,4,22]
["",null,45,0,0,{"$f":"F1297","v":0},null,null,null,124,4,22]
["",null,46,0,0,{"$f":"F1298","v":0},null,null,null,124,4,22]
["",null,47,0,0,{"$f":"F1299","v":0},null,null,null,124,4,22]
["",null,48,0,0,{"$f":"F1300","v":0},null,null,null,124,4,22]
["",null,49,0,0,{"$f":"F1301","v":0},null,null,null,124,4,22]
["",null,50,0,0,{"$f":"F1302","v":0},null,null,null,124,4,22]
["",null,1,{"$f":"DATOS!E29","v":0},{"$f":"DATOS!F29","v":0},{"$f":"DATOS!G29","v":0},null,null,null,124,4,22]
["",null,2,{"$f":"D1304","v":0},{"$f":"E1304","v":0},{"$f":"F1304","v":0},null,null,null,124,4,22]
["",null,3,{"$f":"D1305","v":0},0,{"$f":"F1305","v":0},null,null,null,124,4,22]
["",null,4,0,0,{"$f":"F1306","v":0},null,null,null,124,4,22]
["",null,5,0,0,{"$f":"F1307","v":0},null,null,null,124,4,22]
["",null,6,0,0,{"$f":"F1308","v":0},null,null,null,124,4,22]
["",null,7,0,0,{"$f":"F1309","v":0},null,null,null,124,4,22]
["",null,8,0,0,{"$f":"F1310","v":0},null,null,null,124,4,22]
["",null,9,0,0,{"$f":"F1311","v":0},null,null,null,124,4,22]
["",null,10,0,0,{"$f":"F1312","v":0},null,null,null,124,4,22]
["",null,11,0,0,{"$f":"F1313","v":0},null,null,null,124,4,22]
["",null,12,0,0,{"$f":"F1314","v":0},null,null,null,124,4,22]
["",null,13,0,0,{"$f":"F1315","v":0},null,null,null,124,4,22]
["",null,14,0,0,{"$f":"F1316","v":0},null,null,null,124,4,22]
["",null,15,0,0,{"$f":"F1317","v":0},null,null,null,124,4,22]
["",null,16,0,0,{"$f":"F1318","v":0},null,null,null,124,4,22]
["",null,17,0,0,{"$f":"F1319","v":0},null,null,null,124,4,22]
["",null,18,0,0,{"$f":"F1320","v":0},null,null,null,124,4,22]
["",null,19,0,0,{"$f":"F1321","v":0},null,null,null,124,4,22]
["",null,20,0,0,{"$f":"F1322","v":0},null,null,null,124,4,22]
["",null,21,0,0,{"$f":"F1323","v":0},null,null,null,124,4,22]
["",null,22,0,0,{"$f":"F1324","v":0},null,null,null,124,4,22]
["",null,23,0,0,{"$f":"F1325","v":0},null,null,null,124,4,22]
["",null,24,0,0,{"$f":"F1326","v":0},null,null,null,124,4,22]
["",null,25,0,0,{"$f":"F1327","v":0},null,null,null,124,4,22]
["",null,26,0,0,{"$f":"F1328","v":0},null,null,null,124,4,22]
["",null,27,0,0,{"$f":"F1329","v":0},null,null,null,124,4,22]
["",null,28,0,0,{"$f":"F1330","v":0},null,null,null,124,4,22]
["",null,29,0,0,{"$f":"F1331","v":0},null,null,null,124,4,22]
["",null,30,0,0,{"$f":"F1332","v":0},null,null,null,124,4,22]
["",null,31,0,0,{"$f":"F1333","v":0},null,null,null,124,4,22]
["",null,32,0,0,{"$f":"F1334","v":0},null,null,null,124,4,22]
["",null,33,0,0,{"$f":"F1335","v":0},null,null,null,124,4,22]
["",null,34,0,0,{"$f":"F1336","v":0},null,null,null,124,4,22]
["",null,35,0,0,{"$f":"F1337","v":0},null,null,null,124,4,22]
["",null,36,0,0,{"$f":"F1338","v":0},null,null,null,124,4,22]
["",null,37,0,0,{"$f":"F1339","v":0},null,null,null,124,4,22]
["",null,38,0,0,{"$f":"F1340","v":0},null,null,null,124,4,22]
["",null,39,0,0,{"$f":"F1341","v":0},null,null,null,124,4,22]
["",null,40,0,0,{"$f":"F1342","v":0},null,null,null,124,4,22]
["",null,41,0,0,{"$f":"F1343","v":0},null,null,null,124,4,22]
["",null,42,0,0,{"$f":"F1344","v":0},null,null,null,124,4,22]
["",null,43,0,0,{"$f":"F1345","v":0},null,null,null,124,4,22]
["",null,44,0,0,{"$f":"F1346","v":0},null,null,null,124,4,22]
["",null,45,0,0,{"$f":"F1347","v":0},null,null,null,{"$f":"DATEDIF(I1348,TODAY(),\"Y\")","v":124},{"$f":"DATEDIF(I1348,TODAY(),\"YM\")","v":4},{"$f":"DATEDIF(I1348,TODAY(),\"MD\")","v":22}]
[{"$f":"IF(B1349=0,\"\",B1349)","v":""},null,46,0,0,{"$f":"F1348","v":0},null,null,null,124,4,22]
["",null,47,0,0,{"$f":"F1349","v":0},null,null,null,124,4,22]
["",null,48,0,0,{"$f":"F1350","v":0},null,null,null,124,4,22]
["",null,49,0,0,{"$f":"F1351","v":0},null,null,null,124,4,22]
["",null,50,0,0,{"$f":"F1352","v":0},null,null,null,124,4,22]
["",null,1,{"$f":"DATOS!E30","v":0},{"$f":"DATOS!F30","v":0},{"$f":"DATOS!G30","v":0},null,null,null,124,4,22]
["",null,2,{"$f":"D1354","v":0},{"$f":"E1354","v":0},{"$f":"F1354","v":0},null,null,null,124,4,22]
["",null,3,{"$f":"D1355","v":0},0,{"$f":"F1355","v":0},null,null,null,124,4,22]
["",null,4,0,0,{"$f":"F1356","v":0},null,null,null,124,4,22]
["",null,5,0,0,{"$f":"F1357","v":0},null,null,null,124,4,22]
["",null,6,0,0,{"$f":"F1358","v":0},null,null,null,124,4,22]
["",null,7,0,0,{"$f":"F1359","v":0},null,null,null,124,4,22]
["",null,8,0,0,{"$f":"F1360","v":0},null,null,null,124,4,22]
["",null,9,0,0,{"$f":"F1361","v":0},null,null,null,124,4,22]
["",null,10,0,0,{"$f":"F1362","v":0},null,null,null,124,4,22]
["",null,11,0,0,{"$f":"F1363","v":0},null,null,null,124,4,22]
["",null,12,0,0,{"$f":"F1364","v":0},null,null,null,124,4,22]
["",null,13,0,0,{"$f":"F1365","v":0},null,null,null,124,4,22]
["",null,14,0,0,{"$f":"F1366","v":0},null,null,null,124,4,22]
["",null,15,0,0,{"$f":"F1367","v":0},null,null,null,124,4,22]
["",null,16,0,0,{"$f":"F1368","v":0},null,null,null,124,4,22]
["",null,17,0,0,{"$f":"F1369","v":0},null,null,null,124,4,22]
["",null,18,0,0,{"$f":"F1370","v":0},null,null,null,124,4,22]
["",null,19,0,0,{"$f":"F1371","v":0},null,null,null,124,4,22]
["",null,20,0,0,{"$f":"F1372","v":0},null,null,null,124,4,22]
["",null,21,0,0,{"$f":"F1373","v":0},null,null,null,124,4,22]
["",null,22,0,0,{"$f":"F1374","v":0},null,null,null,124,4,22]
["",null,23,0,0,{"$f":"F1375","v":0},null,null,null,124,4,22]
["",null,24,0,0,{"$f":"F1376","v":0},null,null,null,124,4,22]
["",null,25,0,0,{"$f":"F1377","v":0},null,null,null,124,4,22]
["",null,26,0,0,{"$f":"F1378","v":0},null,null,null,124,4,22]
["",null,27,0,0,{"$f":"F1379","v":0},null,null,null,124,4,22]
["",null,28,0,0,{"$f":"F1380","v":0},null,null,null,124,4,22]
["",null,29,0,0,{"$f":"F1381","v":0},null,null,null,124,4,22]
["",null,30,0,0,{"$f":"F1382","v":0},null,null,null,124,4,22]
["",null,31,0,0,{"$f":"F1383","v":0},null,null,null,124,4,22]
["",null,32,0,0,{"$f":"F1384","v":0},null,null,null,124,4,22]
["",null,33,0,0,{"$f":"F1385","v":0},null,null,null,124,4,22]
["",null,34,0,0,{"$f":"F1386","v":0},null,null,null,124,4,22]
["",null,35,0,0,{"$f":"F1387","v":0},null,null,null,124,4,22]
["",null,36,0,0,{"$f":"F1388","v":0},null,null,null,124,4,22]
["",null,37,0,0,{"$f":"F1389","v":0},null,null,null,124,4,22]
["",null,38,0,0,{"$f":"F1390","v":0},null,null,null,124,4,22]
["",null,39,0,0,{"$f":"F1391","v":0},null,null,null,124,4,22]
["",null,40,0,0,{"$f":"F1392","v":0},null,null,null,124,4,22]
["",null,41,0,0,{"$f":"F1393","v":0},null,null,null,124,4,22]
["",null,42,0,0,{"$f":"F1394","v":0},null,null,null,124,4,22]
["",null,43,0,0,{"$f":"F1395","v":0},null,null,null,124,4,22]
["",null,44,0,0,{"$f":"F1396","v":0},null,null,null,124,4,22]
["",null,45,0,0,{"$f":"F1397","v":0},null,null,null,124,4,22]
["",null,46,0,0,{"$f":"F1398","v":0},null,null,null,124,4,22]
["",null,47,0,0,{"$f":"F1399","v":0},null,null,null,124,4,22]
["",null,48,0,0,{"$f":"F1400","v":0},null,null,null,124,4,22]
["",null,49,0,0,{"$f":"F1401","v":0},null,null,null,124,4,22]
["",null,50,0,0,{"$f":"F1402","v":0},null,null,null,124,4,22]
["",null,1,{"$f":"DATOS!E31","v":0},{"$f":"DATOS!F31","v":0},{"$f":"DATOS!G31","v":0},null,null,null,124,4,22]
["",null,2,{"$f":"D1404","v":0},{"$f":"E1404","v":0},{"$f":"F1404","v":0},null,null,null,124,4,22]
["",null,3,{"$f":"D1405","v":0},0,{"$f":"F1405","v":0},null,null,null,124,4,22]
["",null,4,0,0,{"$f":"F1406","v":0},null,null,null,124,4,22]
["",null,5,0,0,{"$f":"F1407","v":0},null,null,null,124,4,22]
["",null,6,0,0,{"$f":"F1408","v":0},null,null,null,124,4,22]
["",null,7,0,0,{"$f":"F1409","v":0},null,null,null,124,4,22]
["",null,8,0,0,{"$f":"F1410","v":0},null,null,null,124,4,22]
["",null,9,0,0,{"$f":"F1411","v":0},null,null,null,{"$f":"DATEDIF(I1412,TODAY(),\"Y\")","v":124},{"$f":"DATEDIF(I1412,TODAY(),\"YM\")","v":4},{"$f":"DATEDIF(I1412,TODAY(),\"MD\")","v":22}]
[{"$f":"IF(B1413=0,\"\",B1413)","v":""},null,10,0,0,{"$f":"F1412","v":0},null,null,null,124,4,22]
["",null,11,0,0,{"$f":"F1413","v":0},null,null,null,124,4,22]
["",null,12,0,0,{"$f":"F1414","v":0},null,null,null,124,4,22]
["",null,13,0,0,{"$f":"F1415","v":0},null,null,null,124,4,22]
["",null,14,0,0,{"$f":"F1416","v":0},null,null,null,124,4,22]
["",null,15,0,0,{"$f":"F1417","v":0},null,null,null,124,4,22]
["",null,16,0,0,{"$f":"F1418","v":0},null,null,null,124,4,22]
["",null,17,0,0,{"$f":"F1419","v":0},null,null,null,124,4,22]
["",null,18,0,0,{"$f":"F1420","v":0},null,null,null,124,4,22]
["",null,19,0,0,{"$f":"F1421","v":0},null,null,null,124,4,22]
["",null,20,0,0,{"$f":"F1422","v":0},null,null,null,124,4,22]
["",null,21,0,0,{"$f":"F1423","v":0},null,null,null,124,4,22]
["",null,22,0,0,{"$f":"F1424","v":0},null,null,null,124,4,22]
["",null,23,0,0,{"$f":"F1425","v":0},null,null,null,124,4,22]
["",null,24,0,0,{"$f":"F1426","v":0},null,null,null,124,4,22]
["",null,25,0,0,{"$f":"F1427","v":0},null,null,null,124,4,22]
["",null,26,0,0,{"$f":"F1428","v":0},null,null,null,124,4,22]
["",null,27,0,0,{"$f":"F1429","v":0},null,null,null,124,4,22]
["",null,28,0,0,{"$f":"F1430","v":0},null,null,null,124,4,22]
["",null,29,0,0,{"$f":"F1431","v":0},null,null,null,124,4,22]
["",null,30,0,0,{"$f":"F1432","v":0},null,null,null,124,4,22]
["",null,31,0,0,{"$f":"F1433","v":0},null,null,null,124,4,22]
["",null,32,0,0,{"$f":"F1434","v":0},null,null,null,124,4,22]
["",null,33,0,0,{"$f":"F1435","v":0},null,null,null,124,4,22]
["",null,34,0,0,{"$f":"F1436","v":0},null,null,null,124,4,22]
["",null,35,0,0,{"$f":"F1437","v":0},null,null,null,124,4,22]
["",null,36,0,0,{"$f":"F1438","v":0},null,null,null,124,4,22]
["",null,37,0,0,{"$f":"F1439","v":0},null,null,null,124,4,22]
["",null,38,0,0,{"$f":"F1440","v":0},null,null,null,124,4,22]
["",null,39,0,0,{"$f":"F1441","v":0},null,null,null,124,4,22]
["",null,40,0,0,{"$f":"F1442","v":0},null,null,null,124,4,22]
["",null,41,0,0,{"$f":"F1443","v":0},null,null,null,124,4,22]
["",null,42,0,0,{"$f":"F1444","v":0},null,null,null,124,4,22]
["",null,43,0,0,{"$f":"F1445","v":0},null,null,null,124,4,22]
["",null,44,0,0,{"$f":"F1446","v":0},null,null,null,124,4,22]
["",null,45,0,0,{"$f":"F1447","v":0},null,null,null,124,4,22]
["",null,46,0,0,{"$f":"F1448","v":0},null,null,null,124,4,22]
["",null,47,0,0,{"$f":"F1449","v":0},null,null,null,124,4,22]
["",null,48,0,0,{"$f":"F1450","v":0},null,null,null,124,4,22]
["",null,49,0,0,{"$f":"F1451","v":0},null,null,null,124,4,22]
["",null,50,0,0,{"$f":"F1452","v":0},null,null,null,124,4,22]
["",null,1,{"$f":"DATOS!E32","v":0},{"$f":"DATOS!F32","v":0},{"$f":"DATOS!G32","v":0},null,null,null,124,4,22]
["",null,2,{"$f":"D1454","v":0},{"$f":"E1454","v":0},{"$f":"F1454","v":0},null,null,null,124,4,22]
["",null,3,{"$f":"D1455","v":0},0,{"$f":"F1455","v":0},null,null,null,124,4,22]
["",null,4,0,0,{"$f":"F1456","v":0},null,null,null,124,4,22]
["",null,5,0,0,{"$f":"F1457","v":0},null,null,null,124,4,22]
["",null,6,0,0,{"$f":"F1458","v":0},null,null,null,124,4,22]
["",null,7,0,0,{"$f":"F1459","v":0},null,null,null,124,4,22]
["",null,8,0,0,{"$f":"F1460","v":0},null,null,null,124,4,22]
["",null,9,0,0,{"$f":"F1461","v":0},null,null,null,124,4,22]
["",null,10,0,0,{"$f":"F1462","v":0},null,null,null,124,4,22]
["",null,11,0,0,{"$f":"F1463","v":0},null,null,null,124,4,22]
["",null,12,0,0,{"$f":"F1464","v":0},null,null,null,124,4,22]
["",null,13,0,0,{"$f":"F1465","v":0},null,null,null,124,4,22]
["",null,14,0,0,{"$f":"F1466","v":0},null,null,null,124,4,22]
["",null,15,0,0,{"$f":"F1467","v":0},null,null,null,124,4,22]
["",null,16,0,0,{"$f":"F1468","v":0},null,null,null,124,4,22]
["",null,17,0,0,{"$f":"F1469","v":0},null,null,null,124,4,22]
["",null,18,0,0,{"$f":"F1470","v":0},null,null,null,124,4,22]
["",null,19,0,0,{"$f":"F1471","v":0},null,null,null,124,4,22]
["",null,20,0,0,{"$f":"F1472","v":0},null,null,null,124,4,22]
["",null,21,0,0,{"$f":"F1473","v":0},null,null,null,124,4,22]
["",null,22,0,0,{"$f":"F1474","v":0},null,null,null,124,4,22]
["",null,23,0,0,{"$f":"F1475","v":0},null,null,null,{"$f":"DATEDIF(I1476,TODAY(),\"Y\")","v":124},{"$f":"DATEDIF(I1476,TODAY(),\"YM\")","v":4},{"$f":"DATEDIF(I1476,TODAY(),\"MD\")","v":22}]
[{"$f":"IF(B1477=0,\"\",B1477)","v":""},null,24,0,0,{"$f":"F1476","v":0},null,null,null,124,4,22]
["",null,25,0,0,{"$f":"F1477","v":0},null,null,null,124,4,22]
["",null,26,0,0,{"$f":"F1478","v":0},null,null,null,124,4,22]
["",null,27,0,0,{"$f":"F1479","v":0},null,null,null,124,4,22]
["",null,28,0,0,{"$f":"F1480","v":0},null,null,null,124,4,22]
["",null,29,0,0,{"$f":"F1481","v":0},null,null,null,124,4,22]
["",null,30,0,0,{"$f":"F1482","v":0},null,null,null,124,4,22]
["",null,31,0,0,{"$f":"F1483","v":0},null,null,null,124,4,22]
["",null,32,0,0,{"$f":"F1484","v":0},null,null,null,124,4,22]
["",null,33,0,0,{"$f":"F1485","v":0},null,null,null,124,4,22]
["",null,34,0,0,{"$f":"F1486","v":0},null,null,null,124,4,22]
["",null,35,0,0,{"$f":"F1487","v":0},null,null,null,124,4,22]
["",null,36,0,0,{"$f":"F1488","v":0},null,null,null,124,4,22]
["",null,37,0,0,{"$f":"F1489","v":0},null,null,null,124,4,22]
["",null,38,0,0,{"$f":"F1490","v":0},null,null,null,124,4,22]
["",null,39,0,0,{"$f":"F1491","v":0},null,null,null,124,4,22]
["",null,40,0,0,{"$f":"F1492","v":0},null,null,null,124,4,22]
["",null,41,0,0,{"$f":"F1493","v":0},null,null,null,124,4,22]
["",null,42,0,0,{"$f":"F1494","v":0},null,null,null,124,4,22]
["",null,43,0,0,{"$f":"F1495","v":0},null,null,null,124,4,22]
["",null,44,0,0,{"$f":"F1496","v":0},null,null,null,124,4,22]
["",null,45,0,0,{"$f":"F1497","v":0},null,null,null,124,4,22]
["",null,46,0,0,{"$f":"F1498","v":0},null,null,null,124,4,22]
["",null,47,0,0,{"$f":"F1499","v":0},null,null,null,124,4,22]
["",null,48,0,0,{"$f":"F1500","v":0},null,null,null,124,4,22]
["",null,49,0,0,{"$f":"F1501","v":0},null,null,null,124,4,22]
["",null,50,0,0,{"$f":"F1502","v":0},null,null,null,124,4,22]
["",null,1,{"$f":"DATOS!E33","v":0},{"$f":"DATOS!F33","v":0},{"$f":"DATOS!G33","v":0},null,null,null,124,4,22]
["",null,2,{"$f":"D1504","v":0},{"$f":"E1504","v":0},{"$f":"F1504","v":0},null,null,null,124,4,22]
["",null,3,{"$f":"D1505","v":0},0,{"$f":"F1505","v":0},null,null,null,124,4,22]
["",null,4,0,0,{"$f":"F1506","v":0},null,null,null,124,4,22]
["",null,5,0,0,{"$f":"F1507","v":0},null,null,null,124,4,22]
["",null,6,0,0,{"$f":"F1508","v":0},null,null,null,124,4,22]
["",null,7,0,0,{"$f":"F1509","v":0},null,null,null,124,4,22]
["",null,8,0,0,{"$f":"F1510","v":0},null,null,null,124,4,22]
["",null,9,0,0,{"$f":"F1511","v":0},null,null,null,124,4,22]
["",null,10,0,0,{"$f":"F1512","v":0},null,null,null,124,4,22]
["",null,11,0,0,{"$f":"F1513","v":0},null,null,null,124,4,22]
["",null,12,0,0,{"$f":"F1514","v":0},null,null,null,124,4,22]
["",null,13,0,0,{"$f":"F1515","v":0},null,null,null,124,4,22]
["",null,14,0,0,{"$f":"F1516","v":0},null,null,null,124,4,22]
["",null,15,0,0,{"$f":"F1517","v":0},null,null,null,124,4,22]
["",null,16,0,0,{"$f":"F1518","v":0},null,null,null,124,4,22]
["",null,17,0,0,{"$f":"F1519","v":0},null,null,null,124,4,22]
["",null,18,0,0,{"$f":"F1520","v":0},null,null,null,124,4,22]
["",null,19,0,0,{"$f":"F1521","v":0},null,null,null,124,4,22]
["",null,20,0,0,{"$f":"F1522","v":0},null,null,null,124,4,22]
["",null,21,0,0,{"$f":"F1523","v":0},null,null,null,124,4,22]
["",null,22,0,0,{"$f":"F1524","v":0},null,null,null,124,4,22]
["",null,23,0,0,{"$f":"F1525","v":0},null,null,null,124,4,22]
["",null,24,0,0,{"$f":"F1526","v":0},null,null,null,124,4,22]
["",null,25,0,0,{"$f":"F1527","v":0},null,null,null,124,4,22]
["",null,26,0,0,{"$f":"F1528","v":0},null,null,null,124,4,22]
["",null,27,0,0,{"$f":"F1529","v":0},null,null,null,124,4,22]
["",null,28,0,0,{"$f":"F1530","v":0},null,null,null,124,4,22]
["",null,29,0,0,{"$f":"F1531","v":0},null,null,null,124,4,22]
["",null,30,0,0,{"$f":"F1532","v":0},null,null,null,124,4,22]
["",null,31,0,0,{"$f":"F1533","v":0},null,null,null,124,4,22]
["",null,32,0,0,{"$f":"F1534","v":0},null,null,null,124,4,22]
["",null,33,0,0,{"$f":"F1535","v":0},null,null,null,124,4,22]
["",null,34,0,0,{"$f":"F1536","v":0},null,null,null,124,4,22]
["",null,35,0,0,{"$f":"F1537","v":0},null,null,null,124,4,22]
["",null,36,0,0,{"$f":"F1538","v":0},null,null,null,124,4,22]
["",null,37,0,0,{"$f":"F1539","v":0},null,null,null,{"$f":"DATEDIF(I1540,TODAY(),\"Y\")","v":124},{"$f":"DATEDIF(I1540,TODAY(),\"YM\")","v":4},{"$f":"DATEDIF(I1540,TODAY(),\"MD\")","v":22}]
[{"$f":"IF(B1541=0,\"\",B1541)","v":""},null,38,0,0,{"$f":"F1540","v":0},null,null,null,124,4,22]
["",null,39,0,0,{"$f":"F1541","v":0},null,null,null,124,4,22]
["",null,40,0,0,{"$f":"F1542","v":0},null,null,null,124,4,22]
["",null,41,0,0,{"$f":"F1543","v":0},null,null,null,124,4,22]
["",null,42,0,0,{"$f":"F1544","v":0},null,null,null,124,4,22]
["",null,43,0,0,{"$f":"F1545","v":0},null,null,null,124,4,22]
["",null,44,0,0,{"$f":"F1546","v":0},null,null,null,124,4,22]
["",null,45,0,0,{"$f":"F1547","v":0},null,null,null,124,4,22]
["",null,46,0,0,{"$f":"F1548","v":0},null,null,null,124,4,22]
["",null,47,0,0,{"$f":"F1549","v":0},null,null,null,124,4,22]
["",null,48,0,0,{"$f":"F1550","v":0},null,null,null,124,4,22]
["",null,49,{"$f":"D1551","v":0},0,0,null,null,null,124,4,22]
["",null,50,{"$f":"D1552","v":0},0,0,null,null,null,124,4,22]
["",null,1,{"$f":"DATOS!E34","v":0},{"$f":"DATOS!F34","v":0},{"$f":"DATOS!G34","v":0},null,null,null,124,4,22]
["",null,2,{"$f":"D1554","v":0},{"$f":"E1554","v":0},{"$f":"F1554","v":0},null,null,null,124,4,22]
["",null,3,{"$f":"D1555","v":0},0,0,null,null,null,124,4,22]
["",null,4,{"$f":"D1556","v":0},0,0,null,null,null,124,4,22]
["",null,5,{"$f":"D1557","v":0},0,0,null,null,null,124,4,22]
["",null,6,{"$f":"D1558","v":0},0,0,null,null,null,124,4,22]
["",null,7,{"$f":"D1559","v":0},0,0,null,null,null,124,4,22]
["",null,8,{"$f":"D1560","v":0},0,0,null,null,null,124,4,22]
["",null,9,{"$f":"D1561","v":0},0,0,null,null,null,124,4,22]
["",null,10,{"$f":"D1562","v":0},0,0,null,null,null,124,4,22]
["",null,11,{"$f":"D1563","v":0},0,0,null,null,null,124,4,22]
["",null,12,{"$f":"D1564","v":0},0,0,null,null,null,124,4,22]
["",null,13,{"$f":"D1565","v":0},0,0,null,null,null,124,4,22]
["",null,14,{"$f":"D1566","v":0},0,0,null,null,null,124,4,22]
["",null,15,{"$f":"D1567","v":0},0,0,null,null,null,124,4,22]
["",null,16,{"$f":"D1568","v":0},0,0,null,null,null,124,4,22]
["",null,17,{"$f":"D1569","v":0},0,0,null,null,null,124,4,22]
["",null,18,{"$f":"D1570","v":0},0,0,null,null,null,124,4,22]
["",null,19,{"$f":"D1571","v":0},0,0,null,null,null,124,4,22]
["",null,20,{"$f":"D1572","v":0},0,0,null,null,null,124,4,22]
["",null,21,{"$f":"D1573","v":0},0,0,null,null,null,124,4,22]
["",null,22,{"$f":"D1574","v":0},0,0,null,null,null,124,4,22]
["",null,23,{"$f":"D1575","v":0},0,0,null,null,null,124,4,22]
["",null,24,{"$f":"D1576","v":0},0,0,null,null,null,124,4,22]
["",null,25,{"$f":"D1577","v":0},0,0,null,null,null,124,4,22]
["",null,26,{"$f":"D1578","v":0},0,0,null,null,null,124,4,22]
["",null,27,{"$f":"D1579","v":0},0,0,null,null,null,124,4,22]
["",null,28,{"$f":"D1580","v":0},0,0,null,null,null,124,4,22]
["",null,29,{"$f":"D1581","v":0},0,0,null,null,null,124,4,22]
["",null,30,{"$f":"D1582","v":0},0,0,null,null,null,124,4,22]
["",null,31,{"$f":"D1583","v":0},0,0,null,null,null,124,4,22]
["",null,32,{"$f":"D1584","v":0},0,0,null,null,null,124,4,22]
["",null,33,{"$f":"D1585","v":0},0,0,null,null,null,124,4,22]
["",null,34,{"$f":"D1586","v":0},0,0,null,null,null,124,4,22]
["",null,35,{"$f":"D1587","v":0},0,0,null,null,null,124,4,22]
["",null,36,{"$f":"D1588","v":0},0,0,null,null,null,124,4,22]
["",null,37,{"$f":"D1589","v":0},0,0,null,null,null,124,4,22]
["",null,38,{"$f":"D1590","v":0},0,0,null,null,null,124,4,22]
["",null,39,{"$f":"D1591","v":0},0,0,null,null,null,124,4,22]
["",null,40,{"$f":"D1592","v":0},0,0,null,null,null,124,4,22]
["",null,41,{"$f":"D1593","v":0},0,0,null,null,null,124,4,22]
["",null,42,{"$f":"D1594","v":0},0,0,null,null,null,124,4,22]
["",null,43,{"$f":"D1595","v":0},0,0,null,null,null,124,4,22]
["",null,44,{"$f":"D1596","v":0},0,0,null,null,null,124,4,22]
["",null,45,{"$f":"D1597","v":0},0,0,null,null,null,124,4,22]
["",null,46,{"$f":"D1598","v":0},0,0,null,null,null,124,4,22]
["",null,47,{"$f":"D1599","v":0},0,0,null,null,null,124,4,22]
["",null,48,{"$f":"D1600","v":0},0,0,null,null,null,124,4,22]
["",null,49,{"$f":"D1601","v":0},0,0,null,null,null,124,4,22]
["",null,50,{"$f":"D1602","v":0},0,0,null,null,null,124,4,22]
["",null,1,{"$f":"DATOS!E35","v":0},{"$f":"DATOS!F35","v":0},{"$f":"DATOS!G35","v":0},null,null,null,{"$f":"DATEDIF(I1604,TODAY(),\"Y\")","v":124},{"$f":"DATEDIF(I1604,TODAY(),\"YM\")","v":4},{"$f":"DATEDIF(I1604,TODAY(),\"MD\")","v":22}]
[{"$f":"IF(B1605=0,\"\",B1605)","v":""},null,2,{"$f":"D1604","v":0},{"$f":"E1604","v":0},{"$f":"F1604","v":0},null,null,null,124,4,22]
["",null,3,{"$f":"D1605","v":0},0,0,null,null,null,124,4,22]
["",null,4,{"$f":"D1606","v":0},0,0,null,null,null,124,4,22]
["",null,5,{"$f":"D1607","v":0},0,0,null,null,null,124,4,22]
["",null,6,{"$f":"D1608","v":0},0,0,null,null,null,124,4,22]
["",null,7,{"$f":"D1609","v":0},0,0,null,null,null,124,4,22]
["",null,8,{"$f":"D1610","v":0},0,0,null,null,null,124,4,22]
["",null,9,{"$f":"D1611","v":0},0,0,null,null,null,124,4,22]
["",null,10,{"$f":"D1612","v":0},0,0,null,null,null,124,4,22]
["",null,11,{"$f":"D1613","v":0},0,0,null,null,null,124,4,22]
["",null,12,{"$f":"D1614","v":0},0,0,null,null,null,124,4,22]
["",null,13,{"$f":"D1615","v":0},0,0,null,null,null,124,4,22]
["",null,14,{"$f":"D1616","v":0},0,0,null,null,null,124,4,22]
["",null,15,{"$f":"D1617","v":0},0,0,null,null,null,124,4,22]
["",null,16,{"$f":"D1618","v":0},0,0,null,null,null,124,4,22]
["",null,17,{"$f":"D1619","v":0},0,0,null,null,null,124,4,22]
["",null,18,{"$f":"D1620","v":0},0,0,null,null,null,124,4,22]
["",null,19,{"$f":"D1621","v":0},0,0,null,null,null,124,4,22]
["",null,20,{"$f":"D1622","v":0},0,0,null,null,null,124,4,22]
["",null,21,{"$f":"D1623","v":0},0,0,null,null,null,124,4,22]
["",null,22,{"$f":"D1624","v":0},0,0,null,null,null,124,4,22]
["",null,23,{"$f":"D1625","v":0},0,0,null,null,null,124,4,22]
["",null,24,{"$f":"D1626","v":0},0,0,null,null,null,124,4,22]
["",null,25,{"$f":"D1627","v":0},0,0,null,null,null,124,4,22]
["",null,26,{"$f":"D1628","v":0},0,0,null,null,null,124,4,22]
["",null,27,{"$f":"D1629","v":0},0,0,null,null,null,124,4,22]
["",null,28,{"$f":"D1630","v":0},0,0,null,null,null,124,4,22]
["",null,29,{"$f":"D1631","v":0},0,0,null,null,null,124,4,22]
["",null,30,{"$f":"D1632","v":0},0,0,null,null,null,124,4,22]
["",null,31,{"$f":"D1633","v":0},0,0,null,null,null,124,4,22]
["",null,32,{"$f":"D1634","v":0},0,0,null,null,null,124,4,22]
["",null,33,{"$f":"D1635","v":0},0,0,null,null,null,124,4,22]
["",null,34,{"$f":"D1636","v":0},0,0,null,null,null,124,4,22]
["",null,35,{"$f":"D1637","v":0},0,0,null,null,null,124,4,22]
["",null,36,{"$f":"D1638","v":0},0,0,null,null,null,124,4,22]
["",null,37,{"$f":"D1639","v":0},0,0,null,null,null,124,4,22]
["",null,38,{"$f":"D1640","v":0},0,0,null,null,null,124,4,22]
["",null,39,{"$f":"D1641","v":0},0,0,null,null,null,124,4,22]
["",null,40,{"$f":"D1642","v":0},0,0,null,null,null,124,4,22]
["",null,41,{"$f":"D1643","v":0},0,0,null,null,null,124,4,22]
["",null,42,{"$f":"D1644","v":0},0,0,null,null,null,124,4,22]
["",null,43,{"$f":"D1645","v":0},0,0,null,null,null,124,4,22]
["",null,44,{"$f":"D1646","v":0},0,0,null,null,null,124,4,22]
["",null,45,{"$f":"D1647","v":0},0,0,null,null,null,124,4,22]
["",null,46,{"$f":"D1648","v":0},0,0,null,null,null,124,4,22]
["",null,47,{"$f":"D1649","v":0},0,0,null,null,null,124,4,22]
["",null,48,{"$f":"D1650","v":0},0,0,null,null,null,124,4,22]
["",null,49,{"$f":"D1651","v":0},0,0,null,null,null,124,4,22]
["",null,50,{"$f":"D1652","v":0},0,0,null,null,null,124,4,22]
["",null,1,{"$f":"DATOS!E36","v":0},{"$f":"DATOS!F36","v":0},{"$f":"DATOS!G36","v":0},null,null,null,124,4,22]
["",null,2,{"$f":"D1654","v":0},{"$f":"E1654","v":0},{"$f":"F1654","v":0},null,null,null,124,4,22]
["",null,3,{"$f":"D1655","v":0},0,0,null,null,null,124,4,22]
["",null,4,{"$f":"D1656","v":0},0,0,null,null,null,124,4,22]
["",null,5,{"$f":"D1657","v":0},0,0,null,null,null,124,4,22]
["",null,6,{"$f":"D1658","v":0},0,0,null,null,null,124,4,22]
["",null,7,{"$f":"D1659","v":0},0,0,null,null,null,124,4,22]
["",null,8,{"$f":"D1660","v":0},0,0,null,null,null,124,4,22]
["",null,9,{"$f":"D1661","v":0},0,0,null,null,null,124,4,22]
["",null,10,{"$f":"D1662","v":0},0,0,null,null,null,124,4,22]
["",null,11,{"$f":"D1663","v":0},0,0,null,null,null,124,4,22]
["",null,12,{"$f":"D1664","v":0},0,0,null,null,null,124,4,22]
["",null,13,{"$f":"D1665","v":0},0,0,null,null,null,124,4,22]
["",null,14,{"$f":"D1666","v":0},0,0,null,null,null,124,4,22]
["",null,15,{"$f":"D1667","v":0},0,0,null,null,null,{"$f":"DATEDIF(I1668,TODAY(),\"Y\")","v":124},{"$f":"DATEDIF(I1668,TODAY(),\"YM\")","v":4},{"$f":"DATEDIF(I1668,TODAY(),\"MD\")","v":22}]
[{"$f":"IF(B1669=0,\"\",B1669)","v":""},null,16,{"$f":"D1668","v":0},0,0,null,null,null,124,4,22]
["",null,17,{"$f":"D1669","v":0},0,0,null,null,null,124,4,22]
["",null,18,{"$f":"D1670","v":0},0,0,null,null,null,124,4,22]
["",null,19,{"$f":"D1671","v":0},0,0,null,null,null,124,4,22]
["",null,20,{"$f":"D1672","v":0},0,0,null,null,null,124,4,22]
["",null,21,{"$f":"D1673","v":0},0,0,null,null,null,124,4,22]
["",null,22,{"$f":"D1674","v":0},0,0,null,null,null,124,4,22]
["",null,23,{"$f":"D1675","v":0},0,0,null,null,null,124,4,22]
["",null,24,{"$f":"D1676","v":0},0,0,null,null,null,124,4,22]
["",null,25,{"$f":"D1677","v":0},0,0,null,null,null,124,4,22]
["",null,26,{"$f":"D1678","v":0},0,0,null,null,null,124,4,22]
["",null,27,{"$f":"D1679","v":0},0,0,null,null,null,124,4,22]
["",null,28,{"$f":"D1680","v":0},0,0,null,null,null,124,4,22]
["",null,29,{"$f":"D1681","v":0},0,0,null,null,null,124,4,22]
["",null,30,{"$f":"D1682","v":0},0,0,null,null,null,124,4,22]
["",null,31,{"$f":"D1683","v":0},0,0,null,null,null,124,4,22]
["",null,32,{"$f":"D1684","v":0},0,0,null,null,null,124,4,22]
["",null,33,{"$f":"D1685","v":0},0,0,null,null,null,124,4,22]
["",null,34,{"$f":"D1686","v":0},0,0,null,null,null,124,4,22]
["",null,35,{"$f":"D1687","v":0},0,0,null,null,null,124,4,22]
["",null,36,{"$f":"D1688","v":0},0,0,null,null,null,124,4,22]
["",null,37,{"$f":"D1689","v":0},0,0,null,null,null,124,4,22]
["",null,38,{"$f":"D1690","v":0},0,0,null,null,null,124,4,22]
["",null,39,{"$f":"D1691","v":0},0,0,null,null,null,124,4,22]
["",null,40,{"$f":"D1692","v":0},0,0,null,null,null,124,4,22]
["",null,41,{"$f":"D1693","v":0},0,0,null,null,null,124,4,22]
["",null,42,{"$f":"D1694","v":0},0,0,null,null,null,124,4,22]
["",null,43,{"$f":"D1695","v":0},0,0,null,null,null,124,4,22]
["",null,44,{"$f":"D1696","v":0},0,0,null,null,null,124,4,22]
["",null,45,{"$f":"D1697","v":0},0,0,null,null,null,124,4,22]
["",null,46,{"$f":"D1698","v":0},0,0,null,null,null,124,4,22]
["",null,47,{"$f":"D1699","v":0},0,0,null,null,null,124,4,22]
["",null,48,{"$f":"D1700","v":0},0,0,null,null,null,124,4,22]
["",null,49,{"$f":"D1701","v":0},0,0,null,null,null,124,4,22]
["",null,50,{"$f":"D1702","v":0},0,0,null,null,null,124,4,22]
["",null,1,{"$f":"DATOS!E37","v":0},{"$f":"DATOS!F37","v":0},{"$f":"DATOS!G37","v":0},null,null,null,124,4,22]
["",null,2,{"$f":"D1704","v":0},{"$f":"E1704","v":0},{"$f":"F1704","v":0},null,null,null,124,4,22]
["",null,3,{"$f":"D1705","v":0},0,0,null,null,null,124,4,22]
["",null,4,{"$f":"D1706","v":0},0,0,null,null,null,124,4,22]
["",null,5,{"$f":"D1707","v":0},0,0,null,null,null,124,4,22]
["",null,6,{"$f":"D1708","v":0},0,0,null,null,null,124,4,22]
["",null,7,{"$f":"D1709","v":0},0,0,null,null,null,124,4,22]
["",null,8,{"$f":"D1710","v":0},0,0,null,null,null,124,4,22]
["",null,9,{"$f":"D1711","v":0},0,0,null,null,null,124,4,22]
["",null,10,{"$f":"D1712","v":0},0,0,null,null,null,124,4,22]
["",null,11,{"$f":"D1713","v":0},0,0,null,null,null,124,4,22]
["",null,12,{"$f":"D1714","v":0},0,0,null,null,null,124,4,22]
["",null,13,{"$f":"D1715","v":0},0,0,null,null,null,124,4,22]
["",null,14,{"$f":"D1716","v":0},0,0,null,null,null,124,4,22]
["",null,15,{"$f":"D1717","v":0},0,0,null,null,null,124,4,22]
["",null,16,{"$f":"D1718","v":0},0,0,null,null,null,124,4,22]
["",null,17,{"$f":"D1719","v":0},0,0,null,null,null,124,4,22]
["",null,18,{"$f":"D1720","v":0},0,0,null,null,null,124,4,22]
["",null,19,{"$f":"D1721","v":0},0,0,null,null,null,124,4,22]
["",null,20,{"$f":"D1722","v":0},0,0,null,null,null,124,4,22]
["",null,21,{"$f":"D1723","v":0},0,0,null,null,null,124,4,22]
["",null,22,{"$f":"D1724","v":0},0,0,null,null,null,124,4,22]
["",null,23,{"$f":"D1725","v":0},0,0,null,null,null,124,4,22]
["",null,24,{"$f":"D1726","v":0},0,0,null,null,null,124,4,22]
["",null,25,{"$f":"D1727","v":0},0,0,null,null,null,124,4,22]
["",null,26,{"$f":"D1728","v":0},0,0,null,null,null,124,4,22]
["",null,27,{"$f":"D1729","v":0},0,0,null,null,null,124,4,22]
["",null,28,{"$f":"D1730","v":0},0,0,null,null,null,124,4,22]
["",null,29,{"$f":"D1731","v":0},0,0,null,null,null,{"$f":"DATEDIF(I1732,TODAY(),\"Y\")","v":124},{"$f":"DATEDIF(I1732,TODAY(),\"YM\")","v":4},{"$f":"DATEDIF(I1732,TODAY(),\"MD\")","v":22}]
[{"$f":"IF(B1733=0,\"\",B1733)","v":""},null,30,{"$f":"D1732","v":0},0,0,null,null,null,124,4,22]
["",null,31,{"$f":"D1733","v":0},0,0,null,null,null,124,4,22]
["",null,32,{"$f":"D1734","v":0},0,0,null,null,null,124,4,22]
["",null,33,{"$f":"D1735","v":0},0,0,null,null,null,124,4,22]
["",null,34,{"$f":"D1736","v":0},0,0,null,null,null,124,4,22]
["",null,35,{"$f":"D1737","v":0},0,0,null,null,null,124,4,22]
["",null,36,{"$f":"D1738","v":0},0,0,null,null,null,124,4,22]
["",null,37,{"$f":"D1739","v":0},0,0,null,null,null,124,4,22]
["",null,38,{"$f":"D1740","v":0},0,0,null,null,null,124,4,22]
["",null,39,{"$f":"D1741","v":0},0,0,null,null,null,124,4,22]
["",null,40,{"$f":"D1742","v":0},0,0,null,null,null,124,4,22]
["",null,41,{"$f":"D1743","v":0},0,0,null,null,null,124,4,22]
["",null,42,{"$f":"D1744","v":0},0,0,null,null,null,124,4,22]
["",null,43,{"$f":"D1745","v":0},0,0,null,null,null,124,4,22]
["",null,44,{"$f":"D1746","v":0},0,0,null,null,null,124,4,22]
["",null,45,{"$f":"D1747","v":0},0,0,null,null,null,124,4,22]
["",null,46,{"$f":"D1748","v":0},0,0,null,null,null,124,4,22]
["",null,47,{"$f":"D1749","v":0},0,0,null,null,null,124,4,22]
["",null,48,{"$f":"D1750","v":0},0,0,null,null,null,124,4,22]
["",null,49,{"$f":"D1751","v":0},0,0,null,null,null,124,4,22]
["",null,50,{"$f":"D1752","v":0},0,0,null,null,null,124,4,22]
["",null,1,{"$f":"DATOS!E38","v":0},{"$f":"DATOS!F38","v":0},{"$f":"DATOS!G38","v":0},null,null,null,124,4,22]
["",null,2,{"$f":"D1754","v":0},{"$f":"E1754","v":0},{"$f":"F1754","v":0},null,null,null,124,4,22]
["",null,3,{"$f":"D1755","v":0},0,0,null,null,null,124,4,22]
["",null,4,{"$f":"D1756","v":0},0,0,null,null,null,124,4,22]
["",null,5,{"$f":"D1757","v":0},0,0,null,null,null,124,4,22]
["",null,6,{"$f":"D1758","v":0},0,0,null,null,null,124,4,22]
["",null,7,{"$f":"D1759","v":0},0,0,null,null,null,124,4,22]
["",null,8,{"$f":"D1760","v":0},0,0,null,null,null,124,4,22]
["",null,9,{"$f":"D1761","v":0},0,0,null,null,null,124,4,22]
["",null,10,{"$f":"D1762","v":0},0,0,null,null,null,124,4,22]
["",null,11,{"$f":"D1763","v":0},0,0,null,null,null,124,4,22]
["",null,12,{"$f":"D1764","v":0},0,0,null,null,null,124,4,22]
["",null,13,{"$f":"D1765","v":0},0,0,null,null,null,124,4,22]
["",null,14,{"$f":"D1766","v":0},0,0,null,null,null,124,4,22]
["",null,15,{"$f":"D1767","v":0},0,0,null,null,null,124,4,22]
["",null,16,{"$f":"D1768","v":0},0,0,null,null,null,124,4,22]
["",null,17,{"$f":"D1769","v":0},0,0,null,null,null,124,4,22]
["",null,18,{"$f":"D1770","v":0},0,0,null,null,null,124,4,22]
["",null,19,{"$f":"D1771","v":0},0,0,null,null,null,124,4,22]
["",null,20,{"$f":"D1772","v":0},0,0,null,null,null,124,4,22]
["",null,21,{"$f":"D1773","v":0},0,0,null,null,null,124,4,22]
["",null,22,{"$f":"D1774","v":0},0,0,null,null,null,124,4,22]
["",null,23,{"$f":"D1775","v":0},0,0,null,null,null,124,4,22]
["",null,24,{"$f":"D1776","v":0},0,0,null,null,null,124,4,22]
["",null,25,{"$f":"D1777","v":0},0,0,null,null,null,124,4,22]
["",null,26,{"$f":"D1778","v":0},0,0,null,null,null,124,4,22]
["",null,27,{"$f":"D1779","v":0},0,0,null,null,null,124,4,22]
["",null,28,{"$f":"D1780","v":0},0,0,null,null,null,124,4,22]
["",null,29,{"$f":"D1781","v":0},0,0,null,null,null,124,4,22]
["",null,30,{"$f":"D1782","v":0},0,0,null,null,null,124,4,22]
["",null,31,{"$f":"D1783","v":0},0,0,null,null,null,124,4,22]
["",null,32,{"$f":"D1784","v":0},0,0,null,null,null,124,4,22]
["",null,33,{"$f":"D1785","v":0},0,0,null,null,null,124,4,22]
["",null,34,{"$f":"D1786","v":0},0,0,null,null,null,124,4,22]
["",null,35,{"$f":"D1787","v":0},0,0,null,null,null,124,4,22]
["",null,36,{"$f":"D1788","v":0},0,0,null,null,null,124,4,22]
["",null,37,{"$f":"D1789","v":0},0,0,null,null,null,124,4,22]
["",null,38,{"$f":"D1790","v":0},0,0,null,null,null,124,4,22]
["",null,39,{"$f":"D1791","v":0},0,0,null,null,null,124,4,22]
["",null,40,{"$f":"D1792","v":0},0,0,null,null,null,124,4,22]
["",null,41,{"$f":"D1793","v":0},0,0,null,null,null,124,4,22]
["",null,42,{"$f":"D1794","v":0},0,0,null,null,null,124,4,22]
["",null,43,{"$f":"D1795","v":0},0,0,null,null,null,{"$f":"DATEDIF(I1796,TODAY(),\"Y\")","v":124},{"$f":"DATEDIF(I1796,TODAY(),\"YM\")","v":4},{"$f":"DATEDIF(I1796,TODAY(),\"MD\")","v":22}]
[{"$f":"IF(B1797=0,\"\",B1797)","v":""},null,44,{"$f":"D1796","v":0},0,0,null,null,null,124,4,22]
["",null,45,{"$f":"D1797","v":0},0,0,null,null,null,124,4,22]
["",null,46,{"$f":"D1798","v":0},0,0,null,null,null,124,4,22]
["",null,47,{"$f":"D1799","v":0},0,0,null,null,null,124,4,22]
["",null,48,{"$f":"D1800","v":0},0,0,null,null,null,124,4,22]
["",null,49,{"$f":"D1801","v":0},0,0,null,null,null,124,4,22]
["",null,50,{"$f":"D1802","v":0},0,0,null,null,null,124,4,22]
["",null,1,{"$f":"DATOS!E39","v":0},{"$f":"DATOS!F39","v":0},{"$f":"DATOS!G39","v":0},null,null,null,124,4,22]
["",null,2,{"$f":"D1804","v":0},{"$f":"E1804","v":0},{"$f":"F1804","v":0},null,null,null,124,4,22]
["",null,3,{"$f":"D1805","v":0},0,0,null,null,null,124,4,22]
["",null,4,{"$f":"D1806","v":0},0,0,null,null,null,124,4,22]
["",null,5,{"$f":"D1807","v":0},0,0,null,null,null,124,4,22]
["",null,6,{"$f":"D1808","v":0},0,0,null,null,null,124,4,22]
["",null,7,{"$f":"D1809","v":0},0,0,null,null,null,124,4,22]
["",null,8,{"$f":"D1810","v":0},0,0,null,null,null,124,4,22]
["",null,9,{"$f":"D1811","v":0},0,0,null,null,null,124,4,22]
["",null,10,{"$f":"D1812","v":0},0,0,null,null,null,124,4,22]
["",null,11,{"$f":"D1813","v":0},0,0,null,null,null,124,4,22]
["",null,12,{"$f":"D1814","v":0},0,0,null,null,null,124,4,22]
["",null,13,{"$f":"D1815","v":0},0,0,null,null,null,124,4,22]
["",null,14,{"$f":"D1816","v":0},0,0,null,null,null,124,4,22]
["",null,15,{"$f":"D1817","v":0},0,0,null,null,null,124,4,22]
["",null,16,{"$f":"D1818","v":0},0,0,null,null,null,124,4,22]
["",null,17,{"$f":"D1819","v":0},0,0,null,null,null,124,4,22]
["",null,18,{"$f":"D1820","v":0},0,0,null,null,null,124,4,22]
["",null,19,{"$f":"D1821","v":0},0,0,null,null,null,124,4,22]
["",null,20,{"$f":"D1822","v":0},0,0,null,null,null,124,4,22]
["",null,21,{"$f":"D1823","v":0},0,0,null,null,null,124,4,22]
["",null,22,{"$f":"D1824","v":0},0,0,null,null,null,124,4,22]
["",null,23,{"$f":"D1825","v":0},0,0,null,null,null,124,4,22]
["",null,24,{"$f":"D1826","v":0},0,0,null,null,null,124,4,22]
["",null,25,{"$f":"D1827","v":0},0,0,null,null,null,124,4,22]
["",null,26,{"$f":"D1828","v":0},0,0,null,null,null,124,4,22]
["",null,27,{"$f":"D1829","v":0},0,0,null,null,null,124,4,22]
["",null,28,{"$f":"D1830","v":0},0,0,null,null,null,124,4,22]
["",null,29,{"$f":"D1831","v":0},0,0,null,null,null,124,4,22]
["",null,30,{"$f":"D1832","v":0},0,0,null,null,null,124,4,22]
["",null,31,{"$f":"D1833","v":0},0,0,null,null,null,124,4,22]
["",null,32,{"$f":"D1834","v":0},0,0,null,null,null,124,4,22]
["",null,33,{"$f":"D1835","v":0},0,0,null,null,null,124,4,22]
["",null,34,{"$f":"D1836","v":0},0,0,null,null,null,124,4,22]
["",null,35,{"$f":"D1837","v":0},0,0,null,null,null,124,4,22]
["",null,36,{"$f":"D1838","v":0},0,0,null,null,null,124,4,22]
["",null,37,{"$f":"D1839","v":0},0,0,null,null,null,124,4,22]
["",null,38,{"$f":"D1840","v":0},0,0,null,null,null,124,4,22]
["",null,39,{"$f":"D1841","v":0},0,0,null,null,null,124,4,22]
["",null,40,{"$f":"D1842","v":0},0,0,null,null,null,124,4,22]
["",null,41,{"$f":"D1843","v":0},0,0,null,null,null,124,4,22]
["",null,42,{"$f":"D1844","v":0},0,0,null,null,null,124,4,22]
["",null,43,{"$f":"D1845","v":0},0,0,null,null,null,124,4,22]
["",null,44,{"$f":"D1846","v":0},0,0,null,null,null,124,4,22]
["",null,45,{"$f":"D1847","v":0},0,0,null,null,null,124,4,22]
["",null,46,{"$f":"D1848","v":0},0,0,null,null,null,124,4,22]
["",null,47,{"$f":"D1849","v":0},0,0,null,null,null,124,4,22]
["",null,48,{"$f":"D1850","v":0},0,0,null,null,null,124,4,22]
["",null,49,{"$f":"D1851","v":0},0,0,null,null,null,124,4,22]
["",null,50,{"$f":"D1852","v":0},0,0,null,null,null,124,4,22]
["",null,1,{"$f":"DATOS!E40","v":0},{"$f":"DATOS!F40","v":0},{"$f":"DATOS!G40","v":0},null,null,null,124,4,22]
["",null,2,{"$f":"D1854","v":0},{"$f":"E1854","v":0},{"$f":"F1854","v":0},null,null,null,124,4,22]
["",null,3,{"$f":"D1855","v":0},0,0,null,null,null,124,4,22]
["",null,4,{"$f":"D1856","v":0},0,0,null,null,null,124,4,22]
["",null,5,{"$f":"D1857","v":0},0,0,null,null,null,124,4,22]
["",null,6,{"$f":"D1858","v":0},0,0,null,null,null,124,4,22]
["",null,7,{"$f":"D1859","v":0},0,0,null,null,null,{"$f":"DATEDIF(I1860,TODAY(),\"Y\")","v":124},{"$f":"DATEDIF(I1860,TODAY(),\"YM\")","v":4},{"$f":"DATEDIF(I1860,TODAY(),\"MD\")","v":22}]
[{"$f":"IF(B1861=0,\"\",B1861)","v":""},null,8,{"$f":"D1860","v":0},0,0,null,null,null,124,4,22]
["",null,9,{"$f":"D1861","v":0},0,0,null,null,null,124,4,22]
["",null,10,{"$f":"D1862","v":0},0,0,null,null,null,124,4,22]
["",null,11,{"$f":"D1863","v":0},0,0,null,null,null,124,4,22]
["",null,12,{"$f":"D1864","v":0},0,0,null,null,null,124,4,22]
["",null,13,{"$f":"D1865","v":0},0,0,null,null,null,124,4,22]
["",null,14,{"$f":"D1866","v":0},0,0,null,null,null,124,4,22]
["",null,15,{"$f":"D1867","v":0},0,0,null,null,null,124,4,22]
["",null,16,{"$f":"D1868","v":0},0,0,null,null,null,124,4,22]
["",null,17,{"$f":"D1869","v":0},0,0,null,null,null,124,4,22]
["",null,18,{"$f":"D1870","v":0},0,0,null,null,null,124,4,22]
["",null,19,{"$f":"D1871","v":0},0,0,null,null,null,124,4,22]
["",null,20,{"$f":"D1872","v":0},0,0,null,null,null,124,4,22]
["",null,21,{"$f":"D1873","v":0},0,0,null,null,null,124,4,22]
["",null,22,{"$f":"D1874","v":0},0,0,null,null,null,124,4,22]
["",null,23,{"$f":"D1875","v":0},0,0,null,null,null,124,4,22]
["",null,24,{"$f":"D1876","v":0},0,0,null,null,null,124,4,22]
["",null,25,{"$f":"D1877","v":0},0,0,null,null,null,124,4,22]
["",null,26,{"$f":"D1878","v":0},0,0,null,null,null,124,4,22]
["",null,27,{"$f":"D1879","v":0},0,0,null,null,null,124,4,22]
["",null,28,{"$f":"D1880","v":0},0,0,null,null,null,124,4,22]
["",null,29,{"$f":"D1881","v":0},0,0,null,null,null,124,4,22]
["",null,30,{"$f":"D1882","v":0},0,0,null,null,null,124,4,22]
["",null,31,{"$f":"D1883","v":0},0,0,null,null,null,124,4,22]
["",null,32,{"$f":"D1884","v":0},0,0,null,null,null,124,4,22]
["",null,33,{"$f":"D1885","v":0},0,0,null,null,null,124,4,22]
["",null,34,{"$f":"D1886","v":0},0,0,null,null,null,124,4,22]
["",null,35,{"$f":"D1887","v":0},0,0,null,null,null,124,4,22]
["",null,36,{"$f":"D1888","v":0},0,0,null,null,null,124,4,22]
["",null,37,{"$f":"D1889","v":0},0,0,null,null,null,124,4,22]
["",null,38,{"$f":"D1890","v":0},0,0,null,null,null,124,4,22]
["",null,39,{"$f":"D1891","v":0},0,0,null,null,null,124,4,22]
["",null,40,{"$f":"D1892","v":0},0,0,null,null,null,124,4,22]
["",null,41,{"$f":"D1893","v":0},0,0,null,null,null,124,4,22]
["",null,42,{"$f":"D1894","v":0},0,0,null,null,null,124,4,22]
["",null,43,{"$f":"D1895","v":0},0,0,null,null,null,124,4,22]
["",null,44,{"$f":"D1896","v":0},0,0,null,null,null,124,4,22]
["",null,45,{"$f":"D1897","v":0},0,0,null,null,null,124,4,22]
["",null,46,{"$f":"D1898","v":0},0,0,null,null,null,124,4,22]
["",null,47,{"$f":"D1899","v":0},0,0,null,null,null,124,4,22]
["",null,48,{"$f":"D1900","v":0},0,0,null,null,null,124,4,22]
["",null,49,{"$f":"D1901","v":0},0,0,null,null,null,124,4,22]
["",null,50,{"$f":"D1902","v":0},0,0,null,null,null,124,4,22]
["",null,1,{"$f":"DATOS!E41","v":0},{"$f":"DATOS!F41","v":0},{"$f":"DATOS!G41","v":0},null,null,null,124,4,22]
["",null,2,{"$f":"D1904","v":0},{"$f":"E1904","v":0},{"$f":"F1904","v":0},null,null,null,124,4,22]
["",null,3,{"$f":"D1905","v":0},0,0,null,null,null,124,4,22]
["",null,4,{"$f":"D1906","v":0},0,0,null,null,null,124,4,22]
["",null,5,{"$f":"D1907","v":0},0,0,null,null,null,124,4,22]
["",null,6,{"$f":"D1908","v":0},0,0,null,null,null,124,4,22]
["",null,7,{"$f":"D1909","v":0},0,0,null,null,null,124,4,22]
["",null,8,{"$f":"D1910","v":0},0,0,null,null,null,124,4,22]
["",null,9,{"$f":"D1911","v":0},0,0,null,null,null,124,4,22]
["",null,10,{"$f":"D1912","v":0},0,0,null,null,null,124,4,22]
["",null,11,{"$f":"D1913","v":0},0,0,null,null,null,124,4,22]
["",null,12,{"$f":"D1914","v":0},0,0,null,null,null,124,4,22]
["",null,13,{"$f":"D1915","v":0},0,0,null,null,null,124,4,22]
["",null,14,{"$f":"D1916","v":0},0,0,null,null,null,124,4,22]
["",null,15,{"$f":"D1917","v":0},0,0,null,null,null,124,4,22]
["",null,16,{"$f":"D1918","v":0},0,0,null,null,null,124,4,22]
["",null,17,{"$f":"D1919","v":0},0,0,null,null,null,124,4,22]
["",null,18,{"$f":"D1920","v":0},0,0,null,null,null,124,4,22]
["",null,19,{"$f":"D1921","v":0},0,0,null,null,null,124,4,22]
["",null,20,{"$f":"D1922","v":0},0,0,null,null,null,124,4,22]
["",null,21,{"$f":"D1923","v":0},0,0,null,null,null,{"$f":"DATEDIF(I1924,TODAY(),\"Y\")","v":124},{"$f":"DATEDIF(I1924,TODAY(),\"YM\")","v":4},{"$f":"DATEDIF(I1924,TODAY(),\"MD\")","v":22}]
[{"$f":"IF(B1925=0,\"\",B1925)","v":""},null,22,{"$f":"D1924","v":0},0,0,null,null,null,124,4,22]
["",null,23,{"$f":"D1925","v":0},0,0,null,null,null,124,4,22]
["",null,24,{"$f":"D1926","v":0},0,0,null,null,null,124,4,22]
["",null,25,{"$f":"D1927","v":0},0,0,null,null,null,124,4,22]
["",null,26,{"$f":"D1928","v":0},0,0,null,null,null,124,4,22]
["",null,27,{"$f":"D1929","v":0},0,0,null,null,null,124,4,22]
["",null,28,{"$f":"D1930","v":0},0,0,null,null,null,124,4,22]
["",null,29,{"$f":"D1931","v":0},0,0,null,null,null,124,4,22]
["",null,30,{"$f":"D1932","v":0},0,0,null,null,null,124,4,22]
["",null,31,{"$f":"D1933","v":0},0,0,null,null,null,124,4,22]
["",null,32,{"$f":"D1934","v":0},0,0,null,null,null,124,4,22]
["",null,33,{"$f":"D1935","v":0},0,0,null,null,null,124,4,22]
["",null,34,{"$f":"D1936","v":0},0,0,null,null,null,124,4,22]
["",null,35,{"$f":"D1937","v":0},0,0,null,null,null,124,4,22]
["",null,36,{"$f":"D1938","v":0},0,0,null,null,null,124,4,22]
["",null,37,{"$f":"D1939","v":0},0,0,null,null,null,124,4,22]
["",null,38,{"$f":"D1940","v":0},0,0,null,null,null,124,4,22]
["",null,39,{"$f":"D1941","v":0},0,0,null,null,null,124,4,22]
["",null,40,{"$f":"D1942","v":0},0,0,null,null,null,124,4,22]
["",null,41,{"$f":"D1943","v":0},0,0,null,null,null,124,4,22]
["",null,42,{"$f":"D1944","v":0},0,0,null,null,null,124,4,22]
["",null,43,{"$f":"D1945","v":0},0,0,null,null,null,124,4,22]
["",null,44,{"$f":"D1946","v":0},0,0,null,null,null,124,4,22]
["",null,45,{"$f":"D1947","v":0},0,0,null,null,null,124,4,22]
["",null,46,{"$f":"D1948","v":0},0,0,null,null,null,124,4,22]
["",null,47,{"$f":"D1949","v":0},0,0,null,null,null,124,4,22]
["",null,48,{"$f":"D1950","v":0},0,0,null,null,null,124,4,22]
["",null,49,{"$f":"D1951","v":0},0,0,null,null,null,124,4,22]
["",null,50,{"$f":"D1952","v":0},0,0,null,null,null,124,4,22]
["",null,1,{"$f":"DATOS!E42","v":0},{"$f":"DATOS!F42","v":0},{"$f":"DATOS!G42","v":0},null,null,null,124,4,22]
["",null,2,{"$f":"D1954","v":0},{"$f":"E1954","v":0},{"$f":"F1954","v":0},null,null,null,124,4,22]
["",null,3,{"$f":"D1955","v":0},0,0,null,null,null,124,4,22]
["",null,4,{"$f":"D1956","v":0},0,0,null,null,null,124,4,22]
["",null,5,{"$f":"D1957","v":0},0,0,null,null,null,124,4,22]
["",null,6,{"$f":"D1958","v":0},0,0,null,null,null,124,4,22]
["",null,7,{"$f":"D1959","v":0},0,0,null,null,null,124,4,22]
["",null,8,{"$f":"D1960","v":0},0,0,null,null,null,124,4,22]
["",null,9,{"$f":"D1961","v":0},0,0,null,null,null,124,4,22]
["",null,10,{"$f":"D1962","v":0},0,0,null,null,null,124,4,22]
["",null,11,{"$f":"D1963","v":0},0,0,null,null,null,124,4,22]
["",null,12,{"$f":"D1964","v":0},0,0,null,null,null,124,4,22]
["",null,13,{"$f":"D1965","v":0},0,0,null,null,null,124,4,22]
["",null,14,{"$f":"D1966","v":0},0,0,null,null,null,124,4,22]
["",null,15,{"$f":"D1967","v":0},0,0,null,null,null,124,4,22]
["",null,16,{"$f":"D1968","v":0},0,0,null,null,null,124,4,22]
["",null,17,{"$f":"D1969","v":0},0,0,null,null,null,124,4,22]
["",null,18,{"$f":"D1970","v":0},0,0,null,null,null,124,4,22]
["",null,19,{"$f":"D1971","v":0},0,0,null,null,null,124,4,22]
["",null,20,{"$f":"D1972","v":0},0,0,null,null,null,124,4,22]
["",null,21,{"$f":"D1973","v":0},0,0,null,null,null,124,4,22]
["",null,22,{"$f":"D1974","v":0},0,0,null,null,null,124,4,22]
["",null,23,{"$f":"D1975","v":0},0,0,null,null,null,124,4,22]
["",null,24,{"$f":"D1976","v":0},0,0,null,null,null,124,4,22]
["",null,25,{"$f":"D1977","v":0},0,0,null,null,null,124,4,22]
["",null,26,{"$f":"D1978","v":0},0,0,null,null,null,124,4,22]
["",null,27,{"$f":"D1979","v":0},0,0,null,null,null,124,4,22]
["",null,28,{"$f":"D1980","v":0},0,0,null,null,null,124,4,22]
["",null,29,{"$f":"D1981","v":0},0,0,null,null,null,124,4,22]
["",null,30,{"$f":"D1982","v":0},0,0,null,null,null,124,4,22]
["",null,31,{"$f":"D1983","v":0},0,0,null,null,null,124,4,22]
["",null,32,{"$f":"D1984","v":0},0,0,null,null,null,124,4,22]
["",null,33,{"$f":"D1985","v":0},0,0,null,null,null,124,4,22]
["",null,34,{"$f":"D1986","v":0},0,0,null,null,null,124,4,22]
["",null,35,{"$f":"D1987","v":0},0,0,null,null,null,{"$f":"DATEDIF(I1988,TODAY(),\"Y\")","v":124},{"$f":"DATEDIF(I1988,TODAY(),\"YM\")","v":4},{"$f":"DATEDIF(I1988,TODAY(),\"MD\")","v":22}]
[{"$f":"IF(B1989=0,\"\",B1989)","v":""},null,36,{"$f":"D1988","v":0},0,0,null,null,null,124,4,22]
["",null,37,{"$f":"D1989","v":0},0,0,null,null,null,124,4,22]
["",null,38,{"$f":"D1990","v":0},0,0,null,null,null,124,4,22]
["",null,39,{"$f":"D1991","v":0},0,0,null,null,null,124,4,22]
["",null,40,{"$f":"D1992","v":0},0,0,null,null,null,124,4,22]
["",null,41,{"$f":"D1993","v":0},0,0,null,null,null,124,4,22]
["",null,42,{"$f":"D1994","v":0},0,0,null,null,null,124,4,22]
["",null,43,{"$f":"D1995","v":0},0,0,null,null,null,124,4,22]
["",null,44,{"$f":"D1996","v":0},0,0,null,null,null,124,4,22]
["",null,45,{"$f":"D1997","v":0},0,0,null,null,null,124,4,22]
["",null,46,{"$f":"D1998","v":0},0,0,null,null,null,124,4,22]
["",null,47,{"$f":"D1999","v":0},0,0,null,null,null,124,4,22]
["",null,48,{"$f":"D2000","v":0},0,0,null,null,null,124,4,22]
["",null,49,{"$f":"D2001","v":0},0,0,null,null,null,124,4,22]
["",null,50,{"$f":"D2002","v":0},0,0,null,null,null,124,4,22]

{"sheet":"CERTIFICADO","index":2,"n_rows":29,"n_cols":9,"rows_kept":29,"cut":false,"hidden":false,"merged":[[28,1,28,3],[17,1,17,8],[18,1,21,8],[27,1,27,3],[27,5,27,8],[28,5,28,8],[5,0,5,8],[7,1,7,8],[9,1,9,8],[10,0,10,3],[16,1,16,8]]}
[]
[]
[]
[]
[]
[{"$f":"DATOS!B3","v":"COLEGIO BACHILLERATO PCEI \"SIN FRONTERAS\""}]
[]
[null,{"$f":"DATOS!B14","v":"2024 - 2025"},null,null,null,{"$f":"DATOS!B14","v":"2024 - 2025"}]
[]
[null,"CERTIFICADO DE MATRÍCULA"]
[{"$f":"TODAY()","v":"2024-05-22"}]
[]
[null,"G/C",{"$f":"IFERROR(IF(VLOOKUP($I$13,Datos,4,1=0)=0,\" \",VLOOKUP($I$13,Datos,4,1=0)),\" \")","v":"Octavo Año"},"NIVEL",{"$f":"IFERROR(IF(VLOOKUP($I$13,Datos,5,1=0)=0,\" \",VLOOKUP($I$13,Datos,5,1=0)),\" \")","v":"EGB"},{"$f":"IFERROR(IF(VLOOKUP($I$13,Datos,6,1=0)=0,\" \",VLOOKUP($I$13,Datos,6,1=0)),\" \")","v":" "},"MATRICULA","00",1]
[null,"JORNADA","Matutina ",null,null,null,"FOLIO","00",{"$f":"IFERROR(IF(VLOOKUP($I$13,Datos,3,1=0)=0,\" \",VLOOKUP($I$13,Datos,3,1=0)),\" \")","v":1}]
[]
[]
[null,"Quién suscribe Director/a, certifican que la/el estudiante:"]
[null,{"$f":"IFERROR(IF(VLOOKUP($I$13,Datos,7,1=0)=0,\" \",VLOOKUP($I$13,Datos,7,1=0)),\" \")","v":"ACHIG OÑATE DONIMIC DANIEL"}]
[null,"Previo el cumplimiento de los requisitos legales, se matriculó en el grado/curso indicado y su asistencia es normal hasta la fecha de entrega de este certifidado; así consta en los registros que reposan en esta Institución Educativa."]
[]
[]
[]
[]
[]
[]
[]
[]
[null,"FIRMA",null,null,null,"FIRMA"]
[null,"FIRMA",null,null,null,"FIRMA"]

{"sheet":"FICHA","index":3,"n_rows":65,"n_cols":8,"rows_kept":65,"cut":false,"hidden":false,"merged":[[64,6,64,7],[33,0,33,2],[38,0,38,2],[40,0,40,2],[64,0,64,3],[60,6,60,7],[60,3,60,4],[51,0,51,2],[51,3,51,7],[53,3,56,7],[40,5,40,6],[59,3,59,4],[59,6,59,7],[53,0,56,2],[31,6,31,7],[38,6,38,7],[49,0,49,2],[33,5,33,6],[19,5,19,7],[19,0,19,4],[26,0,26,2],[28,0,28,2],[31,0,31,2],[21,3,21,4],[28,3,28,6],[38,3,38,5],[31,3,31,5],[32,6,32,7],[39,6,39,7],[26,3,26,7],[24,0,24,2],[24,3,24,5],[0,1,0,7],[16,0,16,4],[14,0,14,4],[14,5,14,7],[10,2,10,4],[1,1,1,7],[2,1,2,7]]}
[null,{"$f":"DATOS!B3","v":"COLEGIO BACHILLERATO PCEI \"SIN FRONTERAS\""}]
[null,"REGISTRO DE MATRÍCULA REGLAMENTARIA"]
[null,{"$f":"DATOS!B14","v":"2024 - 2025"}]
[]
[]
[]
[]
[]
["N° MATRÍCULA.",null,1]
[]
["N° CEDULA",null,{"$f":"IFERROR(IF(VLOOKUP($C$9,Datos,8,1=0)=0,\" \",VLOOKUP($C$9,Datos,8,1=0)),\" \")","v":1757199672}]
[]
["GRADO/CURSO:",null,{"$f":"IFERROR(IF(VLOOKUP($C$9,Datos,4,1=0)=0,\" \",VLOOKUP($C$9,Datos,4,1=0)),\" \")","v":"Octavo Año"},"NIVEL:",null,{"$f":"IFERROR(IF(VLOOKUP($C$9,Datos,5,1=0)=0,\" \",VLOOKUP($C$9,Datos,5,1=0)),\" \")","v":"EGB"},"PARALELO:",{"$f":"IFERROR(IF(VLOOKUP($C$9,Datos,6,1=0)=0,\" \",VLOOKUP($C$9,Datos,6,1=0)),\" \")","v":" "}]
[]
["APELLIDOS Y NOMBRES ESTUDIANTE: ",null,null,null,null,{"$f":"IFERROR(IF(VLOOKUP($C$9,Datos,7,1=0)=0,\" \",VLOOKUP($C$9,Datos,7,1=0)),\" \")","v":"ACHIG OÑATE DONIMIC DANIEL"}]
[]
["LUGAR DE NACIMIENTO ESTUDIANTE:",null,null,null,null,{"$f":"IFERROR(IF(VLOOKUP($C$9,Datos,13,1=0)=0,\" \",VLOOKUP($C$9,Datos,13,1=0)),\" \")","v":"QUITO"},{"$f":"IFERROR(IF(VLOOKUP($C$9,Datos,14,1=0)=0,\" \",VLOOKUP($C$9,Datos,14,1=0)),\" \")","v":"PICHINCHA "},{"$f":"IFERROR(IF(VLOOKUP($C$9,Datos,15,1=0)=0,\" \",VLOOKUP($C$9,Datos,15,1=0)),\" \")","v":"ECUADOR"}]
[null,null,null,null,null,"CIUDAD","PROVINCIA","PAIS"]
[]
["FECHA DE NACIMIENTO DEL ESTUDIANTE:",null,null,null,null,{"$f":"IFERROR(IF(VLOOKUP($C$9,Datos,9,1=0)=0,\" \",VLOOKUP($C$9,Datos,9,1=0)),\" \")","v":"2016-02-03"}]
[]
["GÉNERO ESTUDIANTE:",{"$f":"IFERROR(IF(VLOOKUP($C$9,Datos,33,1=0)=0,\" \",VLOOKUP($C$9,Datos,33,1=0)),\" \")","v":"M"},{"$f":"IF(B22=\"M\",\"MASCULINO\",IF(B22=\"F\",\"FEMENINO\",\" \"))","v":"MASCULINO"},"EDAD:",null,{"$f":"IFERROR(IF(VLOOKUP($C$9,Datos,10,1=0)=0,\" \",VLOOKUP($C$9,Datos,10,1=0)),\" \")","v":8},{"$f":"IFERROR(IF(VLOOKUP($C$9,Datos,11,1=0)=0,\" \",VLOOKUP($C$9,Datos,11,1=0)),\" \")","v":3},{"$f":"IFERROR(IF(VLOOKUP($C$9,Datos,12,1=0)=0,\" \",VLOOKUP($C$9,Datos,12,1=0)),\" \")","v":19}]
[null,null,null,null,null,"AÑOS","MESES","DIAS"]
[]
["ÉTNIA/NACIONALIDAD ESTUDIANTE:",null,null,{"$f":"IFERROR(IF(VLOOKUP($C$9,Datos,34,1=0)=0,\" \",VLOOKUP($C$9,Datos,34,1=0)),\" \")","v":"AFRO ECUATORIANO"}]
[]
["LUGAR DE RESIDENCIA DEL ESTUDIANTE:",null,null,{"$f":"IFERROR(IF(VLOOKUP($C$9,Datos,29,1=0)=0,\" \",VLOOKUP($C$9,Datos,29,1=0)),\" \")","v":"NONO BARRIO LA CURVA"}]
[]
["PLANTEL DEL QUE PROCEDE ESTUDIANTE:",null,null,{"$f":"IFERROR(IF(VLOOKUP($C$9,Datos,16,1=0)=0,\" \",VLOOKUP($C$9,Datos,16,1=0)),\" \")","v":"UEF NONO"}]
[]
[]
["NOMBRE DEL PADRE:",null,null,{"$f":"IFERROR(IF(VLOOKUP($C$9,Datos,17,1=0)=0,\" \",VLOOKUP($C$9,Datos,17,1=0)),\" \")","v":"RAUL ACHIG"},null,null,{"$f":"IFERROR(IF(VLOOKUP($C$9,Datos,18,1=0)=0,\" \",VLOOKUP($C$9,Datos,18,1=0)),\" \")","v":1716783483}]
[null,null,null,null,null,null,"C.IDENTIDAD"]
["INSTRUCCIÓN Y LUGAR DE TRABAJO:",null,null,{"$f":"IFERROR(IF(VLOOKUP($C$9,Datos,19,1=0)=0,\" \",VLOOKUP($C$9,Datos,19,1=0)),\" \")","v":"PRIMARIA"},null,{"$f":"IFERROR(IF(VLOOKUP($C$9,Datos,20,1=0)=0,\" \",VLOOKUP($C$9,Datos,20,1=0)),\" \")","v":"JORNALERO"}]
[]
["TELEFONOS:",null,null,{"$f":"IFERROR(IF(VLOOKUP($C$9,Datos,21,1=0)=0,\" \",VLOOKUP($C$9,Datos,21,1=0)),\" \")","v":"2786256"},null,{"$f":"IFERROR(IF(VLOOKUP($C$9,Datos,22,1=0)=0,\" \",VLOOKUP($C$9,Datos,22,1=0)),\" \")","v":"0969915051"}]
[null,null,null,"CONVENCIONAL",null,"MÓVIL"]
[]
["NOMBRE DE LA MADRE:",null,null,{"$f":"IFERROR(IF(VLOOKUP($C$9,Datos,23,1=0)=0,\" \",VLOOKUP($C$9,Datos,23,1=0)),\" \")","v":"NANCI OÑATE"},null,null,{"$f":"IFERROR(IF(VLOOKUP($C$9,Datos,24,1=0)=0,\" \",VLOOKUP($C$9,Datos,24,1=0)),\" \")","v":1716533037}]
[null,null,null,null,null,null,"C.IDENTIDAD"]
["INSTRUCCIÓN Y LUGAR DE TRABAJO:",null,null,{"$f":"IFERROR(IF(VLOOKUP($C$9,Datos,25,1=0)=0,\" \",VLOOKUP($C$9,Datos,25,1=0)),\" \")","v":"PRIMARIA"},null,{"$f":"IFERROR(IF(VLOOKUP($C$9,Datos,26,1=0)=0,\" \",VLOOKUP($C$9,Datos,26,1=0)),\" \")","v":"AMA DE CASA"}]
[]
["TELEFONOS:",null,null,{"$f":"IFERROR(IF(VLOOKUP($C$9,Datos,27,1=0)=0,\" \",VLOOKUP($C$9,Datos,27,1=0)),\" \")","v":"2786256"},null,{"$f":"IFERROR(IF(VLOOKUP($C$9,Datos,28,1=0)=0,\" \",VLOOKUP($C$9,Datos,28,1=0)),\" \")","v":"0995452867"}]
[null,null,null,"CONVENCIONAL",null,"MÓVIL"]
[]
[]
[]
["TELEFONO DE CONTACTO ESTUDIANTE:",null,null,{"$f":"IFERROR(IF(VLOOKUP($C$9,Datos,30,1=0)=0,\" \",VLOOKUP($C$9,Datos,30,1=0)),\" \")","v":"0961369225"}]
[]
["HERMANOS/AS EN LA INSTITUCIÓN:",null,null,{"$f":"IFERROR(IF(VLOOKUP($C$9,Datos,31,1=0)=0,\" \",VLOOKUP($C$9,Datos,31,1=0)),\" \")","v":"SI"}]
[]
["DETALLE DE HERMANOS/AS:",null,null,{"$f":"IFERROR(IF(VLOOKUP($C$9,Datos,32,1=0)=0,\" \",VLOOKUP($C$9,Datos,32,1=0)),\" \")","v":"STEVEEN ACHIG 8°EGB"}]
[]
["OBSERVACIONES AL ESTUDIANTE:",null,null,{"$f":"IFERROR(IF(VLOOKUP($C$9,Datos,35,1=0)=0,\" \",VLOOKUP($C$9,Datos,35,1=0)),\" \")","v":" "}]
[]
[]
[]
[]
[]
[]
["RECTOR",null,null,"DOCENTE",null,null,"REPRESENTANTE"]
[]
[]
[]
[{"$f":"DATOS!B7","v":"BARTOLOME DE LAS CASA"},null,null,null,null,{"$f":"DATOS!B8","v":996618655},{"$f":"DATOS!B19","v":"prodisec9@gmail.com"}]

{"sheet":"CARNET","index":4,"n_rows":17,"n_cols":6,"rows_kept":17,"cut":false,"hidden":false,"merged":[[16,4,16,5],[15,4,15,5],[14,2,14,3],[5,4,5,5],[5,2,5,3],[13,2,13,3],[12,2,12,3],[10,2,10,3],[9,4,9,5],[7,2,7,3],[7,4,7,5],[3,4,3,5],[10,4,10,5],[0,2,0,5],[1,2,1,5],[2,2,2,5],[3,2,3,3]]}
[null,null,{"$f":"DATOS!B3","v":"COLEGIO BACHILLERATO PCEI \"SIN FRONTERAS\""}]
[null,null,"CARNÉ ESTUDIANTIL"]
[null,null,{"$f":"DATOS!B7","v":"BARTOLOME DE LAS CASA"}]
[null,null,{"$f":"UPPER(DATOS!B5)","v":"IBARRA"},null,"ECUADOR"]
[]
[null,null,"ESTUDIANTE:",null,{"$f":"IFERROR(IF(VLOOKUP($D$10,Datos,7,1=0)=0,\" \",VLOOKUP($D$10,Datos,7,1=0)),\" \")","v":"ACHIG OÑATE DONIMIC DANIEL"}]
[]
[null,null,"C. IDENTIDAD",null,{"$f":"IFERROR(IF(VLOOKUP($D$10,Datos,8,1=0)=0,\" \",VLOOKUP($D$10,Datos,8,1=0)),\" \")","v":1757199672}]
[]
[null,null,"000",1,{"$f":"DATOS!B14","v":"2024 - 2025"}]
[null,null,"N° MATRÍCULA",null,"AÑO LECTIVO"]
[]
[null,null,{"$f":"IFERROR(IF(VLOOKUP($D$10,Datos,4,1=0)=0,\" \",VLOOKUP($D$10,Datos,4,1=0)),\" \")","v":"Octavo Año"},null,{"$f":"IFERROR(IF(VLOOKUP($D$10,Datos,5,1=0)=0,\" \",VLOOKUP($D$10,Datos,5,1=0)),\" \")","v":"EGB"},{"$f":"IFERROR(IF(VLOOKUP($D$10,Datos,6,1=0)=0,\" \",VLOOKUP($D$10,Datos,6,1=0)),\" \")","v":" "}]
[null,null,"G/C",null,"NIVEL","PARALELO"]
[]
[null,null,null,null,{"$f":"DATOS!B15","v":"MSC. RENE CAMPOS"}]
[null,null,null,null,"RECTOR"]

{"sheet":"LISTAS","index":5,"n_rows":2359,"n_cols":3,"rows_kept":2359,"cut":false,"hidden":false,"merged":[[295,0,295,2],[0,0,0,2],[59,0,59,2],[118,0,118,2],[177,0,177,2],[236,0,236,2],[1003,0,1003,2],[354,0,354,2],[413,0,413,2],[472,0,472,2],[531,0,531,2],[590,0,590,2],[649,0,649,2],[708,0,708,2],[767,0,767,2],[826,0,826,2],[885,0,885,2],[944,0,944,2],[1711,0,1711,2],[1062,0,1062,2],[1121,0,1121,2],[1180,0,1180,2],[1239,0,1239,2],[1298,0,1298,2],[1357,0,1357,2],[1416,0,1416,2],[1475,0,1475,2],[1534,0,1534,2],[1593,0,1593,2],[1652,0,1652,2],[2124,0,2124,2],[2183,0,2183,2],[2242,0,2242,2],[2301,0,2301,2],[1770,0,1770,2],[1829,0,1829,2],[1888,0,1888,2],[1947,0,1947,2],[2006,0,2006,2],[2065,0,2065,2]]}
[{"$f":"DATOS!$B$3","v":"COLEGIO BACHILLERATO PCEI \"SIN FRONTERAS\""}]
[]
[null,"GRADO/CURSO:",{"$f":"DATOS!$E3","v":"Octavo Año"}]
[null,"NIVEL:",{"$f":"DATOS!$F3","v":"EGB"}]
[null,"PARALELO:",{"$f":"DATOS!$G3","v":0}]
[null,"TUTOR:",{"$f":"DATOS!$H3","v":"DOCENTE "}]
[]
["Nro","NOMBRES Y APELLIDOS","OBSERVACIONES"]
[1,{"$f":"IF(ESTUDIANTES!G4=0,\"\",ESTUDIANTES!G4)","v":"ACHIG OÑATE DONIMIC DANIEL"}]
[2,{"$f":"IF(ESTUDIANTES!G5=0,\"\",ESTUDIANTES!G5)","v":""}]
[3,{"$f":"IF(ESTUDIANTES!G6=0,\"\",ESTUDIANTES!G6)","v":""}]
[4,{"$f":"IF(ESTUDIANTES!G7=0,\"\",ESTUDIANTES!G7)","v":""}]
[5,{"$f":"IF(ESTUDIANTES!G8=0,\"\",ESTUDIANTES!G8)","v":""}]
[6,{"$f":"IF(ESTUDIANTES!G9=0,\"\",ESTUDIANTES!G9)","v":""}]
[7,{"$f":"IF(ESTUDIANTES!G10=0,\"\",ESTUDIANTES!G10)","v":""}]
[8,{"$f":"IF(ESTUDIANTES!G11=0,\"\",ESTUDIANTES!G11)","v":""}]
[9,{"$f":"IF(ESTUDIANTES!G12=0,\"\",ESTUDIANTES!G12)","v":""}]
[10,{"$f":"IF(ESTUDIANTES!G13=0,\"\",ESTUDIANTES!G13)","v":""}]
[11,{"$f":"IF(ESTUDIANTES!G14=0,\"\",ESTUDIANTES!G14)","v":""}]
[12,{"$f":"IF(ESTUDIANTES!G15=0,\"\",ESTUDIANTES!G15)","v":""}]
[13,{"$f":"IF(ESTUDIANTES!G16=0,\"\",ESTUDIANTES!G16)","v":""}]
[14,{"$f":"IF(ESTUDIANTES!G17=0,\"\",ESTUDIANTES!G17)","v":""}]
[15,{"$f":"IF(ESTUDIANTES!G18=0,\"\",ESTUDIANTES!G18)","v":""}]
[16,{"$f":"IF(ESTUDIANTES!G19=0,\"\",ESTUDIANTES!G19)","v":""}]
[17,{"$f":"IF(ESTUDIANTES!G20=0,\"\",ESTUDIANTES!G20)","v":""}]
[18,{"$f":"IF(ESTUDIANTES!G21=0,\"\",ESTUDIANTES!G21)","v":""}]
[19,{"$f":"IF(ESTUDIANTES!G22=0,\"\",ESTUDIANTES!G22)","v":""}]
[20,{"$f":"IF(ESTUDIANTES!G23=0,\"\",ESTUDIANTES!G23)","v":""}]
[21,{"$f":"IF(ESTUDIANTES!G24=0,\"\",ESTUDIANTES!G24)","v":""}]
[22,{"$f":"IF(ESTUDIANTES!G25=0,\"\",ESTUDIANTES!G25)","v":""}]
[23,{"$f":"IF(ESTUDIANTES!G26=0,\"\",ESTUDIANTES!G26)","v":""}]
[24,{"$f":"IF(ESTUDIANTES!G27=0,\"\",ESTUDIANTES!G27)","v":""}]
[25,{"$f":"IF(ESTUDIANTES!G28=0,\"\",ESTUDIANTES!G28)","v":""}]
[26,{"$f":"IF(ESTUDIANTES!G29=0,\"\",ESTUDIANTES!G29)","v":""}]
[27,{"$f":"IF(ESTUDIANTES!G30=0,\"\",ESTUDIANTES!G30)","v":""}]
[28,{"$f":"IF(ESTUDIANTES!G31=0,\"\",ESTUDIANTES!G31)","v":""}]
[29,{"$f":"IF(ESTUDIANTES!G32=0,\"\",ESTUDIANTES!G32)","v":""}]
[30,{"$f":"IF(ESTUDIANTES!G33=0,\"\",ESTUDIANTES!G33)","v":""}]
[31,{"$f":"IF(ESTUDIANTES!G34=0,\"\",ESTUDIANTES!G34)","v":""}]
[32,{"$f":"IF(ESTUDIANTES!G35=0,\"\",ESTUDIANTES!G35)","v":""}]
[33,{"$f":"IF(ESTUDIANTES!G36=0,\"\",ESTUDIANTES!G36)","v":""}]
[34,{"$f":"IF(ESTUDIANTES!G37=0,\"\",ESTUDIANTES!G37)","v":""}]
[35,{"$f":"IF(ESTUDIANTES!G38=0,\"\",ESTUDIANTES!G38)","v":""}]
[36,{"$f":"IF(ESTUDIANTES!G39=0,\"\",ESTUDIANTES!G39)","v":""}]
[37,{"$f":"IF(ESTUDIANTES!G40=0,\"\",ESTUDIANTES!G40)","v":""}]
[38,{"$f":"IF(ESTUDIANTES!G41=0,\"\",ESTUDIANTES!G41)","v":""}]
[39,{"$f":"IF(ESTUDIANTES!G42=0,\"\",ESTUDIANTES!G42)","v":""}]
[40,{"$f":"IF(ESTUDIANTES!G43=0,\"\",ESTUDIANTES!G43)","v":""}]
[41,{"$f":"IF(ESTUDIANTES!G44=0,\"\",ESTUDIANTES!G44)","v":""}]
[42,{"$f":"IF(ESTUDIANTES!G45=0,\"\",ESTUDIANTES!G45)","v":""}]
[43,{"$f":"IF(ESTUDIANTES!G46=0,\"\",ESTUDIANTES!G46)","v":""}]
[44,{"$f":"IF(ESTUDIANTES!G47=0,\"\",ESTUDIANTES!G47)","v":""}]
[45,{"$f":"IF(ESTUDIANTES!G48=0,\"\",ESTUDIANTES!G48)","v":""}]
[46,{"$f":"IF(ESTUDIANTES!G49=0,\"\",ESTUDIANTES!G49)","v":""}]
[47,{"$f":"IF(ESTUDIANTES!G50=0,\"\",ESTUDIANTES!G50)","v":""}]
[48,{"$f":"IF(ESTUDIANTES!G51=0,\"\",ESTUDIANTES!G51)","v":""}]
[49,{"$f":"IF(ESTUDIANTES!G52=0,\"\",ESTUDIANTES!G52)","v":""}]
[50,{"$f":"IF(ESTUDIANTES!G53=0,\"\",ESTUDIANTES!G53)","v":""}]
[]
[{"$f":"DATOS!$B$3","v":"COLEGIO BACHILLERATO PCEI \"SIN FRONTERAS\""}]
[]
[null,"GRADO/CURSO:",{"$f":"DATOS!$E4","v":"Noveno Año"}]
[null,"NIVEL:",{"$f":"DATOS!$F4","v":"EGB"}]
[null,"PARALELO:",{"$f":"DATOS!$G4","v":0}]
[null,"TUTOR:",{"$f":"DATOS!$H4","v":"DOCENTE "}]
[]
["Nro","NOMBRES Y APELLIDOS","OBSERVACIONES"]
[1,{"$f":"IF(ESTUDIANTES!G54=0,\"\",ESTUDIANTES!G54)","v":""}]
[2,{"$f":"IF(ESTUDIANTES!G55=0,\"\",ESTUDIANTES!G55)","v":""}]
[3,{"$f":"IF(ESTUDIANTES!G56=0,\"\",ESTUDIANTES!G56)","v":""}]
[4,{"$f":"IF(ESTUDIANTES!G57=0,\"\",ESTUDIANTES!G57)","v":""}]
[5,{"$f":"IF(ESTUDIANTES!G58=0,\"\",ESTUDIANTES!G58)","v":""}]
[6,{"$f":"IF(ESTUDIANTES!G59=0,\"\",ESTUDIANTES!G59)","v":""}]
[7,{"$f":"IF(ESTUDIANTES!G60=0,\"\",ESTUDIANTES!G60)","v":""}]
[8,{"$f":"IF(ESTUDIANTES!G61=0,\"\",ESTUDIANTES!G61)","v":""}]
[9,{"$f":"IF(ESTUDIANTES!G62=0,\"\",ESTUDIANTES!G62)","v":""}]
[10,{"$f":"IF(ESTUDIANTES!G63=0,\"\",ESTUDIANTES!G63)","v":""}]
[11,{"$f":"IF(ESTUDIANTES!G64=0,\"\",ESTUDIANTES!G64)","v":""}]
[12,{"$f":"IF(ESTUDIANTES!G65=0,\"\",ESTUDIANTES!G65)","v":""}]
[13,{"$f":"IF(ESTUDIANTES!G66=0,\"\",ESTUDIANTES!G66)","v":""}]
[14,{"$f":"IF(ESTUDIANTES!G67=0,\"\",ESTUDIANTES!G67)","v":""}]
[15,{"$f":"IF(ESTUDIANTES!G68=0,\"\",ESTUDIANTES!G68)","v":""}]
[16,{"$f":"IF(ESTUDIANTES!G69=0,\"\",ESTUDIANTES!G69)","v":""}]
[17,{"$f":"IF(ESTUDIANTES!G70=0,\"\",ESTUDIANTES!G70)","v":""}]
[18,{"$f":"IF(ESTUDIANTES!G71=0,\"\",ESTUDIANTES!G71)","v":""}]
[19,{"$f":"IF(ESTUDIANTES!G72=0,\"\",ESTUDIANTES!G72)","v":""}]
[20,{"$f":"IF(ESTUDIANTES!G73=0,\"\",ESTUDIANTES!G73)","v":""}]
[21,{"$f":"IF(ESTUDIANTES!G74=0,\"\",ESTUDIANTES!G74)","v":""}]
[22,{"$f":"IF(ESTUDIANTES!G75=0,\"\",ESTUDIANTES!G75)","v":""}]
[23,{"$f":"IF(ESTUDIANTES!G76=0,\"\",ESTUDIANTES!G76)","v":""}]
[24,{"$f":"IF(ESTUDIANTES!G77=0,\"\",ESTUDIANTES!G77)","v":""}]
[25,{"$f":"IF(ESTUDIANTES!G78=0,\"\",ESTUDIANTES!G78)","v":""}]
[26,{"$f":"IF(ESTUDIANTES!G79=0,\"\",ESTUDIANTES!G79)","v":""}]
[27,{"$f":"IF(ESTUDIANTES!G80=0,\"\",ESTUDIANTES!G80)","v":""}]
[28,{"$f":"IF(ESTUDIANTES!G81=0,\"\",ESTUDIANTES!G81)","v":""}]
[29,{"$f":"IF(ESTUDIANTES!G82=0,\"\",ESTUDIANTES!G82)","v":""}]
[30,{"$f":"IF(ESTUDIANTES!G83=0,\"\",ESTUDIANTES!G83)","v":""}]
[31,{"$f":"IF(ESTUDIANTES!G84=0,\"\",ESTUDIANTES!G84)","v":""}]
[32,{"$f":"IF(ESTUDIANTES!G85=0,\"\",ESTUDIANTES!G85)","v":""}]
[33,{"$f":"IF(ESTUDIANTES!G86=0,\"\",ESTUDIANTES!G86)","v":""}]
[34,{"$f":"IF(ESTUDIANTES!G87=0,\"\",ESTUDIANTES!G87)","v":""}]
[35,{"$f":"IF(ESTUDIANTES!G88=0,\"\",ESTUDIANTES!G88)","v":""}]
[36,{"$f":"IF(ESTUDIANTES!G89=0,\"\",ESTUDIANTES!G89)","v":""}]
[37,{"$f":"IF(ESTUDIANTES!G90=0,\"\",ESTUDIANTES!G90)","v":""}]
[38,{"$f":"IF(ESTUDIANTES!G91=0,\"\",ESTUDIANTES!G91)","v":""}]
[39,{"$f":"IF(ESTUDIANTES!G92=0,\"\",ESTUDIANTES!G92)","v":""}]
[40,{"$f":"IF(ESTUDIANTES!G93=0,\"\",ESTUDIANTES!G93)","v":""}]
[41,{"$f":"IF(ESTUDIANTES!G94=0,\"\",ESTUDIANTES!G94)","v":""}]
[42,{"$f":"IF(ESTUDIANTES!G95=0,\"\",ESTUDIANTES!G95)","v":""}]
[43,{"$f":"IF(ESTUDIANTES!G96=0,\"\",ESTUDIANTES!G96)","v":""}]
[44,{"$f":"IF(ESTUDIANTES!G97=0,\"\",ESTUDIANTES!G97)","v":""}]
[45,{"$f":"IF(ESTUDIANTES!G98=0,\"\",ESTUDIANTES!G98)","v":""}]
[46,{"$f":"IF(ESTUDIANTES!G99=0,\"\",ESTUDIANTES!G99)","v":""}]
[47,{"$f":"IF(ESTUDIANTES!G100=0,\"\",ESTUDIANTES!G100)","v":""}]
[48,{"$f":"IF(ESTUDIANTES!G101=0,\"\",ESTUDIANTES!G101)","v":""}]
[49,{"$f":"IF(ESTUDIANTES!G102=0,\"\",ESTUDIANTES!G102)","v":""}]
[50,{"$f":"IF(ESTUDIANTES!G103=0,\"\",ESTUDIANTES!G103)","v":""}]
[]
[{"$f":"DATOS!$B$3","v":"COLEGIO BACHILLERATO PCEI \"SIN FRONTERAS\""}]
[]
[null,"GRADO/CURSO:",{"$f":"DATOS!$E5","v":"Décimo Año"}]
[null,"NIVEL:",{"$f":"DATOS!$F5","v":"EGB"}]
[null,"PARALELO:",{"$f":"DATOS!$G5","v":0}]
[null,"TUTOR:",{"$f":"DATOS!$H5","v":"DOCENTE "}]
[]
["Nro","NOMBRES Y APELLIDOS","OBSERVACIONES"]
[1,{"$f":"IF(ESTUDIANTES!G104=0,\"\",ESTUDIANTES!G104)","v":""}]
[2,{"$f":"IF(ESTUDIANTES!G105=0,\"\",ESTUDIANTES!G105)","v":""}]
[3,{"$f":"IF(ESTUDIANTES!G106=0,\"\",ESTUDIANTES!G106)","v":""}]
[4,{"$f":"IF(ESTUDIANTES!G107=0,\"\",ESTUDIANTES!G107)","v":""}]
[5,{"$f":"IF(ESTUDIANTES!G108=0,\"\",ESTUDIANTES!G108)","v":""}]
[6,{"$f":"IF(ESTUDIANTES!G109=0,\"\",ESTUDIANTES!G109)","v":""}]
[7,{"$f":"IF(ESTUDIANTES!G110=0,\"\",ESTUDIANTES!G110)","v":""}]
[8,{"$f":"IF(ESTUDIANTES!G111=0,\"\",ESTUDIANTES!G111)","v":""}]
[9,{"$f":"IF(ESTUDIANTES!G112=0,\"\",ESTUDIANTES!G112)","v":""}]
[10,{"$f":"IF(ESTUDIANTES!G113=0,\"\",ESTUDIANTES!G113)","v":""}]
[11,{"$f":"IF(ESTUDIANTES!G114=0,\"\",ESTUDIANTES!G114)","v":""}]
[12,{"$f":"IF(ESTUDIANTES!G115=0,\"\",ESTUDIANTES!G115)","v":""}]
[13,{"$f":"IF(ESTUDIANTES!G116=0,\"\",ESTUDIANTES!G116)","v":""}]
[14,{"$f":"IF(ESTUDIANTES!G117=0,\"\",ESTUDIANTES!G117)","v":""}]
[15,{"$f":"IF(ESTUDIANTES!G118=0,\"\",ESTUDIANTES!G118)","v":""}]
[16,{"$f":"IF(ESTUDIANTES!G119=0,\"\",ESTUDIANTES!G119)","v":""}]
[17,{"$f":"IF(ESTUDIANTES!G120=0,\"\",ESTUDIANTES!G120)","v":""}]
[18,{"$f":"IF(ESTUDIANTES!G121=0,\"\",ESTUDIANTES!G121)","v":""}]
[19,{"$f":"IF(ESTUDIANTES!G122=0,\"\",ESTUDIANTES!G122)","v":""}]
[20,{"$f":"IF(ESTUDIANTES!G123=0,\"\",ESTUDIANTES!G123)","v":""}]
[21,{"$f":"IF(ESTUDIANTES!G124=0,\"\",ESTUDIANTES!G124)","v":""}]
[22,{"$f":"IF(ESTUDIANTES!G125=0,\"\",ESTUDIANTES!G125)","v":""}]
[23,{"$f":"IF(ESTUDIANTES!G126=0,\"\",ESTUDIANTES!G126)","v":""}]
[24,{"$f":"IF(ESTUDIANTES!G127=0,\"\",ESTUDIANTES!G127)","v":""}]
[25,{"$f":"IF(ESTUDIANTES!G128=0,\"\",ESTUDIANTES!G128)","v":""}]
[26,{"$f":"IF(ESTUDIANTES!G129=0,\"\",ESTUDIANTES!G129)","v":""}]
[27,{"$f":"IF(ESTUDIANTES!G130=0,\"\",ESTUDIANTES!G130)","v":""}]
[28,{"$f":"IF(ESTUDIANTES!G131=0,\"\",ESTUDIANTES!G131)","v":""}]
[29,{"$f":"IF(ESTUDIANTES!G132=0,\"\",ESTUDIANTES!G132)","v":""}]
[30,{"$f":"IF(ESTUDIANTES!G133=0,\"\",ESTUDIANTES!G133)","v":""}]
[31,{"$f":"IF(ESTUDIANTES!G134=0,\"\",ESTUDIANTES!G134)","v":""}]
[32,{"$f":"IF(ESTUDIANTES!G135=0,\"\",ESTUDIANTES!G135)","v":""}]
[33,{"$f":"IF(ESTUDIANTES!G136=0,\"\",ESTUDIANTES!G136)","v":""}]
[34,{"$f":"IF(ESTUDIANTES!G137=0,\"\",ESTUDIANTES!G137)","v":""}]
[35,{"$f":"IF(ESTUDIANTES!G138=0,\"\",ESTUDIANTES!G138)","v":""}]
[36,{"$f":"IF(ESTUDIANTES!G139=0,\"\",ESTUDIANTES!G139)","v":""}]
[37,{"$f":"IF(ESTUDIANTES!G140=0,\"\",ESTUDIANTES!G140)","v":""}]
[38,{"$f":"IF(ESTUDIANTES!G141=0,\"\",ESTUDIANTES!G141)","v":""}]
[39,{"$f":"IF(ESTUDIANTES!G142=0,\"\",ESTUDIANTES!G142)","v":""}]
[40,{"$f":"IF(ESTUDIANTES!G143=0,\"\",ESTUDIANTES!G143)","v":""}]
[41,{"$f":"IF(ESTUDIANTES!G144=0,\"\",ESTUDIANTES!G144)","v":""}]
[42,{"$f":"IF(ESTUDIANTES!G145=0,\"\",ESTUDIANTES!G145)","v":""}]
[43,{"$f":"IF(ESTUDIANTES!G146=0,\"\",ESTUDIANTES!G146)","v":""}]
[44,{"$f":"IF(ESTUDIANTES!G147=0,\"\",ESTUDIANTES!G147)","v":""}]
[45,{"$f":"IF(ESTUDIANTES!G148=0,\"\",ESTUDIANTES!G148)","v":""}]
[46,{"$f":"IF(ESTUDIANTES!G149=0,\"\",ESTUDIANTES!G149)","v":""}]
[47,{"$f":"IF(ESTUDIANTES!G150=0,\"\",ESTUDIANTES!G150)","v":""}]
[48,{"$f":"IF(ESTUDIANTES!G151=0,\"\",ESTUDIANTES!G151)","v":""}]
[49,{"$f":"IF(ESTUDIANTES!G152=0,\"\",ESTUDIANTES!G152)","v":""}]
[50,{"$f":"IF(ESTUDIANTES!G153=0,\"\",ESTUDIANTES!G153)","v":""}]
[]
[{"$f":"DATOS!$B$3","v":"COLEGIO BACHILLERATO PCEI \"SIN FRONTERAS\""}]
[]
[null,"GRADO/CURSO:",{"$f":"DATOS!$E6","v":"Primer Año"}]
[null,"NIVEL:",{"$f":"DATOS!$F6","v":"BGU"}]
[null,"PARALELO:",{"$f":"DATOS!$G6","v":0}]
[null,"TUTOR:",{"$f":"DATOS!$H6","v":"DOCENTE "}]
[]
["Nro","NOMBRES Y APELLIDOS","OBSERVACIONES"]
[1,{"$f":"IF(ESTUDIANTES!G154=0,\"\",ESTUDIANTES!G154)","v":""}]
[2,{"$f":"IF(ESTUDIANTES!G155=0,\"\",ESTUDIANTES!G155)","v":""}]
[3,{"$f":"IF(ESTUDIANTES!G156=0,\"\",ESTUDIANTES!G156)","v":""}]
[4,{"$f":"IF(ESTUDIANTES!G157=0,\"\",ESTUDIANTES!G157)","v":""}]
[5,{"$f":"IF(ESTUDIANTES!G158=0,\"\",ESTUDIANTES!G158)","v":""}]
[6,{"$f":"IF(ESTUDIANTES!G159=0,\"\",ESTUDIANTES!G159)","v":""}]
[7,{"$f":"IF(ESTUDIANTES!G160=0,\"\",ESTUDIANTES!G160)","v":""}]
[8,{"$f":"IF(ESTUDIANTES!G161=0,\"\",ESTUDIANTES!G161)","v":""}]
[9,{"$f":"IF(ESTUDIANTES!G162=0,\"\",ESTUDIANTES!G162)","v":""}]
[10,{"$f":"IF(ESTUDIANTES!G163=0,\"\",ESTUDIANTES!G163)","v":""}]
[11,{"$f":"IF(ESTUDIANTES!G164=0,\"\",ESTUDIANTES!G164)","v":""}]
[12,{"$f":"IF(ESTUDIANTES!G165=0,\"\",ESTUDIANTES!G165)","v":""}]
[13,{"$f":"IF(ESTUDIANTES!G166=0,\"\",ESTUDIANTES!G166)","v":""}]
[14,{"$f":"IF(ESTUDIANTES!G167=0,\"\",ESTUDIANTES!G167)","v":""}]
[15,{"$f":"IF(ESTUDIANTES!G168=0,\"\",ESTUDIANTES!G168)","v":""}]
[16,{"$f":"IF(ESTUDIANTES!G169=0,\"\",ESTUDIANTES!G169)","v":""}]
[17,{"$f":"IF(ESTUDIANTES!G170=0,\"\",ESTUDIANTES!G170)","v":""}]
[18,{"$f":"IF(ESTUDIANTES!G171=0,\"\",ESTUDIANTES!G171)","v":""}]
[19,{"$f":"IF(ESTUDIANTES!G172=0,\"\",ESTUDIANTES!G172)","v":""}]
[20,{"$f":"IF(ESTUDIANTES!G173=0,\"\",ESTUDIANTES!G173)","v":""}]
[21,{"$f":"IF(ESTUDIANTES!G174=0,\"\",ESTUDIANTES!G174)","v":""}]
[22,{"$f":"IF(ESTUDIANTES!G175=0,\"\",ESTUDIANTES!G175)","v":""}]
[23,{"$f":"IF(ESTUDIANTES!G176=0,\"\",ESTUDIANTES!G176)","v":""}]
[24,{"$f":"IF(ESTUDIANTES!G177=0,\"\",ESTUDIANTES!G177)","v":""}]
[25,{"$f":"IF(ESTUDIANTES!G178=0,\"\",ESTUDIANTES!G178)","v":""}]
[26,{"$f":"IF(ESTUDIANTES!G179=0,\"\",ESTUDIANTES!G179)","v":""}]
[27,{"$f":"IF(ESTUDIANTES!G180=0,\"\",ESTUDIANTES!G180)","v":""}]
[28,{"$f":"IF(ESTUDIANTES!G181=0,\"\",ESTUDIANTES!G181)","v":""}]
[29,{"$f":"IF(ESTUDIANTES!G182=0,\"\",ESTUDIANTES!G182)","v":""}]
[30,{"$f":"IF(ESTUDIANTES!G183=0,\"\",ESTUDIANTES!G183)","v":""}]
[31,{"$f":"IF(ESTUDIANTES!G184=0,\"\",ESTUDIANTES!G184)","v":""}]
[32,{"$f":"IF(ESTUDIANTES!G185=0,\"\",ESTUDIANTES!G185)","v":""}]
[33,{"$f":"IF(ESTUDIANTES!G186=0,\"\",ESTUDIANTES!G186)","v":""}]
[34,{"$f":"IF(ESTUDIANTES!G187=0,\"\",ESTUDIANTES!G187)","v":""}]
[35,{"$f":"IF(ESTUDIANTES!G188=0,\"\",ESTUDIANTES!G188)","v":""}]
[36,{"$f":"IF(ESTUDIANTES!G189=0,\"\",ESTUDIANTES!G189)","v":""}]
[37,{"$f":"IF(ESTUDIANTES!G190=0,\"\",ESTUDIANTES!G190)","v":""}]
[38,{"$f":"IF(ESTUDIANTES!G191=0,\"\",ESTUDIANTES!G191)","v":""}]
[39,{"$f":"IF(ESTUDIANTES!G192=0,\"\",ESTUDIANTES!G192)","v":""}]
[40,{"$f":"IF(ESTUDIANTES!G193=0,\"\",ESTUDIANTES!G193)","v":""}]
[41,{"$f":"IF(ESTUDIANTES!G194=0,\"\",ESTUDIANTES!G194)","v":""}]
[42,{"$f":"IF(ESTUDIANTES!G195=0,\"\",ESTUDIANTES!G195)","v":""}]
[43,{"$f":"IF(ESTUDIANTES!G196=0,\"\",ESTUDIANTES!G196)","v":""}]
[44,{"$f":"IF(ESTUDIANTES!G197=0,\"\",ESTUDIANTES!G197)","v":""}]
[45,{"$f":"IF(ESTUDIANTES!G198=0,\"\",ESTUDIANTES!G198)","v":""}]
[46,{"$f":"IF(ESTUDIANTES!G199=0,\"\",ESTUDIANTES!G199)","v":""}]
[47,{"$f":"IF(ESTUDIANTES!G200=0,\"\",ESTUDIANTES!G200)","v":""}]
[48,{"$f":"IF(ESTUDIANTES!G201=0,\"\",ESTUDIANTES!G201)","v":""}]
[49,{"$f":"IF(ESTUDIANTES!G202=0,\"\",ESTUDIANTES!G202)","v":""}]
[50,{"$f":"IF(ESTUDIANTES!G203=0,\"\",ESTUDIANTES!G203)","v":""}]
[]
[{"$f":"DATOS!$B$3","v":"COLEGIO BACHILLERATO PCEI \"SIN FRONTERAS\""}]
[]
[null,"GRADO/CURSO:",{"$f":"DATOS!$E7","v":"Segundo Año"}]
[null,"NIVEL:",{"$f":"DATOS!$F7","v":"BGU"}]
[null,"PARALELO:",{"$f":"DATOS!$G7","v":0}]
[null,"TUTOR:",{"$f":"DATOS!$H7","v":"DOCENTE "}]
[]
["Nro","NOMBRES Y APELLIDOS","OBSERVACIONES"]
[1,{"$f":"IF(ESTUDIANTES!G204=0,\"\",ESTUDIANTES!G204)","v":""}]
[2,{"$f":"IF(ESTUDIANTES!G205=0,\"\",ESTUDIANTES!G205)","v":""}]
[3,{"$f":"IF(ESTUDIANTES!G206=0,\"\",ESTUDIANTES!G206)","v":""}]
[4,{"$f":"IF(ESTUDIANTES!G207=0,\"\",ESTUDIANTES!G207)","v":""}]
[5,{"$f":"IF(ESTUDIANTES!G208=0,\"\",ESTUDIANTES!G208)","v":""}]
[6,{"$f":"IF(ESTUDIANTES!G209=0,\"\",ESTUDIANTES!G209)","v":""}]
[7,{"$f":"IF(ESTUDIANTES!G210=0,\"\",ESTUDIANTES!G210)","v":""}]
[8,{"$f":"IF(ESTUDIANTES!G211=0,\"\",ESTUDIANTES!G211)","v":""}]
[9,{"$f":"IF(ESTUDIANTES!G212=0,\"\",ESTUDIANTES!G212)","v":""}]
[10,{"$f":"IF(ESTUDIANTES!G213=0,\"\",ESTUDIANTES!G213)","v":""}]
[11,{"$f":"IF(ESTUDIANTES!G214=0,\"\",ESTUDIANTES!G214)","v":""}]
[12,{"$f":"IF(ESTUDIANTES!G215=0,\"\",ESTUDIANTES!G215)","v":""}]
[13,{"$f":"IF(ESTUDIANTES!G216=0,\"\",ESTUDIANTES!G216)","v":""}]
[14,{"$f":"IF(ESTUDIANTES!G217=0,\"\",ESTUDIANTES!G217)","v":""}]
[15,{"$f":"IF(ESTUDIANTES!G218=0,\"\",ESTUDIANTES!G218)","v":""}]
[16,{"$f":"IF(ESTUDIANTES!G219=0,\"\",ESTUDIANTES!G219)","v":""}]
[17,{"$f":"IF(ESTUDIANTES!G220=0,\"\",ESTUDIANTES!G220)","v":""}]
[18,{"$f":"IF(ESTUDIANTES!G221=0,\"\",ESTUDIANTES!G221)","v":""}]
[19,{"$f":"IF(ESTUDIANTES!G222=0,\"\",ESTUDIANTES!G222)","v":""}]
[20,{"$f":"IF(ESTUDIANTES!G223=0,\"\",ESTUDIANTES!G223)","v":""}]
[21,{"$f":"IF(ESTUDIANTES!G224=0,\"\",ESTUDIANTES!G224)","v":""}]
[22,{"$f":"IF(ESTUDIANTES!G225=0,\"\",ESTUDIANTES!G225)","v":""}]
[23,{"$f":"IF(ESTUDIANTES!G226=0,\"\",ESTUDIANTES!G226)","v":""}]
[24,{"$f":"IF(ESTUDIANTES!G227=0,\"\",ESTUDIANTES!G227)","v":""}]
[25,{"$f":"IF(ESTUDIANTES!G228=0,\"\",ESTUDIANTES!G228)","v":""}]
[26,{"$f":"IF(ESTUDIANTES!G229=0,\"\",ESTUDIANTES!G229)","v":""}]
[27,{"$f":"IF(ESTUDIANTES!G230=0,\"\",ESTUDIANTES!G230)","v":""}]
[28,{"$f":"IF(ESTUDIANTES!G231=0,\"\",ESTUDIANTES!G231)","v":""}]
[29,{"$f":"IF(ESTUDIANTES!G232=0,\"\",ESTUDIANTES!G232)","v":""}]
[30,{"$f":"IF(ESTUDIANTES!G233=0,\"\",ESTUDIANTES!G233)","v":""}]
[31,{"$f":"IF(ESTUDIANTES!G234=0,\"\",ESTUDIANTES!G234)","v":""}]
[32,{"$f":"IF(ESTUDIANTES!G235=0,\"\",ESTUDIANTES!G235)","v":""}]
[33,{"$f":"IF(ESTUDIANTES!G236=0,\"\",ESTUDIANTES!G236)","v":""}]
[34,{"$f":"IF(ESTUDIANTES!G237=0,\"\",ESTUDIANTES!G237)","v":""}]
[35,{"$f":"IF(ESTUDIANTES!G238=0,\"\",ESTUDIANTES!G238)","v":""}]
[36,{"$f":"IF(ESTUDIANTES!G239=0,\"\",ESTUDIANTES!G239)","v":""}]
[37,{"$f":"IF(ESTUDIANTES!G240=0,\"\",ESTUDIANTES!G240)","v":""}]
[38,{"$f":"IF(ESTUDIANTES!G241=0,\"\",ESTUDIANTES!G241)","v":""}]
[39,{"$f":"IF(ESTUDIANTES!G242=0,\"\",ESTUDIANTES!G242)","v":""}]
[40,{"$f":"IF(ESTUDIANTES!G243=0,\"\",ESTUDIANTES!G243)","v":""}]
[41,{"$f":"IF(ESTUDIANTES!G244=0,\"\",ESTUDIANTES!G244)","v":""}]
[42,{"$f":"IF(ESTUDIANTES!G245=0,\"\",ESTUDIANTES!G245)","v":""}]
[43,{"$f":"IF(ESTUDIANTES!G246=0,\"\",ESTUDIANTES!G246)","v":""}]
[44,{"$f":"IF(ESTUDIANTES!G247=0,\"\",ESTUDIANTES!G247)","v":""}]
[45,{"$f":"IF(ESTUDIANTES!G248=0,\"\",ESTUDIANTES!G248)","v":""}]
[46,{"$f":"IF(ESTUDIANTES!G249=0,\"\",ESTUDIANTES!G249)","v":""}]
[47,{"$f":"IF(ESTUDIANTES!G250=0,\"\",ESTUDIANTES!G250)","v":""}]
[48,{"$f":"IF(ESTUDIANTES!G251=0,\"\",ESTUDIANTES!G251)","v":""}]
[49,{"$f":"IF(ESTUDIANTES!G252=0,\"\",ESTUDIANTES!G252)","v":""}]
[50,{"$f":"IF(ESTUDIANTES!G253=0,\"\",ESTUDIANTES!G253)","v":""}]
[]
[{"$f":"DATOS!$B$3","v":"COLEGIO BACHILLERATO PCEI \"SIN FRONTERAS\""}]
[]
[null,"GRADO/CURSO:",{"$f":"DATOS!$E8","v":"Tercer Año"}]
[null,"NIVEL:",{"$f":"DATOS!$F8","v":"BGU"}]
[null,"PARALELO:",{"$f":"DATOS!$G8","v":0}]
[null,"TUTOR:",{"$f":"DATOS!$H8","v":"DOCENTE "}]
[]
["Nro","NOMBRES Y APELLIDOS","OBSERVACIONES"]
[1,{"$f":"IF(ESTUDIANTES!G254=0,\"\",ESTUDIANTES!G254)","v":""}]
[2,{"$f":"IF(ESTUDIANTES!G255=0,\"\",ESTUDIANTES!G255)","v":""}]
[3,{"$f":"IF(ESTUDIANTES!G256=0,\"\",ESTUDIANTES!G256)","v":""}]
[4,{"$f":"IF(ESTUDIANTES!G257=0,\"\",ESTUDIANTES!G257)","v":""}]
[5,{"$f":"IF(ESTUDIANTES!G258=0,\"\",ESTUDIANTES!G258)","v":""}]
[6,{"$f":"IF(ESTUDIANTES!G259=0,\"\",ESTUDIANTES!G259)","v":""}]
[7,{"$f":"IF(ESTUDIANTES!G260=0,\"\",ESTUDIANTES!G260)","v":""}]
[8,{"$f":"IF(ESTUDIANTES!G261=0,\"\",ESTUDIANTES!G261)","v":""}]
[9,{"$f":"IF(ESTUDIANTES!G262=0,\"\",ESTUDIANTES!G262)","v":""}]
[10,{"$f":"IF(ESTUDIANTES!G263=0,\"\",ESTUDIANTES!G263)","v":""}]
[11,{"$f":"IF(ESTUDIANTES!G264=0,\"\",ESTUDIANTES!G264)","v":""}]
[12,{"$f":"IF(ESTUDIANTES!G265=0,\"\",ESTUDIANTES!G265)","v":""}]
[13,{"$f":"IF(ESTUDIANTES!G266=0,\"\",ESTUDIANTES!G266)","v":""}]
[14,{"$f":"IF(ESTUDIANTES!G267=0,\"\",ESTUDIANTES!G267)","v":""}]
[15,{"$f":"IF(ESTUDIANTES!G268=0,\"\",ESTUDIANTES!G268)","v":""}]
[16,{"$f":"IF(ESTUDIANTES!G269=0,\"\",ESTUDIANTES!G269)","v":""}]
[17,{"$f":"IF(ESTUDIANTES!G270=0,\"\",ESTUDIANTES!G270)","v":""}]
[18,{"$f":"IF(ESTUDIANTES!G271=0,\"\",ESTUDIANTES!G271)","v":""}]
[19,{"$f":"IF(ESTUDIANTES!G272=0,\"\",ESTUDIANTES!G272)","v":""}]
[20,{"$f":"IF(ESTUDIANTES!G273=0,\"\",ESTUDIANTES!G273)","v":""}]
[21,{"$f":"IF(ESTUDIANTES!G274=0,\"\",ESTUDIANTES!G274)","v":""}]
[22,{"$f":"IF(ESTUDIANTES!G275=0,\"\",ESTUDIANTES!G275)","v":""}]
[23,{"$f":"IF(ESTUDIANTES!G276=0,\"\",ESTUDIANTES!G276)","v":""}]
[24,{"$f":"IF(ESTUDIANTES!G277=0,\"\",ESTUDIANTES!G277)","v":""}]
[25,{"$f":"IF(ESTUDIANTES!G278=0,\"\",ESTUDIANTES!G278)","v":""}]
[26,{"$f":"IF(ESTUDIANTES!G279=0,\"\",ESTUDIANTES!G279)","v":""}]
[27,{"$f":"IF(ESTUDIANTES!G280=0,\"\",ESTUDIANTES!G280)","v":""}]
[28,{"$f":"IF(ESTUDIANTES!G281=0,\"\",ESTUDIANTES!G281)","v":""}]
[29,{"$f":"IF(ESTUDIANTES!G282=0,\"\",ESTUDIANTES!G282)","v":""}]
[30,{"$f":"IF(ESTUDIANTES!G283=0,\"\",ESTUDIANTES!G283)","v":""}]
[31,{"$f":"IF(ESTUDIANTES!G284=0,\"\",ESTUDIANTES!G284)","v":""}]
[32,{"$f":"IF(ESTUDIANTES!G285=0,\"\",ESTUDIANTES!G285)","v":""}]
[33,{"$f":"IF(ESTUDIANTES!G286=0,\"\",ESTUDIANTES!G286)","v":""}]
[34,{"$f":"IF(ESTUDIANTES!G287=0,\"\",ESTUDIANTES!G287)","v":""}]
[35,{"$f":"IF(ESTUDIANTES!G288=0,\"\",ESTUDIANTES!G288)","v":""}]
[36,{"$f":"IF(ESTUDIANTES!G289=0,\"\",ESTUDIANTES!G289)","v":""}]
[37,{"$f":"IF(ESTUDIANTES!G290=0,\"\",ESTUDIANTES!G290)","v":""}]
[38,{"$f":"IF(ESTUDIANTES!G291=0,\"\",ESTUDIANTES!G291)","v":""}]
[39,{"$f":"IF(ESTUDIANTES!G292=0,\"\",ESTUDIANTES!G292)","v":""}]
[40,{"$f":"IF(ESTUDIANTES!G293=0,\"\",ESTUDIANTES!G293)","v":""}]
[41,{"$f":"IF(ESTUDIANTES!G294=0,\"\",ESTUDIANTES!G294)","v":""}]
[42,{"$f":"IF(ESTUDIANTES!G295=0,\"\",ESTUDIANTES!G295)","v":""}]
[43,{"$f":"IF(ESTUDIANTES!G296=0,\"\",ESTUDIANTES!G296)","v":""}]
[44,{"$f":"IF(ESTUDIANTES!G297=0,\"\",ESTUDIANTES!G297)","v":""}]
[45,{"$f":"IF(ESTUDIANTES!G298=0,\"\",ESTUDIANTES!G298)","v":""}]
[46,{"$f":"IF(ESTUDIANTES!G299=0,\"\",ESTUDIANTES!G299)","v":""}]
[47,{"$f":"IF(ESTUDIANTES!G300=0,\"\",ESTUDIANTES!G300)","v":""}]
[48,{"$f":"IF(ESTUDIANTES!G301=0,\"\",ESTUDIANTES!G301)","v":""}]
[49,{"$f":"IF(ESTUDIANTES!G302=0,\"\",ESTUDIANTES!G302)","v":""}]
[50,{"$f":"IF(ESTUDIANTES!G303=0,\"\",ESTUDIANTES!G303)","v":""}]
[]
[{"$f":"DATOS!$B$3","v":"COLEGIO BACHILLERATO PCEI \"SIN FRONTERAS\""}]
[]
[null,"GRADO/CURSO:",{"$f":"DATOS!$E9","v":0}]
[null,"NIVEL:",{"$f":"DATOS!$F9","v":0}]
[null,"PARALELO:",{"$f":"DATOS!$G9","v":0}]
[null,"TUTOR:",{"$f":"DATOS!$H9","v":0}]
[]
["Nro","NOMBRES Y APELLIDOS","OBSERVACIONES"]
[1,{"$f":"IF(ESTUDIANTES!G304=0,\"\",ESTUDIANTES!G304)","v":""}]
[2,{"$f":"IF(ESTUDIANTES!G305=0,\"\",ESTUDIANTES!G305)","v":""}]
[3,{"$f":"IF(ESTUDIANTES!G306=0,\"\",ESTUDIANTES!G306)","v":""}]
[4,{"$f":"IF(ESTUDIANTES!G307=0,\"\",ESTUDIANTES!G307)","v":""}]
[5,{"$f":"IF(ESTUDIANTES!G308=0,\"\",ESTUDIANTES!G308)","v":""}]
[6,{"$f":"IF(ESTUDIANTES!G309=0,\"\",ESTUDIANTES!G309)","v":""}]
[7,{"$f":"IF(ESTUDIANTES!G310=0,\"\",ESTUDIANTES!G310)","v":""}]
[8,{"$f":"IF(ESTUDIANTES!G311=0,\"\",ESTUDIANTES!G311)","v":""}]
[9,{"$f":"IF(ESTUDIANTES!G312=0,\"\",ESTUDIANTES!G312)","v":""}]
[10,{"$f":"IF(ESTUDIANTES!G313=0,\"\",ESTUDIANTES!G313)","v":""}]
[11,{"$f":"IF(ESTUDIANTES!G314=0,\"\",ESTUDIANTES!G314)","v":""}]
[12,{"$f":"IF(ESTUDIANTES!G315=0,\"\",ESTUDIANTES!G315)","v":""}]
[13,{"$f":"IF(ESTUDIANTES!G316=0,\"\",ESTUDIANTES!G316)","v":""}]
[14,{"$f":"IF(ESTUDIANTES!G317=0,\"\",ESTUDIANTES!G317)","v":""}]
[15,{"$f":"IF(ESTUDIANTES!G318=0,\"\",ESTUDIANTES!G318)","v":""}]
[16,{"$f":"IF(ESTUDIANTES!G319=0,\"\",ESTUDIANTES!G319)","v":""}]
[17,{"$f":"IF(ESTUDIANTES!G320=0,\"\",ESTUDIANTES!G320)","v":""}]
[18,{"$f":"IF(ESTUDIANTES!G321=0,\"\",ESTUDIANTES!G321)","v":""}]
[19,{"$f":"IF(ESTUDIANTES!G322=0,\"\",ESTUDIANTES!G322)","v":""}]
[20,{"$f":"IF(ESTUDIANTES!G323=0,\"\",ESTUDIANTES!G323)","v":""}]
[21,{"$f":"IF(ESTUDIANTES!G324=0,\"\",ESTUDIANTES!G324)","v":""}]
[22,{"$f":"IF(ESTUDIANTES!G325=0,\"\",ESTUDIANTES!G325)","v":""}]
[23,{"$f":"IF(ESTUDIANTES!G326=0,\"\",ESTUDIANTES!G326)","v":""}]
[24,{"$f":"IF(ESTUDIANTES!G327=0,\"\",ESTUDIANTES!G327)","v":""}]
[25,{"$f":"IF(ESTUDIANTES!G328=0,\"\",ESTUDIANTES!G328)","v":""}]
[26,{"$f":"IF(ESTUDIANTES!G329=0,\"\",ESTUDIANTES!G329)","v":""}]
[27,{"$f":"IF(ESTUDIANTES!G330=0,\"\",ESTUDIANTES!G330)","v":""}]
[28,{"$f":"IF(ESTUDIANTES!G331=0,\"\",ESTUDIANTES!G331)","v":""}]
[29,{"$f":"IF(ESTUDIANTES!G332=0,\"\",ESTUDIANTES!G332)","v":""}]
[30,{"$f":"IF(ESTUDIANTES!G333=0,\"\",ESTUDIANTES!G333)","v":""}]
[31,{"$f":"IF(ESTUDIANTES!G334=0,\"\",ESTUDIANTES!G334)","v":""}]
[32,{"$f":"IF(ESTUDIANTES!G335=0,\"\",ESTUDIANTES!G335)","v":""}]
[33,{"$f":"IF(ESTUDIANTES!G336=0,\"\",ESTUDIANTES!G336)","v":""}]
[34,{"$f":"IF(ESTUDIANTES!G337=0,\"\",ESTUDIANTES!G337)","v":""}]
[35,{"$f":"IF(ESTUDIANTES!G338=0,\"\",ESTUDIANTES!G338)","v":""}]
[36,{"$f":"IF(ESTUDIANTES!G339=0,\"\",ESTUDIANTES!G339)","v":""}]
[37,{"$f":"IF(ESTUDIANTES!G340=0,\"\",ESTUDIANTES!G340)","v":""}]
[38,{"$f":"IF(ESTUDIANTES!G341=0,\"\",ESTUDIANTES!G341)","v":""}]
[39,{"$f":"IF(ESTUDIANTES!G342=0,\"\",ESTUDIANTES!G342)","v":""}]
[40,{"$f":"IF(ESTUDIANTES!G343=0,\"\",ESTUDIANTES!G343)","v":""}]
[41,{"$f":"IF(ESTUDIANTES!G344=0,\"\",ESTUDIANTES!G344)","v":""}]
[42,{"$f":"IF(ESTUDIANTES!G345=0,\"\",ESTUDIANTES!G345)","v":""}]
[43,{"$f":"IF(ESTUDIANTES!G346=0,\"\",ESTUDIANTES!G346)","v":""}]
[44,{"$f":"IF(ESTUDIANTES!G347=0,\"\",ESTUDIANTES!G347)","v":""}]
[45,{"$f":"IF(ESTUDIANTES!G348=0,\"\",ESTUDIANTES!G348)","v":""}]
[46,{"$f":"IF(ESTUDIANTES!G349=0,\"\",ESTUDIANTES!G349)","v":""}]
[47,{"$f":"IF(ESTUDIANTES!G350=0,\"\",ESTUDIANTES!G350)","v":""}]
[48,{"$f":"IF(ESTUDIANTES!G351=0,\"\",ESTUDIANTES!G351)","v":""}]
[49,{"$f":"IF(ESTUDIANTES!G352=0,\"\",ESTUDIANTES!G352)","v":""}]
[50,{"$f":"IF(ESTUDIANTES!G353=0,\"\",ESTUDIANTES!G353)","v":""}]
[]
[{"$f":"DATOS!$B$3","v":"COLEGIO BACHILLERATO PCEI \"SIN FRONTERAS\""}]
[]
[null,"GRADO/CURSO:",{"$f":"DATOS!$E10","v":0}]
[null,"NIVEL:",{"$f":"DATOS!$F10","v":0}]
[null,"PARALELO:",{"$f":"DATOS!$G10","v":0}]
[null,"TUTOR:",{"$f":"DATOS!$H10","v":0}]
[]
["Nro","NOMBRES Y APELLIDOS","OBSERVACIONES"]
[1,{"$f":"IF(ESTUDIANTES!G354=0,\"\",ESTUDIANTES!G354)","v":""}]
[2,{"$f":"IF(ESTUDIANTES!G355=0,\"\",ESTUDIANTES!G355)","v":""}]
[3,{"$f":"IF(ESTUDIANTES!G356=0,\"\",ESTUDIANTES!G356)","v":""}]
[4,{"$f":"IF(ESTUDIANTES!G357=0,\"\",ESTUDIANTES!G357)","v":""}]
[5,{"$f":"IF(ESTUDIANTES!G358=0,\"\",ESTUDIANTES!G358)","v":""}]
[6,{"$f":"IF(ESTUDIANTES!G359=0,\"\",ESTUDIANTES!G359)","v":""}]
[7,{"$f":"IF(ESTUDIANTES!G360=0,\"\",ESTUDIANTES!G360)","v":""}]
[8,{"$f":"IF(ESTUDIANTES!G361=0,\"\",ESTUDIANTES!G361)","v":""}]
[9,{"$f":"IF(ESTUDIANTES!G362=0,\"\",ESTUDIANTES!G362)","v":""}]
[10,{"$f":"IF(ESTUDIANTES!G363=0,\"\",ESTUDIANTES!G363)","v":""}]
[11,{"$f":"IF(ESTUDIANTES!G364=0,\"\",ESTUDIANTES!G364)","v":""}]
[12,{"$f":"IF(ESTUDIANTES!G365=0,\"\",ESTUDIANTES!G365)","v":""}]
[13,{"$f":"IF(ESTUDIANTES!G366=0,\"\",ESTUDIANTES!G366)","v":""}]
[14,{"$f":"IF(ESTUDIANTES!G367=0,\"\",ESTUDIANTES!G367)","v":""}]
[15,{"$f":"IF(ESTUDIANTES!G368=0,\"\",ESTUDIANTES!G368)","v":""}]
[16,{"$f":"IF(ESTUDIANTES!G369=0,\"\",ESTUDIANTES!G369)","v":""}]
[17,{"$f":"IF(ESTUDIANTES!G370=0,\"\",ESTUDIANTES!G370)","v":""}]
[18,{"$f":"IF(ESTUDIANTES!G371=0,\"\",ESTUDIANTES!G371)","v":""}]
[19,{"$f":"IF(ESTUDIANTES!G372=0,\"\",ESTUDIANTES!G372)","v":""}]
[20,{"$f":"IF(ESTUDIANTES!G373=0,\"\",ESTUDIANTES!G373)","v":""}]
[21,{"$f":"IF(ESTUDIANTES!G374=0,\"\",ESTUDIANTES!G374)","v":""}]
[22,{"$f":"IF(ESTUDIANTES!G375=0,\"\",ESTUDIANTES!G375)","v":""}]
[23,{"$f":"IF(ESTUDIANTES!G376=0,\"\",ESTUDIANTES!G376)","v":""}]
[24,{"$f":"IF(ESTUDIANTES!G377=0,\"\",ESTUDIANTES!G377)","v":""}]
[25,{"$f":"IF(ESTUDIANTES!G378=0,\"\",ESTUDIANTES!G378)","v":""}]
[26,{"$f":"IF(ESTUDIANTES!G379=0,\"\",ESTUDIANTES!G379)","v":""}]
[27,{"$f":"IF(ESTUDIANTES!G380=0,\"\",ESTUDIANTES!G380)","v":""}]
[28,{"$f":"IF(ESTUDIANTES!G381=0,\"\",ESTUDIANTES!G381)","v":""}]
[29,{"$f":"IF(ESTUDIANTES!G382=0,\"\",ESTUDIANTES!G382)","v":""}]
[30,{"$f":"IF(ESTUDIANTES!G383=0,\"\",ESTUDIANTES!G383)","v":""}]
[31,{"$f":"IF(ESTUDIANTES!G384=0,\"\",ESTUDIANTES!G384)","v":""}]
[32,{"$f":"IF(ESTUDIANTES!G385=0,\"\",ESTUDIANTES!G385)","v":""}]
[33,{"$f":"IF(ESTUDIANTES!G386=0,\"\",ESTUDIANTES!G386)","v":""}]
[34,{"$f":"IF(ESTUDIANTES!G387=0,\"\",ESTUDIANTES!G387)","v":""}]
[35,{"$f":"IF(ESTUDIANTES!G388=0,\"\",ESTUDIANTES!G388)","v":""}]
[36,{"$f":"IF(ESTUDIANTES!G389=0,\"\",ESTUDIANTES!G389)","v":""}]
[37,{"$f":"IF(ESTUDIANTES!G390=0,\"\",ESTUDIANTES!G390)","v":""}]
[38,{"$f":"IF(ESTUDIANTES!G391=0,\"\",ESTUDIANTES!G391)","v":""}]
[39,{"$f":"IF(ESTUDIANTES!G392=0,\"\",ESTUDIANTES!G392)","v":""}]
[40,{"$f":"IF(ESTUDIANTES!G393=0,\"\",ESTUDIANTES!G393)","v":""}]
[41,{"$f":"IF(ESTUDIANTES!G394=0,\"\",ESTUDIANTES!G394)","v":""}]
[42,{"$f":"IF(ESTUDIANTES!G395=0,\"\",ESTUDIANTES!G395)","v":""}]
[43,{"$f":"IF(ESTUDIANTES!G396=0,\"\",ESTUDIANTES!G396)","v":""}]
[44,{"$f":"IF(ESTUDIANTES!G397=0,\"\",ESTUDIANTES!G397)","v":""}]
[45,{"$f":"IF(ESTUDIANTES!G398=0,\"\",ESTUDIANTES!G398)","v":""}]
[46,{"$f":"IF(ESTUDIANTES!G399=0,\"\",ESTUDIANTES!G399)","v":""}]
[47,{"$f":"IF(ESTUDIANTES!G400=0,\"\",ESTUDIANTES!G400)","v":""}]
[48,{"$f":"IF(ESTUDIANTES!G401=0,\"\",ESTUDIANTES!G401)","v":""}]
[49,{"$f":"IF(ESTUDIANTES!G402=0,\"\",ESTUDIANTES!G402)","v":""}]
[50,{"$f":"IF(ESTUDIANTES!G403=0,\"\",ESTUDIANTES!G403)","v":""}]
[]
[{"$f":"DATOS!$B$3","v":"COLEGIO BACHILLERATO PCEI \"SIN FRONTERAS\""}]
[]
[null,"GRADO/CURSO:",{"$f":"DATOS!$E11","v":0}]
[null,"NIVEL:",{"$f":"DATOS!$F11","v":0}]
[null,"PARALELO:",{"$f":"DATOS!$G11","v":0}]
[null,"TUTOR:",{"$f":"DATOS!$H11","v":0}]
[]
["Nro","NOMBRES Y APELLIDOS","OBSERVACIONES"]
[1,{"$f":"IF(ESTUDIANTES!G404=0,\"\",ESTUDIANTES!G404)","v":""}]
[2,{"$f":"IF(ESTUDIANTES!G405=0,\"\",ESTUDIANTES!G405)","v":""}]
[3,{"$f":"IF(ESTUDIANTES!G406=0,\"\",ESTUDIANTES!G406)","v":""}]
[4,{"$f":"IF(ESTUDIANTES!G407=0,\"\",ESTUDIANTES!G407)","v":""}]
[5,{"$f":"IF(ESTUDIANTES!G408=0,\"\",ESTUDIANTES!G408)","v":""}]
[6,{"$f":"IF(ESTUDIANTES!G409=0,\"\",ESTUDIANTES!G409)","v":""}]
[7,{"$f":"IF(ESTUDIANTES!G410=0,\"\",ESTUDIANTES!G410)","v":""}]
[8,{"$f":"IF(ESTUDIANTES!G411=0,\"\",ESTUDIANTES!G411)","v":""}]
[9,{"$f":"IF(ESTUDIANTES!G412=0,\"\",ESTUDIANTES!G412)","v":""}]
[10,{"$f":"IF(ESTUDIANTES!G413=0,\"\",ESTUDIANTES!G413)","v":""}]
[11,{"$f":"IF(ESTUDIANTES!G414=0,\"\",ESTUDIANTES!G414)","v":""}]
[12,{"$f":"IF(ESTUDIANTES!G415=0,\"\",ESTUDIANTES!G415)","v":""}]
[13,{"$f":"IF(ESTUDIANTES!G416=0,\"\",ESTUDIANTES!G416)","v":""}]
[14,{"$f":"IF(ESTUDIANTES!G417=0,\"\",ESTUDIANTES!G417)","v":""}]
[15,{"$f":"IF(ESTUDIANTES!G418=0,\"\",ESTUDIANTES!G418)","v":""}]
[16,{"$f":"IF(ESTUDIANTES!G419=0,\"\",ESTUDIANTES!G419)","v":""}]
[17,{"$f":"IF(ESTUDIANTES!G420=0,\"\",ESTUDIANTES!G420)","v":""}]
[18,{"$f":"IF(ESTUDIANTES!G421=0,\"\",ESTUDIANTES!G421)","v":""}]
[19,{"$f":"IF(ESTUDIANTES!G422=0,\"\",ESTUDIANTES!G422)","v":""}]
[20,{"$f":"IF(ESTUDIANTES!G423=0,\"\",ESTUDIANTES!G423)","v":""}]
[21,{"$f":"IF(ESTUDIANTES!G424=0,\"\",ESTUDIANTES!G424)","v":""}]
[22,{"$f":"IF(ESTUDIANTES!G425=0,\"\",ESTUDIANTES!G425)","v":""}]
[23,{"$f":"IF(ESTUDIANTES!G426=0,\"\",ESTUDIANTES!G426)","v":""}]
[24,{"$f":"IF(ESTUDIANTES!G427=0,\"\",ESTUDIANTES!G427)","v":""}]
[25,{"$f":"IF(ESTUDIANTES!G428=0,\"\",ESTUDIANTES!G428)","v":""}]
[26,{"$f":"IF(ESTUDIANTES!G429=0,\"\",ESTUDIANTES!G429)","v":""}]
[27,{"$f":"IF(ESTUDIANTES!G430=0,\"\",ESTUDIANTES!G430)","v":""}]
[28,{"$f":"IF(ESTUDIANTES!G431=0,\"\",ESTUDIANTES!G431)","v":""}]
[29,{"$f":"IF(ESTUDIANTES!G432=0,\"\",ESTUDIANTES!G432)","v":""}]
[30,{"$f":"IF(ESTUDIANTES!G433=0,\"\",ESTUDIANTES!G433)","v":""}]
[31,{"$f":"IF(ESTUDIANTES!G434=0,\"\",ESTUDIANTES!G434)","v":""}]
[32,{"$f":"IF(ESTUDIANTES!G435=0,\"\",ESTUDIANTES!G435)","v":""}]
[33,{"$f":"IF(ESTUDIANTES!G436=0,\"\",ESTUDIANTES!G436)","v":""}]
[34,{"$f":"IF(ESTUDIANTES!G437=0,\"\",ESTUDIANTES!G437)","v":""}]
[35,{"$f":"IF(ESTUDIANTES!G438=0,\"\",ESTUDIANTES!G438)","v":""}]
[36,{"$f":"IF(ESTUDIANTES!G439=0,\"\",ESTUDIANTES!G439)","v":""}]
[37,{"$f":"IF(ESTUDIANTES!G440=0,\"\",ESTUDIANTES!G440)","v":""}]
[38,{"$f":"IF(ESTUDIANTES!G441=0,\"\",ESTUDIANTES!G441)","v":""}]
[39,{"$f":"IF(ESTUDIANTES!G442=0,\"\",ESTUDIANTES!G442)","v":""}]
[40,{"$f":"IF(ESTUDIANTES!G443=0,\"\",ESTUDIANTES!G443)","v":""}]
[41,{"$f":"IF(ESTUDIANTES!G444=0,\"\",ESTUDIANTES!G444)","v":""}]
[42,{"$f":"IF(ESTUDIANTES!G445=0,\"\",ESTUDIANTES!G445)","v":""}]
[43,{"$f":"IF(ESTUDIANTES!G446=0,\"\",ESTUDIANTES!G446)","v":""}]
[44,{"$f":"IF(ESTUDIANTES!G447=0,\"\",ESTUDIANTES!G447)","v":""}]
[45,{"$f":"IF(ESTUDIANTES!G448=0,\"\",ESTUDIANTES!G448)","v":""}]
[46,{"$f":"IF(ESTUDIANTES!G449=0,\"\",ESTUDIANTES!G449)","v":""}]
[47,{"$f":"IF(ESTUDIANTES!G450=0,\"\",ESTUDIANTES!G450)","v":""}]
[48,{"$f":"IF(ESTUDIANTES!G451=0,\"\",ESTUDIANTES!G451)","v":""}]
[49,{"$f":"IF(ESTUDIANTES!G452=0,\"\",ESTUDIANTES!G452)","v":""}]
[50,{"$f":"IF(ESTUDIANTES!G453=0,\"\",ESTUDIANTES!G453)","v":""}]
[]
[{"$f":"DATOS!$B$3","v":"COLEGIO BACHILLERATO PCEI \"SIN FRONTERAS\""}]
[]
[null,"GRADO/CURSO:",{"$f":"DATOS!$E12","v":0}]
[null,"NIVEL:",{"$f":"DATOS!$F12","v":0}]
[null,"PARALELO:",{"$f":"DATOS!$G12","v":0}]
[null,"TUTOR:",{"$f":"DATOS!$H12","v":0}]
[]
["Nro","NOMBRES Y APELLIDOS","OBSERVACIONES"]
[1,{"$f":"IF(ESTUDIANTES!G454=0,\"\",ESTUDIANTES!G454)","v":""}]
[2,{"$f":"IF(ESTUDIANTES!G455=0,\"\",ESTUDIANTES!G455)","v":""}]
[3,{"$f":"IF(ESTUDIANTES!G456=0,\"\",ESTUDIANTES!G456)","v":""}]
[4,{"$f":"IF(ESTUDIANTES!G457=0,\"\",ESTUDIANTES!G457)","v":""}]
[5,{"$f":"IF(ESTUDIANTES!G458=0,\"\",ESTUDIANTES!G458)","v":""}]
[6,{"$f":"IF(ESTUDIANTES!G459=0,\"\",ESTUDIANTES!G459)","v":""}]
[7,{"$f":"IF(ESTUDIANTES!G460=0,\"\",ESTUDIANTES!G460)","v":""}]
[8,{"$f":"IF(ESTUDIANTES!G461=0,\"\",ESTUDIANTES!G461)","v":""}]
[9,{"$f":"IF(ESTUDIANTES!G462=0,\"\",ESTUDIANTES!G462)","v":""}]
[10,{"$f":"IF(ESTUDIANTES!G463=0,\"\",ESTUDIANTES!G463)","v":""}]
[11,{"$f":"IF(ESTUDIANTES!G464=0,\"\",ESTUDIANTES!G464)","v":""}]
[12,{"$f":"IF(ESTUDIANTES!G465=0,\"\",ESTUDIANTES!G465)","v":""}]
[13,{"$f":"IF(ESTUDIANTES!G466=0,\"\",ESTUDIANTES!G466)","v":""}]
[14,{"$f":"IF(ESTUDIANTES!G467=0,\"\",ESTUDIANTES!G467)","v":""}]
[15,{"$f":"IF(ESTUDIANTES!G468=0,\"\",ESTUDIANTES!G468)","v":""}]
[16,{"$f":"IF(ESTUDIANTES!G469=0,\"\",ESTUDIANTES!G469)","v":""}]
[17,{"$f":"IF(ESTUDIANTES!G470=0,\"\",ESTUDIANTES!G470)","v":""}]
[18,{"$f":"IF(ESTUDIANTES!G471=0,\"\",ESTUDIANTES!G471)","v":""}]
[19,{"$f":"IF(ESTUDIANTES!G472=0,\"\",ESTUDIANTES!G472)","v":""}]
[20,{"$f":"IF(ESTUDIANTES!G473=0,\"\",ESTUDIANTES!G473)","v":""}]
[21,{"$f":"IF(ESTUDIANTES!G474=0,\"\",ESTUDIANTES!G474)","v":""}]
[22,{"$f":"IF(ESTUDIANTES!G475=0,\"\",ESTUDIANTES!G475)","v":""}]
[23,{"$f":"IF(ESTUDIANTES!G476=0,\"\",ESTUDIANTES!G476)","v":""}]
[24,{"$f":"IF(ESTUDIANTES!G477=0,\"\",ESTUDIANTES!G477)","v":""}]
[25,{"$f":"IF(ESTUDIANTES!G478=0,\"\",ESTUDIANTES!G478)","v":""}]
[26,{"$f":"IF(ESTUDIANTES!G479=0,\"\",ESTUDIANTES!G479)","v":""}]
[27,{"$f":"IF(ESTUDIANTES!G480=0,\"\",ESTUDIANTES!G480)","v":""}]
[28,{"$f":"IF(ESTUDIANTES!G481=0,\"\",ESTUDIANTES!G481)","v":""}]
[29,{"$f":"IF(ESTUDIANTES!G482=0,\"\",ESTUDIANTES!G482)","v":""}]
[30,{"$f":"IF(ESTUDIANTES!G483=0,\"\",ESTUDIANTES!G483)","v":""}]
[31,{"$f":"IF(ESTUDIANTES!G484=0,\"\",ESTUDIANTES!G484)","v":""}]
[32,{"$f":"IF(ESTUDIANTES!G485=0,\"\",ESTUDIANTES!G485)","v":""}]
[33,{"$f":"IF(ESTUDIANTES!G486=0,\"\",ESTUDIANTES!G486)","v":""}]
[34,{"$f":"IF(ESTUDIANTES!G487=0,\"\",ESTUDIANTES!G487)","v":""}]
[35,{"$f":"IF(ESTUDIANTES!G488=0,\"\",ESTUDIANTES!G488)","v":""}]
[36,{"$f":"IF(ESTUDIANTES!G489=0,\"\",ESTUDIANTES!G489)","v":""}]
[37,{"$f":"IF(ESTUDIANTES!G490=0,\"\",ESTUDIANTES!G490)","v":""}]
[38,{"$f":"IF(ESTUDIANTES!G491=0,\"\",ESTUDIANTES!G491)","v":""}]
[39,{"$f":"IF(ESTUDIANTES!G492=0,\"\",ESTUDIANTES!G492)","v":""}]
[40,{"$f":"IF(ESTUDIANTES!G493=0,\"\",ESTUDIANTES!G493)","v":""}]
[41,{"$f":"IF(ESTUDIANTES!G494=0,\"\",ESTUDIANTES!G494)","v":""}]
[42,{"$f":"IF(ESTUDIANTES!G495=0,\"\",ESTUDIANTES!G495)","v":""}]
[43,{"$f":"IF(ESTUDIANTES!G496=0,\"\",ESTUDIANTES!G496)","v":""}]
[44,{"$f":"IF(ESTUDIANTES!G497=0,\"\",ESTUDIANTES!G497)","v":""}]
[45,{"$f":"IF(ESTUDIANTES!G498=0,\"\",ESTUDIANTES!G498)","v":""}]
[46,{"$f":"IF(ESTUDIANTES!G499=0,\"\",ESTUDIANTES!G499)","v":""}]
[47,{"$f":"IF(ESTUDIANTES!G500=0,\"\",ESTUDIANTES!G500)","v":""}]
[48,{"$f":"IF(ESTUDIANTES!G501=0,\"\",ESTUDIANTES!G501)","v":""}]
[49,{"$f":"IF(ESTUDIANTES!G502=0,\"\",ESTUDIANTES!G502)","v":""}]
[50,{"$f":"IF(ESTUDIANTES!G503=0,\"\",ESTUDIANTES!G503)","v":""}]
[]
[{"$f":"DATOS!$B$3","v":"COLEGIO BACHILLERATO PCEI \"SIN FRONTERAS\""}]
[]
[null,"GRADO/CURSO:",{"$f":"DATOS!$E13","v":0}]
[null,"NIVEL:",{"$f":"DATOS!$F13","v":0}]
[null,"PARALELO:",{"$f":"DATOS!$G13","v":0}]
[null,"TUTOR:",{"$f":"DATOS!$H13","v":0}]
[]
["Nro","NOMBRES Y APELLIDOS","OBSERVACIONES"]
[1,{"$f":"IF(ESTUDIANTES!G504=0,\"\",ESTUDIANTES!G504)","v":""}]
[2,{"$f":"IF(ESTUDIANTES!G505=0,\"\",ESTUDIANTES!G505)","v":""}]
[3,{"$f":"IF(ESTUDIANTES!G506=0,\"\",ESTUDIANTES!G506)","v":""}]
[4,{"$f":"IF(ESTUDIANTES!G507=0,\"\",ESTUDIANTES!G507)","v":""}]
[5,{"$f":"IF(ESTUDIANTES!G508=0,\"\",ESTUDIANTES!G508)","v":""}]
[6,{"$f":"IF(ESTUDIANTES!G509=0,\"\",ESTUDIANTES!G509)","v":""}]
[7,{"$f":"IF(ESTUDIANTES!G510=0,\"\",ESTUDIANTES!G510)","v":""}]
[8,{"$f":"IF(ESTUDIANTES!G511=0,\"\",ESTUDIANTES!G511)","v":""}]
[9,{"$f":"IF(ESTUDIANTES!G512=0,\"\",ESTUDIANTES!G512)","v":""}]
[10,{"$f":"IF(ESTUDIANTES!G513=0,\"\",ESTUDIANTES!G513)","v":""}]
[11,{"$f":"IF(ESTUDIANTES!G514=0,\"\",ESTUDIANTES!G514)","v":""}]
[12,{"$f":"IF(ESTUDIANTES!G515=0,\"\",ESTUDIANTES!G515)","v":""}]
[13,{"$f":"IF(ESTUDIANTES!G516=0,\"\",ESTUDIANTES!G516)","v":""}]
[14,{"$f":"IF(ESTUDIANTES!G517=0,\"\",ESTUDIANTES!G517)","v":""}]
[15,{"$f":"IF(ESTUDIANTES!G518=0,\"\",ESTUDIANTES!G518)","v":""}]
[16,{"$f":"IF(ESTUDIANTES!G519=0,\"\",ESTUDIANTES!G519)","v":""}]
[17,{"$f":"IF(ESTUDIANTES!G520=0,\"\",ESTUDIANTES!G520)","v":""}]
[18,{"$f":"IF(ESTUDIANTES!G521=0,\"\",ESTUDIANTES!G521)","v":""}]
[19,{"$f":"IF(ESTUDIANTES!G522=0,\"\",ESTUDIANTES!G522)","v":""}]
[20,{"$f":"IF(ESTUDIANTES!G523=0,\"\",ESTUDIANTES!G523)","v":""}]
[21,{"$f":"IF(ESTUDIANTES!G524=0,\"\",ESTUDIANTES!G524)","v":""}]
[22,{"$f":"IF(ESTUDIANTES!G525=0,\"\",ESTUDIANTES!G525)","v":""}]
[23,{"$f":"IF(ESTUDIANTES!G526=0,\"\",ESTUDIANTES!G526)","v":""}]
[24,{"$f":"IF(ESTUDIANTES!G527=0,\"\",ESTUDIANTES!G527)","v":""}]
[25,{"$f":"IF(ESTUDIANTES!G528=0,\"\",ESTUDIANTES!G528)","v":""}]
[26,{"$f":"IF(ESTUDIANTES!G529=0,\"\",ESTUDIANTES!G529)","v":""}]
[27,{"$f":"IF(ESTUDIANTES!G530=0,\"\",ESTUDIANTES!G530)","v":""}]
[28,{"$f":"IF(ESTUDIANTES!G531=0,\"\",ESTUDIANTES!G531)","v":""}]
[29,{"$f":"IF(ESTUDIANTES!G532=0,\"\",ESTUDIANTES!G532)","v":""}]
[30,{"$f":"IF(ESTUDIANTES!G533=0,\"\",ESTUDIANTES!G533)","v":""}]
[31,{"$f":"IF(ESTUDIANTES!G534=0,\"\",ESTUDIANTES!G534)","v":""}]
[32,{"$f":"IF(ESTUDIANTES!G535=0,\"\",ESTUDIANTES!G535)","v":""}]
[33,{"$f":"IF(ESTUDIANTES!G536=0,\"\",ESTUDIANTES!G536)","v":""}]
[34,{"$f":"IF(ESTUDIANTES!G537=0,\"\",ESTUDIANTES!G537)","v":""}]
[35,{"$f":"IF(ESTUDIANTES!G538=0,\"\",ESTUDIANTES!G538)","v":""}]
[36,{"$f":"IF(ESTUDIANTES!G539=0,\"\",ESTUDIANTES!G539)","v":""}]
[37,{"$f":"IF(ESTUDIANTES!G540=0,\"\",ESTUDIANTES!G540)","v":""}]
[38,{"$f":"IF(ESTUDIANTES!G541=0,\"\",ESTUDIANTES!G541)","v":""}]
[39,{"$f":"IF(ESTUDIANTES!G542=0,\"\",ESTUDIANTES!G542)","v":""}]
[40,{"$f":"IF(ESTUDIANTES!G543=0,\"\",ESTUDIANTES!G543)","v":""}]
[41,{"$f":"IF(ESTUDIANTES!G544=0,\"\",ESTUDIANTES!G544)","v":""}]
[42,{"$f":"IF(ESTUDIANTES!G545=0,\"\",ESTUDIANTES!G545)","v":""}]
[43,{"$f":"IF(ESTUDIANTES!G546=0,\"\",ESTUDIANTES!G546)","v":""}]
[44,{"$f":"IF(ESTUDIANTES!G547=0,\"\",ESTUDIANTES!G547)","v":""}]
[45,{"$f":"IF(ESTUDIANTES!G548=0,\"\",ESTUDIANTES!G548)","v":""}]
[46,{"$f":"IF(ESTUDIANTES!G549=0,\"\",ESTUDIANTES!G549)","v":""}]
[47,{"$f":"IF(ESTUDIANTES!G550=0,\"\",ESTUDIANTES!G550)","v":""}]
[48,{"$f":"IF(ESTUDIANTES!G551=0,\"\",ESTUDIANTES!G551)","v":""}]
[49,{"$f":"IF(ESTUDIANTES!G552=0,\"\",ESTUDIANTES!G552)","v":""}]
[50,{"$f":"IF(ESTUDIANTES!G553=0,\"\",ESTUDIANTES!G553)","v":""}]
[]
[{"$f":"DATOS!$B$3","v":"COLEGIO BACHILLERATO PCEI \"SIN FRONTERAS\""}]
[]
[null,"GRADO/CURSO:",{"$f":"DATOS!$E14","v":0}]
[null,"NIVEL:",{"$f":"DATOS!$F14","v":0}]
[null,"PARALELO:",{"$f":"DATOS!$G14","v":0}]
[null,"TUTOR:",{"$f":"DATOS!$H14","v":0}]
[]
["Nro","NOMBRES Y APELLIDOS","OBSERVACIONES"]
[1,{"$f":"IF(ESTUDIANTES!G554=0,\"\",ESTUDIANTES!G554)","v":""}]
[2,{"$f":"IF(ESTUDIANTES!G555=0,\"\",ESTUDIANTES!G555)","v":""}]
[3,{"$f":"IF(ESTUDIANTES!G556=0,\"\",ESTUDIANTES!G556)","v":""}]
[4,{"$f":"IF(ESTUDIANTES!G557=0,\"\",ESTUDIANTES!G557)","v":""}]
[5,{"$f":"IF(ESTUDIANTES!G558=0,\"\",ESTUDIANTES!G558)","v":""}]
[6,{"$f":"IF(ESTUDIANTES!G559=0,\"\",ESTUDIANTES!G559)","v":""}]
[7,{"$f":"IF(ESTUDIANTES!G560=0,\"\",ESTUDIANTES!G560)","v":""}]
[8,{"$f":"IF(ESTUDIANTES!G561=0,\"\",ESTUDIANTES!G561)","v":""}]
[9,{"$f":"IF(ESTUDIANTES!G562=0,\"\",ESTUDIANTES!G562)","v":""}]
[10,{"$f":"IF(ESTUDIANTES!G563=0,\"\",ESTUDIANTES!G563)","v":""}]
[11,{"$f":"IF(ESTUDIANTES!G564=0,\"\",ESTUDIANTES!G564)","v":""}]
[12,{"$f":"IF(ESTUDIANTES!G565=0,\"\",ESTUDIANTES!G565)","v":""}]
[13,{"$f":"IF(ESTUDIANTES!G566=0,\"\",ESTUDIANTES!G566)","v":""}]
[14,{"$f":"IF(ESTUDIANTES!G567=0,\"\",ESTUDIANTES!G567)","v":""}]
[15,{"$f":"IF(ESTUDIANTES!G568=0,\"\",ESTUDIANTES!G568)","v":""}]
[16,{"$f":"IF(ESTUDIANTES!G569=0,\"\",ESTUDIANTES!G569)","v":""}]
[17,{"$f":"IF(ESTUDIANTES!G570=0,\"\",ESTUDIANTES!G570)","v":""}]
[18,{"$f":"IF(ESTUDIANTES!G571=0,\"\",ESTUDIANTES!G571)","v":""}]
[19,{"$f":"IF(ESTUDIANTES!G572=0,\"\",ESTUDIANTES!G572)","v":""}]
[20,{"$f":"IF(ESTUDIANTES!G573=0,\"\",ESTUDIANTES!G573)","v":""}]
[21,{"$f":"IF(ESTUDIANTES!G574=0,\"\",ESTUDIANTES!G574)","v":""}]
[22,{"$f":"IF(ESTUDIANTES!G575=0,\"\",ESTUDIANTES!G575)","v":""}]
[23,{"$f":"IF(ESTUDIANTES!G576=0,\"\",ESTUDIANTES!G576)","v":""}]
[24,{"$f":"IF(ESTUDIANTES!G577=0,\"\",ESTUDIANTES!G577)","v":""}]
[25,{"$f":"IF(ESTUDIANTES!G578=0,\"\",ESTUDIANTES!G578)","v":""}]
[26,{"$f":"IF(ESTUDIANTES!G579=0,\"\",ESTUDIANTES!G579)","v":""}]
[27,{"$f":"IF(ESTUDIANTES!G580=0,\"\",ESTUDIANTES!G580)","v":""}]
[28,{"$f":"IF(ESTUDIANTES!G581=0,\"\",ESTUDIANTES!G581)","v":""}]
[29,{"$f":"IF(ESTUDIANTES!G582=0,\"\",ESTUDIANTES!G582)","v":""}]
[30,{"$f":"IF(ESTUDIANTES!G583=0,\"\",ESTUDIANTES!G583)","v":""}]
[31,{"$f":"IF(ESTUDIANTES!G584=0,\"\",ESTUDIANTES!G584)","v":""}]
[32,{"$f":"IF(ESTUDIANTES!G585=0,\"\",ESTUDIANTES!G585)","v":""}]
[33,{"$f":"IF(ESTUDIANTES!G586=0,\"\",ESTUDIANTES!G586)","v":""}]
[34,{"$f":"IF(ESTUDIANTES!G587=0,\"\",ESTUDIANTES!G587)","v":""}]
[35,{"$f":"IF(ESTUDIANTES!G588=0,\"\",ESTUDIANTES!G588)","v":""}]
[36,{"$f":"IF(ESTUDIANTES!G589=0,\"\",ESTUDIANTES!G589)","v":""}]
[37,{"$f":"IF(ESTUDIANTES!G590=0,\"\",ESTUDIANTES!G590)","v":""}]
[38,{"$f":"IF(ESTUDIANTES!G591=0,\"\",ESTUDIANTES!G591)","v":""}]
[39,{"$f":"IF(ESTUDIANTES!G592=0,\"\",ESTUDIANTES!G592)","v":""}]
[40,{"$f":"IF(ESTUDIANTES!G593=0,\"\",ESTUDIANTES!G593)","v":""}]
[41,{"$f":"IF(ESTUDIANTES!G594=0,\"\",ESTUDIANTES!G594)","v":""}]
[42,{"$f":"IF(ESTUDIANTES!G595=0,\"\",ESTUDIANTES!G595)","v":""}]
[43,{"$f":"IF(ESTUDIANTES!G596=0,\"\",ESTUDIANTES!G596)","v":""}]
[44,{"$f":"IF(ESTUDIANTES!G597=0,\"\",ESTUDIANTES!G597)","v":""}]
[45,{"$f":"IF(ESTUDIANTES!G598=0,\"\",ESTUDIANTES!G598)","v":""}]
[46,{"$f":"IF(ESTUDIANTES!G599=0,\"\",ESTUDIANTES!G599)","v":""}]
[47,{"$f":"IF(ESTUDIANTES!G600=0,\"\",ESTUDIANTES!G600)","v":""}]
[48,{"$f":"IF(ESTUDIANTES!G601=0,\"\",ESTUDIANTES!G601)","v":""}]
[49,{"$f":"IF(ESTUDIANTES!G602=0,\"\",ESTUDIANTES!G602)","v":""}]
[50,{"$f":"IF(ESTUDIANTES!G603=0,\"\",ESTUDIANTES!G603)","v":""}]
[]
[{"$f":"DATOS!$B$3","v":"COLEGIO BACHILLERATO PCEI \"SIN FRONTERAS\""}]
[]
[null,"GRADO/CURSO:",{"$f":"DATOS!$E15","v":0}]
[null,"NIVEL:",{"$f":"DATOS!$F15","v":0}]
[null,"PARALELO:",{"$f":"DATOS!$G15","v":0}]
[null,"TUTOR:",{"$f":"DATOS!$H15","v":0}]
[]
["Nro","NOMBRES Y APELLIDOS","OBSERVACIONES"]
[1,{"$f":"IF(ESTUDIANTES!G604=0,\"\",ESTUDIANTES!G604)","v":""}]
[2,{"$f":"IF(ESTUDIANTES!G605=0,\"\",ESTUDIANTES!G605)","v":""}]
[3,{"$f":"IF(ESTUDIANTES!G606=0,\"\",ESTUDIANTES!G606)","v":""}]
[4,{"$f":"IF(ESTUDIANTES!G607=0,\"\",ESTUDIANTES!G607)","v":""}]
[5,{"$f":"IF(ESTUDIANTES!G608=0,\"\",ESTUDIANTES!G608)","v":""}]
[6,{"$f":"IF(ESTUDIANTES!G609=0,\"\",ESTUDIANTES!G609)","v":""}]
[7,{"$f":"IF(ESTUDIANTES!G610=0,\"\",ESTUDIANTES!G610)","v":""}]
[8,{"$f":"IF(ESTUDIANTES!G611=0,\"\",ESTUDIANTES!G611)","v":""}]
[9,{"$f":"IF(ESTUDIANTES!G612=0,\"\",ESTUDIANTES!G612)","v":""}]
[10,{"$f":"IF(ESTUDIANTES!G613=0,\"\",ESTUDIANTES!G613)","v":""}]
[11,{"$f":"IF(ESTUDIANTES!G614=0,\"\",ESTUDIANTES!G614)","v":""}]
[12,{"$f":"IF(ESTUDIANTES!G615=0,\"\",ESTUDIANTES!G615)","v":""}]
[13,{"$f":"IF(ESTUDIANTES!G616=0,\"\",ESTUDIANTES!G616)","v":""}]
[14,{"$f":"IF(ESTUDIANTES!G617=0,\"\",ESTUDIANTES!G617)","v":""}]
[15,{"$f":"IF(ESTUDIANTES!G618=0,\"\",ESTUDIANTES!G618)","v":""}]
[16,{"$f":"IF(ESTUDIANTES!G619=0,\"\",ESTUDIANTES!G619)","v":""}]
[17,{"$f":"IF(ESTUDIANTES!G620=0,\"\",ESTUDIANTES!G620)","v":""}]
[18,{"$f":"IF(ESTUDIANTES!G621=0,\"\",ESTUDIANTES!G621)","v":""}]
[19,{"$f":"IF(ESTUDIANTES!G622=0,\"\",ESTUDIANTES!G622)","v":""}]
[20,{"$f":"IF(ESTUDIANTES!G623=0,\"\",ESTUDIANTES!G623)","v":""}]
[21,{"$f":"IF(ESTUDIANTES!G624=0,\"\",ESTUDIANTES!G624)","v":""}]
[22,{"$f":"IF(ESTUDIANTES!G625=0,\"\",ESTUDIANTES!G625)","v":""}]
[23,{"$f":"IF(ESTUDIANTES!G626=0,\"\",ESTUDIANTES!G626)","v":""}]
[24,{"$f":"IF(ESTUDIANTES!G627=0,\"\",ESTUDIANTES!G627)","v":""}]
[25,{"$f":"IF(ESTUDIANTES!G628=0,\"\",ESTUDIANTES!G628)","v":""}]
[26,{"$f":"IF(ESTUDIANTES!G629=0,\"\",ESTUDIANTES!G629)","v":""}]
[27,{"$f":"IF(ESTUDIANTES!G630=0,\"\",ESTUDIANTES!G630)","v":""}]
[28,{"$f":"IF(ESTUDIANTES!G631=0,\"\",ESTUDIANTES!G631)","v":""}]
[29,{"$f":"IF(ESTUDIANTES!G632=0,\"\",ESTUDIANTES!G632)","v":""}]
[30,{"$f":"IF(ESTUDIANTES!G633=0,\"\",ESTUDIANTES!G633)","v":""}]
[31,{"$f":"IF(ESTUDIANTES!G634=0,\"\",ESTUDIANTES!G634)","v":""}]
[32,{"$f":"IF(ESTUDIANTES!G635=0,\"\",ESTUDIANTES!G635)","v":""}]
[33,{"$f":"IF(ESTUDIANTES!G636=0,\"\",ESTUDIANTES!G636)","v":""}]
[34,{"$f":"IF(ESTUDIANTES!G637=0,\"\",ESTUDIANTES!G637)","v":""}]
[35,{"$f":"IF(ESTUDIANTES!G638=0,\"\",ESTUDIANTES!G638)","v":""}]
[36,{"$f":"IF(ESTUDIANTES!G639=0,\"\",ESTUDIANTES!G639)","v":""}]
[37,{"$f":"IF(ESTUDIANTES!G640=0,\"\",ESTUDIANTES!G640)","v":""}]
[38,{"$f":"IF(ESTUDIANTES!G641=0,\"\",ESTUDIANTES!G641)","v":""}]
[39,{"$f":"IF(ESTUDIANTES!G642=0,\"\",ESTUDIANTES!G642)","v":""}]
[40,{"$f":"IF(ESTUDIANTES!G643=0,\"\",ESTUDIANTES!G643)","v":""}]
[41,{"$f":"IF(ESTUDIANTES!G644=0,\"\",ESTUDIANTES!G644)","v":""}]
[42,{"$f":"IF(ESTUDIANTES!G645=0,\"\",ESTUDIANTES!G645)","v":""}]
[43,{"$f":"IF(ESTUDIANTES!G646=0,\"\",ESTUDIANTES!G646)","v":""}]
[44,{"$f":"IF(ESTUDIANTES!G647=0,\"\",ESTUDIANTES!G647)","v":""}]
[45,{"$f":"IF(ESTUDIANTES!G648=0,\"\",ESTUDIANTES!G648)","v":""}]
[46,{"$f":"IF(ESTUDIANTES!G649=0,\"\",ESTUDIANTES!G649)","v":""}]
[47,{"$f":"IF(ESTUDIANTES!G650=0,\"\",ESTUDIANTES!G650)","v":""}]
[48,{"$f":"IF(ESTUDIANTES!G651=0,\"\",ESTUDIANTES!G651)","v":""}]
[49,{"$f":"IF(ESTUDIANTES!G652=0,\"\",ESTUDIANTES!G652)","v":""}]
[50,{"$f":"IF(ESTUDIANTES!G653=0,\"\",ESTUDIANTES!G653)","v":""}]
[]
[{"$f":"DATOS!$B$3","v":"COLEGIO BACHILLERATO PCEI \"SIN FRONTERAS\""}]
[]
[null,"GRADO/CURSO:",{"$f":"DATOS!$E16","v":0}]
[null,"NIVEL:",{"$f":"DATOS!$F16","v":0}]
[null,"PARALELO:",{"$f":"DATOS!$G16","v":0}]
[null,"TUTOR:",{"$f":"DATOS!$H16","v":0}]
[]
["Nro","NOMBRES Y APELLIDOS","OBSERVACIONES"]
[1,{"$f":"IF(ESTUDIANTES!G654=0,\"\",ESTUDIANTES!G654)","v":""}]
[2,{"$f":"IF(ESTUDIANTES!G655=0,\"\",ESTUDIANTES!G655)","v":""}]
[3,{"$f":"IF(ESTUDIANTES!G656=0,\"\",ESTUDIANTES!G656)","v":""}]
[4,{"$f":"IF(ESTUDIANTES!G657=0,\"\",ESTUDIANTES!G657)","v":""}]
[5,{"$f":"IF(ESTUDIANTES!G658=0,\"\",ESTUDIANTES!G658)","v":""}]
[6,{"$f":"IF(ESTUDIANTES!G659=0,\"\",ESTUDIANTES!G659)","v":""}]
[7,{"$f":"IF(ESTUDIANTES!G660=0,\"\",ESTUDIANTES!G660)","v":""}]
[8,{"$f":"IF(ESTUDIANTES!G661=0,\"\",ESTUDIANTES!G661)","v":""}]
[9,{"$f":"IF(ESTUDIANTES!G662=0,\"\",ESTUDIANTES!G662)","v":""}]
[10,{"$f":"IF(ESTUDIANTES!G663=0,\"\",ESTUDIANTES!G663)","v":""}]
[11,{"$f":"IF(ESTUDIANTES!G664=0,\"\",ESTUDIANTES!G664)","v":""}]
[12,{"$f":"IF(ESTUDIANTES!G665=0,\"\",ESTUDIANTES!G665)","v":""}]
[13,{"$f":"IF(ESTUDIANTES!G666=0,\"\",ESTUDIANTES!G666)","v":""}]
[14,{"$f":"IF(ESTUDIANTES!G667=0,\"\",ESTUDIANTES!G667)","v":""}]
[15,{"$f":"IF(ESTUDIANTES!G668=0,\"\",ESTUDIANTES!G668)","v":""}]
[16,{"$f":"IF(ESTUDIANTES!G669=0,\"\",ESTUDIANTES!G669)","v":""}]
[17,{"$f":"IF(ESTUDIANTES!G670=0,\"\",ESTUDIANTES!G670)","v":""}]
[18,{"$f":"IF(ESTUDIANTES!G671=0,\"\",ESTUDIANTES!G671)","v":""}]
[19,{"$f":"IF(ESTUDIANTES!G672=0,\"\",ESTUDIANTES!G672)","v":""}]
[20,{"$f":"IF(ESTUDIANTES!G673=0,\"\",ESTUDIANTES!G673)","v":""}]
[21,{"$f":"IF(ESTUDIANTES!G674=0,\"\",ESTUDIANTES!G674)","v":""}]
[22,{"$f":"IF(ESTUDIANTES!G675=0,\"\",ESTUDIANTES!G675)","v":""}]
[23,{"$f":"IF(ESTUDIANTES!G676=0,\"\",ESTUDIANTES!G676)","v":""}]
[24,{"$f":"IF(ESTUDIANTES!G677=0,\"\",ESTUDIANTES!G677)","v":""}]
[25,{"$f":"IF(ESTUDIANTES!G678=0,\"\",ESTUDIANTES!G678)","v":""}]
[26,{"$f":"IF(ESTUDIANTES!G679=0,\"\",ESTUDIANTES!G679)","v":""}]
[27,{"$f":"IF(ESTUDIANTES!G680=0,\"\",ESTUDIANTES!G680)","v":""}]
[28,{"$f":"IF(ESTUDIANTES!G681=0,\"\",ESTUDIANTES!G681)","v":""}]
[29,{"$f":"IF(ESTUDIANTES!G682=0,\"\",ESTUDIANTES!G682)","v":""}]
[30,{"$f":"IF(ESTUDIANTES!G683=0,\"\",ESTUDIANTES!G683)","v":""}]
[31,{"$f":"IF(ESTUDIANTES!G684=0,\"\",ESTUDIANTES!G684)","v":""}]
[32,{"$f":"IF(ESTUDIANTES!G685=0,\"\",ESTUDIANTES!G685)","v":""}]
[33,{"$f":"IF(ESTUDIANTES!G686=0,\"\",ESTUDIANTES!G686)","v":""}]
[34,{"$f":"IF(ESTUDIANTES!G687=0,\"\",ESTUDIANTES!G687)","v":""}]
[35,{"$f":"IF(ESTUDIANTES!G688=0,\"\",ESTUDIANTES!G688)","v":""}]
[36,{"$f":"IF(ESTUDIANTES!G689=0,\"\",ESTUDIANTES!G689)","v":""}]
[37,{"$f":"IF(ESTUDIANTES!G690=0,\"\",ESTUDIANTES!G690)","v":""}]
[38,{"$f":"IF(ESTUDIANTES!G691=0,\"\",ESTUDIANTES!G691)","v":""}]
[39,{"$f":"IF(ESTUDIANTES!G692=0,\"\",ESTUDIANTES!G692)","v":""}]
[40,{"$f":"IF(ESTUDIANTES!G693=0,\"\",ESTUDIANTES!G693)","v":""}]
[41,{"$f":"IF(ESTUDIANTES!G694=0,\"\",ESTUDIANTES!G694)","v":""}]
[42,{"$f":"IF(ESTUDIANTES!G695=0,\"\",ESTUDIANTES!G695)","v":""}]
[43,{"$f":"IF(ESTUDIANTES!G696=0,\"\",ESTUDIANTES!G696)","v":""}]
[44,{"$f":"IF(ESTUDIANTES!G697=0,\"\",ESTUDIANTES!G697)","v":""}]
[45,{"$f":"IF(ESTUDIANTES!G698=0,\"\",ESTUDIANTES!G698)","v":""}]
[46,{"$f":"IF(ESTUDIANTES!G699=0,\"\",ESTUDIANTES!G699)","v":""}]
[47,{"$f":"IF(ESTUDIANTES!G700=0,\"\",ESTUDIANTES!G700)","v":""}]
[48,{"$f":"IF(ESTUDIANTES!G701=0,\"\",ESTUDIANTES!G701)","v":""}]
[49,{"$f":"IF(ESTUDIANTES!G702=0,\"\",ESTUDIANTES!G702)","v":""}]
[50,{"$f":"IF(ESTUDIANTES!G703=0,\"\",ESTUDIANTES!G703)","v":""}]
[]
[{"$f":"DATOS!$B$3","v":"COLEGIO BACHILLERATO PCEI \"SIN FRONTERAS\""}]
[]
[null,"GRADO/CURSO:",{"$f":"DATOS!$E17","v":0}]
[null,"NIVEL:",{"$f":"DATOS!$F17","v":0}]
[null,"PARALELO:",{"$f":"DATOS!$G17","v":0}]
[null,"TUTOR:",{"$f":"DATOS!$H17","v":0}]
[]
["Nro","NOMBRES Y APELLIDOS","OBSERVACIONES"]
[1,{"$f":"IF(ESTUDIANTES!G704=0,\"\",ESTUDIANTES!G704)","v":""}]
[2,{"$f":"IF(ESTUDIANTES!G705=0,\"\",ESTUDIANTES!G705)","v":""}]
[3,{"$f":"IF(ESTUDIANTES!G706=0,\"\",ESTUDIANTES!G706)","v":""}]
[4,{"$f":"IF(ESTUDIANTES!G707=0,\"\",ESTUDIANTES!G707)","v":""}]
[5,{"$f":"IF(ESTUDIANTES!G708=0,\"\",ESTUDIANTES!G708)","v":""}]
[6,{"$f":"IF(ESTUDIANTES!G709=0,\"\",ESTUDIANTES!G709)","v":""}]
[7,{"$f":"IF(ESTUDIANTES!G710=0,\"\",ESTUDIANTES!G710)","v":""}]
[8,{"$f":"IF(ESTUDIANTES!G711=0,\"\",ESTUDIANTES!G711)","v":""}]
[9,{"$f":"IF(ESTUDIANTES!G712=0,\"\",ESTUDIANTES!G712)","v":""}]
[10,{"$f":"IF(ESTUDIANTES!G713=0,\"\",ESTUDIANTES!G713)","v":""}]
[11,{"$f":"IF(ESTUDIANTES!G714=0,\"\",ESTUDIANTES!G714)","v":""}]
[12,{"$f":"IF(ESTUDIANTES!G715=0,\"\",ESTUDIANTES!G715)","v":""}]
[13,{"$f":"IF(ESTUDIANTES!G716=0,\"\",ESTUDIANTES!G716)","v":""}]
[14,{"$f":"IF(ESTUDIANTES!G717=0,\"\",ESTUDIANTES!G717)","v":""}]
[15,{"$f":"IF(ESTUDIANTES!G718=0,\"\",ESTUDIANTES!G718)","v":""}]
[16,{"$f":"IF(ESTUDIANTES!G719=0,\"\",ESTUDIANTES!G719)","v":""}]
[17,{"$f":"IF(ESTUDIANTES!G720=0,\"\",ESTUDIANTES!G720)","v":""}]
[18,{"$f":"IF(ESTUDIANTES!G721=0,\"\",ESTUDIANTES!G721)","v":""}]
[19,{"$f":"IF(ESTUDIANTES!G722=0,\"\",ESTUDIANTES!G722)","v":""}]
[20,{"$f":"IF(ESTUDIANTES!G723=0,\"\",ESTUDIANTES!G723)","v":""}]
[21,{"$f":"IF(ESTUDIANTES!G724=0,\"\",ESTUDIANTES!G724)","v":""}]
[22,{"$f":"IF(ESTUDIANTES!G725=0,\"\",ESTUDIANTES!G725)","v":""}]
[23,{"$f":"IF(ESTUDIANTES!G726=0,\"\",ESTUDIANTES!G726)","v":""}]
[24,{"$f":"IF(ESTUDIANTES!G727=0,\"\",ESTUDIANTES!G727)","v":""}]
[25,{"$f":"IF(ESTUDIANTES!G728=0,\"\",ESTUDIANTES!G728)","v":""}]
[26,{"$f":"IF(ESTUDIANTES!G729=0,\"\",ESTUDIANTES!G729)","v":""}]
[27,{"$f":"IF(ESTUDIANTES!G730=0,\"\",ESTUDIANTES!G730)","v":""}]
[28,{"$f":"IF(ESTUDIANTES!G731=0,\"\",ESTUDIANTES!G731)","v":""}]
[29,{"$f":"IF(ESTUDIANTES!G732=0,\"\",ESTUDIANTES!G732)","v":""}]
[30,{"$f":"IF(ESTUDIANTES!G733=0,\"\",ESTUDIANTES!G733)","v":""}]
[31,{"$f":"IF(ESTUDIANTES!G734=0,\"\",ESTUDIANTES!G734)","v":""}]
[32,{"$f":"IF(ESTUDIANTES!G735=0,\"\",ESTUDIANTES!G735)","v":""}]
[33,{"$f":"IF(ESTUDIANTES!G736=0,\"\",ESTUDIANTES!G736)","v":""}]
[34,{"$f":"IF(ESTUDIANTES!G737=0,\"\",ESTUDIANTES!G737)","v":""}]
[35,{"$f":"IF(ESTUDIANTES!G738=0,\"\",ESTUDIANTES!G738)","v":""}]
[36,{"$f":"IF(ESTUDIANTES!G739=0,\"\",ESTUDIANTES!G739)","v":""}]
[37,{"$f":"IF(ESTUDIANTES!G740=0,\"\",ESTUDIANTES!G740)","v":""}]
[38,{"$f":"IF(ESTUDIANTES!G741=0,\"\",ESTUDIANTES!G741)","v":""}]
[39,{"$f":"IF(ESTUDIANTES!G742=0,\"\",ESTUDIANTES!G742)","v":""}]
[40,{"$f":"IF(ESTUDIANTES!G743=0,\"\",ESTUDIANTES!G743)","v":""}]
[41,{"$f":"IF(ESTUDIANTES!G744=0,\"\",ESTUDIANTES!G744)","v":""}]
[42,{"$f":"IF(ESTUDIANTES!G745=0,\"\",ESTUDIANTES!G745)","v":""}]
[43,{"$f":"IF(ESTUDIANTES!G746=0,\"\",ESTUDIANTES!G746)","v":""}]
[44,{"$f":"IF(ESTUDIANTES!G747=0,\"\",ESTUDIANTES!G747)","v":""}]
[45,{"$f":"IF(ESTUDIANTES!G748=0,\"\",ESTUDIANTES!G748)","v":""}]
[46,{"$f":"IF(ESTUDIANTES!G749=0,\"\",ESTUDIANTES!G749)","v":""}]
[47,{"$f":"IF(ESTUDIANTES!G750=0,\"\",ESTUDIANTES!G750)","v":""}]
[48,{"$f":"IF(ESTUDIANTES!G751=0,\"\",ESTUDIANTES!G751)","v":""}]
[49,{"$f":"IF(ESTUDIANTES!G752=0,\"\",ESTUDIANTES!G752)","v":""}]
[50,{"$f":"IF(ESTUDIANTES!G753=0,\"\",ESTUDIANTES!G753)","v":""}]
[]
[{"$f":"DATOS!$B$3","v":"COLEGIO BACHILLERATO PCEI \"SIN FRONTERAS\""}]
[]
[null,"GRADO/CURSO:",{"$f":"DATOS!$E18","v":0}]
[null,"NIVEL:",{"$f":"DATOS!$F18","v":0}]
[null,"PARALELO:",{"$f":"DATOS!$G18","v":0}]
[null,"TUTOR:",{"$f":"DATOS!$H18","v":0}]
[]
["Nro","NOMBRES Y APELLIDOS","OBSERVACIONES"]
[1,{"$f":"IF(ESTUDIANTES!G754=0,\"\",ESTUDIANTES!G754)","v":""}]
[2,{"$f":"IF(ESTUDIANTES!G755=0,\"\",ESTUDIANTES!G755)","v":""}]
[3,{"$f":"IF(ESTUDIANTES!G756=0,\"\",ESTUDIANTES!G756)","v":""}]
[4,{"$f":"IF(ESTUDIANTES!G757=0,\"\",ESTUDIANTES!G757)","v":""}]
[5,{"$f":"IF(ESTUDIANTES!G758=0,\"\",ESTUDIANTES!G758)","v":""}]
[6,{"$f":"IF(ESTUDIANTES!G759=0,\"\",ESTUDIANTES!G759)","v":""}]
[7,{"$f":"IF(ESTUDIANTES!G760=0,\"\",ESTUDIANTES!G760)","v":""}]
[8,{"$f":"IF(ESTUDIANTES!G761=0,\"\",ESTUDIANTES!G761)","v":""}]
[9,{"$f":"IF(ESTUDIANTES!G762=0,\"\",ESTUDIANTES!G762)","v":""}]
[10,{"$f":"IF(ESTUDIANTES!G763=0,\"\",ESTUDIANTES!G763)","v":""}]
[11,{"$f":"IF(ESTUDIANTES!G764=0,\"\",ESTUDIANTES!G764)","v":""}]
[12,{"$f":"IF(ESTUDIANTES!G765=0,\"\",ESTUDIANTES!G765)","v":""}]
[13,{"$f":"IF(ESTUDIANTES!G766=0,\"\",ESTUDIANTES!G766)","v":""}]
[14,{"$f":"IF(ESTUDIANTES!G767=0,\"\",ESTUDIANTES!G767)","v":""}]
[15,{"$f":"IF(ESTUDIANTES!G768=0,\"\",ESTUDIANTES!G768)","v":""}]
[16,{"$f":"IF(ESTUDIANTES!G769=0,\"\",ESTUDIANTES!G769)","v":""}]
[17,{"$f":"IF(ESTUDIANTES!G770=0,\"\",ESTUDIANTES!G770)","v":""}]
[18,{"$f":"IF(ESTUDIANTES!G771=0,\"\",ESTUDIANTES!G771)","v":""}]
[19,{"$f":"IF(ESTUDIANTES!G772=0,\"\",ESTUDIANTES!G772)","v":""}]
[20,{"$f":"IF(ESTUDIANTES!G773=0,\"\",ESTUDIANTES!G773)","v":""}]
[21,{"$f":"IF(ESTUDIANTES!G774=0,\"\",ESTUDIANTES!G774)","v":""}]
[22,{"$f":"IF(ESTUDIANTES!G775=0,\"\",ESTUDIANTES!G775)","v":""}]
[23,{"$f":"IF(ESTUDIANTES!G776=0,\"\",ESTUDIANTES!G776)","v":""}]
[24,{"$f":"IF(ESTUDIANTES!G777=0,\"\",ESTUDIANTES!G777)","v":""}]
[25,{"$f":"IF(ESTUDIANTES!G778=0,\"\",ESTUDIANTES!G778)","v":""}]
[26,{"$f":"IF(ESTUDIANTES!G779=0,\"\",ESTUDIANTES!G779)","v":""}]
[27,{"$f":"IF(ESTUDIANTES!G780=0,\"\",ESTUDIANTES!G780)","v":""}]
[28,{"$f":"IF(ESTUDIANTES!G781=0,\"\",ESTUDIANTES!G781)","v":""}]
[29,{"$f":"IF(ESTUDIANTES!G782=0,\"\",ESTUDIANTES!G782)","v":""}]
[30,{"$f":"IF(ESTUDIANTES!G783=0,\"\",ESTUDIANTES!G783)","v":""}]
[31,{"$f":"IF(ESTUDIANTES!G784=0,\"\",ESTUDIANTES!G784)","v":""}]
[32,{"$f":"IF(ESTUDIANTES!G785=0,\"\",ESTUDIANTES!G785)","v":""}]
[33,{"$f":"IF(ESTUDIANTES!G786=0,\"\",ESTUDIANTES!G786)","v":""}]
[34,{"$f":"IF(ESTUDIANTES!G787=0,\"\",ESTUDIANTES!G787)","v":""}]
[35,{"$f":"IF(ESTUDIANTES!G788=0,\"\",ESTUDIANTES!G788)","v":""}]
[36,{"$f":"IF(ESTUDIANTES!G789=0,\"\",ESTUDIANTES!G789)","v":""}]
[37,{"$f":"IF(ESTUDIANTES!G790=0,\"\",ESTUDIANTES!G790)","v":""}]
[38,{"$f":"IF(ESTUDIANTES!G791=0,\"\",ESTUDIANTES!G791)","v":""}]
[39,{"$f":"IF(ESTUDIANTES!G792=0,\"\",ESTUDIANTES!G792)","v":""}]
[40,{"$f":"IF(ESTUDIANTES!G793=0,\"\",ESTUDIANTES!G793)","v":""}]
[41,{"$f":"IF(ESTUDIANTES!G794=0,\"\",ESTUDIANTES!G794)","v":""}]
[42,{"$f":"IF(ESTUDIANTES!G795=0,\"\",ESTUDIANTES!G795)","v":""}]
[43,{"$f":"IF(ESTUDIANTES!G796=0,\"\",ESTUDIANTES!G796)","v":""}]
[44,{"$f":"IF(ESTUDIANTES!G797=0,\"\",ESTUDIANTES!G797)","v":""}]
[45,{"$f":"IF(ESTUDIANTES!G798=0,\"\",ESTUDIANTES!G798)","v":""}]
[46,{"$f":"IF(ESTUDIANTES!G799=0,\"\",ESTUDIANTES!G799)","v":""}]
[47,{"$f":"IF(ESTUDIANTES!G800=0,\"\",ESTUDIANTES!G800)","v":""}]
[48,{"$f":"IF(ESTUDIANTES!G801=0,\"\",ESTUDIANTES!G801)","v":""}]
[49,{"$f":"IF(ESTUDIANTES!G802=0,\"\",ESTUDIANTES!G802)","v":""}]
[50,{"$f":"IF(ESTUDIANTES!G803=0,\"\",ESTUDIANTES!G803)","v":""}]
[]
[{"$f":"DATOS!$B$3","v":"COLEGIO BACHILLERATO PCEI \"SIN FRONTERAS\""}]
[]
[null,"GRADO/CURSO:",{"$f":"DATOS!$E19","v":0}]
[null,"NIVEL:",{"$f":"DATOS!$F19","v":0}]
[null,"PARALELO:",{"$f":"DATOS!$G19","v":0}]
[null,"TUTOR:",{"$f":"DATOS!$H19","v":0}]
[]
["Nro","NOMBRES Y APELLIDOS","OBSERVACIONES"]
[1,{"$f":"IF(ESTUDIANTES!G804=0,\"\",ESTUDIANTES!G804)","v":""}]
[2,{"$f":"IF(ESTUDIANTES!G805=0,\"\",ESTUDIANTES!G805)","v":""}]
[3,{"$f":"IF(ESTUDIANTES!G806=0,\"\",ESTUDIANTES!G806)","v":""}]
[4,{"$f":"IF(ESTUDIANTES!G807=0,\"\",ESTUDIANTES!G807)","v":""}]
[5,{"$f":"IF(ESTUDIANTES!G808=0,\"\",ESTUDIANTES!G808)","v":""}]
[6,{"$f":"IF(ESTUDIANTES!G809=0,\"\",ESTUDIANTES!G809)","v":""}]
[7,{"$f":"IF(ESTUDIANTES!G810=0,\"\",ESTUDIANTES!G810)","v":""}]
[8,{"$f":"IF(ESTUDIANTES!G811=0,\"\",ESTUDIANTES!G811)","v":""}]
[9,{"$f":"IF(ESTUDIANTES!G812=0,\"\",ESTUDIANTES!G812)","v":""}]
[10,{"$f":"IF(ESTUDIANTES!G813=0,\"\",ESTUDIANTES!G813)","v":""}]
[11,{"$f":"IF(ESTUDIANTES!G814=0,\"\",ESTUDIANTES!G814)","v":""}]
[12,{"$f":"IF(ESTUDIANTES!G815=0,\"\",ESTUDIANTES!G815)","v":""}]
[13,{"$f":"IF(ESTUDIANTES!G816=0,\"\",ESTUDIANTES!G816)","v":""}]
[14,{"$f":"IF(ESTUDIANTES!G817=0,\"\",ESTUDIANTES!G817)","v":""}]
[15,{"$f":"IF(ESTUDIANTES!G818=0,\"\",ESTUDIANTES!G818)","v":""}]
[16,{"$f":"IF(ESTUDIANTES!G819=0,\"\",ESTUDIANTES!G819)","v":""}]
[17,{"$f":"IF(ESTUDIANTES!G820=0,\"\",ESTUDIANTES!G820)","v":""}]
[18,{"$f":"IF(ESTUDIANTES!G821=0,\"\",ESTUDIANTES!G821)","v":""}]
[19,{"$f":"IF(ESTUDIANTES!G822=0,\"\",ESTUDIANTES!G822)","v":""}]
[20,{"$f":"IF(ESTUDIANTES!G823=0,\"\",ESTUDIANTES!G823)","v":""}]
[21,{"$f":"IF(ESTUDIANTES!G824=0,\"\",ESTUDIANTES!G824)","v":""}]
[22,{"$f":"IF(ESTUDIANTES!G825=0,\"\",ESTUDIANTES!G825)","v":""}]
[23,{"$f":"IF(ESTUDIANTES!G826=0,\"\",ESTUDIANTES!G826)","v":""}]
[24,{"$f":"IF(ESTUDIANTES!G827=0,\"\",ESTUDIANTES!G827)","v":""}]
[25,{"$f":"IF(ESTUDIANTES!G828=0,\"\",ESTUDIANTES!G828)","v":""}]
[26,{"$f":"IF(ESTUDIANTES!G829=0,\"\",ESTUDIANTES!G829)","v":""}]
[27,{"$f":"IF(ESTUDIANTES!G830=0,\"\",ESTUDIANTES!G830)","v":""}]
[28,{"$f":"IF(ESTUDIANTES!G831=0,\"\",ESTUDIANTES!G831)","v":""}]
[29,{"$f":"IF(ESTUDIANTES!G832=0,\"\",ESTUDIANTES!G832)","v":""}]
[30,{"$f":"IF(ESTUDIANTES!G833=0,\"\",ESTUDIANTES!G833)","v":""}]
[31,{"$f":"IF(ESTUDIANTES!G834=0,\"\",ESTUDIANTES!G834)","v":""}]
[32,{"$f":"IF(ESTUDIANTES!G835=0,\"\",ESTUDIANTES!G835)","v":""}]
[33,{"$f":"IF(ESTUDIANTES!G836=0,\"\",ESTUDIANTES!G836)","v":""}]
[34,{"$f":"IF(ESTUDIANTES!G837=0,\"\",ESTUDIANTES!G837)","v":""}]
[35,{"$f":"IF(ESTUDIANTES!G838=0,\"\",ESTUDIANTES!G838)","v":""}]
[36,{"$f":"IF(ESTUDIANTES!G839=0,\"\",ESTUDIANTES!G839)","v":""}]
[37,{"$f":"IF(ESTUDIANTES!G840=0,\"\",ESTUDIANTES!G840)","v":""}]
[38,{"$f":"IF(ESTUDIANTES!G841=0,\"\",ESTUDIANTES!G841)","v":""}]
[39,{"$f":"IF(ESTUDIANTES!G842=0,\"\",ESTUDIANTES!G842)","v":""}]
[40,{"$f":"IF(ESTUDIANTES!G843=0,\"\",ESTUDIANTES!G843)","v":""}]
[41,{"$f":"IF(ESTUDIANTES!G844=0,\"\",ESTUDIANTES!G844)","v":""}]
[42,{"$f":"IF(ESTUDIANTES!G845=0,\"\",ESTUDIANTES!G845)","v":""}]
[43,{"$f":"IF(ESTUDIANTES!G846=0,\"\",ESTUDIANTES!G846)","v":""}]
[44,{"$f":"IF(ESTUDIANTES!G847=0,\"\",ESTUDIANTES!G847)","v":""}]
[45,{"$f":"IF(ESTUDIANTES!G848=0,\"\",ESTUDIANTES!G848)","v":""}]
[46,{"$f":"IF(ESTUDIANTES!G849=0,\"\",ESTUDIANTES!G849)","v":""}]
[47,{"$f":"IF(ESTUDIANTES!G850=0,\"\",ESTUDIANTES!G850)","v":""}]
[48,{"$f":"IF(ESTUDIANTES!G851=0,\"\",ESTUDIANTES!G851)","v":""}]
[49,{"$f":"IF(ESTUDIANTES!G852=0,\"\",ESTUDIANTES!G852)","v":""}]
[50,{"$f":"IF(ESTUDIANTES!G853=0,\"\",ESTUDIANTES!G853)","v":""}]
[]
[{"$f":"DATOS!$B$3","v":"COLEGIO BACHILLERATO PCEI \"SIN FRONTERAS\""}]
[]
[null,"GRADO/CURSO:",{"$f":"DATOS!$E20","v":0}]
[null,"NIVEL:",{"$f":"DATOS!$F20","v":0}]
[null,"PARALELO:",{"$f":"DATOS!$G20","v":0}]
[null,"TUTOR:",{"$f":"DATOS!$H20","v":0}]
[]
["Nro","NOMBRES Y APELLIDOS","OBSERVACIONES"]
[1,{"$f":"IF(ESTUDIANTES!G854=0,\"\",ESTUDIANTES!G854)","v":""}]
[2,{"$f":"IF(ESTUDIANTES!G855=0,\"\",ESTUDIANTES!G855)","v":""}]
[3,{"$f":"IF(ESTUDIANTES!G856=0,\"\",ESTUDIANTES!G856)","v":""}]
[4,{"$f":"IF(ESTUDIANTES!G857=0,\"\",ESTUDIANTES!G857)","v":""}]
[5,{"$f":"IF(ESTUDIANTES!G858=0,\"\",ESTUDIANTES!G858)","v":""}]
[6,{"$f":"IF(ESTUDIANTES!G859=0,\"\",ESTUDIANTES!G859)","v":""}]
[7,{"$f":"IF(ESTUDIANTES!G860=0,\"\",ESTUDIANTES!G860)","v":""}]
[8,{"$f":"IF(ESTUDIANTES!G861=0,\"\",ESTUDIANTES!G861)","v":""}]
[9,{"$f":"IF(ESTUDIANTES!G862=0,\"\",ESTUDIANTES!G862)","v":""}]
[10,{"$f":"IF(ESTUDIANTES!G863=0,\"\",ESTUDIANTES!G863)","v":""}]
[11,{"$f":"IF(ESTUDIANTES!G864=0,\"\",ESTUDIANTES!G864)","v":""}]
[12,{"$f":"IF(ESTUDIANTES!G865=0,\"\",ESTUDIANTES!G865)","v":""}]
[13,{"$f":"IF(ESTUDIANTES!G866=0,\"\",ESTUDIANTES!G866)","v":""}]
[14,{"$f":"IF(ESTUDIANTES!G867=0,\"\",ESTUDIANTES!G867)","v":""}]
[15,{"$f":"IF(ESTUDIANTES!G868=0,\"\",ESTUDIANTES!G868)","v":""}]
[16,{"$f":"IF(ESTUDIANTES!G869=0,\"\",ESTUDIANTES!G869)","v":""}]
[17,{"$f":"IF(ESTUDIANTES!G870=0,\"\",ESTUDIANTES!G870)","v":""}]
[18,{"$f":"IF(ESTUDIANTES!G871=0,\"\",ESTUDIANTES!G871)","v":""}]
[19,{"$f":"IF(ESTUDIANTES!G872=0,\"\",ESTUDIANTES!G872)","v":""}]
[20,{"$f":"IF(ESTUDIANTES!G873=0,\"\",ESTUDIANTES!G873)","v":""}]
[21,{"$f":"IF(ESTUDIANTES!G874=0,\"\",ESTUDIANTES!G874)","v":""}]
[22,{"$f":"IF(ESTUDIANTES!G875=0,\"\",ESTUDIANTES!G875)","v":""}]
[23,{"$f":"IF(ESTUDIANTES!G876=0,\"\",ESTUDIANTES!G876)","v":""}]
[24,{"$f":"IF(ESTUDIANTES!G877=0,\"\",ESTUDIANTES!G877)","v":""}]
[25,{"$f":"IF(ESTUDIANTES!G878=0,\"\",ESTUDIANTES!G878)","v":""}]
[26,{"$f":"IF(ESTUDIANTES!G879=0,\"\",ESTUDIANTES!G879)","v":""}]
[27,{"$f":"IF(ESTUDIANTES!G880=0,\"\",ESTUDIANTES!G880)","v":""}]
[28,{"$f":"IF(ESTUDIANTES!G881=0,\"\",ESTUDIANTES!G881)","v":""}]
[29,{"$f":"IF(ESTUDIANTES!G882=0,\"\",ESTUDIANTES!G882)","v":""}]
[30,{"$f":"IF(ESTUDIANTES!G883=0,\"\",ESTUDIANTES!G883)","v":""}]
[31,{"$f":"IF(ESTUDIANTES!G884=0,\"\",ESTUDIANTES!G884)","v":""}]
[32,{"$f":"IF(ESTUDIANTES!G885=0,\"\",ESTUDIANTES!G885)","v":""}]
[33,{"$f":"IF(ESTUDIANTES!G886=0,\"\",ESTUDIANTES!G886)","v":""}]
[34,{"$f":"IF(ESTUDIANTES!G887=0,\"\",ESTUDIANTES!G887)","v":""}]
[35,{"$f":"IF(ESTUDIANTES!G888=0,\"\",ESTUDIANTES!G888)","v":""}]
[36,{"$f":"IF(ESTUDIANTES!G889=0,\"\",ESTUDIANTES!G889)","v":""}]
[37,{"$f":"IF(ESTUDIANTES!G890=0,\"\",ESTUDIANTES!G890)","v":""}]
[38,{"$f":"IF(ESTUDIANTES!G891=0,\"\",ESTUDIANTES!G891)","v":""}]
[39,{"$f":"IF(ESTUDIANTES!G892=0,\"\",ESTUDIANTES!G892)","v":""}]
[40,{"$f":"IF(ESTUDIANTES!G893=0,\"\",ESTUDIANTES!G893)","v":""}]
[41,{"$f":"IF(ESTUDIANTES!G894=0,\"\",ESTUDIANTES!G894)","v":""}]
[42,{"$f":"IF(ESTUDIANTES!G895=0,\"\",ESTUDIANTES!G895)","v":""}]
[43,{"$f":"IF(ESTUDIANTES!G896=0,\"\",ESTUDIANTES!G896)","v":""}]
[44,{"$f":"IF(ESTUDIANTES!G897=0,\"\",ESTUDIANTES!G897)","v":""}]
[45,{"$f":"IF(ESTUDIANTES!G898=0,\"\",ESTUDIANTES!G898)","v":""}]
[46,{"$f":"IF(ESTUDIANTES!G899=0,\"\",ESTUDIANTES!G899)","v":""}]
[47,{"$f":"IF(ESTUDIANTES!G900=0,\"\",ESTUDIANTES!G900)","v":""}]
[48,{"$f":"IF(ESTUDIANTES!G901=0,\"\",ESTUDIANTES!G901)","v":""}]
[49,{"$f":"IF(ESTUDIANTES!G902=0,\"\",ESTUDIANTES!G902)","v":""}]
[50,{"$f":"IF(ESTUDIANTES!G903=0,\"\",ESTUDIANTES!G903)","v":""}]
[]
[{"$f":"DATOS!$B$3","v":"COLEGIO BACHILLERATO PCEI \"SIN FRONTERAS\""}]
[]
[null,"GRADO/CURSO:",{"$f":"DATOS!$E21","v":0}]
[null,"NIVEL:",{"$f":"DATOS!$F21","v":0}]
[null,"PARALELO:",{"$f":"DATOS!$G21","v":0}]
[null,"TUTOR:",{"$f":"DATOS!$H21","v":0}]
[]
["Nro","NOMBRES Y APELLIDOS","OBSERVACIONES"]
[1,{"$f":"IF(ESTUDIANTES!G904=0,\"\",ESTUDIANTES!G904)","v":""}]
[2,{"$f":"IF(ESTUDIANTES!G905=0,\"\",ESTUDIANTES!G905)","v":""}]
[3,{"$f":"IF(ESTUDIANTES!G906=0,\"\",ESTUDIANTES!G906)","v":""}]
[4,{"$f":"IF(ESTUDIANTES!G907=0,\"\",ESTUDIANTES!G907)","v":""}]
[5,{"$f":"IF(ESTUDIANTES!G908=0,\"\",ESTUDIANTES!G908)","v":""}]
[6,{"$f":"IF(ESTUDIANTES!G909=0,\"\",ESTUDIANTES!G909)","v":""}]
[7,{"$f":"IF(ESTUDIANTES!G910=0,\"\",ESTUDIANTES!G910)","v":""}]
[8,{"$f":"IF(ESTUDIANTES!G911=0,\"\",ESTUDIANTES!G911)","v":""}]
[9,{"$f":"IF(ESTUDIANTES!G912=0,\"\",ESTUDIANTES!G912)","v":""}]
[10,{"$f":"IF(ESTUDIANTES!G913=0,\"\",ESTUDIANTES!G913)","v":""}]
[11,{"$f":"IF(ESTUDIANTES!G914=0,\"\",ESTUDIANTES!G914)","v":""}]
[12,{"$f":"IF(ESTUDIANTES!G915=0,\"\",ESTUDIANTES!G915)","v":""}]
[13,{"$f":"IF(ESTUDIANTES!G916=0,\"\",ESTUDIANTES!G916)","v":""}]
[14,{"$f":"IF(ESTUDIANTES!G917=0,\"\",ESTUDIANTES!G917)","v":""}]
[15,{"$f":"IF(ESTUDIANTES!G918=0,\"\",ESTUDIANTES!G918)","v":""}]
[16,{"$f":"IF(ESTUDIANTES!G919=0,\"\",ESTUDIANTES!G919)","v":""}]
[17,{"$f":"IF(ESTUDIANTES!G920=0,\"\",ESTUDIANTES!G920)","v":""}]
[18,{"$f":"IF(ESTUDIANTES!G921=0,\"\",ESTUDIANTES!G921)","v":""}]
[19,{"$f":"IF(ESTUDIANTES!G922=0,\"\",ESTUDIANTES!G922)","v":""}]
[20,{"$f":"IF(ESTUDIANTES!G923=0,\"\",ESTUDIANTES!G923)","v":""}]
[21,{"$f":"IF(ESTUDIANTES!G924=0,\"\",ESTUDIANTES!G924)","v":""}]
[22,{"$f":"IF(ESTUDIANTES!G925=0,\"\",ESTUDIANTES!G925)","v":""}]
[23,{"$f":"IF(ESTUDIANTES!G926=0,\"\",ESTUDIANTES!G926)","v":""}]
[24,{"$f":"IF(ESTUDIANTES!G927=0,\"\",ESTUDIANTES!G927)","v":""}]
[25,{"$f":"IF(ESTUDIANTES!G928=0,\"\",ESTUDIANTES!G928)","v":""}]
[26,{"$f":"IF(ESTUDIANTES!G929=0,\"\",ESTUDIANTES!G929)","v":""}]
[27,{"$f":"IF(ESTUDIANTES!G930=0,\"\",ESTUDIANTES!G930)","v":""}]
[28,{"$f":"IF(ESTUDIANTES!G931=0,\"\",ESTUDIANTES!G931)","v":""}]
[29,{"$f":"IF(ESTUDIANTES!G932=0,\"\",ESTUDIANTES!G932)","v":""}]
[30,{"$f":"IF(ESTUDIANTES!G933=0,\"\",ESTUDIANTES!G933)","v":""}]
[31,{"$f":"IF(ESTUDIANTES!G934=0,\"\",ESTUDIANTES!G934)","v":""}]
[32,{"$f":"IF(ESTUDIANTES!G935=0,\"\",ESTUDIANTES!G935)","v":""}]
[33,{"$f":"IF(ESTUDIANTES!G936=0,\"\",ESTUDIANTES!G936)","v":""}]
[34,{"$f":"IF(ESTUDIANTES!G937=0,\"\",ESTUDIANTES!G937)","v":""}]
[35,{"$f":"IF(ESTUDIANTES!G938=0,\"\",ESTUDIANTES!G938)","v":""}]
[36,{"$f":"IF(ESTUDIANTES!G939=0,\"\",ESTUDIANTES!G939)","v":""}]
[37,{"$f":"IF(ESTUDIANTES!G940=0,\"\",ESTUDIANTES!G940)","v":""}]
[38,{"$f":"IF(ESTUDIANTES!G941=0,\"\",ESTUDIANTES!G941)","v":""}]
[39,{"$f":"IF(ESTUDIANTES!G942=0,\"\",ESTUDIANTES!G942)","v":""}]
[40,{"$f":"IF(ESTUDIANTES!G943=0,\"\",ESTUDIANTES!G943)","v":""}]
[41,{"$f":"IF(ESTUDIANTES!G944=0,\"\",ESTUDIANTES!G944)","v":""}]
[42,{"$f":"IF(ESTUDIANTES!G945=0,\"\",ESTUDIANTES!G945)","v":""}]
[43,{"$f":"IF(ESTUDIANTES!G946=0,\"\",ESTUDIANTES!G946)","v":""}]
[44,{"$f":"IF(ESTUDIANTES!G947=0,\"\",ESTUDIANTES!G947)","v":""}]
[45,{"$f":"IF(ESTUDIANTES!G948=0,\"\",ESTUDIANTES!G948)","v":""}]
[46,{"$f":"IF(ESTUDIANTES!G949=0,\"\",ESTUDIANTES!G949)","v":""}]
[47,{"$f":"IF(ESTUDIANTES!G950=0,\"\",ESTUDIANTES!G950)","v":""}]
[48,{"$f":"IF(ESTUDIANTES!G951=0,\"\",ESTUDIANTES!G951)","v":""}]
[49,{"$f":"IF(ESTUDIANTES!G952=0,\"\",ESTUDIANTES!G952)","v":""}]
[50,{"$f":"IF(ESTUDIANTES!G953=0,\"\",ESTUDIANTES!G953)","v":""}]
[]
[{"$f":"DATOS!$B$3","v":"COLEGIO BACHILLERATO PCEI \"SIN FRONTERAS\""}]
[]
[null,"GRADO/CURSO:",{"$f":"DATOS!$E22","v":0}]
[null,"NIVEL:",{"$f":"DATOS!$F22","v":0}]
[null,"PARALELO:",{"$f":"DATOS!$G22","v":0}]
[null,"TUTOR:",{"$f":"DATOS!$H22","v":0}]
[]
["Nro","NOMBRES Y APELLIDOS","OBSERVACIONES"]
[1,{"$f":"IF(ESTUDIANTES!G954=0,\"\",ESTUDIANTES!G954)","v":""}]
[2,{"$f":"IF(ESTUDIANTES!G955=0,\"\",ESTUDIANTES!G955)","v":""}]
[3,{"$f":"IF(ESTUDIANTES!G956=0,\"\",ESTUDIANTES!G956)","v":""}]
[4,{"$f":"IF(ESTUDIANTES!G957=0,\"\",ESTUDIANTES!G957)","v":""}]
[5,{"$f":"IF(ESTUDIANTES!G958=0,\"\",ESTUDIANTES!G958)","v":""}]
[6,{"$f":"IF(ESTUDIANTES!G959=0,\"\",ESTUDIANTES!G959)","v":""}]
[7,{"$f":"IF(ESTUDIANTES!G960=0,\"\",ESTUDIANTES!G960)","v":""}]
[8,{"$f":"IF(ESTUDIANTES!G961=0,\"\",ESTUDIANTES!G961)","v":""}]
[9,{"$f":"IF(ESTUDIANTES!G962=0,\"\",ESTUDIANTES!G962)","v":""}]
[10,{"$f":"IF(ESTUDIANTES!G963=0,\"\",ESTUDIANTES!G963)","v":""}]
[11,{"$f":"IF(ESTUDIANTES!G964=0,\"\",ESTUDIANTES!G964)","v":""}]
[12,{"$f":"IF(ESTUDIANTES!G965=0,\"\",ESTUDIANTES!G965)","v":""}]
[13,{"$f":"IF(ESTUDIANTES!G966=0,\"\",ESTUDIANTES!G966)","v":""}]
[14,{"$f":"IF(ESTUDIANTES!G967=0,\"\",ESTUDIANTES!G967)","v":""}]
[15,{"$f":"IF(ESTUDIANTES!G968=0,\"\",ESTUDIANTES!G968)","v":""}]
[16,{"$f":"IF(ESTUDIANTES!G969=0,\"\",ESTUDIANTES!G969)","v":""}]
[17,{"$f":"IF(ESTUDIANTES!G970=0,\"\",ESTUDIANTES!G970)","v":""}]
[18,{"$f":"IF(ESTUDIANTES!G971=0,\"\",ESTUDIANTES!G971)","v":""}]
[19,{"$f":"IF(ESTUDIANTES!G972=0,\"\",ESTUDIANTES!G972)","v":""}]
[20,{"$f":"IF(ESTUDIANTES!G973=0,\"\",ESTUDIANTES!G973)","v":""}]
[21,{"$f":"IF(ESTUDIANTES!G974=0,\"\",ESTUDIANTES!G974)","v":""}]
[22,{"$f":"IF(ESTUDIANTES!G975=0,\"\",ESTUDIANTES!G975)","v":""}]
[23,{"$f":"IF(ESTUDIANTES!G976=0,\"\",ESTUDIANTES!G976)","v":""}]
[24,{"$f":"IF(ESTUDIANTES!G977=0,\"\",ESTUDIANTES!G977)","v":""}]
[25,{"$f":"IF(ESTUDIANTES!G978=0,\"\",ESTUDIANTES!G978)","v":""}]
[26,{"$f":"IF(ESTUDIANTES!G979=0,\"\",ESTUDIANTES!G979)","v":""}]
[27,{"$f":"IF(ESTUDIANTES!G980=0,\"\",ESTUDIANTES!G980)","v":""}]
[28,{"$f":"IF(ESTUDIANTES!G981=0,\"\",ESTUDIANTES!G981)","v":""}]
[29,{"$f":"IF(ESTUDIANTES!G982=0,\"\",ESTUDIANTES!G982)","v":""}]
[30,{"$f":"IF(ESTUDIANTES!G983=0,\"\",ESTUDIANTES!G983)","v":""}]
[31,{"$f":"IF(ESTUDIANTES!G984=0,\"\",ESTUDIANTES!G984)","v":""}]
[32,{"$f":"IF(ESTUDIANTES!G985=0,\"\",ESTUDIANTES!G985)","v":""}]
[33,{"$f":"IF(ESTUDIANTES!G986=0,\"\",ESTUDIANTES!G986)","v":""}]
[34,{"$f":"IF(ESTUDIANTES!G987=0,\"\",ESTUDIANTES!G987)","v":""}]
[35,{"$f":"IF(ESTUDIANTES!G988=0,\"\",ESTUDIANTES!G988)","v":""}]
[36,{"$f":"IF(ESTUDIANTES!G989=0,\"\",ESTUDIANTES!G989)","v":""}]
[37,{"$f":"IF(ESTUDIANTES!G990=0,\"\",ESTUDIANTES!G990)","v":""}]
[38,{"$f":"IF(ESTUDIANTES!G991=0,\"\",ESTUDIANTES!G991)","v":""}]
[39,{"$f":"IF(ESTUDIANTES!G992=0,\"\",ESTUDIANTES!G992)","v":""}]
[40,{"$f":"IF(ESTUDIANTES!G993=0,\"\",ESTUDIANTES!G993)","v":""}]
[41,{"$f":"IF(ESTUDIANTES!G994=0,\"\",ESTUDIANTES!G994)","v":""}]
[42,{"$f":"IF(ESTUDIANTES!G995=0,\"\",ESTUDIANTES!G995)","v":""}]
[43,{"$f":"IF(ESTUDIANTES!G996=0,\"\",ESTUDIANTES!G996)","v":""}]
[44,{"$f":"IF(ESTUDIANTES!G997=0,\"\",ESTUDIANTES!G997)","v":""}]
[45,{"$f":"IF(ESTUDIANTES!G998=0,\"\",ESTUDIANTES!G998)","v":""}]
[46,{"$f":"IF(ESTUDIANTES!G999=0,\"\",ESTUDIANTES!G999)","v":""}]
[47,{"$f":"IF(ESTUDIANTES!G1000=0,\"\",ESTUDIANTES!G1000)","v":""}]
[48,{"$f":"IF(ESTUDIANTES!G1001=0,\"\",ESTUDIANTES!G1001)","v":""}]
[49,{"$f":"IF(ESTUDIANTES!G1002=0,\"\",ESTUDIANTES!G1002)","v":""}]
[50,{"$f":"IF(ESTUDIANTES!G1003=0,\"\",ESTUDIANTES!G1003)","v":""}]
[]
[{"$f":"DATOS!$B$3","v":"COLEGIO BACHILLERATO PCEI \"SIN FRONTERAS\""}]
[]
[null,"GRADO/CURSO:",{"$f":"DATOS!$E23","v":0}]
[null,"NIVEL:",{"$f":"DATOS!$F23","v":0}]
[null,"PARALELO:",{"$f":"DATOS!$G23","v":0}]
[null,"TUTOR:",{"$f":"DATOS!$H23","v":0}]
[]
["Nro","NOMBRES Y APELLIDOS","OBSERVACIONES"]
[1,{"$f":"IF(ESTUDIANTES!G1004=0,\"\",ESTUDIANTES!G1004)","v":""}]
[2,{"$f":"IF(ESTUDIANTES!G1005=0,\"\",ESTUDIANTES!G1005)","v":""}]
[3,{"$f":"IF(ESTUDIANTES!G1006=0,\"\",ESTUDIANTES!G1006)","v":""}]
[4,{"$f":"IF(ESTUDIANTES!G1007=0,\"\",ESTUDIANTES!G1007)","v":""}]
[5,{"$f":"IF(ESTUDIANTES!G1008=0,\"\",ESTUDIANTES!G1008)","v":""}]
[6,{"$f":"IF(ESTUDIANTES!G1009=0,\"\",ESTUDIANTES!G1009)","v":""}]
[7,{"$f":"IF(ESTUDIANTES!G1010=0,\"\",ESTUDIANTES!G1010)","v":""}]
[8,{"$f":"IF(ESTUDIANTES!G1011=0,\"\",ESTUDIANTES!G1011)","v":""}]
[9,{"$f":"IF(ESTUDIANTES!G1012=0,\"\",ESTUDIANTES!G1012)","v":""}]
[10,{"$f":"IF(ESTUDIANTES!G1013=0,\"\",ESTUDIANTES!G1013)","v":""}]
[11,{"$f":"IF(ESTUDIANTES!G1014=0,\"\",ESTUDIANTES!G1014)","v":""}]
[12,{"$f":"IF(ESTUDIANTES!G1015=0,\"\",ESTUDIANTES!G1015)","v":""}]
[13,{"$f":"IF(ESTUDIANTES!G1016=0,\"\",ESTUDIANTES!G1016)","v":""}]
[14,{"$f":"IF(ESTUDIANTES!G1017=0,\"\",ESTUDIANTES!G1017)","v":""}]
[15,{"$f":"IF(ESTUDIANTES!G1018=0,\"\",ESTUDIANTES!G1018)","v":""}]
[16,{"$f":"IF(ESTUDIANTES!G1019=0,\"\",ESTUDIANTES!G1019)","v":""}]
[17,{"$f":"IF(ESTUDIANTES!G1020=0,\"\",ESTUDIANTES!G1020)","v":""}]
[18,{"$f":"IF(ESTUDIANTES!G1021=0,\"\",ESTUDIANTES!G1021)","v":""}]
[19,{"$f":"IF(ESTUDIANTES!G1022=0,\"\",ESTUDIANTES!G1022)","v":""}]
[20,{"$f":"IF(ESTUDIANTES!G1023=0,\"\",ESTUDIANTES!G1023)","v":""}]
[21,{"$f":"IF(ESTUDIANTES!G1024=0,\"\",ESTUDIANTES!G1024)","v":""}]
[22,{"$f":"IF(ESTUDIANTES!G1025=0,\"\",ESTUDIANTES!G1025)","v":""}]
[23,{"$f":"IF(ESTUDIANTES!G1026=0,\"\",ESTUDIANTES!G1026)","v":""}]
[24,{"$f":"IF(ESTUDIANTES!G1027=0,\"\",ESTUDIANTES!G1027)","v":""}]
[25,{"$f":"IF(ESTUDIANTES!G1028=0,\"\",ESTUDIANTES!G1028)","v":""}]
[26,{"$f":"IF(ESTUDIANTES!G1029=0,\"\",ESTUDIANTES!G1029)","v":""}]
[27,{"$f":"IF(ESTUDIANTES!G1030=0,\"\",ESTUDIANTES!G1030)","v":""}]
[28,{"$f":"IF(ESTUDIANTES!G1031=0,\"\",ESTUDIANTES!G1031)","v":""}]
[29,{"$f":"IF(ESTUDIANTES!G1032=0,\"\",ESTUDIANTES!G1032)","v":""}]
[30,{"$f":"IF(ESTUDIANTES!G1033=0,\"\",ESTUDIANTES!G1033)","v":""}]
[31,{"$f":"IF(ESTUDIANTES!G1034=0,\"\",ESTUDIANTES!G1034)","v":""}]
[32,{"$f":"IF(ESTUDIANTES!G1035=0,\"\",ESTUDIANTES!G1035)","v":""}]
[33,{"$f":"IF(ESTUDIANTES!G1036=0,\"\",ESTUDIANTES!G1036)","v":""}]
[34,{"$f":"IF(ESTUDIANTES!G1037=0,\"\",ESTUDIANTES!G1037)","v":""}]
[35,{"$f":"IF(ESTUDIANTES!G1038=0,\"\",ESTUDIANTES!G1038)","v":""}]
[36,{"$f":"IF(ESTUDIANTES!G1039=0,\"\",ESTUDIANTES!G1039)","v":""}]
[37,{"$f":"IF(ESTUDIANTES!G1040=0,\"\",ESTUDIANTES!G1040)","v":""}]
[38,{"$f":"IF(ESTUDIANTES!G1041=0,\"\",ESTUDIANTES!G1041)","v":""}]
[39,{"$f":"IF(ESTUDIANTES!G1042=0,\"\",ESTUDIANTES!G1042)","v":""}]
[40,{"$f":"IF(ESTUDIANTES!G1043=0,\"\",ESTUDIANTES!G1043)","v":""}]
[41,{"$f":"IF(ESTUDIANTES!G1044=0,\"\",ESTUDIANTES!G1044)","v":""}]
[42,{"$f":"IF(ESTUDIANTES!G1045=0,\"\",ESTUDIANTES!G1045)","v":""}]
[43,{"$f":"IF(ESTUDIANTES!G1046=0,\"\",ESTUDIANTES!G1046)","v":""}]
[44,{"$f":"IF(ESTUDIANTES!G1047=0,\"\",ESTUDIANTES!G1047)","v":""}]
[45,{"$f":"IF(ESTUDIANTES!G1048=0,\"\",ESTUDIANTES!G1048)","v":""}]
[46,{"$f":"IF(ESTUDIANTES!G1049=0,\"\",ESTUDIANTES!G1049)","v":""}]
[47,{"$f":"IF(ESTUDIANTES!G1050=0,\"\",ESTUDIANTES!G1050)","v":""}]
[48,{"$f":"IF(ESTUDIANTES!G1051=0,\"\",ESTUDIANTES!G1051)","v":""}]
[49,{"$f":"IF(ESTUDIANTES!G1052=0,\"\",ESTUDIANTES!G1052)","v":""}]
[50,{"$f":"IF(ESTUDIANTES!G1053=0,\"\",ESTUDIANTES!G1053)","v":""}]
[]
[{"$f":"DATOS!$B$3","v":"COLEGIO BACHILLERATO PCEI \"SIN FRONTERAS\""}]
[]
[null,"GRADO/CURSO:",{"$f":"DATOS!$E24","v":0}]
[null,"NIVEL:",{"$f":"DATOS!$F24","v":0}]
[null,"PARALELO:",{"$f":"DATOS!$G24","v":0}]
[null,"TUTOR:",{"$f":"DATOS!$H24","v":0}]
[]
["Nro","NOMBRES Y APELLIDOS","OBSERVACIONES"]
[1,{"$f":"IF(ESTUDIANTES!G1054=0,\"\",ESTUDIANTES!G1054)","v":""}]
[2,{"$f":"IF(ESTUDIANTES!G1055=0,\"\",ESTUDIANTES!G1055)","v":""}]
[3,{"$f":"IF(ESTUDIANTES!G1056=0,\"\",ESTUDIANTES!G1056)","v":""}]
[4,{"$f":"IF(ESTUDIANTES!G1057=0,\"\",ESTUDIANTES!G1057)","v":""}]
[5,{"$f":"IF(ESTUDIANTES!G1058=0,\"\",ESTUDIANTES!G1058)","v":""}]
[6,{"$f":"IF(ESTUDIANTES!G1059=0,\"\",ESTUDIANTES!G1059)","v":""}]
[7,{"$f":"IF(ESTUDIANTES!G1060=0,\"\",ESTUDIANTES!G1060)","v":""}]
[8,{"$f":"IF(ESTUDIANTES!G1061=0,\"\",ESTUDIANTES!G1061)","v":""}]
[9,{"$f":"IF(ESTUDIANTES!G1062=0,\"\",ESTUDIANTES!G1062)","v":""}]
[10,{"$f":"IF(ESTUDIANTES!G1063=0,\"\",ESTUDIANTES!G1063)","v":""}]
[11,{"$f":"IF(ESTUDIANTES!G1064=0,\"\",ESTUDIANTES!G1064)","v":""}]
[12,{"$f":"IF(ESTUDIANTES!G1065=0,\"\",ESTUDIANTES!G1065)","v":""}]
[13,{"$f":"IF(ESTUDIANTES!G1066=0,\"\",ESTUDIANTES!G1066)","v":""}]
[14,{"$f":"IF(ESTUDIANTES!G1067=0,\"\",ESTUDIANTES!G1067)","v":""}]
[15,{"$f":"IF(ESTUDIANTES!G1068=0,\"\",ESTUDIANTES!G1068)","v":""}]
[16,{"$f":"IF(ESTUDIANTES!G1069=0,\"\",ESTUDIANTES!G1069)","v":""}]
[17,{"$f":"IF(ESTUDIANTES!G1070=0,\"\",ESTUDIANTES!G1070)","v":""}]
[18,{"$f":"IF(ESTUDIANTES!G1071=0,\"\",ESTUDIANTES!G1071)","v":""}]
[19,{"$f":"IF(ESTUDIANTES!G1072=0,\"\",ESTUDIANTES!G1072)","v":""}]
[20,{"$f":"IF(ESTUDIANTES!G1073=0,\"\",ESTUDIANTES!G1073)","v":""}]
[21,{"$f":"IF(ESTUDIANTES!G1074=0,\"\",ESTUDIANTES!G1074)","v":""}]
[22,{"$f":"IF(ESTUDIANTES!G1075=0,\"\",ESTUDIANTES!G1075)","v":""}]
[23,{"$f":"IF(ESTUDIANTES!G1076=0,\"\",ESTUDIANTES!G1076)","v":""}]
[24,{"$f":"IF(ESTUDIANTES!G1077=0,\"\",ESTUDIANTES!G1077)","v":""}]
[25,{"$f":"IF(ESTUDIANTES!G1078=0,\"\",ESTUDIANTES!G1078)","v":""}]
[26,{"$f":"IF(ESTUDIANTES!G1079=0,\"\",ESTUDIANTES!G1079)","v":""}]
[27,{"$f":"IF(ESTUDIANTES!G1080=0,\"\",ESTUDIANTES!G1080)","v":""}]
[28,{"$f":"IF(ESTUDIANTES!G1081=0,\"\",ESTUDIANTES!G1081)","v":""}]
[29,{"$f":"IF(ESTUDIANTES!G1082=0,\"\",ESTUDIANTES!G1082)","v":""}]
[30,{"$f":"IF(ESTUDIANTES!G1083=0,\"\",ESTUDIANTES!G1083)","v":""}]
[31,{"$f":"IF(ESTUDIANTES!G1084=0,\"\",ESTUDIANTES!G1084)","v":""}]
[32,{"$f":"IF(ESTUDIANTES!G1085=0,\"\",ESTUDIANTES!G1085)","v":""}]
[33,{"$f":"IF(ESTUDIANTES!G1086=0,\"\",ESTUDIANTES!G1086)","v":""}]
[34,{"$f":"IF(ESTUDIANTES!G1087=0,\"\",ESTUDIANTES!G1087)","v":""}]
[35,{"$f":"IF(ESTUDIANTES!G1088=0,\"\",ESTUDIANTES!G1088)","v":""}]
[36,{"$f":"IF(ESTUDIANTES!G1089=0,\"\",ESTUDIANTES!G1089)","v":""}]
[37,{"$f":"IF(ESTUDIANTES!G1090=0,\"\",ESTUDIANTES!G1090)","v":""}]
[38,{"$f":"IF(ESTUDIANTES!G1091=0,\"\",ESTUDIANTES!G1091)","v":""}]
[39,{"$f":"IF(ESTUDIANTES!G1092=0,\"\",ESTUDIANTES!G1092)","v":""}]
[40,{"$f":"IF(ESTUDIANTES!G1093=0,\"\",ESTUDIANTES!G1093)","v":""}]
[41,{"$f":"IF(ESTUDIANTES!G1094=0,\"\",ESTUDIANTES!G1094)","v":""}]
[42,{"$f":"IF(ESTUDIANTES!G1095=0,\"\",ESTUDIANTES!G1095)","v":""}]
[43,{"$f":"IF(ESTUDIANTES!G1096=0,\"\",ESTUDIANTES!G1096)","v":""}]
[44,{"$f":"IF(ESTUDIANTES!G1097=0,\"\",ESTUDIANTES!G1097)","v":""}]
[45,{"$f":"IF(ESTUDIANTES!G1098=0,\"\",ESTUDIANTES!G1098)","v":""}]
[46,{"$f":"IF(ESTUDIANTES!G1099=0,\"\",ESTUDIANTES!G1099)","v":""}]
[47,{"$f":"IF(ESTUDIANTES!G1100=0,\"\",ESTUDIANTES!G1100)","v":""}]
[48,{"$f":"IF(ESTUDIANTES!G1101=0,\"\",ESTUDIANTES!G1101)","v":""}]
[49,{"$f":"IF(ESTUDIANTES!G1102=0,\"\",ESTUDIANTES!G1102)","v":""}]
[50,{"$f":"IF(ESTUDIANTES!G1103=0,\"\",ESTUDIANTES!G1103)","v":""}]
[]
[{"$f":"DATOS!$B$3","v":"COLEGIO BACHILLERATO PCEI \"SIN FRONTERAS\""}]
[]
[null,"GRADO/CURSO:",{"$f":"DATOS!$E25","v":0}]
[null,"NIVEL:",{"$f":"DATOS!$F25","v":0}]
[null,"PARALELO:",{"$f":"DATOS!$G25","v":0}]
[null,"TUTOR:",{"$f":"DATOS!$H25","v":0}]
[]
["Nro","NOMBRES Y APELLIDOS","OBSERVACIONES"]
[1,{"$f":"IF(ESTUDIANTES!G1104=0,\"\",ESTUDIANTES!G1104)","v":""}]
[2,{"$f":"IF(ESTUDIANTES!G1105=0,\"\",ESTUDIANTES!G1105)","v":""}]
[3,{"$f":"IF(ESTUDIANTES!G1106=0,\"\",ESTUDIANTES!G1106)","v":""}]
[4,{"$f":"IF(ESTUDIANTES!G1107=0,\"\",ESTUDIANTES!G1107)","v":""}]
[5,{"$f":"IF(ESTUDIANTES!G1108=0,\"\",ESTUDIANTES!G1108)","v":""}]
[6,{"$f":"IF(ESTUDIANTES!G1109=0,\"\",ESTUDIANTES!G1109)","v":""}]
[7,{"$f":"IF(ESTUDIANTES!G1110=0,\"\",ESTUDIANTES!G1110)","v":""}]
[8,{"$f":"IF(ESTUDIANTES!G1111=0,\"\",ESTUDIANTES!G1111)","v":""}]
[9,{"$f":"IF(ESTUDIANTES!G1112=0,\"\",ESTUDIANTES!G1112)","v":""}]
[10,{"$f":"IF(ESTUDIANTES!G1113=0,\"\",ESTUDIANTES!G1113)","v":""}]
[11,{"$f":"IF(ESTUDIANTES!G1114=0,\"\",ESTUDIANTES!G1114)","v":""}]
[12,{"$f":"IF(ESTUDIANTES!G1115=0,\"\",ESTUDIANTES!G1115)","v":""}]
[13,{"$f":"IF(ESTUDIANTES!G1116=0,\"\",ESTUDIANTES!G1116)","v":""}]
[14,{"$f":"IF(ESTUDIANTES!G1117=0,\"\",ESTUDIANTES!G1117)","v":""}]
[15,{"$f":"IF(ESTUDIANTES!G1118=0,\"\",ESTUDIANTES!G1118)","v":""}]
[16,{"$f":"IF(ESTUDIANTES!G1119=0,\"\",ESTUDIANTES!G1119)","v":""}]
[17,{"$f":"IF(ESTUDIANTES!G1120=0,\"\",ESTUDIANTES!G1120)","v":""}]
[18,{"$f":"IF(ESTUDIANTES!G1121=0,\"\",ESTUDIANTES!G1121)","v":""}]
[19,{"$f":"IF(ESTUDIANTES!G1122=0,\"\",ESTUDIANTES!G1122)","v":""}]
[20,{"$f":"IF(ESTUDIANTES!G1123=0,\"\",ESTUDIANTES!G1123)","v":""}]
[21,{"$f":"IF(ESTUDIANTES!G1124=0,\"\",ESTUDIANTES!G1124)","v":""}]
[22,{"$f":"IF(ESTUDIANTES!G1125=0,\"\",ESTUDIANTES!G1125)","v":""}]
[23,{"$f":"IF(ESTUDIANTES!G1126=0,\"\",ESTUDIANTES!G1126)","v":""}]
[24,{"$f":"IF(ESTUDIANTES!G1127=0,\"\",ESTUDIANTES!G1127)","v":""}]
[25,{"$f":"IF(ESTUDIANTES!G1128=0,\"\",ESTUDIANTES!G1128)","v":""}]
[26,{"$f":"IF(ESTUDIANTES!G1129=0,\"\",ESTUDIANTES!G1129)","v":""}]
[27,{"$f":"IF(ESTUDIANTES!G1130=0,\"\",ESTUDIANTES!G1130)","v":""}]
[28,{"$f":"IF(ESTUDIANTES!G1131=0,\"\",ESTUDIANTES!G1131)","v":""}]
[29,{"$f":"IF(ESTUDIANTES!G1132=0,\"\",ESTUDIANTES!G1132)","v":""}]
[30,{"$f":"IF(ESTUDIANTES!G1133=0,\"\",ESTUDIANTES!G1133)","v":""}]
[31,{"$f":"IF(ESTUDIANTES!G1134=0,\"\",ESTUDIANTES!G1134)","v":""}]
[32,{"$f":"IF(ESTUDIANTES!G1135=0,\"\",ESTUDIANTES!G1135)","v":""}]
[33,{"$f":"IF(ESTUDIANTES!G1136=0,\"\",ESTUDIANTES!G1136)","v":""}]
[34,{"$f":"IF(ESTUDIANTES!G1137=0,\"\",ESTUDIANTES!G1137)","v":""}]
[35,{"$f":"IF(ESTUDIANTES!G1138=0,\"\",ESTUDIANTES!G1138)","v":""}]
[36,{"$f":"IF(ESTUDIANTES!G1139=0,\"\",ESTUDIANTES!G1139)","v":""}]
[37,{"$f":"IF(ESTUDIANTES!G1140=0,\"\",ESTUDIANTES!G1140)","v":""}]
[38,{"$f":"IF(ESTUDIANTES!G1141=0,\"\",ESTUDIANTES!G1141)","v":""}]
[39,{"$f":"IF(ESTUDIANTES!G1142=0,\"\",ESTUDIANTES!G1142)","v":""}]
[40,{"$f":"IF(ESTUDIANTES!G1143=0,\"\",ESTUDIANTES!G1143)","v":""}]
[41,{"$f":"IF(ESTUDIANTES!G1144=0,\"\",ESTUDIANTES!G1144)","v":""}]
[42,{"$f":"IF(ESTUDIANTES!G1145=0,\"\",ESTUDIANTES!G1145)","v":""}]
[43,{"$f":"IF(ESTUDIANTES!G1146=0,\"\",ESTUDIANTES!G1146)","v":""}]
[44,{"$f":"IF(ESTUDIANTES!G1147=0,\"\",ESTUDIANTES!G1147)","v":""}]
[45,{"$f":"IF(ESTUDIANTES!G1148=0,\"\",ESTUDIANTES!G1148)","v":""}]
[46,{"$f":"IF(ESTUDIANTES!G1149=0,\"\",ESTUDIANTES!G1149)","v":""}]
[47,{"$f":"IF(ESTUDIANTES!G1150=0,\"\",ESTUDIANTES!G1150)","v":""}]
[48,{"$f":"IF(ESTUDIANTES!G1151=0,\"\",ESTUDIANTES!G1151)","v":""}]
[49,{"$f":"IF(ESTUDIANTES!G1152=0,\"\",ESTUDIANTES!G1152)","v":""}]
[50,{"$f":"IF(ESTUDIANTES!G1153=0,\"\",ESTUDIANTES!G1153)","v":""}]
[]
[{"$f":"DATOS!$B$3","v":"COLEGIO BACHILLERATO PCEI \"SIN FRONTERAS\""}]
[]
[null,"GRADO/CURSO:",{"$f":"DATOS!$E26","v":0}]
[null,"NIVEL:",{"$f":"DATOS!$F26","v":0}]
[null,"PARALELO:",{"$f":"DATOS!$G26","v":0}]
[null,"TUTOR:",{"$f":"DATOS!$H26","v":0}]
[]
["Nro","NOMBRES Y APELLIDOS","OBSERVACIONES"]
[1,{"$f":"IF(ESTUDIANTES!G1154=0,\"\",ESTUDIANTES!G1154)","v":""}]
[2,{"$f":"IF(ESTUDIANTES!G1155=0,\"\",ESTUDIANTES!G1155)","v":""}]
[3,{"$f":"IF(ESTUDIANTES!G1156=0,\"\",ESTUDIANTES!G1156)","v":""}]
[4,{"$f":"IF(ESTUDIANTES!G1157=0,\"\",ESTUDIANTES!G1157)","v":""}]
[5,{"$f":"IF(ESTUDIANTES!G1158=0,\"\",ESTUDIANTES!G1158)","v":""}]
[6,{"$f":"IF(ESTUDIANTES!G1159=0,\"\",ESTUDIANTES!G1159)","v":""}]
[7,{"$f":"IF(ESTUDIANTES!G1160=0,\"\",ESTUDIANTES!G1160)","v":""}]
[8,{"$f":"IF(ESTUDIANTES!G1161=0,\"\",ESTUDIANTES!G1161)","v":""}]
[9,{"$f":"IF(ESTUDIANTES!G1162=0,\"\",ESTUDIANTES!G1162)","v":""}]
[10,{"$f":"IF(ESTUDIANTES!G1163=0,\"\",ESTUDIANTES!G1163)","v":""}]
[11,{"$f":"IF(ESTUDIANTES!G1164=0,\"\",ESTUDIANTES!G1164)","v":""}]
[12,{"$f":"IF(ESTUDIANTES!G1165=0,\"\",ESTUDIANTES!G1165)","v":""}]
[13,{"$f":"IF(ESTUDIANTES!G1166=0,\"\",ESTUDIANTES!G1166)","v":""}]
[14,{"$f":"IF(ESTUDIANTES!G1167=0,\"\",ESTUDIANTES!G1167)","v":""}]
[15,{"$f":"IF(ESTUDIANTES!G1168=0,\"\",ESTUDIANTES!G1168)","v":""}]
[16,{"$f":"IF(ESTUDIANTES!G1169=0,\"\",ESTUDIANTES!G1169)","v":""}]
[17,{"$f":"IF(ESTUDIANTES!G1170=0,\"\",ESTUDIANTES!G1170)","v":""}]
[18,{"$f":"IF(ESTUDIANTES!G1171=0,\"\",ESTUDIANTES!G1171)","v":""}]
[19,{"$f":"IF(ESTUDIANTES!G1172=0,\"\",ESTUDIANTES!G1172)","v":""}]
[20,{"$f":"IF(ESTUDIANTES!G1173=0,\"\",ESTUDIANTES!G1173)","v":""}]
[21,{"$f":"IF(ESTUDIANTES!G1174=0,\"\",ESTUDIANTES!G1174)","v":""}]
[22,{"$f":"IF(ESTUDIANTES!G1175=0,\"\",ESTUDIANTES!G1175)","v":""}]
[23,{"$f":"IF(ESTUDIANTES!G1176=0,\"\",ESTUDIANTES!G1176)","v":""}]
[24,{"$f":"IF(ESTUDIANTES!G1177=0,\"\",ESTUDIANTES!G1177)","v":""}]
[25,{"$f":"IF(ESTUDIANTES!G1178=0,\"\",ESTUDIANTES!G1178)","v":""}]
[26,{"$f":"IF(ESTUDIANTES!G1179=0,\"\",ESTUDIANTES!G1179)","v":""}]
[27,{"$f":"IF(ESTUDIANTES!G1180=0,\"\",ESTUDIANTES!G1180)","v":""}]
[28,{"$f":"IF(ESTUDIANTES!G1181=0,\"\",ESTUDIANTES!G1181)","v":""}]
[29,{"$f":"IF(ESTUDIANTES!G1182=0,\"\",ESTUDIANTES!G1182)","v":""}]
[30,{"$f":"IF(ESTUDIANTES!G1183=0,\"\",ESTUDIANTES!G1183)","v":""}]
[31,{"$f":"IF(ESTUDIANTES!G1184=0,\"\",ESTUDIANTES!G1184)","v":""}]
[32,{"$f":"IF(ESTUDIANTES!G1185=0,\"\",ESTUDIANTES!G1185)","v":""}]
[33,{"$f":"IF(ESTUDIANTES!G1186=0,\"\",ESTUDIANTES!G1186)","v":""}]
[34,{"$f":"IF(ESTUDIANTES!G1187=0,\"\",ESTUDIANTES!G1187)","v":""}]
[35,{"$f":"IF(ESTUDIANTES!G1188=0,\"\",ESTUDIANTES!G1188)","v":""}]
[36,{"$f":"IF(ESTUDIANTES!G1189=0,\"\",ESTUDIANTES!G1189)","v":""}]
[37,{"$f":"IF(ESTUDIANTES!G1190=0,\"\",ESTUDIANTES!G1190)","v":""}]
[38,{"$f":"IF(ESTUDIANTES!G1191=0,\"\",ESTUDIANTES!G1191)","v":""}]
[39,{"$f":"IF(ESTUDIANTES!G1192=0,\"\",ESTUDIANTES!G1192)","v":""}]
[40,{"$f":"IF(ESTUDIANTES!G1193=0,\"\",ESTUDIANTES!G1193)","v":""}]
[41,{"$f":"IF(ESTUDIANTES!G1194=0,\"\",ESTUDIANTES!G1194)","v":""}]
[42,{"$f":"IF(ESTUDIANTES!G1195=0,\"\",ESTUDIANTES!G1195)","v":""}]
[43,{"$f":"IF(ESTUDIANTES!G1196=0,\"\",ESTUDIANTES!G1196)","v":""}]
[44,{"$f":"IF(ESTUDIANTES!G1197=0,\"\",ESTUDIANTES!G1197)","v":""}]
[45,{"$f":"IF(ESTUDIANTES!G1198=0,\"\",ESTUDIANTES!G1198)","v":""}]
[46,{"$f":"IF(ESTUDIANTES!G1199=0,\"\",ESTUDIANTES!G1199)","v":""}]
[47,{"$f":"IF(ESTUDIANTES!G1200=0,\"\",ESTUDIANTES!G1200)","v":""}]
[48,{"$f":"IF(ESTUDIANTES!G1201=0,\"\",ESTUDIANTES!G1201)","v":""}]
[49,{"$f":"IF(ESTUDIANTES!G1202=0,\"\",ESTUDIANTES!G1202)","v":""}]
[50,{"$f":"IF(ESTUDIANTES!G1203=0,\"\",ESTUDIANTES!G1203)","v":""}]
[]
[{"$f":"DATOS!$B$3","v":"COLEGIO BACHILLERATO PCEI \"SIN FRONTERAS\""}]
[]
[null,"GRADO/CURSO:",{"$f":"DATOS!$E27","v":0}]
[null,"NIVEL:",{"$f":"DATOS!$F27","v":0}]
[null,"PARALELO:",{"$f":"DATOS!$G27","v":0}]
[null,"TUTOR:",{"$f":"DATOS!$H27","v":0}]
[]
["Nro","NOMBRES Y APELLIDOS","OBSERVACIONES"]
[1,{"$f":"IF(ESTUDIANTES!G1204=0,\"\",ESTUDIANTES!G1204)","v":""}]
[2,{"$f":"IF(ESTUDIANTES!G1205=0,\"\",ESTUDIANTES!G1205)","v":""}]
[3,{"$f":"IF(ESTUDIANTES!G1206=0,\"\",ESTUDIANTES!G1206)","v":""}]
[4,{"$f":"IF(ESTUDIANTES!G1207=0,\"\",ESTUDIANTES!G1207)","v":""}]
[5,{"$f":"IF(ESTUDIANTES!G1208=0,\"\",ESTUDIANTES!G1208)","v":""}]
[6,{"$f":"IF(ESTUDIANTES!G1209=0,\"\",ESTUDIANTES!G1209)","v":""}]
[7,{"$f":"IF(ESTUDIANTES!G1210=0,\"\",ESTUDIANTES!G1210)","v":""}]
[8,{"$f":"IF(ESTUDIANTES!G1211=0,\"\",ESTUDIANTES!G1211)","v":""}]
[9,{"$f":"IF(ESTUDIANTES!G1212=0,\"\",ESTUDIANTES!G1212)","v":""}]
[10,{"$f":"IF(ESTUDIANTES!G1213=0,\"\",ESTUDIANTES!G1213)","v":""}]
[11,{"$f":"IF(ESTUDIANTES!G1214=0,\"\",ESTUDIANTES!G1214)","v":""}]
[12,{"$f":"IF(ESTUDIANTES!G1215=0,\"\",ESTUDIANTES!G1215)","v":""}]
[13,{"$f":"IF(ESTUDIANTES!G1216=0,\"\",ESTUDIANTES!G1216)","v":""}]
[14,{"$f":"IF(ESTUDIANTES!G1217=0,\"\",ESTUDIANTES!G1217)","v":""}]
[15,{"$f":"IF(ESTUDIANTES!G1218=0,\"\",ESTUDIANTES!G1218)","v":""}]
[16,{"$f":"IF(ESTUDIANTES!G1219=0,\"\",ESTUDIANTES!G1219)","v":""}]
[17,{"$f":"IF(ESTUDIANTES!G1220=0,\"\",ESTUDIANTES!G1220)","v":""}]
[18,{"$f":"IF(ESTUDIANTES!G1221=0,\"\",ESTUDIANTES!G1221)","v":""}]
[19,{"$f":"IF(ESTUDIANTES!G1222=0,\"\",ESTUDIANTES!G1222)","v":""}]
[20,{"$f":"IF(ESTUDIANTES!G1223=0,\"\",ESTUDIANTES!G1223)","v":""}]
[21,{"$f":"IF(ESTUDIANTES!G1224=0,\"\",ESTUDIANTES!G1224)","v":""}]
[22,{"$f":"IF(ESTUDIANTES!G1225=0,\"\",ESTUDIANTES!G1225)","v":""}]
[23,{"$f":"IF(ESTUDIANTES!G1226=0,\"\",ESTUDIANTES!G1226)","v":""}]
[24,{"$f":"IF(ESTUDIANTES!G1227=0,\"\",ESTUDIANTES!G1227)","v":""}]
[25,{"$f":"IF(ESTUDIANTES!G1228=0,\"\",ESTUDIANTES!G1228)","v":""}]
[26,{"$f":"IF(ESTUDIANTES!G1229=0,\"\",ESTUDIANTES!G1229)","v":""}]
[27,{"$f":"IF(ESTUDIANTES!G1230=0,\"\",ESTUDIANTES!G1230)","v":""}]
[28,{"$f":"IF(ESTUDIANTES!G1231=0,\"\",ESTUDIANTES!G1231)","v":""}]
[29,{"$f":"IF(ESTUDIANTES!G1232=0,\"\",ESTUDIANTES!G1232)","v":""}]
[30,{"$f":"IF(ESTUDIANTES!G1233=0,\"\",ESTUDIANTES!G1233)","v":""}]
[31,{"$f":"IF(ESTUDIANTES!G1234=0,\"\",ESTUDIANTES!G1234)","v":""}]
[32,{"$f":"IF(ESTUDIANTES!G1235=0,\"\",ESTUDIANTES!G1235)","v":""}]
[33,{"$f":"IF(ESTUDIANTES!G1236=0,\"\",ESTUDIANTES!G1236)","v":""}]
[34,{"$f":"IF(ESTUDIANTES!G1237=0,\"\",ESTUDIANTES!G1237)","v":""}]
[35,{"$f":"IF(ESTUDIANTES!G1238=0,\"\",ESTUDIANTES!G1238)","v":""}]
[36,{"$f":"IF(ESTUDIANTES!G1239=0,\"\",ESTUDIANTES!G1239)","v":""}]
[37,{"$f":"IF(ESTUDIANTES!G1240=0,\"\",ESTUDIANTES!G1240)","v":""}]
[38,{"$f":"IF(ESTUDIANTES!G1241=0,\"\",ESTUDIANTES!G1241)","v":""}]
[39,{"$f":"IF(ESTUDIANTES!G1242=0,\"\",ESTUDIANTES!G1242)","v":""}]
[40,{"$f":"IF(ESTUDIANTES!G1243=0,\"\",ESTUDIANTES!G1243)","v":""}]
[41,{"$f":"IF(ESTUDIANTES!G1244=0,\"\",ESTUDIANTES!G1244)","v":""}]
[42,{"$f":"IF(ESTUDIANTES!G1245=0,\"\",ESTUDIANTES!G1245)","v":""}]
[43,{"$f":"IF(ESTUDIANTES!G1246=0,\"\",ESTUDIANTES!G1246)","v":""}]
[44,{"$f":"IF(ESTUDIANTES!G1247=0,\"\",ESTUDIANTES!G1247)","v":""}]
[45,{"$f":"IF(ESTUDIANTES!G1248=0,\"\",ESTUDIANTES!G1248)","v":""}]
[46,{"$f":"IF(ESTUDIANTES!G1249=0,\"\",ESTUDIANTES!G1249)","v":""}]
[47,{"$f":"IF(ESTUDIANTES!G1250=0,\"\",ESTUDIANTES!G1250)","v":""}]
[48,{"$f":"IF(ESTUDIANTES!G1251=0,\"\",ESTUDIANTES!G1251)","v":""}]
[49,{"$f":"IF(ESTUDIANTES!G1252=0,\"\",ESTUDIANTES!G1252)","v":""}]
[50,{"$f":"IF(ESTUDIANTES!G1253=0,\"\",ESTUDIANTES!G1253)","v":""}]
[]
[{"$f":"DATOS!$B$3","v":"COLEGIO BACHILLERATO PCEI \"SIN FRONTERAS\""}]
[]
[null,"GRADO/CURSO:",{"$f":"DATOS!$E28","v":0}]
[null,"NIVEL:",{"$f":"DATOS!$F28","v":0}]
[null,"PARALELO:",{"$f":"DATOS!$G28","v":0}]
[null,"TUTOR:",{"$f":"DATOS!$H28","v":0}]
[]
["Nro","NOMBRES Y APELLIDOS","OBSERVACIONES"]
[1,{"$f":"IF(ESTUDIANTES!G1254=0,\"\",ESTUDIANTES!G1254)","v":""}]
[2,{"$f":"IF(ESTUDIANTES!G1255=0,\"\",ESTUDIANTES!G1255)","v":""}]
[3,{"$f":"IF(ESTUDIANTES!G1256=0,\"\",ESTUDIANTES!G1256)","v":""}]
[4,{"$f":"IF(ESTUDIANTES!G1257=0,\"\",ESTUDIANTES!G1257)","v":""}]
[5,{"$f":"IF(ESTUDIANTES!G1258=0,\"\",ESTUDIANTES!G1258)","v":""}]
[6,{"$f":"IF(ESTUDIANTES!G1259=0,\"\",ESTUDIANTES!G1259)","v":""}]
[7,{"$f":"IF(ESTUDIANTES!G1260=0,\"\",ESTUDIANTES!G1260)","v":""}]
[8,{"$f":"IF(ESTUDIANTES!G1261=0,\"\",ESTUDIANTES!G1261)","v":""}]
[9,{"$f":"IF(ESTUDIANTES!G1262=0,\"\",ESTUDIANTES!G1262)","v":""}]
[10,{"$f":"IF(ESTUDIANTES!G1263=0,\"\",ESTUDIANTES!G1263)","v":""}]
[11,{"$f":"IF(ESTUDIANTES!G1264=0,\"\",ESTUDIANTES!G1264)","v":""}]
[12,{"$f":"IF(ESTUDIANTES!G1265=0,\"\",ESTUDIANTES!G1265)","v":""}]
[13,{"$f":"IF(ESTUDIANTES!G1266=0,\"\",ESTUDIANTES!G1266)","v":""}]
[14,{"$f":"IF(ESTUDIANTES!G1267=0,\"\",ESTUDIANTES!G1267)","v":""}]
[15,{"$f":"IF(ESTUDIANTES!G1268=0,\"\",ESTUDIANTES!G1268)","v":""}]
[16,{"$f":"IF(ESTUDIANTES!G1269=0,\"\",ESTUDIANTES!G1269)","v":""}]
[17,{"$f":"IF(ESTUDIANTES!G1270=0,\"\",ESTUDIANTES!G1270)","v":""}]
[18,{"$f":"IF(ESTUDIANTES!G1271=0,\"\",ESTUDIANTES!G1271)","v":""}]
[19,{"$f":"IF(ESTUDIANTES!G1272=0,\"\",ESTUDIANTES!G1272)","v":""}]
[20,{"$f":"IF(ESTUDIANTES!G1273=0,\"\",ESTUDIANTES!G1273)","v":""}]
[21,{"$f":"IF(ESTUDIANTES!G1274=0,\"\",ESTUDIANTES!G1274)","v":""}]
[22,{"$f":"IF(ESTUDIANTES!G1275=0,\"\",ESTUDIANTES!G1275)","v":""}]
[23,{"$f":"IF(ESTUDIANTES!G1276=0,\"\",ESTUDIANTES!G1276)","v":""}]
[24,{"$f":"IF(ESTUDIANTES!G1277=0,\"\",ESTUDIANTES!G1277)","v":""}]
[25,{"$f":"IF(ESTUDIANTES!G1278=0,\"\",ESTUDIANTES!G1278)","v":""}]
[26,{"$f":"IF(ESTUDIANTES!G1279=0,\"\",ESTUDIANTES!G1279)","v":""}]
[27,{"$f":"IF(ESTUDIANTES!G1280=0,\"\",ESTUDIANTES!G1280)","v":""}]
[28,{"$f":"IF(ESTUDIANTES!G1281=0,\"\",ESTUDIANTES!G1281)","v":""}]
[29,{"$f":"IF(ESTUDIANTES!G1282=0,\"\",ESTUDIANTES!G1282)","v":""}]
[30,{"$f":"IF(ESTUDIANTES!G1283=0,\"\",ESTUDIANTES!G1283)","v":""}]
[31,{"$f":"IF(ESTUDIANTES!G1284=0,\"\",ESTUDIANTES!G1284)","v":""}]
[32,{"$f":"IF(ESTUDIANTES!G1285=0,\"\",ESTUDIANTES!G1285)","v":""}]
[33,{"$f":"IF(ESTUDIANTES!G1286=0,\"\",ESTUDIANTES!G1286)","v":""}]
[34,{"$f":"IF(ESTUDIANTES!G1287=0,\"\",ESTUDIANTES!G1287)","v":""}]
[35,{"$f":"IF(ESTUDIANTES!G1288=0,\"\",ESTUDIANTES!G1288)","v":""}]
[36,{"$f":"IF(ESTUDIANTES!G1289=0,\"\",ESTUDIANTES!G1289)","v":""}]
[37,{"$f":"IF(ESTUDIANTES!G1290=0,\"\",ESTUDIANTES!G1290)","v":""}]
[38,{"$f":"IF(ESTUDIANTES!G1291=0,\"\",ESTUDIANTES!G1291)","v":""}]
[39,{"$f":"IF(ESTUDIANTES!G1292=0,\"\",ESTUDIANTES!G1292)","v":""}]
[40,{"$f":"IF(ESTUDIANTES!G1293=0,\"\",ESTUDIANTES!G1293)","v":""}]
[41,{"$f":"IF(ESTUDIANTES!G1294=0,\"\",ESTUDIANTES!G1294)","v":""}]
[42,{"$f":"IF(ESTUDIANTES!G1295=0,\"\",ESTUDIANTES!G1295)","v":""}]
[43,{"$f":"IF(ESTUDIANTES!G1296=0,\"\",ESTUDIANTES!G1296)","v":""}]
[44,{"$f":"IF(ESTUDIANTES!G1297=0,\"\",ESTUDIANTES!G1297)","v":""}]
[45,{"$f":"IF(ESTUDIANTES!G1298=0,\"\",ESTUDIANTES!G1298)","v":""}]
[46,{"$f":"IF(ESTUDIANTES!G1299=0,\"\",ESTUDIANTES!G1299)","v":""}]
[47,{"$f":"IF(ESTUDIANTES!G1300=0,\"\",ESTUDIANTES!G1300)","v":""}]
[48,{"$f":"IF(ESTUDIANTES!G1301=0,\"\",ESTUDIANTES!G1301)","v":""}]
[49,{"$f":"IF(ESTUDIANTES!G1302=0,\"\",ESTUDIANTES!G1302)","v":""}]
[50,{"$f":"IF(ESTUDIANTES!G1303=0,\"\",ESTUDIANTES!G1303)","v":""}]
[]
[{"$f":"DATOS!$B$3","v":"COLEGIO BACHILLERATO PCEI \"SIN FRONTERAS\""}]
[]
[null,"GRADO/CURSO:",{"$f":"DATOS!$E29","v":0}]
[null,"NIVEL:",{"$f":"DATOS!$F29","v":0}]
[null,"PARALELO:",{"$f":"DATOS!$G29","v":0}]
[null,"TUTOR:",{"$f":"DATOS!$H29","v":0}]
[]
["Nro","NOMBRES Y APELLIDOS","OBSERVACIONES"]
[1,{"$f":"IF(ESTUDIANTES!G1304=0,\"\",ESTUDIANTES!G1304)","v":""}]
[2,{"$f":"IF(ESTUDIANTES!G1305=0,\"\",ESTUDIANTES!G1305)","v":""}]
[3,{"$f":"IF(ESTUDIANTES!G1306=0,\"\",ESTUDIANTES!G1306)","v":""}]
[4,{"$f":"IF(ESTUDIANTES!G1307=0,\"\",ESTUDIANTES!G1307)","v":""}]
[5,{"$f":"IF(ESTUDIANTES!G1308=0,\"\",ESTUDIANTES!G1308)","v":""}]
[6,{"$f":"IF(ESTUDIANTES!G1309=0,\"\",ESTUDIANTES!G1309)","v":""}]
[7,{"$f":"IF(ESTUDIANTES!G1310=0,\"\",ESTUDIANTES!G1310)","v":""}]
[8,{"$f":"IF(ESTUDIANTES!G1311=0,\"\",ESTUDIANTES!G1311)","v":""}]
[9,{"$f":"IF(ESTUDIANTES!G1312=0,\"\",ESTUDIANTES!G1312)","v":""}]
[10,{"$f":"IF(ESTUDIANTES!G1313=0,\"\",ESTUDIANTES!G1313)","v":""}]
[11,{"$f":"IF(ESTUDIANTES!G1314=0,\"\",ESTUDIANTES!G1314)","v":""}]
[12,{"$f":"IF(ESTUDIANTES!G1315=0,\"\",ESTUDIANTES!G1315)","v":""}]
[13,{"$f":"IF(ESTUDIANTES!G1316=0,\"\",ESTUDIANTES!G1316)","v":""}]
[14,{"$f":"IF(ESTUDIANTES!G1317=0,\"\",ESTUDIANTES!G1317)","v":""}]
[15,{"$f":"IF(ESTUDIANTES!G1318=0,\"\",ESTUDIANTES!G1318)","v":""}]
[16,{"$f":"IF(ESTUDIANTES!G1319=0,\"\",ESTUDIANTES!G1319)","v":""}]
[17,{"$f":"IF(ESTUDIANTES!G1320=0,\"\",ESTUDIANTES!G1320)","v":""}]
[18,{"$f":"IF(ESTUDIANTES!G1321=0,\"\",ESTUDIANTES!G1321)","v":""}]
[19,{"$f":"IF(ESTUDIANTES!G1322=0,\"\",ESTUDIANTES!G1322)","v":""}]
[20,{"$f":"IF(ESTUDIANTES!G1323=0,\"\",ESTUDIANTES!G1323)","v":""}]
[21,{"$f":"IF(ESTUDIANTES!G1324=0,\"\",ESTUDIANTES!G1324)","v":""}]
[22,{"$f":"IF(ESTUDIANTES!G1325=0,\"\",ESTUDIANTES!G1325)","v":""}]
[23,{"$f":"IF(ESTUDIANTES!G1326=0,\"\",ESTUDIANTES!G1326)","v":""}]
[24,{"$f":"IF(ESTUDIANTES!G1327=0,\"\",ESTUDIANTES!G1327)","v":""}]
[25,{"$f":"IF(ESTUDIANTES!G1328=0,\"\",ESTUDIANTES!G1328)","v":""}]
[26,{"$f":"IF(ESTUDIANTES!G1329=0,\"\",ESTUDIANTES!G1329)","v":""}]
[27,{"$f":"IF(ESTUDIANTES!G1330=0,\"\",ESTUDIANTES!G1330)","v":""}]
[28,{"$f":"IF(ESTUDIANTES!G1331=0,\"\",ESTUDIANTES!G1331)","v":""}]
[29,{"$f":"IF(ESTUDIANTES!G1332=0,\"\",ESTUDIANTES!G1332)","v":""}]
[30,{"$f":"IF(ESTUDIANTES!G1333=0,\"\",ESTUDIANTES!G1333)","v":""}]
[31,{"$f":"IF(ESTUDIANTES!G1334=0,\"\",ESTUDIANTES!G1334)","v":""}]
[32,{"$f":"IF(ESTUDIANTES!G1335=0,\"\",ESTUDIANTES!G1335)","v":""}]
[33,{"$f":"IF(ESTUDIANTES!G1336=0,\"\",ESTUDIANTES!G1336)","v":""}]
[34,{"$f":"IF(ESTUDIANTES!G1337=0,\"\",ESTUDIANTES!G1337)","v":""}]
[35,{"$f":"IF(ESTUDIANTES!G1338=0,\"\",ESTUDIANTES!G1338)","v":""}]
[36,{"$f":"IF(ESTUDIANTES!G1339=0,\"\",ESTUDIANTES!G1339)","v":""}]
[37,{"$f":"IF(ESTUDIANTES!G1340=0,\"\",ESTUDIANTES!G1340)","v":""}]
[38,{"$f":"IF(ESTUDIANTES!G1341=0,\"\",ESTUDIANTES!G1341)","v":""}]
[39,{"$f":"IF(ESTUDIANTES!G1342=0,\"\",ESTUDIANTES!G1342)","v":""}]
[40,{"$f":"IF(ESTUDIANTES!G1343=0,\"\",ESTUDIANTES!G1343)","v":""}]
[41,{"$f":"IF(ESTUDIANTES!G1344=0,\"\",ESTUDIANTES!G1344)","v":""}]
[42,{"$f":"IF(ESTUDIANTES!G1345=0,\"\",ESTUDIANTES!G1345)","v":""}]
[43,{"$f":"IF(ESTUDIANTES!G1346=0,\"\",ESTUDIANTES!G1346)","v":""}]
[44,{"$f":"IF(ESTUDIANTES!G1347=0,\"\",ESTUDIANTES!G1347)","v":""}]
[45,{"$f":"IF(ESTUDIANTES!G1348=0,\"\",ESTUDIANTES!G1348)","v":""}]
[46,{"$f":"IF(ESTUDIANTES!G1349=0,\"\",ESTUDIANTES!G1349)","v":""}]
[47,{"$f":"IF(ESTUDIANTES!G1350=0,\"\",ESTUDIANTES!G1350)","v":""}]
[48,{"$f":"IF(ESTUDIANTES!G1351=0,\"\",ESTUDIANTES!G1351)","v":""}]
[49,{"$f":"IF(ESTUDIANTES!G1352=0,\"\",ESTUDIANTES!G1352)","v":""}]
[50,{"$f":"IF(ESTUDIANTES!G1353=0,\"\",ESTUDIANTES!G1353)","v":""}]
[]
[{"$f":"DATOS!$B$3","v":"COLEGIO BACHILLERATO PCEI \"SIN FRONTERAS\""}]
[]
[null,"GRADO/CURSO:",{"$f":"DATOS!$E30","v":0}]
[null,"NIVEL:",{"$f":"DATOS!$F30","v":0}]
[null,"PARALELO:",{"$f":"DATOS!$G30","v":0}]
[null,"TUTOR:",{"$f":"DATOS!$H30","v":0}]
[]
["Nro","NOMBRES Y APELLIDOS","OBSERVACIONES"]
[1,{"$f":"IF(ESTUDIANTES!G1354=0,\"\",ESTUDIANTES!G1354)","v":""}]
[2,{"$f":"IF(ESTUDIANTES!G1355=0,\"\",ESTUDIANTES!G1355)","v":""}]
[3,{"$f":"IF(ESTUDIANTES!G1356=0,\"\",ESTUDIANTES!G1356)","v":""}]
[4,{"$f":"IF(ESTUDIANTES!G1357=0,\"\",ESTUDIANTES!G1357)","v":""}]
[5,{"$f":"IF(ESTUDIANTES!G1358=0,\"\",ESTUDIANTES!G1358)","v":""}]
[6,{"$f":"IF(ESTUDIANTES!G1359=0,\"\",ESTUDIANTES!G1359)","v":""}]
[7,{"$f":"IF(ESTUDIANTES!G1360=0,\"\",ESTUDIANTES!G1360)","v":""}]
[8,{"$f":"IF(ESTUDIANTES!G1361=0,\"\",ESTUDIANTES!G1361)","v":""}]
[9,{"$f":"IF(ESTUDIANTES!G1362=0,\"\",ESTUDIANTES!G1362)","v":""}]
[10,{"$f":"IF(ESTUDIANTES!G1363=0,\"\",ESTUDIANTES!G1363)","v":""}]
[11,{"$f":"IF(ESTUDIANTES!G1364=0,\"\",ESTUDIANTES!G1364)","v":""}]
[12,{"$f":"IF(ESTUDIANTES!G1365=0,\"\",ESTUDIANTES!G1365)","v":""}]
[13,{"$f":"IF(ESTUDIANTES!G1366=0,\"\",ESTUDIANTES!G1366)","v":""}]
[14,{"$f":"IF(ESTUDIANTES!G1367=0,\"\",ESTUDIANTES!G1367)","v":""}]
[15,{"$f":"IF(ESTUDIANTES!G1368=0,\"\",ESTUDIANTES!G1368)","v":""}]
[16,{"$f":"IF(ESTUDIANTES!G1369=0,\"\",ESTUDIANTES!G1369)","v":""}]
[17,{"$f":"IF(ESTUDIANTES!G1370=0,\"\",ESTUDIANTES!G1370)","v":""}]
[18,{"$f":"IF(ESTUDIANTES!G1371=0,\"\",ESTUDIANTES!G1371)","v":""}]
[19,{"$f":"IF(ESTUDIANTES!G1372=0,\"\",ESTUDIANTES!G1372)","v":""}]
[20,{"$f":"IF(ESTUDIANTES!G1373=0,\"\",ESTUDIANTES!G1373)","v":""}]
[21,{"$f":"IF(ESTUDIANTES!G1374=0,\"\",ESTUDIANTES!G1374)","v":""}]
[22,{"$f":"IF(ESTUDIANTES!G1375=0,\"\",ESTUDIANTES!G1375)","v":""}]
[23,{"$f":"IF(ESTUDIANTES!G1376=0,\"\",ESTUDIANTES!G1376)","v":""}]
[24,{"$f":"IF(ESTUDIANTES!G1377=0,\"\",ESTUDIANTES!G1377)","v":""}]
[25,{"$f":"IF(ESTUDIANTES!G1378=0,\"\",ESTUDIANTES!G1378)","v":""}]
[26,{"$f":"IF(ESTUDIANTES!G1379=0,\"\",ESTUDIANTES!G1379)","v":""}]
[27,{"$f":"IF(ESTUDIANTES!G1380=0,\"\",ESTUDIANTES!G1380)","v":""}]
[28,{"$f":"IF(ESTUDIANTES!G1381=0,\"\",ESTUDIANTES!G1381)","v":""}]
[29,{"$f":"IF(ESTUDIANTES!G1382=0,\"\",ESTUDIANTES!G1382)","v":""}]
[30,{"$f":"IF(ESTUDIANTES!G1383=0,\"\",ESTUDIANTES!G1383)","v":""}]
[31,{"$f":"IF(ESTUDIANTES!G1384=0,\"\",ESTUDIANTES!G1384)","v":""}]
[32,{"$f":"IF(ESTUDIANTES!G1385=0,\"\",ESTUDIANTES!G1385)","v":""}]
[33,{"$f":"IF(ESTUDIANTES!G1386=0,\"\",ESTUDIANTES!G1386)","v":""}]
[34,{"$f":"IF(ESTUDIANTES!G1387=0,\"\",ESTUDIANTES!G1387)","v":""}]
[35,{"$f":"IF(ESTUDIANTES!G1388=0,\"\",ESTUDIANTES!G1388)","v":""}]
[36,{"$f":"IF(ESTUDIANTES!G1389=0,\"\",ESTUDIANTES!G1389)","v":""}]
[37,{"$f":"IF(ESTUDIANTES!G1390=0,\"\",ESTUDIANTES!G1390)","v":""}]
[38,{"$f":"IF(ESTUDIANTES!G1391=0,\"\",ESTUDIANTES!G1391)","v":""}]
[39,{"$f":"IF(ESTUDIANTES!G1392=0,\"\",ESTUDIANTES!G1392)","v":""}]
[40,{"$f":"IF(ESTUDIANTES!G1393=0,\"\",ESTUDIANTES!G1393)","v":""}]
[41,{"$f":"IF(ESTUDIANTES!G1394=0,\"\",ESTUDIANTES!G1394)","v":""}]
[42,{"$f":"IF(ESTUDIANTES!G1395=0,\"\",ESTUDIANTES!G1395)","v":""}]
[43,{"$f":"IF(ESTUDIANTES!G1396=0,\"\",ESTUDIANTES!G1396)","v":""}]
[44,{"$f":"IF(ESTUDIANTES!G1397=0,\"\",ESTUDIANTES!G1397)","v":""}]
[45,{"$f":"IF(ESTUDIANTES!G1398=0,\"\",ESTUDIANTES!G1398)","v":""}]
[46,{"$f":"IF(ESTUDIANTES!G1399=0,\"\",ESTUDIANTES!G1399)","v":""}]
[47,{"$f":"IF(ESTUDIANTES!G1400=0,\"\",ESTUDIANTES!G1400)","v":""}]
[48,{"$f":"IF(ESTUDIANTES!G1401=0,\"\",ESTUDIANTES!G1401)","v":""}]
[49,{"$f":"IF(ESTUDIANTES!G1402=0,\"\",ESTUDIANTES!G1402)","v":""}]
[50,{"$f":"IF(ESTUDIANTES!G1403=0,\"\",ESTUDIANTES!G1403)","v":""}]
[]
[{"$f":"DATOS!$B$3","v":"COLEGIO BACHILLERATO PCEI \"SIN FRONTERAS\""}]
[]
[null,"GRADO/CURSO:",{"$f":"DATOS!$E31","v":0}]
[null,"NIVEL:",{"$f":"DATOS!$F31","v":0}]
[null,"PARALELO:",{"$f":"DATOS!$G31","v":0}]
[null,"TUTOR:",{"$f":"DATOS!$H31","v":0}]
[]
["Nro","NOMBRES Y APELLIDOS","OBSERVACIONES"]
[1,{"$f":"IF(ESTUDIANTES!G1404=0,\"\",ESTUDIANTES!G1404)","v":""}]
[2,{"$f":"IF(ESTUDIANTES!G1405=0,\"\",ESTUDIANTES!G1405)","v":""}]
[3,{"$f":"IF(ESTUDIANTES!G1406=0,\"\",ESTUDIANTES!G1406)","v":""}]
[4,{"$f":"IF(ESTUDIANTES!G1407=0,\"\",ESTUDIANTES!G1407)","v":""}]
[5,{"$f":"IF(ESTUDIANTES!G1408=0,\"\",ESTUDIANTES!G1408)","v":""}]
[6,{"$f":"IF(ESTUDIANTES!G1409=0,\"\",ESTUDIANTES!G1409)","v":""}]
[7,{"$f":"IF(ESTUDIANTES!G1410=0,\"\",ESTUDIANTES!G1410)","v":""}]
[8,{"$f":"IF(ESTUDIANTES!G1411=0,\"\",ESTUDIANTES!G1411)","v":""}]
[9,{"$f":"IF(ESTUDIANTES!G1412=0,\"\",ESTUDIANTES!G1412)","v":""}]
[10,{"$f":"IF(ESTUDIANTES!G1413=0,\"\",ESTUDIANTES!G1413)","v":""}]
[11,{"$f":"IF(ESTUDIANTES!G1414=0,\"\",ESTUDIANTES!G1414)","v":""}]
[12,{"$f":"IF(ESTUDIANTES!G1415=0,\"\",ESTUDIANTES!G1415)","v":""}]
[13,{"$f":"IF(ESTUDIANTES!G1416=0,\"\",ESTUDIANTES!G1416)","v":""}]
[14,{"$f":"IF(ESTUDIANTES!G1417=0,\"\",ESTUDIANTES!G1417)","v":""}]
[15,{"$f":"IF(ESTUDIANTES!G1418=0,\"\",ESTUDIANTES!G1418)","v":""}]
[16,{"$f":"IF(ESTUDIANTES!G1419=0,\"\",ESTUDIANTES!G1419)","v":""}]
[17,{"$f":"IF(ESTUDIANTES!G1420=0,\"\",ESTUDIANTES!G1420)","v":""}]
[18,{"$f":"IF(ESTUDIANTES!G1421=0,\"\",ESTUDIANTES!G1421)","v":""}]
[19,{"$f":"IF(ESTUDIANTES!G1422=0,\"\",ESTUDIANTES!G1422)","v":""}]
[20,{"$f":"IF(ESTUDIANTES!G1423=0,\"\",ESTUDIANTES!G1423)","v":""}]
[21,{"$f":"IF(ESTUDIANTES!G1424=0,\"\",ESTUDIANTES!G1424)","v":""}]
[22,{"$f":"IF(ESTUDIANTES!G1425=0,\"\",ESTUDIANTES!G1425)","v":""}]
[23,{"$f":"IF(ESTUDIANTES!G1426=0,\"\",ESTUDIANTES!G1426)","v":""}]
[24,{"$f":"IF(ESTUDIANTES!G1427=0,\"\",ESTUDIANTES!G1427)","v":""}]
[25,{"$f":"IF(ESTUDIANTES!G1428=0,\"\",ESTUDIANTES!G1428)","v":""}]
[26,{"$f":"IF(ESTUDIANTES!G1429=0,\"\",ESTUDIANTES!G1429)","v":""}]
[27,{"$f":"IF(ESTUDIANTES!G1430=0,\"\",ESTUDIANTES!G1430)","v":""}]
[28,{"$f":"IF(ESTUDIANTES!G1431=0,\"\",ESTUDIANTES!G1431)","v":""}]
[29,{"$f":"IF(ESTUDIANTES!G1432=0,\"\",ESTUDIANTES!G1432)","v":""}]
[30,{"$f":"IF(ESTUDIANTES!G1433=0,\"\",ESTUDIANTES!G1433)","v":""}]
[31,{"$f":"IF(ESTUDIANTES!G1434=0,\"\",ESTUDIANTES!G1434)","v":""}]
[32,{"$f":"IF(ESTUDIANTES!G1435=0,\"\",ESTUDIANTES!G1435)","v":""}]
[33,{"$f":"IF(ESTUDIANTES!G1436=0,\"\",ESTUDIANTES!G1436)","v":""}]
[34,{"$f":"IF(ESTUDIANTES!G1437=0,\"\",ESTUDIANTES!G1437)","v":""}]
[35,{"$f":"IF(ESTUDIANTES!G1438=0,\"\",ESTUDIANTES!G1438)","v":""}]
[36,{"$f":"IF(ESTUDIANTES!G1439=0,\"\",ESTUDIANTES!G1439)","v":""}]
[37,{"$f":"IF(ESTUDIANTES!G1440=0,\"\",ESTUDIANTES!G1440)","v":""}]
[38,{"$f":"IF(ESTUDIANTES!G1441=0,\"\",ESTUDIANTES!G1441)","v":""}]
[39,{"$f":"IF(ESTUDIANTES!G1442=0,\"\",ESTUDIANTES!G1442)","v":""}]
[40,{"$f":"IF(ESTUDIANTES!G1443=0,\"\",ESTUDIANTES!G1443)","v":""}]
[41,{"$f":"IF(ESTUDIANTES!G1444=0,\"\",ESTUDIANTES!G1444)","v":""}]
[42,{"$f":"IF(ESTUDIANTES!G1445=0,\"\",ESTUDIANTES!G1445)","v":""}]
[43,{"$f":"IF(ESTUDIANTES!G1446=0,\"\",ESTUDIANTES!G1446)","v":""}]
[44,{"$f":"IF(ESTUDIANTES!G1447=0,\"\",ESTUDIANTES!G1447)","v":""}]
[45,{"$f":"IF(ESTUDIANTES!G1448=0,\"\",ESTUDIANTES!G1448)","v":""}]
[46,{"$f":"IF(ESTUDIANTES!G1449=0,\"\",ESTUDIANTES!G1449)","v":""}]
[47,{"$f":"IF(ESTUDIANTES!G1450=0,\"\",ESTUDIANTES!G1450)","v":""}]
[48,{"$f":"IF(ESTUDIANTES!G1451=0,\"\",ESTUDIANTES!G1451)","v":""}]
[49,{"$f":"IF(ESTUDIANTES!G1452=0,\"\",ESTUDIANTES!G1452)","v":""}]
[50,{"$f":"IF(ESTUDIANTES!G1453=0,\"\",ESTUDIANTES!G1453)","v":""}]
[]
[{"$f":"DATOS!$B$3","v":"COLEGIO BACHILLERATO PCEI \"SIN FRONTERAS\""}]
[]
[null,"GRADO/CURSO:",{"$f":"DATOS!$E32","v":0}]
[null,"NIVEL:",{"$f":"DATOS!$F32","v":0}]
[null,"PARALELO:",{"$f":"DATOS!$G32","v":0}]
[null,"TUTOR:",{"$f":"DATOS!$H32","v":0}]
[]
["Nro","NOMBRES Y APELLIDOS","OBSERVACIONES"]
[1,{"$f":"IF(ESTUDIANTES!G1454=0,\"\",ESTUDIANTES!G1454)","v":""}]
[2,{"$f":"IF(ESTUDIANTES!G1455=0,\"\",ESTUDIANTES!G1455)","v":""}]
[3,{"$f":"IF(ESTUDIANTES!G1456=0,\"\",ESTUDIANTES!G1456)","v":""}]
[4,{"$f":"IF(ESTUDIANTES!G1457=0,\"\",ESTUDIANTES!G1457)","v":""}]
[5,{"$f":"IF(ESTUDIANTES!G1458=0,\"\",ESTUDIANTES!G1458)","v":""}]
[6,{"$f":"IF(ESTUDIANTES!G1459=0,\"\",ESTUDIANTES!G1459)","v":""}]
[7,{"$f":"IF(ESTUDIANTES!G1460=0,\"\",ESTUDIANTES!G1460)","v":""}]
[8,{"$f":"IF(ESTUDIANTES!G1461=0,\"\",ESTUDIANTES!G1461)","v":""}]
[9,{"$f":"IF(ESTUDIANTES!G1462=0,\"\",ESTUDIANTES!G1462)","v":""}]
[10,{"$f":"IF(ESTUDIANTES!G1463=0,\"\",ESTUDIANTES!G1463)","v":""}]
[11,{"$f":"IF(ESTUDIANTES!G1464=0,\"\",ESTUDIANTES!G1464)","v":""}]
[12,{"$f":"IF(ESTUDIANTES!G1465=0,\"\",ESTUDIANTES!G1465)","v":""}]
[13,{"$f":"IF(ESTUDIANTES!G1466=0,\"\",ESTUDIANTES!G1466)","v":""}]
[14,{"$f":"IF(ESTUDIANTES!G1467=0,\"\",ESTUDIANTES!G1467)","v":""}]
[15,{"$f":"IF(ESTUDIANTES!G1468=0,\"\",ESTUDIANTES!G1468)","v":""}]
[16,{"$f":"IF(ESTUDIANTES!G1469=0,\"\",ESTUDIANTES!G1469)","v":""}]
[17,{"$f":"IF(ESTUDIANTES!G1470=0,\"\",ESTUDIANTES!G1470)","v":""}]
[18,{"$f":"IF(ESTUDIANTES!G1471=0,\"\",ESTUDIANTES!G1471)","v":""}]
[19,{"$f":"IF(ESTUDIANTES!G1472=0,\"\",ESTUDIANTES!G1472)","v":""}]
[20,{"$f":"IF(ESTUDIANTES!G1473=0,\"\",ESTUDIANTES!G1473)","v":""}]
[21,{"$f":"IF(ESTUDIANTES!G1474=0,\"\",ESTUDIANTES!G1474)","v":""}]
[22,{"$f":"IF(ESTUDIANTES!G1475=0,\"\",ESTUDIANTES!G1475)","v":""}]
[23,{"$f":"IF(ESTUDIANTES!G1476=0,\"\",ESTUDIANTES!G1476)","v":""}]
[24,{"$f":"IF(ESTUDIANTES!G1477=0,\"\",ESTUDIANTES!G1477)","v":""}]
[25,{"$f":"IF(ESTUDIANTES!G1478=0,\"\",ESTUDIANTES!G1478)","v":""}]
[26,{"$f":"IF(ESTUDIANTES!G1479=0,\"\",ESTUDIANTES!G1479)","v":""}]
[27,{"$f":"IF(ESTUDIANTES!G1480=0,\"\",ESTUDIANTES!G1480)","v":""}]
[28,{"$f":"IF(ESTUDIANTES!G1481=0,\"\",ESTUDIANTES!G1481)","v":""}]
[29,{"$f":"IF(ESTUDIANTES!G1482=0,\"\",ESTUDIANTES!G1482)","v":""}]
[30,{"$f":"IF(ESTUDIANTES!G1483=0,\"\",ESTUDIANTES!G1483)","v":""}]
[31,{"$f":"IF(ESTUDIANTES!G1484=0,\"\",ESTUDIANTES!G1484)","v":""}]
[32,{"$f":"IF(ESTUDIANTES!G1485=0,\"\",ESTUDIANTES!G1485)","v":""}]
[33,{"$f":"IF(ESTUDIANTES!G1486=0,\"\",ESTUDIANTES!G1486)","v":""}]
[34,{"$f":"IF(ESTUDIANTES!G1487=0,\"\",ESTUDIANTES!G1487)","v":""}]
[35,{"$f":"IF(ESTUDIANTES!G1488=0,\"\",ESTUDIANTES!G1488)","v":""}]
[36,{"$f":"IF(ESTUDIANTES!G1489=0,\"\",ESTUDIANTES!G1489)","v":""}]
[37,{"$f":"IF(ESTUDIANTES!G1490=0,\"\",ESTUDIANTES!G1490)","v":""}]
[38,{"$f":"IF(ESTUDIANTES!G1491=0,\"\",ESTUDIANTES!G1491)","v":""}]
[39,{"$f":"IF(ESTUDIANTES!G1492=0,\"\",ESTUDIANTES!G1492)","v":""}]
[40,{"$f":"IF(ESTUDIANTES!G1493=0,\"\",ESTUDIANTES!G1493)","v":""}]
[41,{"$f":"IF(ESTUDIANTES!G1494=0,\"\",ESTUDIANTES!G1494)","v":""}]
[42,{"$f":"IF(ESTUDIANTES!G1495=0,\"\",ESTUDIANTES!G1495)","v":""}]
[43,{"$f":"IF(ESTUDIANTES!G1496=0,\"\",ESTUDIANTES!G1496)","v":""}]
[44,{"$f":"IF(ESTUDIANTES!G1497=0,\"\",ESTUDIANTES!G1497)","v":""}]
[45,{"$f":"IF(ESTUDIANTES!G1498=0,\"\",ESTUDIANTES!G1498)","v":""}]
[46,{"$f":"IF(ESTUDIANTES!G1499=0,\"\",ESTUDIANTES!G1499)","v":""}]
[47,{"$f":"IF(ESTUDIANTES!G1500=0,\"\",ESTUDIANTES!G1500)","v":""}]
[48,{"$f":"IF(ESTUDIANTES!G1501=0,\"\",ESTUDIANTES!G1501)","v":""}]
[49,{"$f":"IF(ESTUDIANTES!G1502=0,\"\",ESTUDIANTES!G1502)","v":""}]
[50,{"$f":"IF(ESTUDIANTES!G1503=0,\"\",ESTUDIANTES!G1503)","v":""}]
[]
[{"$f":"DATOS!$B$3","v":"COLEGIO BACHILLERATO PCEI \"SIN FRONTERAS\""}]
[]
[null,"GRADO/CURSO:",{"$f":"DATOS!$E33","v":0}]
[null,"NIVEL:",{"$f":"DATOS!$F33","v":0}]
[null,"PARALELO:",{"$f":"DATOS!$G33","v":0}]
[null,"TUTOR:",{"$f":"DATOS!$H33","v":0}]
[]
["Nro","NOMBRES Y APELLIDOS","OBSERVACIONES"]
[1,{"$f":"IF(ESTUDIANTES!G1504=0,\"\",ESTUDIANTES!G1504)","v":""}]
[2,{"$f":"IF(ESTUDIANTES!G1505=0,\"\",ESTUDIANTES!G1505)","v":""}]
[3,{"$f":"IF(ESTUDIANTES!G1506=0,\"\",ESTUDIANTES!G1506)","v":""}]
[4,{"$f":"IF(ESTUDIANTES!G1507=0,\"\",ESTUDIANTES!G1507)","v":""}]
[5,{"$f":"IF(ESTUDIANTES!G1508=0,\"\",ESTUDIANTES!G1508)","v":""}]
[6,{"$f":"IF(ESTUDIANTES!G1509=0,\"\",ESTUDIANTES!G1509)","v":""}]
[7,{"$f":"IF(ESTUDIANTES!G1510=0,\"\",ESTUDIANTES!G1510)","v":""}]
[8,{"$f":"IF(ESTUDIANTES!G1511=0,\"\",ESTUDIANTES!G1511)","v":""}]
[9,{"$f":"IF(ESTUDIANTES!G1512=0,\"\",ESTUDIANTES!G1512)","v":""}]
[10,{"$f":"IF(ESTUDIANTES!G1513=0,\"\",ESTUDIANTES!G1513)","v":""}]
[11,{"$f":"IF(ESTUDIANTES!G1514=0,\"\",ESTUDIANTES!G1514)","v":""}]
[12,{"$f":"IF(ESTUDIANTES!G1515=0,\"\",ESTUDIANTES!G1515)","v":""}]
[13,{"$f":"IF(ESTUDIANTES!G1516=0,\"\",ESTUDIANTES!G1516)","v":""}]
[14,{"$f":"IF(ESTUDIANTES!G1517=0,\"\",ESTUDIANTES!G1517)","v":""}]
[15,{"$f":"IF(ESTUDIANTES!G1518=0,\"\",ESTUDIANTES!G1518)","v":""}]
[16,{"$f":"IF(ESTUDIANTES!G1519=0,\"\",ESTUDIANTES!G1519)","v":""}]
[17,{"$f":"IF(ESTUDIANTES!G1520=0,\"\",ESTUDIANTES!G1520)","v":""}]
[18,{"$f":"IF(ESTUDIANTES!G1521=0,\"\",ESTUDIANTES!G1521)","v":""}]
[19,{"$f":"IF(ESTUDIANTES!G1522=0,\"\",ESTUDIANTES!G1522)","v":""}]
[20,{"$f":"IF(ESTUDIANTES!G1523=0,\"\",ESTUDIANTES!G1523)","v":""}]
[21,{"$f":"IF(ESTUDIANTES!G1524=0,\"\",ESTUDIANTES!G1524)","v":""}]
[22,{"$f":"IF(ESTUDIANTES!G1525=0,\"\",ESTUDIANTES!G1525)","v":""}]
[23,{"$f":"IF(ESTUDIANTES!G1526=0,\"\",ESTUDIANTES!G1526)","v":""}]
[24,{"$f":"IF(ESTUDIANTES!G1527=0,\"\",ESTUDIANTES!G1527)","v":""}]
[25,{"$f":"IF(ESTUDIANTES!G1528=0,\"\",ESTUDIANTES!G1528)","v":""}]
[26,{"$f":"IF(ESTUDIANTES!G1529=0,\"\",ESTUDIANTES!G1529)","v":""}]
[27,{"$f":"IF(ESTUDIANTES!G1530=0,\"\",ESTUDIANTES!G1530)","v":""}]
[28,{"$f":"IF(ESTUDIANTES!G1531=0,\"\",ESTUDIANTES!G1531)","v":""}]
[29,{"$f":"IF(ESTUDIANTES!G1532=0,\"\",ESTUDIANTES!G1532)","v":""}]
[30,{"$f":"IF(ESTUDIANTES!G1533=0,\"\",ESTUDIANTES!G1533)","v":""}]
[31,{"$f":"IF(ESTUDIANTES!G1534=0,\"\",ESTUDIANTES!G1534)","v":""}]
[32,{"$f":"IF(ESTUDIANTES!G1535=0,\"\",ESTUDIANTES!G1535)","v":""}]
[33,{"$f":"IF(ESTUDIANTES!G1536=0,\"\",ESTUDIANTES!G1536)","v":""}]
[34,{"$f":"IF(ESTUDIANTES!G1537=0,\"\",ESTUDIANTES!G1537)","v":""}]
[35,{"$f":"IF(ESTUDIANTES!G1538=0,\"\",ESTUDIANTES!G1538)","v":""}]
[36,{"$f":"IF(ESTUDIANTES!G1539=0,\"\",ESTUDIANTES!G1539)","v":""}]
[37,{"$f":"IF(ESTUDIANTES!G1540=0,\"\",ESTUDIANTES!G1540)","v":""}]
[38,{"$f":"IF(ESTUDIANTES!G1541=0,\"\",ESTUDIANTES!G1541)","v":""}]
[39,{"$f":"IF(ESTUDIANTES!G1542=0,\"\",ESTUDIANTES!G1542)","v":""}]
[40,{"$f":"IF(ESTUDIANTES!G1543=0,\"\",ESTUDIANTES!G1543)","v":""}]
[41,{"$f":"IF(ESTUDIANTES!G1544=0,\"\",ESTUDIANTES!G1544)","v":""}]
[42,{"$f":"IF(ESTUDIANTES!G1545=0,\"\",ESTUDIANTES!G1545)","v":""}]
[43,{"$f":"IF(ESTUDIANTES!G1546=0,\"\",ESTUDIANTES!G1546)","v":""}]
[44,{"$f":"IF(ESTUDIANTES!G1547=0,\"\",ESTUDIANTES!G1547)","v":""}]
[45,{"$f":"IF(ESTUDIANTES!G1548=0,\"\",ESTUDIANTES!G1548)","v":""}]
[46,{"$f":"IF(ESTUDIANTES!G1549=0,\"\",ESTUDIANTES!G1549)","v":""}]
[47,{"$f":"IF(ESTUDIANTES!G1550=0,\"\",ESTUDIANTES!G1550)","v":""}]
[48,{"$f":"IF(ESTUDIANTES!G1551=0,\"\",ESTUDIANTES!G1551)","v":""}]
[49,{"$f":"IF(ESTUDIANTES!G1552=0,\"\",ESTUDIANTES!G1552)","v":""}]
[50,{"$f":"IF(ESTUDIANTES!G1553=0,\"\",ESTUDIANTES!G1553)","v":""}]
[]
[{"$f":"DATOS!$B$3","v":"COLEGIO BACHILLERATO PCEI \"SIN FRONTERAS\""}]
[]
[null,"GRADO/CURSO:",{"$f":"DATOS!$E34","v":0}]
[null,"NIVEL:",{"$f":"DATOS!$F34","v":0}]
[null,"PARALELO:",{"$f":"DATOS!$G34","v":0}]
[null,"TUTOR:",{"$f":"DATOS!$H34","v":0}]
[]
["Nro","NOMBRES Y APELLIDOS","OBSERVACIONES"]
[1,{"$f":"IF(ESTUDIANTES!G1554=0,\"\",ESTUDIANTES!G1554)","v":""}]
[2,{"$f":"IF(ESTUDIANTES!G1555=0,\"\",ESTUDIANTES!G1555)","v":""}]
[3,{"$f":"IF(ESTUDIANTES!G1556=0,\"\",ESTUDIANTES!G1556)","v":""}]
[4,{"$f":"IF(ESTUDIANTES!G1557=0,\"\",ESTUDIANTES!G1557)","v":""}]
[5,{"$f":"IF(ESTUDIANTES!G1558=0,\"\",ESTUDIANTES!G1558)","v":""}]
[6,{"$f":"IF(ESTUDIANTES!G1559=0,\"\",ESTUDIANTES!G1559)","v":""}]
[7,{"$f":"IF(ESTUDIANTES!G1560=0,\"\",ESTUDIANTES!G1560)","v":""}]
[8,{"$f":"IF(ESTUDIANTES!G1561=0,\"\",ESTUDIANTES!G1561)","v":""}]
[9,{"$f":"IF(ESTUDIANTES!G1562=0,\"\",ESTUDIANTES!G1562)","v":""}]
[10,{"$f":"IF(ESTUDIANTES!G1563=0,\"\",ESTUDIANTES!G1563)","v":""}]
[11,{"$f":"IF(ESTUDIANTES!G1564=0,\"\",ESTUDIANTES!G1564)","v":""}]
[12,{"$f":"IF(ESTUDIANTES!G1565=0,\"\",ESTUDIANTES!G1565)","v":""}]
[13,{"$f":"IF(ESTUDIANTES!G1566=0,\"\",ESTUDIANTES!G1566)","v":""}]
[14,{"$f":"IF(ESTUDIANTES!G1567=0,\"\",ESTUDIANTES!G1567)","v":""}]
[15,{"$f":"IF(ESTUDIANTES!G1568=0,\"\",ESTUDIANTES!G1568)","v":""}]
[16,{"$f":"IF(ESTUDIANTES!G1569=0,\"\",ESTUDIANTES!G1569)","v":""}]
[17,{"$f":"IF(ESTUDIANTES!G1570=0,\"\",ESTUDIANTES!G1570)","v":""}]
[18,{"$f":"IF(ESTUDIANTES!G1571=0,\"\",ESTUDIANTES!G1571)","v":""}]
[19,{"$f":"IF(ESTUDIANTES!G1572=0,\"\",ESTUDIANTES!G1572)","v":""}]
[20,{"$f":"IF(ESTUDIANTES!G1573=0,\"\",ESTUDIANTES!G1573)","v":""}]
[21,{"$f":"IF(ESTUDIANTES!G1574=0,\"\",ESTUDIANTES!G1574)","v":""}]
[22,{"$f":"IF(ESTUDIANTES!G1575=0,\"\",ESTUDIANTES!G1575)","v":""}]
[23,{"$f":"IF(ESTUDIANTES!G1576=0,\"\",ESTUDIANTES!G1576)","v":""}]
[24,{"$f":"IF(ESTUDIANTES!G1577=0,\"\",ESTUDIANTES!G1577)","v":""}]
[25,{"$f":"IF(ESTUDIANTES!G1578=0,\"\",ESTUDIANTES!G1578)","v":""}]
[26,{"$f":"IF(ESTUDIANTES!G1579=0,\"\",ESTUDIANTES!G1579)","v":""}]
[27,{"$f":"IF(ESTUDIANTES!G1580=0,\"\",ESTUDIANTES!G1580)","v":""}]
[28,{"$f":"IF(ESTUDIANTES!G1581=0,\"\",ESTUDIANTES!G1581)","v":""}]
[29,{"$f":"IF(ESTUDIANTES!G1582=0,\"\",ESTUDIANTES!G1582)","v":""}]
[30,{"$f":"IF(ESTUDIANTES!G1583=0,\"\",ESTUDIANTES!G1583)","v":""}]
[31,{"$f":"IF(ESTUDIANTES!G1584=0,\"\",ESTUDIANTES!G1584)","v":""}]
[32,{"$f":"IF(ESTUDIANTES!G1585=0,\"\",ESTUDIANTES!G1585)","v":""}]
[33,{"$f":"IF(ESTUDIANTES!G1586=0,\"\",ESTUDIANTES!G1586)","v":""}]
[34,{"$f":"IF(ESTUDIANTES!G1587=0,\"\",ESTUDIANTES!G1587)","v":""}]
[35,{"$f":"IF(ESTUDIANTES!G1588=0,\"\",ESTUDIANTES!G1588)","v":""}]
[36,{"$f":"IF(ESTUDIANTES!G1589=0,\"\",ESTUDIANTES!G1589)","v":""}]
[37,{"$f":"IF(ESTUDIANTES!G1590=0,\"\",ESTUDIANTES!G1590)","v":""}]
[38,{"$f":"IF(ESTUDIANTES!G1591=0,\"\",ESTUDIANTES!G1591)","v":""}]
[39,{"$f":"IF(ESTUDIANTES!G1592=0,\"\",ESTUDIANTES!G1592)","v":""}]
[40,{"$f":"IF(ESTUDIANTES!G1593=0,\"\",ESTUDIANTES!G1593)","v":""}]
[41,{"$f":"IF(ESTUDIANTES!G1594=0,\"\",ESTUDIANTES!G1594)","v":""}]
[42,{"$f":"IF(ESTUDIANTES!G1595=0,\"\",ESTUDIANTES!G1595)","v":""}]
[43,{"$f":"IF(ESTUDIANTES!G1596=0,\"\",ESTUDIANTES!G1596)","v":""}]
[44,{"$f":"IF(ESTUDIANTES!G1597=0,\"\",ESTUDIANTES!G1597)","v":""}]
[45,{"$f":"IF(ESTUDIANTES!G1598=0,\"\",ESTUDIANTES!G1598)","v":""}]
[46,{"$f":"IF(ESTUDIANTES!G1599=0,\"\",ESTUDIANTES!G1599)","v":""}]
[47,{"$f":"IF(ESTUDIANTES!G1600=0,\"\",ESTUDIANTES!G1600)","v":""}]
[48,{"$f":"IF(ESTUDIANTES!G1601=0,\"\",ESTUDIANTES!G1601)","v":""}]
[49,{"$f":"IF(ESTUDIANTES!G1602=0,\"\",ESTUDIANTES!G1602)","v":""}]
[50,{"$f":"IF(ESTUDIANTES!G1603=0,\"\",ESTUDIANTES!G1603)","v":""}]
[]
[{"$f":"DATOS!$B$3","v":"COLEGIO BACHILLERATO PCEI \"SIN FRONTERAS\""}]
[]
[null,"GRADO/CURSO:",{"$f":"DATOS!$E35","v":0}]
[null,"NIVEL:",{"$f":"DATOS!$F35","v":0}]
[null,"PARALELO:",{"$f":"DATOS!$G35","v":0}]
[null,"TUTOR:",{"$f":"DATOS!$H35","v":0}]
[]
["Nro","NOMBRES Y APELLIDOS","OBSERVACIONES"]
[1,{"$f":"IF(ESTUDIANTES!G1604=0,\"\",ESTUDIANTES!G1604)","v":""}]
[2,{"$f":"IF(ESTUDIANTES!G1605=0,\"\",ESTUDIANTES!G1605)","v":""}]
[3,{"$f":"IF(ESTUDIANTES!G1606=0,\"\",ESTUDIANTES!G1606)","v":""}]
[4,{"$f":"IF(ESTUDIANTES!G1607=0,\"\",ESTUDIANTES!G1607)","v":""}]
[5,{"$f":"IF(ESTUDIANTES!G1608=0,\"\",ESTUDIANTES!G1608)","v":""}]
[6,{"$f":"IF(ESTUDIANTES!G1609=0,\"\",ESTUDIANTES!G1609)","v":""}]
[7,{"$f":"IF(ESTUDIANTES!G1610=0,\"\",ESTUDIANTES!G1610)","v":""}]
[8,{"$f":"IF(ESTUDIANTES!G1611=0,\"\",ESTUDIANTES!G1611)","v":""}]
[9,{"$f":"IF(ESTUDIANTES!G1612=0,\"\",ESTUDIANTES!G1612)","v":""}]
[10,{"$f":"IF(ESTUDIANTES!G1613=0,\"\",ESTUDIANTES!G1613)","v":""}]
[11,{"$f":"IF(ESTUDIANTES!G1614=0,\"\",ESTUDIANTES!G1614)","v":""}]
[12,{"$f":"IF(ESTUDIANTES!G1615=0,\"\",ESTUDIANTES!G1615)","v":""}]
[13,{"$f":"IF(ESTUDIANTES!G1616=0,\"\",ESTUDIANTES!G1616)","v":""}]
[14,{"$f":"IF(ESTUDIANTES!G1617=0,\"\",ESTUDIANTES!G1617)","v":""}]
[15,{"$f":"IF(ESTUDIANTES!G1618=0,\"\",ESTUDIANTES!G1618)","v":""}]
[16,{"$f":"IF(ESTUDIANTES!G1619=0,\"\",ESTUDIANTES!G1619)","v":""}]
[17,{"$f":"IF(ESTUDIANTES!G1620=0,\"\",ESTUDIANTES!G1620)","v":""}]
[18,{"$f":"IF(ESTUDIANTES!G1621=0,\"\",ESTUDIANTES!G1621)","v":""}]
[19,{"$f":"IF(ESTUDIANTES!G1622=0,\"\",ESTUDIANTES!G1622)","v":""}]
[20,{"$f":"IF(ESTUDIANTES!G1623=0,\"\",ESTUDIANTES!G1623)","v":""}]
[21,{"$f":"IF(ESTUDIANTES!G1624=0,\"\",ESTUDIANTES!G1624)","v":""}]
[22,{"$f":"IF(ESTUDIANTES!G1625=0,\"\",ESTUDIANTES!G1625)","v":""}]
[23,{"$f":"IF(ESTUDIANTES!G1626=0,\"\",ESTUDIANTES!G1626)","v":""}]
[24,{"$f":"IF(ESTUDIANTES!G1627=0,\"\",ESTUDIANTES!G1627)","v":""}]
[25,{"$f":"IF(ESTUDIANTES!G1628=0,\"\",ESTUDIANTES!G1628)","v":""}]
[26,{"$f":"IF(ESTUDIANTES!G1629=0,\"\",ESTUDIANTES!G1629)","v":""}]
[27,{"$f":"IF(ESTUDIANTES!G1630=0,\"\",ESTUDIANTES!G1630)","v":""}]
[28,{"$f":"IF(ESTUDIANTES!G1631=0,\"\",ESTUDIANTES!G1631)","v":""}]
[29,{"$f":"IF(ESTUDIANTES!G1632=0,\"\",ESTUDIANTES!G1632)","v":""}]
[30,{"$f":"IF(ESTUDIANTES!G1633=0,\"\",ESTUDIANTES!G1633)","v":""}]
[31,{"$f":"IF(ESTUDIANTES!G1634=0,\"\",ESTUDIANTES!G1634)","v":""}]
[32,{"$f":"IF(ESTUDIANTES!G1635=0,\"\",ESTUDIANTES!G1635)","v":""}]
[33,{"$f":"IF(ESTUDIANTES!G1636=0,\"\",ESTUDIANTES!G1636)","v":""}]
[34,{"$f":"IF(ESTUDIANTES!G1637=0,\"\",ESTUDIANTES!G1637)","v":""}]
[35,{"$f":"IF(ESTUDIANTES!G1638=0,\"\",ESTUDIANTES!G1638)","v":""}]
[36,{"$f":"IF(ESTUDIANTES!G1639=0,\"\",ESTUDIANTES!G1639)","v":""}]
[37,{"$f":"IF(ESTUDIANTES!G1640=0,\"\",ESTUDIANTES!G1640)","v":""}]
[38,{"$f":"IF(ESTUDIANTES!G1641=0,\"\",ESTUDIANTES!G1641)","v":""}]
[39,{"$f":"IF(ESTUDIANTES!G1642=0,\"\",ESTUDIANTES!G1642)","v":""}]
[40,{"$f":"IF(ESTUDIANTES!G1643=0,\"\",ESTUDIANTES!G1643)","v":""}]
[41,{"$f":"IF(ESTUDIANTES!G1644=0,\"\",ESTUDIANTES!G1644)","v":""}]
[42,{"$f":"IF(ESTUDIANTES!G1645=0,\"\",ESTUDIANTES!G1645)","v":""}]
[43,{"$f":"IF(ESTUDIANTES!G1646=0,\"\",ESTUDIANTES!G1646)","v":""}]
[44,{"$f":"IF(ESTUDIANTES!G1647=0,\"\",ESTUDIANTES!G1647)","v":""}]
[45,{"$f":"IF(ESTUDIANTES!G1648=0,\"\",ESTUDIANTES!G1648)","v":""}]
[46,{"$f":"IF(ESTUDIANTES!G1649=0,\"\",ESTUDIANTES!G1649)","v":""}]
[47,{"$f":"IF(ESTUDIANTES!G1650=0,\"\",ESTUDIANTES!G1650)","v":""}]
[48,{"$f":"IF(ESTUDIANTES!G1651=0,\"\",ESTUDIANTES!G1651)","v":""}]
[49,{"$f":"IF(ESTUDIANTES!G1652=0,\"\",ESTUDIANTES!G1652)","v":""}]
[50,{"$f":"IF(ESTUDIANTES!G1653=0,\"\",ESTUDIANTES!G1653)","v":""}]
[]
[{"$f":"DATOS!$B$3","v":"COLEGIO BACHILLERATO PCEI \"SIN FRONTERAS\""}]
[]
[null,"GRADO/CURSO:",{"$f":"DATOS!$E36","v":0}]
[null,"NIVEL:",{"$f":"DATOS!$F36","v":0}]
[null,"PARALELO:",{"$f":"DATOS!$G36","v":0}]
[null,"TUTOR:",{"$f":"DATOS!$H36","v":0}]
[]
["Nro","NOMBRES Y APELLIDOS","OBSERVACIONES"]
[1,{"$f":"IF(ESTUDIANTES!G1654=0,\"\",ESTUDIANTES!G1654)","v":""}]
[2,{"$f":"IF(ESTUDIANTES!G1655=0,\"\",ESTUDIANTES!G1655)","v":""}]
[3,{"$f":"IF(ESTUDIANTES!G1656=0,\"\",ESTUDIANTES!G1656)","v":""}]
[4,{"$f":"IF(ESTUDIANTES!G1657=0,\"\",ESTUDIANTES!G1657)","v":""}]
[5,{"$f":"IF(ESTUDIANTES!G1658=0,\"\",ESTUDIANTES!G1658)","v":""}]
[6,{"$f":"IF(ESTUDIANTES!G1659=0,\"\",ESTUDIANTES!G1659)","v":""}]
[7,{"$f":"IF(ESTUDIANTES!G1660=0,\"\",ESTUDIANTES!G1660)","v":""}]
[8,{"$f":"IF(ESTUDIANTES!G1661=0,\"\",ESTUDIANTES!G1661)","v":""}]
[9,{"$f":"IF(ESTUDIANTES!G1662=0,\"\",ESTUDIANTES!G1662)","v":""}]
[10,{"$f":"IF(ESTUDIANTES!G1663=0,\"\",ESTUDIANTES!G1663)","v":""}]
[11,{"$f":"IF(ESTUDIANTES!G1664=0,\"\",ESTUDIANTES!G1664)","v":""}]
[12,{"$f":"IF(ESTUDIANTES!G1665=0,\"\",ESTUDIANTES!G1665)","v":""}]
[13,{"$f":"IF(ESTUDIANTES!G1666=0,\"\",ESTUDIANTES!G1666)","v":""}]
[14,{"$f":"IF(ESTUDIANTES!G1667=0,\"\",ESTUDIANTES!G1667)","v":""}]
[15,{"$f":"IF(ESTUDIANTES!G1668=0,\"\",ESTUDIANTES!G1668)","v":""}]
[16,{"$f":"IF(ESTUDIANTES!G1669=0,\"\",ESTUDIANTES!G1669)","v":""}]
[17,{"$f":"IF(ESTUDIANTES!G1670=0,\"\",ESTUDIANTES!G1670)","v":""}]
[18,{"$f":"IF(ESTUDIANTES!G1671=0,\"\",ESTUDIANTES!G1671)","v":""}]
[19,{"$f":"IF(ESTUDIANTES!G1672=0,\"\",ESTUDIANTES!G1672)","v":""}]
[20,{"$f":"IF(ESTUDIANTES!G1673=0,\"\",ESTUDIANTES!G1673)","v":""}]
[21,{"$f":"IF(ESTUDIANTES!G1674=0,\"\",ESTUDIANTES!G1674)","v":""}]
[22,{"$f":"IF(ESTUDIANTES!G1675=0,\"\",ESTUDIANTES!G1675)","v":""}]
[23,{"$f":"IF(ESTUDIANTES!G1676=0,\"\",ESTUDIANTES!G1676)","v":""}]
[24,{"$f":"IF(ESTUDIANTES!G1677=0,\"\",ESTUDIANTES!G1677)","v":""}]
[25,{"$f":"IF(ESTUDIANTES!G1678=0,\"\",ESTUDIANTES!G1678)","v":""}]
[26,{"$f":"IF(ESTUDIANTES!G1679=0,\"\",ESTUDIANTES!G1679)","v":""}]
[27,{"$f":"IF(ESTUDIANTES!G1680=0,\"\",ESTUDIANTES!G1680)","v":""}]
[28,{"$f":"IF(ESTUDIANTES!G1681=0,\"\",ESTUDIANTES!G1681)","v":""}]
[29,{"$f":"IF(ESTUDIANTES!G1682=0,\"\",ESTUDIANTES!G1682)","v":""}]
[30,{"$f":"IF(ESTUDIANTES!G1683=0,\"\",ESTUDIANTES!G1683)","v":""}]
[31,{"$f":"IF(ESTUDIANTES!G1684=0,\"\",ESTUDIANTES!G1684)","v":""}]
[32,{"$f":"IF(ESTUDIANTES!G1685=0,\"\",ESTUDIANTES!G1685)","v":""}]
[33,{"$f":"IF(ESTUDIANTES!G1686=0,\"\",ESTUDIANTES!G1686)","v":""}]
[34,{"$f":"IF(ESTUDIANTES!G1687=0,\"\",ESTUDIANTES!G1687)","v":""}]
[35,{"$f":"IF(ESTUDIANTES!G1688=0,\"\",ESTUDIANTES!G1688)","v":""}]
[36,{"$f":"IF(ESTUDIANTES!G1689=0,\"\",ESTUDIANTES!G1689)","v":""}]
[37,{"$f":"IF(ESTUDIANTES!G1690=0,\"\",ESTUDIANTES!G1690)","v":""}]
[38,{"$f":"IF(ESTUDIANTES!G1691=0,\"\",ESTUDIANTES!G1691)","v":""}]
[39,{"$f":"IF(ESTUDIANTES!G1692=0,\"\",ESTUDIANTES!G1692)","v":""}]
[40,{"$f":"IF(ESTUDIANTES!G1693=0,\"\",ESTUDIANTES!G1693)","v":""}]
[41,{"$f":"IF(ESTUDIANTES!G1694=0,\"\",ESTUDIANTES!G1694)","v":""}]
[42,{"$f":"IF(ESTUDIANTES!G1695=0,\"\",ESTUDIANTES!G1695)","v":""}]
[43,{"$f":"IF(ESTUDIANTES!G1696=0,\"\",ESTUDIANTES!G1696)","v":""}]
[44,{"$f":"IF(ESTUDIANTES!G1697=0,\"\",ESTUDIANTES!G1697)","v":""}]
[45,{"$f":"IF(ESTUDIANTES!G1698=0,\"\",ESTUDIANTES!G1698)","v":""}]
[46,{"$f":"IF(ESTUDIANTES!G1699=0,\"\",ESTUDIANTES!G1699)","v":""}]
[47,{"$f":"IF(ESTUDIANTES!G1700=0,\"\",ESTUDIANTES!G1700)","v":""}]
[48,{"$f":"IF(ESTUDIANTES!G1701=0,\"\",ESTUDIANTES!G1701)","v":""}]
[49,{"$f":"IF(ESTUDIANTES!G1702=0,\"\",ESTUDIANTES!G1702)","v":""}]
[50,{"$f":"IF(ESTUDIANTES!G1703=0,\"\",ESTUDIANTES!G1703)","v":""}]
[]
[{"$f":"DATOS!$B$3","v":"COLEGIO BACHILLERATO PCEI \"SIN FRONTERAS\""}]
[]
[null,"GRADO/CURSO:",{"$f":"DATOS!$E37","v":0}]
[null,"NIVEL:",{"$f":"DATOS!$F37","v":0}]
[null,"PARALELO:",{"$f":"DATOS!$G37","v":0}]
[null,"TUTOR:",{"$f":"DATOS!$H37","v":0}]
[]
["Nro","NOMBRES Y APELLIDOS","OBSERVACIONES"]
[1,{"$f":"IF(ESTUDIANTES!G1704=0,\"\",ESTUDIANTES!G1704)","v":""}]
[2,{"$f":"IF(ESTUDIANTES!G1705=0,\"\",ESTUDIANTES!G1705)","v":""}]
[3,{"$f":"IF(ESTUDIANTES!G1706=0,\"\",ESTUDIANTES!G1706)","v":""}]
[4,{"$f":"IF(ESTUDIANTES!G1707=0,\"\",ESTUDIANTES!G1707)","v":""}]
[5,{"$f":"IF(ESTUDIANTES!G1708=0,\"\",ESTUDIANTES!G1708)","v":""}]
[6,{"$f":"IF(ESTUDIANTES!G1709=0,\"\",ESTUDIANTES!G1709)","v":""}]
[7,{"$f":"IF(ESTUDIANTES!G1710=0,\"\",ESTUDIANTES!G1710)","v":""}]
[8,{"$f":"IF(ESTUDIANTES!G1711=0,\"\",ESTUDIANTES!G1711)","v":""}]
[9,{"$f":"IF(ESTUDIANTES!G1712=0,\"\",ESTUDIANTES!G1712)","v":""}]
[10,{"$f":"IF(ESTUDIANTES!G1713=0,\"\",ESTUDIANTES!G1713)","v":""}]
[11,{"$f":"IF(ESTUDIANTES!G1714=0,\"\",ESTUDIANTES!G1714)","v":""}]
[12,{"$f":"IF(ESTUDIANTES!G1715=0,\"\",ESTUDIANTES!G1715)","v":""}]
[13,{"$f":"IF(ESTUDIANTES!G1716=0,\"\",ESTUDIANTES!G1716)","v":""}]
[14,{"$f":"IF(ESTUDIANTES!G1717=0,\"\",ESTUDIANTES!G1717)","v":""}]
[15,{"$f":"IF(ESTUDIANTES!G1718=0,\"\",ESTUDIANTES!G1718)","v":""}]
[16,{"$f":"IF(ESTUDIANTES!G1719=0,\"\",ESTUDIANTES!G1719)","v":""}]
[17,{"$f":"IF(ESTUDIANTES!G1720=0,\"\",ESTUDIANTES!G1720)","v":""}]
[18,{"$f":"IF(ESTUDIANTES!G1721=0,\"\",ESTUDIANTES!G1721)","v":""}]
[19,{"$f":"IF(ESTUDIANTES!G1722=0,\"\",ESTUDIANTES!G1722)","v":""}]
[20,{"$f":"IF(ESTUDIANTES!G1723=0,\"\",ESTUDIANTES!G1723)","v":""}]
[21,{"$f":"IF(ESTUDIANTES!G1724=0,\"\",ESTUDIANTES!G1724)","v":""}]
[22,{"$f":"IF(ESTUDIANTES!G1725=0,\"\",ESTUDIANTES!G1725)","v":""}]
[23,{"$f":"IF(ESTUDIANTES!G1726=0,\"\",ESTUDIANTES!G1726)","v":""}]
[24,{"$f":"IF(ESTUDIANTES!G1727=0,\"\",ESTUDIANTES!G1727)","v":""}]
[25,{"$f":"IF(ESTUDIANTES!G1728=0,\"\",ESTUDIANTES!G1728)","v":""}]
[26,{"$f":"IF(ESTUDIANTES!G1729=0,\"\",ESTUDIANTES!G1729)","v":""}]
[27,{"$f":"IF(ESTUDIANTES!G1730=0,\"\",ESTUDIANTES!G1730)","v":""}]
[28,{"$f":"IF(ESTUDIANTES!G1731=0,\"\",ESTUDIANTES!G1731)","v":""}]
[29,{"$f":"IF(ESTUDIANTES!G1732=0,\"\",ESTUDIANTES!G1732)","v":""}]
[30,{"$f":"IF(ESTUDIANTES!G1733=0,\"\",ESTUDIANTES!G1733)","v":""}]
[31,{"$f":"IF(ESTUDIANTES!G1734=0,\"\",ESTUDIANTES!G1734)","v":""}]
[32,{"$f":"IF(ESTUDIANTES!G1735=0,\"\",ESTUDIANTES!G1735)","v":""}]
[33,{"$f":"IF(ESTUDIANTES!G1736=0,\"\",ESTUDIANTES!G1736)","v":""}]
[34,{"$f":"IF(ESTUDIANTES!G1737=0,\"\",ESTUDIANTES!G1737)","v":""}]
[35,{"$f":"IF(ESTUDIANTES!G1738=0,\"\",ESTUDIANTES!G1738)","v":""}]
[36,{"$f":"IF(ESTUDIANTES!G1739=0,\"\",ESTUDIANTES!G1739)","v":""}]
[37,{"$f":"IF(ESTUDIANTES!G1740=0,\"\",ESTUDIANTES!G1740)","v":""}]
[38,{"$f":"IF(ESTUDIANTES!G1741=0,\"\",ESTUDIANTES!G1741)","v":""}]
[39,{"$f":"IF(ESTUDIANTES!G1742=0,\"\",ESTUDIANTES!G1742)","v":""}]
[40,{"$f":"IF(ESTUDIANTES!G1743=0,\"\",ESTUDIANTES!G1743)","v":""}]
[41,{"$f":"IF(ESTUDIANTES!G1744=0,\"\",ESTUDIANTES!G1744)","v":""}]
[42,{"$f":"IF(ESTUDIANTES!G1745=0,\"\",ESTUDIANTES!G1745)","v":""}]
[43,{"$f":"IF(ESTUDIANTES!G1746=0,\"\",ESTUDIANTES!G1746)","v":""}]
[44,{"$f":"IF(ESTUDIANTES!G1747=0,\"\",ESTUDIANTES!G1747)","v":""}]
[45,{"$f":"IF(ESTUDIANTES!G1748=0,\"\",ESTUDIANTES!G1748)","v":""}]
[46,{"$f":"IF(ESTUDIANTES!G1749=0,\"\",ESTUDIANTES!G1749)","v":""}]
[47,{"$f":"IF(ESTUDIANTES!G1750=0,\"\",ESTUDIANTES!G1750)","v":""}]
[48,{"$f":"IF(ESTUDIANTES!G1751=0,\"\",ESTUDIANTES!G1751)","v":""}]
[49,{"$f":"IF(ESTUDIANTES!G1752=0,\"\",ESTUDIANTES!G1752)","v":""}]
[50,{"$f":"IF(ESTUDIANTES!G1753=0,\"\",ESTUDIANTES!G1753)","v":""}]
[]
[{"$f":"DATOS!$B$3","v":"COLEGIO BACHILLERATO PCEI \"SIN FRONTERAS\""}]
[]
[null,"GRADO/CURSO:",{"$f":"DATOS!$E38","v":0}]
[null,"NIVEL:",{"$f":"DATOS!$F38","v":0}]
[null,"PARALELO:",{"$f":"DATOS!$G38","v":0}]
[null,"TUTOR:",{"$f":"DATOS!$H38","v":0}]
[]
["Nro","NOMBRES Y APELLIDOS","OBSERVACIONES"]
[1,{"$f":"IF(ESTUDIANTES!G1754=0,\"\",ESTUDIANTES!G1754)","v":""}]
[2,{"$f":"IF(ESTUDIANTES!G1755=0,\"\",ESTUDIANTES!G1755)","v":""}]
[3,{"$f":"IF(ESTUDIANTES!G1756=0,\"\",ESTUDIANTES!G1756)","v":""}]
[4,{"$f":"IF(ESTUDIANTES!G1757=0,\"\",ESTUDIANTES!G1757)","v":""}]
[5,{"$f":"IF(ESTUDIANTES!G1758=0,\"\",ESTUDIANTES!G1758)","v":""}]
[6,{"$f":"IF(ESTUDIANTES!G1759=0,\"\",ESTUDIANTES!G1759)","v":""}]
[7,{"$f":"IF(ESTUDIANTES!G1760=0,\"\",ESTUDIANTES!G1760)","v":""}]
[8,{"$f":"IF(ESTUDIANTES!G1761=0,\"\",ESTUDIANTES!G1761)","v":""}]
[9,{"$f":"IF(ESTUDIANTES!G1762=0,\"\",ESTUDIANTES!G1762)","v":""}]
[10,{"$f":"IF(ESTUDIANTES!G1763=0,\"\",ESTUDIANTES!G1763)","v":""}]
[11,{"$f":"IF(ESTUDIANTES!G1764=0,\"\",ESTUDIANTES!G1764)","v":""}]
[12,{"$f":"IF(ESTUDIANTES!G1765=0,\"\",ESTUDIANTES!G1765)","v":""}]
[13,{"$f":"IF(ESTUDIANTES!G1766=0,\"\",ESTUDIANTES!G1766)","v":""}]
[14,{"$f":"IF(ESTUDIANTES!G1767=0,\"\",ESTUDIANTES!G1767)","v":""}]
[15,{"$f":"IF(ESTUDIANTES!G1768=0,\"\",ESTUDIANTES!G1768)","v":""}]
[16,{"$f":"IF(ESTUDIANTES!G1769=0,\"\",ESTUDIANTES!G1769)","v":""}]
[17,{"$f":"IF(ESTUDIANTES!G1770=0,\"\",ESTUDIANTES!G1770)","v":""}]
[18,{"$f":"IF(ESTUDIANTES!G1771=0,\"\",ESTUDIANTES!G1771)","v":""}]
[19,{"$f":"IF(ESTUDIANTES!G1772=0,\"\",ESTUDIANTES!G1772)","v":""}]
[20,{"$f":"IF(ESTUDIANTES!G1773=0,\"\",ESTUDIANTES!G1773)","v":""}]
[21,{"$f":"IF(ESTUDIANTES!G1774=0,\"\",ESTUDIANTES!G1774)","v":""}]
[22,{"$f":"IF(ESTUDIANTES!G1775=0,\"\",ESTUDIANTES!G1775)","v":""}]
[23,{"$f":"IF(ESTUDIANTES!G1776=0,\"\",ESTUDIANTES!G1776)","v":""}]
[24,{"$f":"IF(ESTUDIANTES!G1777=0,\"\",ESTUDIANTES!G1777)","v":""}]
[25,{"$f":"IF(ESTUDIANTES!G1778=0,\"\",ESTUDIANTES!G1778)","v":""}]
[26,{"$f":"IF(ESTUDIANTES!G1779=0,\"\",ESTUDIANTES!G1779)","v":""}]
[27,{"$f":"IF(ESTUDIANTES!G1780=0,\"\",ESTUDIANTES!G1780)","v":""}]
[28,{"$f":"IF(ESTUDIANTES!G1781=0,\"\",ESTUDIANTES!G1781)","v":""}]
[29,{"$f":"IF(ESTUDIANTES!G1782=0,\"\",ESTUDIANTES!G1782)","v":""}]
[30,{"$f":"IF(ESTUDIANTES!G1783=0,\"\",ESTUDIANTES!G1783)","v":""}]
[31,{"$f":"IF(ESTUDIANTES!G1784=0,\"\",ESTUDIANTES!G1784)","v":""}]
[32,{"$f":"IF(ESTUDIANTES!G1785=0,\"\",ESTUDIANTES!G1785)","v":""}]
[33,{"$f":"IF(ESTUDIANTES!G1786=0,\"\",ESTUDIANTES!G1786)","v":""}]
[34,{"$f":"IF(ESTUDIANTES!G1787=0,\"\",ESTUDIANTES!G1787)","v":""}]
[35,{"$f":"IF(ESTUDIANTES!G1788=0,\"\",ESTUDIANTES!G1788)","v":""}]
[36,{"$f":"IF(ESTUDIANTES!G1789=0,\"\",ESTUDIANTES!G1789)","v":""}]
[37,{"$f":"IF(ESTUDIANTES!G1790=0,\"\",ESTUDIANTES!G1790)","v":""}]
[38,{"$f":"IF(ESTUDIANTES!G1791=0,\"\",ESTUDIANTES!G1791)","v":""}]
[39,{"$f":"IF(ESTUDIANTES!G1792=0,\"\",ESTUDIANTES!G1792)","v":""}]
[40,{"$f":"IF(ESTUDIANTES!G1793=0,\"\",ESTUDIANTES!G1793)","v":""}]
[41,{"$f":"IF(ESTUDIANTES!G1794=0,\"\",ESTUDIANTES!G1794)","v":""}]
[42,{"$f":"IF(ESTUDIANTES!G1795=0,\"\",ESTUDIANTES!G1795)","v":""}]
[43,{"$f":"IF(ESTUDIANTES!G1796=0,\"\",ESTUDIANTES!G1796)","v":""}]
[44,{"$f":"IF(ESTUDIANTES!G1797=0,\"\",ESTUDIANTES!G1797)","v":""}]
[45,{"$f":"IF(ESTUDIANTES!G1798=0,\"\",ESTUDIANTES!G1798)","v":""}]
[46,{"$f":"IF(ESTUDIANTES!G1799=0,\"\",ESTUDIANTES!G1799)","v":""}]
[47,{"$f":"IF(ESTUDIANTES!G1800=0,\"\",ESTUDIANTES!G1800)","v":""}]
[48,{"$f":"IF(ESTUDIANTES!G1801=0,\"\",ESTUDIANTES!G1801)","v":""}]
[49,{"$f":"IF(ESTUDIANTES!G1802=0,\"\",ESTUDIANTES!G1802)","v":""}]
[50,{"$f":"IF(ESTUDIANTES!G1803=0,\"\",ESTUDIANTES!G1803)","v":""}]
[]
[{"$f":"DATOS!$B$3","v":"COLEGIO BACHILLERATO PCEI \"SIN FRONTERAS\""}]
[]
[null,"GRADO/CURSO:",{"$f":"DATOS!$E39","v":0}]
[null,"NIVEL:",{"$f":"DATOS!$F39","v":0}]
[null,"PARALELO:",{"$f":"DATOS!$G39","v":0}]
[null,"TUTOR:",{"$f":"DATOS!$H39","v":0}]
[]
["Nro","NOMBRES Y APELLIDOS","OBSERVACIONES"]
[1,{"$f":"IF(ESTUDIANTES!G1804=0,\"\",ESTUDIANTES!G1804)","v":""}]
[2,{"$f":"IF(ESTUDIANTES!G1805=0,\"\",ESTUDIANTES!G1805)","v":""}]
[3,{"$f":"IF(ESTUDIANTES!G1806=0,\"\",ESTUDIANTES!G1806)","v":""}]
[4,{"$f":"IF(ESTUDIANTES!G1807=0,\"\",ESTUDIANTES!G1807)","v":""}]
[5,{"$f":"IF(ESTUDIANTES!G1808=0,\"\",ESTUDIANTES!G1808)","v":""}]
[6,{"$f":"IF(ESTUDIANTES!G1809=0,\"\",ESTUDIANTES!G1809)","v":""}]
[7,{"$f":"IF(ESTUDIANTES!G1810=0,\"\",ESTUDIANTES!G1810)","v":""}]
[8,{"$f":"IF(ESTUDIANTES!G1811=0,\"\",ESTUDIANTES!G1811)","v":""}]
[9,{"$f":"IF(ESTUDIANTES!G1812=0,\"\",ESTUDIANTES!G1812)","v":""}]
[10,{"$f":"IF(ESTUDIANTES!G1813=0,\"\",ESTUDIANTES!G1813)","v":""}]
[11,{"$f":"IF(ESTUDIANTES!G1814=0,\"\",ESTUDIANTES!G1814)","v":""}]
[12,{"$f":"IF(ESTUDIANTES!G1815=0,\"\",ESTUDIANTES!G1815)","v":""}]
[13,{"$f":"IF(ESTUDIANTES!G1816=0,\"\",ESTUDIANTES!G1816)","v":""}]
[14,{"$f":"IF(ESTUDIANTES!G1817=0,\"\",ESTUDIANTES!G1817)","v":""}]
[15,{"$f":"IF(ESTUDIANTES!G1818=0,\"\",ESTUDIANTES!G1818)","v":""}]
[16,{"$f":"IF(ESTUDIANTES!G1819=0,\"\",ESTUDIANTES!G1819)","v":""}]
[17,{"$f":"IF(ESTUDIANTES!G1820=0,\"\",ESTUDIANTES!G1820)","v":""}]
[18,{"$f":"IF(ESTUDIANTES!G1821=0,\"\",ESTUDIANTES!G1821)","v":""}]
[19,{"$f":"IF(ESTUDIANTES!G1822=0,\"\",ESTUDIANTES!G1822)","v":""}]
[20,{"$f":"IF(ESTUDIANTES!G1823=0,\"\",ESTUDIANTES!G1823)","v":""}]
[21,{"$f":"IF(ESTUDIANTES!G1824=0,\"\",ESTUDIANTES!G1824)","v":""}]
[22,{"$f":"IF(ESTUDIANTES!G1825=0,\"\",ESTUDIANTES!G1825)","v":""}]
[23,{"$f":"IF(ESTUDIANTES!G1826=0,\"\",ESTUDIANTES!G1826)","v":""}]
[24,{"$f":"IF(ESTUDIANTES!G1827=0,\"\",ESTUDIANTES!G1827)","v":""}]
[25,{"$f":"IF(ESTUDIANTES!G1828=0,\"\",ESTUDIANTES!G1828)","v":""}]
[26,{"$f":"IF(ESTUDIANTES!G1829=0,\"\",ESTUDIANTES!G1829)","v":""}]
[27,{"$f":"IF(ESTUDIANTES!G1830=0,\"\",ESTUDIANTES!G1830)","v":""}]
[28,{"$f":"IF(ESTUDIANTES!G1831=0,\"\",ESTUDIANTES!G1831)","v":""}]
[29,{"$f":"IF(ESTUDIANTES!G1832=0,\"\",ESTUDIANTES!G1832)","v":""}]
[30,{"$f":"IF(ESTUDIANTES!G1833=0,\"\",ESTUDIANTES!G1833)","v":""}]
[31,{"$f":"IF(ESTUDIANTES!G1834=0,\"\",ESTUDIANTES!G1834)","v":""}]
[32,{"$f":"IF(ESTUDIANTES!G1835=0,\"\",ESTUDIANTES!G1835)","v":""}]
[33,{"$f":"IF(ESTUDIANTES!G1836=0,\"\",ESTUDIANTES!G1836)","v":""}]
[34,{"$f":"IF(ESTUDIANTES!G1837=0,\"\",ESTUDIANTES!G1837)","v":""}]
[35,{"$f":"IF(ESTUDIANTES!G1838=0,\"\",ESTUDIANTES!G1838)","v":""}]
[36,{"$f":"IF(ESTUDIANTES!G1839=0,\"\",ESTUDIANTES!G1839)","v":""}]
[37,{"$f":"IF(ESTUDIANTES!G1840=0,\"\",ESTUDIANTES!G1840)","v":""}]
[38,{"$f":"IF(ESTUDIANTES!G1841=0,\"\",ESTUDIANTES!G1841)","v":""}]
[39,{"$f":"IF(ESTUDIANTES!G1842=0,\"\",ESTUDIANTES!G1842)","v":""}]
[40,{"$f":"IF(ESTUDIANTES!G1843=0,\"\",ESTUDIANTES!G1843)","v":""}]
[41,{"$f":"IF(ESTUDIANTES!G1844=0,\"\",ESTUDIANTES!G1844)","v":""}]
[42,{"$f":"IF(ESTUDIANTES!G1845=0,\"\",ESTUDIANTES!G1845)","v":""}]
[43,{"$f":"IF(ESTUDIANTES!G1846=0,\"\",ESTUDIANTES!G1846)","v":""}]
[44,{"$f":"IF(ESTUDIANTES!G1847=0,\"\",ESTUDIANTES!G1847)","v":""}]
[45,{"$f":"IF(ESTUDIANTES!G1848=0,\"\",ESTUDIANTES!G1848)","v":""}]
[46,{"$f":"IF(ESTUDIANTES!G1849=0,\"\",ESTUDIANTES!G1849)","v":""}]
[47,{"$f":"IF(ESTUDIANTES!G1850=0,\"\",ESTUDIANTES!G1850)","v":""}]
[48,{"$f":"IF(ESTUDIANTES!G1851=0,\"\",ESTUDIANTES!G1851)","v":""}]
[49,{"$f":"IF(ESTUDIANTES!G1852=0,\"\",ESTUDIANTES!G1852)","v":""}]
[50,{"$f":"IF(ESTUDIANTES!G1853=0,\"\",ESTUDIANTES!G1853)","v":""}]
[]
[{"$f":"DATOS!$B$3","v":"COLEGIO BACHILLERATO PCEI \"SIN FRONTERAS\""}]
[]
[null,"GRADO/CURSO:",{"$f":"DATOS!$E40","v":0}]
[null,"NIVEL:",{"$f":"DATOS!$F40","v":0}]
[null,"PARALELO:",{"$f":"DATOS!$G40","v":0}]
[null,"TUTOR:",{"$f":"DATOS!$H40","v":0}]
[]
["Nro","NOMBRES Y APELLIDOS","OBSERVACIONES"]
[1,{"$f":"IF(ESTUDIANTES!G1854=0,\"\",ESTUDIANTES!G1854)","v":""}]
[2,{"$f":"IF(ESTUDIANTES!G1855=0,\"\",ESTUDIANTES!G1855)","v":""}]
[3,{"$f":"IF(ESTUDIANTES!G1856=0,\"\",ESTUDIANTES!G1856)","v":""}]
[4,{"$f":"IF(ESTUDIANTES!G1857=0,\"\",ESTUDIANTES!G1857)","v":""}]
[5,{"$f":"IF(ESTUDIANTES!G1858=0,\"\",ESTUDIANTES!G1858)","v":""}]
[6,{"$f":"IF(ESTUDIANTES!G1859=0,\"\",ESTUDIANTES!G1859)","v":""}]
[7,{"$f":"IF(ESTUDIANTES!G1860=0,\"\",ESTUDIANTES!G1860)","v":""}]
[8,{"$f":"IF(ESTUDIANTES!G1861=0,\"\",ESTUDIANTES!G1861)","v":""}]
[9,{"$f":"IF(ESTUDIANTES!G1862=0,\"\",ESTUDIANTES!G1862)","v":""}]
[10,{"$f":"IF(ESTUDIANTES!G1863=0,\"\",ESTUDIANTES!G1863)","v":""}]
[11,{"$f":"IF(ESTUDIANTES!G1864=0,\"\",ESTUDIANTES!G1864)","v":""}]
[12,{"$f":"IF(ESTUDIANTES!G1865=0,\"\",ESTUDIANTES!G1865)","v":""}]
[13,{"$f":"IF(ESTUDIANTES!G1866=0,\"\",ESTUDIANTES!G1866)","v":""}]
[14,{"$f":"IF(ESTUDIANTES!G1867=0,\"\",ESTUDIANTES!G1867)","v":""}]
[15,{"$f":"IF(ESTUDIANTES!G1868=0,\"\",ESTUDIANTES!G1868)","v":""}]
[16,{"$f":"IF(ESTUDIANTES!G1869=0,\"\",ESTUDIANTES!G1869)","v":""}]
[17,{"$f":"IF(ESTUDIANTES!G1870=0,\"\",ESTUDIANTES!G1870)","v":""}]
[18,{"$f":"IF(ESTUDIANTES!G1871=0,\"\",ESTUDIANTES!G1871)","v":""}]
[19,{"$f":"IF(ESTUDIANTES!G1872=0,\"\",ESTUDIANTES!G1872)","v":""}]
[20,{"$f":"IF(ESTUDIANTES!G1873=0,\"\",ESTUDIANTES!G1873)","v":""}]
[21,{"$f":"IF(ESTUDIANTES!G1874=0,\"\",ESTUDIANTES!G1874)","v":""}]
[22,{"$f":"IF(ESTUDIANTES!G1875=0,\"\",ESTUDIANTES!G1875)","v":""}]
[23,{"$f":"IF(ESTUDIANTES!G1876=0,\"\",ESTUDIANTES!G1876)","v":""}]
[24,{"$f":"IF(ESTUDIANTES!G1877=0,\"\",ESTUDIANTES!G1877)","v":""}]
[25,{"$f":"IF(ESTUDIANTES!G1878=0,\"\",ESTUDIANTES!G1878)","v":""}]
[26,{"$f":"IF(ESTUDIANTES!G1879=0,\"\",ESTUDIANTES!G1879)","v":""}]
[27,{"$f":"IF(ESTUDIANTES!G1880=0,\"\",ESTUDIANTES!G1880)","v":""}]
[28,{"$f":"IF(ESTUDIANTES!G1881=0,\"\",ESTUDIANTES!G1881)","v":""}]
[29,{"$f":"IF(ESTUDIANTES!G1882=0,\"\",ESTUDIANTES!G1882)","v":""}]
[30,{"$f":"IF(ESTUDIANTES!G1883=0,\"\",ESTUDIANTES!G1883)","v":""}]
[31,{"$f":"IF(ESTUDIANTES!G1884=0,\"\",ESTUDIANTES!G1884)","v":""}]
[32,{"$f":"IF(ESTUDIANTES!G1885=0,\"\",ESTUDIANTES!G1885)","v":""}]
[33,{"$f":"IF(ESTUDIANTES!G1886=0,\"\",ESTUDIANTES!G1886)","v":""}]
[34,{"$f":"IF(ESTUDIANTES!G1887=0,\"\",ESTUDIANTES!G1887)","v":""}]
[35,{"$f":"IF(ESTUDIANTES!G1888=0,\"\",ESTUDIANTES!G1888)","v":""}]
[36,{"$f":"IF(ESTUDIANTES!G1889=0,\"\",ESTUDIANTES!G1889)","v":""}]
[37,{"$f":"IF(ESTUDIANTES!G1890=0,\"\",ESTUDIANTES!G1890)","v":""}]
[38,{"$f":"IF(ESTUDIANTES!G1891=0,\"\",ESTUDIANTES!G1891)","v":""}]
[39,{"$f":"IF(ESTUDIANTES!G1892=0,\"\",ESTUDIANTES!G1892)","v":""}]
[40,{"$f":"IF(ESTUDIANTES!G1893=0,\"\",ESTUDIANTES!G1893)","v":""}]
[41,{"$f":"IF(ESTUDIANTES!G1894=0,\"\",ESTUDIANTES!G1894)","v":""}]
[42,{"$f":"IF(ESTUDIANTES!G1895=0,\"\",ESTUDIANTES!G1895)","v":""}]
[43,{"$f":"IF(ESTUDIANTES!G1896=0,\"\",ESTUDIANTES!G1896)","v":""}]
[44,{"$f":"IF(ESTUDIANTES!G1897=0,\"\",ESTUDIANTES!G1897)","v":""}]
[45,{"$f":"IF(ESTUDIANTES!G1898=0,\"\",ESTUDIANTES!G1898)","v":""}]
[46,{"$f":"IF(ESTUDIANTES!G1899=0,\"\",ESTUDIANTES!G1899)","v":""}]
[47,{"$f":"IF(ESTUDIANTES!G1900=0,\"\",ESTUDIANTES!G1900)","v":""}]
[48,{"$f":"IF(ESTUDIANTES!G1901=0,\"\",ESTUDIANTES!G1901)","v":""}]
[49,{"$f":"IF(ESTUDIANTES!G1902=0,\"\",ESTUDIANTES!G1902)","v":""}]
[50,{"$f":"IF(ESTUDIANTES!G1903=0,\"\",ESTUDIANTES!G1903)","v":""}]
[]
[{"$f":"DATOS!$B$3","v":"COLEGIO BACHILLERATO PCEI \"SIN FRONTERAS\""}]
[]
[null,"GRADO/CURSO:",{"$f":"DATOS!$E41","v":0}]
[null,"NIVEL:",{"$f":"DATOS!$F41","v":0}]
[null,"PARALELO:",{"$f":"DATOS!$G41","v":0}]
[null,"TUTOR:",{"$f":"DATOS!$H41","v":0}]
[]
["Nro","NOMBRES Y APELLIDOS","OBSERVACIONES"]
[1,{"$f":"IF(ESTUDIANTES!G1904=0,\"\",ESTUDIANTES!G1904)","v":""}]
[2,{"$f":"IF(ESTUDIANTES!G1905=0,\"\",ESTUDIANTES!G1905)","v":""}]
[3,{"$f":"IF(ESTUDIANTES!G1906=0,\"\",ESTUDIANTES!G1906)","v":""}]
[4,{"$f":"IF(ESTUDIANTES!G1907=0,\"\",ESTUDIANTES!G1907)","v":""}]
[5,{"$f":"IF(ESTUDIANTES!G1908=0,\"\",ESTUDIANTES!G1908)","v":""}]
[6,{"$f":"IF(ESTUDIANTES!G1909=0,\"\",ESTUDIANTES!G1909)","v":""}]
[7,{"$f":"IF(ESTUDIANTES!G1910=0,\"\",ESTUDIANTES!G1910)","v":""}]
[8,{"$f":"IF(ESTUDIANTES!G1911=0,\"\",ESTUDIANTES!G1911)","v":""}]
[9,{"$f":"IF(ESTUDIANTES!G1912=0,\"\",ESTUDIANTES!G1912)","v":""}]
[10,{"$f":"IF(ESTUDIANTES!G1913=0,\"\",ESTUDIANTES!G1913)","v":""}]
[11,{"$f":"IF(ESTUDIANTES!G1914=0,\"\",ESTUDIANTES!G1914)","v":""}]
[12,{"$f":"IF(ESTUDIANTES!G1915=0,\"\",ESTUDIANTES!G1915)","v":""}]
[13,{"$f":"IF(ESTUDIANTES!G1916=0,\"\",ESTUDIANTES!G1916)","v":""}]
[14,{"$f":"IF(ESTUDIANTES!G1917=0,\"\",ESTUDIANTES!G1917)","v":""}]
[15,{"$f":"IF(ESTUDIANTES!G1918=0,\"\",ESTUDIANTES!G1918)","v":""}]
[16,{"$f":"IF(ESTUDIANTES!G1919=0,\"\",ESTUDIANTES!G1919)","v":""}]
[17,{"$f":"IF(ESTUDIANTES!G1920=0,\"\",ESTUDIANTES!G1920)","v":""}]
[18,{"$f":"IF(ESTUDIANTES!G1921=0,\"\",ESTUDIANTES!G1921)","v":""}]
[19,{"$f":"IF(ESTUDIANTES!G1922=0,\"\",ESTUDIANTES!G1922)","v":""}]
[20,{"$f":"IF(ESTUDIANTES!G1923=0,\"\",ESTUDIANTES!G1923)","v":""}]
[21,{"$f":"IF(ESTUDIANTES!G1924=0,\"\",ESTUDIANTES!G1924)","v":""}]
[22,{"$f":"IF(ESTUDIANTES!G1925=0,\"\",ESTUDIANTES!G1925)","v":""}]
[23,{"$f":"IF(ESTUDIANTES!G1926=0,\"\",ESTUDIANTES!G1926)","v":""}]
[24,{"$f":"IF(ESTUDIANTES!G1927=0,\"\",ESTUDIANTES!G1927)","v":""}]
[25,{"$f":"IF(ESTUDIANTES!G1928=0,\"\",ESTUDIANTES!G1928)","v":""}]
[26,{"$f":"IF(ESTUDIANTES!G1929=0,\"\",ESTUDIANTES!G1929)","v":""}]
[27,{"$f":"IF(ESTUDIANTES!G1930=0,\"\",ESTUDIANTES!G1930)","v":""}]
[28,{"$f":"IF(ESTUDIANTES!G1931=0,\"\",ESTUDIANTES!G1931)","v":""}]
[29,{"$f":"IF(ESTUDIANTES!G1932=0,\"\",ESTUDIANTES!G1932)","v":""}]
[30,{"$f":"IF(ESTUDIANTES!G1933=0,\"\",ESTUDIANTES!G1933)","v":""}]
[31,{"$f":"IF(ESTUDIANTES!G1934=0,\"\",ESTUDIANTES!G1934)","v":""}]
[32,{"$f":"IF(ESTUDIANTES!G1935=0,\"\",ESTUDIANTES!G1935)","v":""}]
[33,{"$f":"IF(ESTUDIANTES!G1936=0,\"\",ESTUDIANTES!G1936)","v":""}]
[34,{"$f":"IF(ESTUDIANTES!G1937=0,\"\",ESTUDIANTES!G1937)","v":""}]
[35,{"$f":"IF(ESTUDIANTES!G1938=0,\"\",ESTUDIANTES!G1938)","v":""}]
[36,{"$f":"IF(ESTUDIANTES!G1939=0,\"\",ESTUDIANTES!G1939)","v":""}]
[37,{"$f":"IF(ESTUDIANTES!G1940=0,\"\",ESTUDIANTES!G1940)","v":""}]
[38,{"$f":"IF(ESTUDIANTES!G1941=0,\"\",ESTUDIANTES!G1941)","v":""}]
[39,{"$f":"IF(ESTUDIANTES!G1942=0,\"\",ESTUDIANTES!G1942)","v":""}]
[40,{"$f":"IF(ESTUDIANTES!G1943=0,\"\",ESTUDIANTES!G1943)","v":""}]
[41,{"$f":"IF(ESTUDIANTES!G1944=0,\"\",ESTUDIANTES!G1944)","v":""}]
[42,{"$f":"IF(ESTUDIANTES!G1945=0,\"\",ESTUDIANTES!G1945)","v":""}]
[43,{"$f":"IF(ESTUDIANTES!G1946=0,\"\",ESTUDIANTES!G1946)","v":""}]
[44,{"$f":"IF(ESTUDIANTES!G1947=0,\"\",ESTUDIANTES!G1947)","v":""}]
[45,{"$f":"IF(ESTUDIANTES!G1948=0,\"\",ESTUDIANTES!G1948)","v":""}]
[46,{"$f":"IF(ESTUDIANTES!G1949=0,\"\",ESTUDIANTES!G1949)","v":""}]
[47,{"$f":"IF(ESTUDIANTES!G1950=0,\"\",ESTUDIANTES!G1950)","v":""}]
[48,{"$f":"IF(ESTUDIANTES!G1951=0,\"\",ESTUDIANTES!G1951)","v":""}]
[49,{"$f":"IF(ESTUDIANTES!G1952=0,\"\",ESTUDIANTES!G1952)","v":""}]
[50,{"$f":"IF(ESTUDIANTES!G1953=0,\"\",ESTUDIANTES!G1953)","v":""}]
[]
[{"$f":"DATOS!$B$3","v":"COLEGIO BACHILLERATO PCEI \"SIN FRONTERAS\""}]
[]
[null,"GRADO/CURSO:",{"$f":"DATOS!$E42","v":0}]
[null,"NIVEL:",{"$f":"DATOS!$F42","v":0}]
[null,"PARALELO:",{"$f":"DATOS!$G42","v":0}]
[null,"TUTOR:",{"$f":"DATOS!$H42","v":0}]
[]
["Nro","NOMBRES Y APELLIDOS","OBSERVACIONES"]
[1,{"$f":"IF(ESTUDIANTES!G1954=0,\"\",ESTUDIANTES!G1954)","v":""}]
[2,{"$f":"IF(ESTUDIANTES!G1955=0,\"\",ESTUDIANTES!G1955)","v":""}]
[3,{"$f":"IF(ESTUDIANTES!G1956=0,\"\",ESTUDIANTES!G1956)","v":""}]
[4,{"$f":"IF(ESTUDIANTES!G1957=0,\"\",ESTUDIANTES!G1957)","v":""}]
[5,{"$f":"IF(ESTUDIANTES!G1958=0,\"\",ESTUDIANTES!G1958)","v":""}]
[6,{"$f":"IF(ESTUDIANTES!G1959=0,\"\",ESTUDIANTES!G1959)","v":""}]
[7,{"$f":"IF(ESTUDIANTES!G1960=0,\"\",ESTUDIANTES!G1960)","v":""}]
[8,{"$f":"IF(ESTUDIANTES!G1961=0,\"\",ESTUDIANTES!G1961)","v":""}]
[9,{"$f":"IF(ESTUDIANTES!G1962=0,\"\",ESTUDIANTES!G1962)","v":""}]
[10,{"$f":"IF(ESTUDIANTES!G1963=0,\"\",ESTUDIANTES!G1963)","v":""}]
[11,{"$f":"IF(ESTUDIANTES!G1964=0,\"\",ESTUDIANTES!G1964)","v":""}]
[12,{"$f":"IF(ESTUDIANTES!G1965=0,\"\",ESTUDIANTES!G1965)","v":""}]
[13,{"$f":"IF(ESTUDIANTES!G1966=0,\"\",ESTUDIANTES!G1966)","v":""}]
[14,{"$f":"IF(ESTUDIANTES!G1967=0,\"\",ESTUDIANTES!G1967)","v":""}]
[15,{"$f":"IF(ESTUDIANTES!G1968=0,\"\",ESTUDIANTES!G1968)","v":""}]
[16,{"$f":"IF(ESTUDIANTES!G1969=0,\"\",ESTUDIANTES!G1969)","v":""}]
[17,{"$f":"IF(ESTUDIANTES!G1970=0,\"\",ESTUDIANTES!G1970)","v":""}]
[18,{"$f":"IF(ESTUDIANTES!G1971=0,\"\",ESTUDIANTES!G1971)","v":""}]
[19,{"$f":"IF(ESTUDIANTES!G1972=0,\"\",ESTUDIANTES!G1972)","v":""}]
[20,{"$f":"IF(ESTUDIANTES!G1973=0,\"\",ESTUDIANTES!G1973)","v":""}]
[21,{"$f":"IF(ESTUDIANTES!G1974=0,\"\",ESTUDIANTES!G1974)","v":""}]
[22,{"$f":"IF(ESTUDIANTES!G1975=0,\"\",ESTUDIANTES!G1975)","v":""}]
[23,{"$f":"IF(ESTUDIANTES!G1976=0,\"\",ESTUDIANTES!G1976)","v":""}]
[24,{"$f":"IF(ESTUDIANTES!G1977=0,\"\",ESTUDIANTES!G1977)","v":""}]
[25,{"$f":"IF(ESTUDIANTES!G1978=0,\"\",ESTUDIANTES!G1978)","v":""}]
[26,{"$f":"IF(ESTUDIANTES!G1979=0,\"\",ESTUDIANTES!G1979)","v":""}]
[27,{"$f":"IF(ESTUDIANTES!G1980=0,\"\",ESTUDIANTES!G1980)","v":""}]
[28,{"$f":"IF(ESTUDIANTES!G1981=0,\"\",ESTUDIANTES!G1981)","v":""}]
[29,{"$f":"IF(ESTUDIANTES!G1982=0,\"\",ESTUDIANTES!G1982)","v":""}]
[30,{"$f":"IF(ESTUDIANTES!G1983=0,\"\",ESTUDIANTES!G1983)","v":""}]
[31,{"$f":"IF(ESTUDIANTES!G1984=0,\"\",ESTUDIANTES!G1984)","v":""}]
[32,{"$f":"IF(ESTUDIANTES!G1985=0,\"\",ESTUDIANTES!G1985)","v":""}]
[33,{"$f":"IF(ESTUDIANTES!G1986=0,\"\",ESTUDIANTES!G1986)","v":""}]
[34,{"$f":"IF(ESTUDIANTES!G1987=0,\"\",ESTUDIANTES!G1987)","v":""}]
[35,{"$f":"IF(ESTUDIANTES!G1988=0,\"\",ESTUDIANTES!G1988)","v":""}]
[36,{"$f":"IF(ESTUDIANTES!G1989=0,\"\",ESTUDIANTES!G1989)","v":""}]
[37,{"$f":"IF(ESTUDIANTES!G1990=0,\"\",ESTUDIANTES!G1990)","v":""}]
[38,{"$f":"IF(ESTUDIANTES!G1991=0,\"\",ESTUDIANTES!G1991)","v":""}]
[39,{"$f":"IF(ESTUDIANTES!G1992=0,\"\",ESTUDIANTES!G1992)","v":""}]
[40,{"$f":"IF(ESTUDIANTES!G1993=0,\"\",ESTUDIANTES!G1993)","v":""}]
[41,{"$f":"IF(ESTUDIANTES!G1994=0,\"\",ESTUDIANTES!G1994)","v":""}]
[42,{"$f":"IF(ESTUDIANTES!G1995=0,\"\",ESTUDIANTES!G1995)","v":""}]
[43,{"$f":"IF(ESTUDIANTES!G1996=0,\"\",ESTUDIANTES!G1996)","v":""}]
[44,{"$f":"IF(ESTUDIANTES!G1997=0,\"\",ESTUDIANTES!G1997)","v":""}]
[45,{"$f":"IF(ESTUDIANTES!G1998=0,\"\",ESTUDIANTES!G1998)","v":""}]
[46,{"$f":"IF(ESTUDIANTES!G1999=0,\"\",ESTUDIANTES!G1999)","v":""}]
[47,{"$f":"IF(ESTUDIANTES!G2000=0,\"\",ESTUDIANTES!G2000)","v":""}]
[48,{"$f":"IF(ESTUDIANTES!G2001=0,\"\",ESTUDIANTES!G2001)","v":""}]
[49,{"$f":"IF(ESTUDIANTES!G2002=0,\"\",ESTUDIANTES!G2002)","v":""}]
[50,{"$f":"IF(ESTUDIANTES!G2003=0,\"\",ESTUDIANTES!G2003)","v":""}]

{"sheet":"EDAD","index":6,"n_rows":2359,"n_cols":6,"rows_kept":2359,"cut":false,"hidden":false,"merged":[[2183,0,2183,5],[2242,0,2242,5],[2301,0,2301,5],[1298,0,1298,5],[1357,0,1357,5],[1416,0,1416,5],[1475,0,1475,5],[1534,0,1534,5],[1593,0,1593,5],[1770,0,1770,5],[1829,0,1829,5],[1888,0,1888,5],[1947,0,1947,5],[1652,0,1652,5],[1711,0,1711,5],[2006,0,2006,5],[2065,0,2065,5],[2124,0,2124,5],[885,0,885,5],[0,0,0,5],[59,0,59,5],[118,0,118,5],[177,0,177,5],[236,0,236,5],[295,0,295,5],[354,0,354,5],[413,0,413,5],[472,0,472,5],[531,0,531,5],[590,0,590,5],[649,0,649,5],[708,0,708,5],[1239,0,1239,5],[944,0,944,5],[1003,0,1003,5],[767,0,767,5],[826,0,826,5],[1062,0,1062,5],[1121,0,1121,5],[1180,0,1180,5]]}
[{"$f":"DATOS!$B$3","v":"COLEGIO BACHILLERATO PCEI \"SIN FRONTERAS\""}]
[]
[null,"GRADO/CURSO:",{"$f":"DATOS!$E3","v":"Octavo Año"}]
[null,"NIVEL:",{"$f":"DATOS!$F3","v":"EGB"}]
[null,"PARALELO:",{"$f":"DATOS!$G3","v":0}]
[null,"TUTOR:",{"$f":"DATOS!$H3","v":"DOCENTE "}]
[]
["Nro","NOMBRES Y APELLIDOS","F.N","AÑOS","MESES","DIAS"]
[1,{"$f":"IF(ESTUDIANTES!G4=0,\"\",ESTUDIANTES!G4)","v":"ACHIG OÑATE DONIMIC DANIEL"},{"$f":"IF(ESTUDIANTES!I4=0,\" \",ESTUDIANTES!I4)","v":"2016-02-03"},{"$f":"IFERROR(DATEDIF(C9,TODAY(),\"Y\"),\" \")","v":8},{"$f":"IFERROR(DATEDIF(C9,TODAY(),\"YM\"),\" \")","v":3},{"$f":"IFERROR(DATEDIF(C9,TODAY(),\"MD\"),\" \")","v":19}]
[2,{"$f":"IF(ESTUDIANTES!G5=0,\"\",ESTUDIANTES!G5)","v":""},{"$f":"IF(ESTUDIANTES!I5=0,\" \",ESTUDIANTES!I5)","v":" "},{"$f":"IFERROR(DATEDIF(C10,TODAY(),\"Y\"),\" \")","v":" "},{"$f":"IFERROR(DATEDIF(C10,TODAY(),\"YM\"),\" \")","v":" "},{"$f":"IFERROR(DATEDIF(C10,TODAY(),\"MD\"),\" \")","v":" "}]
[3,{"$f":"IF(ESTUDIANTES!G6=0,\"\",ESTUDIANTES!G6)","v":""},{"$f":"IF(ESTUDIANTES!I6=0,\" \",ESTUDIANTES!I6)","v":" "}," "," "," "]
[4,{"$f":"IF(ESTUDIANTES!G7=0,\"\",ESTUDIANTES!G7)","v":""},{"$f":"IF(ESTUDIANTES!I7=0,\" \",ESTUDIANTES!I7)","v":" "}," "," "," "]
[5,{"$f":"IF(ESTUDIANTES!G8=0,\"\",ESTUDIANTES!G8)","v":""},{"$f":"IF(ESTUDIANTES!I8=0,\" \",ESTUDIANTES!I8)","v":" "}," "," "," "]
[6,{"$f":"IF(ESTUDIANTES!G9=0,\"\",ESTUDIANTES!G9)","v":""},{"$f":"IF(ESTUDIANTES!I9=0,\" \",ESTUDIANTES!I9)","v":" "}," "," "," "]
[7,{"$f":"IF(ESTUDIANTES!G10=0,\"\",ESTUDIANTES!G10)","v":""},{"$f":"IF(ESTUDIANTES!I10=0,\" \",ESTUDIANTES!I10)","v":" "}," "," "," "]
[8,{"$f":"IF(ESTUDIANTES!G11=0,\"\",ESTUDIANTES!G11)","v":""},{"$f":"IF(ESTUDIANTES!I11=0,\" \",ESTUDIANTES!I11)","v":" "}," "," "," "]
[9,{"$f":"IF(ESTUDIANTES!G12=0,\"\",ESTUDIANTES!G12)","v":""},{"$f":"IF(ESTUDIANTES!I12=0,\" \",ESTUDIANTES!I12)","v":" "}," "," "," "]
[10,{"$f":"IF(ESTUDIANTES!G13=0,\"\",ESTUDIANTES!G13)","v":""},{"$f":"IF(ESTUDIANTES!I13=0,\" \",ESTUDIANTES!I13)","v":" "}," "," "," "]
[11,{"$f":"IF(ESTUDIANTES!G14=0,\"\",ESTUDIANTES!G14)","v":""},{"$f":"IF(ESTUDIANTES!I14=0,\" \",ESTUDIANTES!I14)","v":" "}," "," "," "]
[12,{"$f":"IF(ESTUDIANTES!G15=0,\"\",ESTUDIANTES!G15)","v":""},{"$f":"IF(ESTUDIANTES!I15=0,\" \",ESTUDIANTES!I15)","v":" "}," "," "," "]
[13,{"$f":"IF(ESTUDIANTES!G16=0,\"\",ESTUDIANTES!G16)","v":""},{"$f":"IF(ESTUDIANTES!I16=0,\" \",ESTUDIANTES!I16)","v":" "}," "," "," "]
[14,{"$f":"IF(ESTUDIANTES!G17=0,\"\",ESTUDIANTES!G17)","v":""},{"$f":"IF(ESTUDIANTES!I17=0,\" \",ESTUDIANTES!I17)","v":" "}," "," "," "]
[15,{"$f":"IF(ESTUDIANTES!G18=0,\"\",ESTUDIANTES!G18)","v":""},{"$f":"IF(ESTUDIANTES!I18=0,\" \",ESTUDIANTES!I18)","v":" "}," "," "," "]
[16,{"$f":"IF(ESTUDIANTES!G19=0,\"\",ESTUDIANTES!G19)","v":""},{"$f":"IF(ESTUDIANTES!I19=0,\" \",ESTUDIANTES!I19)","v":" "}," "," "," "]
[17,{"$f":"IF(ESTUDIANTES!G20=0,\"\",ESTUDIANTES!G20)","v":""},{"$f":"IF(ESTUDIANTES!I20=0,\" \",ESTUDIANTES!I20)","v":" "}," "," "," "]
[18,{"$f":"IF(ESTUDIANTES!G21=0,\"\",ESTUDIANTES!G21)","v":""},{"$f":"IF(ESTUDIANTES!I21=0,\" \",ESTUDIANTES!I21)","v":" "}," "," "," "]
[19,{"$f":"IF(ESTUDIANTES!G22=0,\"\",ESTUDIANTES!G22)","v":""},{"$f":"IF(ESTUDIANTES!I22=0,\" \",ESTUDIANTES!I22)","v":" "}," "," "," "]
[20,{"$f":"IF(ESTUDIANTES!G23=0,\"\",ESTUDIANTES!G23)","v":""},{"$f":"IF(ESTUDIANTES!I23=0,\" \",ESTUDIANTES!I23)","v":" "}," "," "," "]
[21,{"$f":"IF(ESTUDIANTES!G24=0,\"\",ESTUDIANTES!G24)","v":""},{"$f":"IF(ESTUDIANTES!I24=0,\" \",ESTUDIANTES!I24)","v":" "}," "," "," "]
[22,{"$f":"IF(ESTUDIANTES!G25=0,\"\",ESTUDIANTES!G25)","v":""},{"$f":"IF(ESTUDIANTES!I25=0,\" \",ESTUDIANTES!I25)","v":" "}," "," "," "]
[23,{"$f":"IF(ESTUDIANTES!G26=0,\"\",ESTUDIANTES!G26)","v":""},{"$f":"IF(ESTUDIANTES!I26=0,\" \",ESTUDIANTES!I26)","v":" "}," "," "," "]
[24,{"$f":"IF(ESTUDIANTES!G27=0,\"\",ESTUDIANTES!G27)","v":""},{"$f":"IF(ESTUDIANTES!I27=0,\" \",ESTUDIANTES!I27)","v":" "}," "," "," "]
[25,{"$f":"IF(ESTUDIANTES!G28=0,\"\",ESTUDIANTES!G28)","v":""},{"$f":"IF(ESTUDIANTES!I28=0,\" \",ESTUDIANTES!I28)","v":" "}," "," "," "]
[26,{"$f":"IF(ESTUDIANTES!G29=0,\"\",ESTUDIANTES!G29)","v":""},{"$f":"IF(ESTUDIANTES!I29=0,\" \",ESTUDIANTES!I29)","v":" "}," "," "," "]
[27,{"$f":"IF(ESTUDIANTES!G30=0,\"\",ESTUDIANTES!G30)","v":""},{"$f":"IF(ESTUDIANTES!I30=0,\" \",ESTUDIANTES!I30)","v":" "}," "," "," "]
[28,{"$f":"IF(ESTUDIANTES!G31=0,\"\",ESTUDIANTES!G31)","v":""},{"$f":"IF(ESTUDIANTES!I31=0,\" \",ESTUDIANTES!I31)","v":" "}," "," "," "]
[29,{"$f":"IF(ESTUDIANTES!G32=0,\"\",ESTUDIANTES!G32)","v":""},{"$f":"IF(ESTUDIANTES!I32=0,\" \",ESTUDIANTES!I32)","v":" "}," "," "," "]
[30,{"$f":"IF(ESTUDIANTES!G33=0,\"\",ESTUDIANTES!G33)","v":""},{"$f":"IF(ESTUDIANTES!I33=0,\" \",ESTUDIANTES!I33)","v":" "}," "," "," "]
[31,{"$f":"IF(ESTUDIANTES!G34=0,\"\",ESTUDIANTES!G34)","v":""},{"$f":"IF(ESTUDIANTES!I34=0,\" \",ESTUDIANTES!I34)","v":" "}," "," "," "]
[32,{"$f":"IF(ESTUDIANTES!G35=0,\"\",ESTUDIANTES!G35)","v":""},{"$f":"IF(ESTUDIANTES!I35=0,\" \",ESTUDIANTES!I35)","v":" "}," "," "," "]
[33,{"$f":"IF(ESTUDIANTES!G36=0,\"\",ESTUDIANTES!G36)","v":""},{"$f":"IF(ESTUDIANTES!I36=0,\" \",ESTUDIANTES!I36)","v":" "}," "," "," "]
[34,{"$f":"IF(ESTUDIANTES!G37=0,\"\",ESTUDIANTES!G37)","v":""},{"$f":"IF(ESTUDIANTES!I37=0,\" \",ESTUDIANTES!I37)","v":" "}," "," "," "]
[35,{"$f":"IF(ESTUDIANTES!G38=0,\"\",ESTUDIANTES!G38)","v":""},{"$f":"IF(ESTUDIANTES!I38=0,\" \",ESTUDIANTES!I38)","v":" "}," "," "," "]
[36,{"$f":"IF(ESTUDIANTES!G39=0,\"\",ESTUDIANTES!G39)","v":""},{"$f":"IF(ESTUDIANTES!I39=0,\" \",ESTUDIANTES!I39)","v":" "}," "," "," "]
[37,{"$f":"IF(ESTUDIANTES!G40=0,\"\",ESTUDIANTES!G40)","v":""},{"$f":"IF(ESTUDIANTES!I40=0,\" \",ESTUDIANTES!I40)","v":" "}," "," "," "]
[38,{"$f":"IF(ESTUDIANTES!G41=0,\"\",ESTUDIANTES!G41)","v":""},{"$f":"IF(ESTUDIANTES!I41=0,\" \",ESTUDIANTES!I41)","v":" "}," "," "," "]
[39,{"$f":"IF(ESTUDIANTES!G42=0,\"\",ESTUDIANTES!G42)","v":""},{"$f":"IF(ESTUDIANTES!I42=0,\" \",ESTUDIANTES!I42)","v":" "}," "," "," "]
[40,{"$f":"IF(ESTUDIANTES!G43=0,\"\",ESTUDIANTES!G43)","v":""},{"$f":"IF(ESTUDIANTES!I43=0,\" \",ESTUDIANTES!I43)","v":" "}," "," "," "]
[41,{"$f":"IF(ESTUDIANTES!G44=0,\"\",ESTUDIANTES!G44)","v":""},{"$f":"IF(ESTUDIANTES!I44=0,\" \",ESTUDIANTES!I44)","v":" "}," "," "," "]
[42,{"$f":"IF(ESTUDIANTES!G45=0,\"\",ESTUDIANTES!G45)","v":""},{"$f":"IF(ESTUDIANTES!I45=0,\" \",ESTUDIANTES!I45)","v":" "}," "," "," "]
[43,{"$f":"IF(ESTUDIANTES!G46=0,\"\",ESTUDIANTES!G46)","v":""},{"$f":"IF(ESTUDIANTES!I46=0,\" \",ESTUDIANTES!I46)","v":" "}," "," "," "]
[44,{"$f":"IF(ESTUDIANTES!G47=0,\"\",ESTUDIANTES!G47)","v":""},{"$f":"IF(ESTUDIANTES!I47=0,\" \",ESTUDIANTES!I47)","v":" "}," "," "," "]
[45,{"$f":"IF(ESTUDIANTES!G48=0,\"\",ESTUDIANTES!G48)","v":""},{"$f":"IF(ESTUDIANTES!I48=0,\" \",ESTUDIANTES!I48)","v":" "}," "," "," "]
[46,{"$f":"IF(ESTUDIANTES!G49=0,\"\",ESTUDIANTES!G49)","v":""},{"$f":"IF(ESTUDIANTES!I49=0,\" \",ESTUDIANTES!I49)","v":" "}," "," "," "]
[47,{"$f":"IF(ESTUDIANTES!G50=0,\"\",ESTUDIANTES!G50)","v":""},{"$f":"IF(ESTUDIANTES!I50=0,\" \",ESTUDIANTES!I50)","v":" "}," "," "," "]
[48,{"$f":"IF(ESTUDIANTES!G51=0,\"\",ESTUDIANTES!G51)","v":""},{"$f":"IF(ESTUDIANTES!I51=0,\" \",ESTUDIANTES!I51)","v":" "}," "," "," "]
[49,{"$f":"IF(ESTUDIANTES!G52=0,\"\",ESTUDIANTES!G52)","v":""},{"$f":"IF(ESTUDIANTES!I52=0,\" \",ESTUDIANTES!I52)","v":" "}," "," "," "]
[50,{"$f":"IF(ESTUDIANTES!G53=0,\"\",ESTUDIANTES!G53)","v":""},{"$f":"IF(ESTUDIANTES!I53=0,\" \",ESTUDIANTES!I53)","v":" "}," "," "," "]
[]
[{"$f":"DATOS!$B$3","v":"COLEGIO BACHILLERATO PCEI \"SIN FRONTERAS\""}]
[]
[null,"GRADO/CURSO:",{"$f":"DATOS!$E4","v":"Noveno Año"}]
[null,"NIVEL:",{"$f":"DATOS!$F4","v":"EGB"}]
[null,"PARALELO:",{"$f":"DATOS!$G4","v":0}]
[null,"TUTOR:",{"$f":"DATOS!$H4","v":"DOCENTE "}]
[]
["Nro","NOMBRES Y APELLIDOS","F.N","AÑOS","MESES","DIAS"]
[1,{"$f":"IF(ESTUDIANTES!G54=0,\"\",ESTUDIANTES!G54)","v":""},{"$f":"IF(ESTUDIANTES!I54=0,\" \",ESTUDIANTES!I54)","v":" "},{"$f":"IFERROR(DATEDIF(C68,TODAY(),\"Y\"),\" \")","v":" "},{"$f":"IFERROR(DATEDIF(C68,TODAY(),\"YM\"),\" \")","v":" "},{"$f":"IFERROR(DATEDIF(C68,TODAY(),\"MD\"),\" \")","v":" "}]
[2,{"$f":"IF(ESTUDIANTES!G55=0,\"\",ESTUDIANTES!G55)","v":""},{"$f":"IF(ESTUDIANTES!I55=0,\" \",ESTUDIANTES!I55)","v":" "},{"$f":"IFERROR(DATEDIF(C69,TODAY(),\"Y\"),\" \")","v":" "},{"$f":"IFERROR(DATEDIF(C69,TODAY(),\"YM\"),\" \")","v":" "},{"$f":"IFERROR(DATEDIF(C69,TODAY(),\"MD\"),\" \")","v":" "}]
[3,{"$f":"IF(ESTUDIANTES!G56=0,\"\",ESTUDIANTES!G56)","v":""},{"$f":"IF(ESTUDIANTES!I56=0,\" \",ESTUDIANTES!I56)","v":" "}," "," "," "]
[4,{"$f":"IF(ESTUDIANTES!G57=0,\"\",ESTUDIANTES!G57)","v":""},{"$f":"IF(ESTUDIANTES!I57=0,\" \",ESTUDIANTES!I57)","v":" "}," "," "," "]
[5,{"$f":"IF(ESTUDIANTES!G58=0,\"\",ESTUDIANTES!G58)","v":""},{"$f":"IF(ESTUDIANTES!I58=0,\" \",ESTUDIANTES!I58)","v":" "}," "," "," "]
[6,{"$f":"IF(ESTUDIANTES!G59=0,\"\",ESTUDIANTES!G59)","v":""},{"$f":"IF(ESTUDIANTES!I59=0,\" \",ESTUDIANTES!I59)","v":" "}," "," "," "]
[7,{"$f":"IF(ESTUDIANTES!G60=0,\"\",ESTUDIANTES!G60)","v":""},{"$f":"IF(ESTUDIANTES!I60=0,\" \",ESTUDIANTES!I60)","v":" "}," "," "," "]
[8,{"$f":"IF(ESTUDIANTES!G61=0,\"\",ESTUDIANTES!G61)","v":""},{"$f":"IF(ESTUDIANTES!I61=0,\" \",ESTUDIANTES!I61)","v":" "}," "," "," "]
[9,{"$f":"IF(ESTUDIANTES!G62=0,\"\",ESTUDIANTES!G62)","v":""},{"$f":"IF(ESTUDIANTES!I62=0,\" \",ESTUDIANTES!I62)","v":" "}," "," "," "]
[10,{"$f":"IF(ESTUDIANTES!G63=0,\"\",ESTUDIANTES!G63)","v":""},{"$f":"IF(ESTUDIANTES!I63=0,\" \",ESTUDIANTES!I63)","v":" "}," "," "," "]
[11,{"$f":"IF(ESTUDIANTES!G64=0,\"\",ESTUDIANTES!G64)","v":""},{"$f":"IF(ESTUDIANTES!I64=0,\" \",ESTUDIANTES!I64)","v":" "}," "," "," "]
[12,{"$f":"IF(ESTUDIANTES!G65=0,\"\",ESTUDIANTES!G65)","v":""},{"$f":"IF(ESTUDIANTES!I65=0,\" \",ESTUDIANTES!I65)","v":" "}," "," "," "]
[13,{"$f":"IF(ESTUDIANTES!G66=0,\"\",ESTUDIANTES!G66)","v":""},{"$f":"IF(ESTUDIANTES!I66=0,\" \",ESTUDIANTES!I66)","v":" "}," "," "," "]
[14,{"$f":"IF(ESTUDIANTES!G67=0,\"\",ESTUDIANTES!G67)","v":""},{"$f":"IF(ESTUDIANTES!I67=0,\" \",ESTUDIANTES!I67)","v":" "}," "," "," "]
[15,{"$f":"IF(ESTUDIANTES!G68=0,\"\",ESTUDIANTES!G68)","v":""},{"$f":"IF(ESTUDIANTES!I68=0,\" \",ESTUDIANTES!I68)","v":" "}," "," "," "]
[16,{"$f":"IF(ESTUDIANTES!G69=0,\"\",ESTUDIANTES!G69)","v":""},{"$f":"IF(ESTUDIANTES!I69=0,\" \",ESTUDIANTES!I69)","v":" "}," "," "," "]
[17,{"$f":"IF(ESTUDIANTES!G70=0,\"\",ESTUDIANTES!G70)","v":""},{"$f":"IF(ESTUDIANTES!I70=0,\" \",ESTUDIANTES!I70)","v":" "}," "," "," "]
[18,{"$f":"IF(ESTUDIANTES!G71=0,\"\",ESTUDIANTES!G71)","v":""},{"$f":"IF(ESTUDIANTES!I71=0,\" \",ESTUDIANTES!I71)","v":" "}," "," "," "]
[19,{"$f":"IF(ESTUDIANTES!G72=0,\"\",ESTUDIANTES!G72)","v":""},{"$f":"IF(ESTUDIANTES!I72=0,\" \",ESTUDIANTES!I72)","v":" "}," "," "," "]
[20,{"$f":"IF(ESTUDIANTES!G73=0,\"\",ESTUDIANTES!G73)","v":""},{"$f":"IF(ESTUDIANTES!I73=0,\" \",ESTUDIANTES!I73)","v":" "}," "," "," "]
[21,{"$f":"IF(ESTUDIANTES!G74=0,\"\",ESTUDIANTES!G74)","v":""},{"$f":"IF(ESTUDIANTES!I74=0,\" \",ESTUDIANTES!I74)","v":" "}," "," "," "]
[22,{"$f":"IF(ESTUDIANTES!G75=0,\"\",ESTUDIANTES!G75)","v":""},{"$f":"IF(ESTUDIANTES!I75=0,\" \",ESTUDIANTES!I75)","v":" "}," "," "," "]
[23,{"$f":"IF(ESTUDIANTES!G76=0,\"\",ESTUDIANTES!G76)","v":""},{"$f":"IF(ESTUDIANTES!I76=0,\" \",ESTUDIANTES!I76)","v":" "}," "," "," "]
[24,{"$f":"IF(ESTUDIANTES!G77=0,\"\",ESTUDIANTES!G77)","v":""},{"$f":"IF(ESTUDIANTES!I77=0,\" \",ESTUDIANTES!I77)","v":" "}," "," "," "]
[25,{"$f":"IF(ESTUDIANTES!G78=0,\"\",ESTUDIANTES!G78)","v":""},{"$f":"IF(ESTUDIANTES!I78=0,\" \",ESTUDIANTES!I78)","v":" "}," "," "," "]
[26,{"$f":"IF(ESTUDIANTES!G79=0,\"\",ESTUDIANTES!G79)","v":""},{"$f":"IF(ESTUDIANTES!I79=0,\" \",ESTUDIANTES!I79)","v":" "}," "," "," "]
[27,{"$f":"IF(ESTUDIANTES!G80=0,\"\",ESTUDIANTES!G80)","v":""},{"$f":"IF(ESTUDIANTES!I80=0,\" \",ESTUDIANTES!I80)","v":" "}," "," "," "]
[28,{"$f":"IF(ESTUDIANTES!G81=0,\"\",ESTUDIANTES!G81)","v":""},{"$f":"IF(ESTUDIANTES!I81=0,\" \",ESTUDIANTES!I81)","v":" "}," "," "," "]
[29,{"$f":"IF(ESTUDIANTES!G82=0,\"\",ESTUDIANTES!G82)","v":""},{"$f":"IF(ESTUDIANTES!I82=0,\" \",ESTUDIANTES!I82)","v":" "}," "," "," "]
[30,{"$f":"IF(ESTUDIANTES!G83=0,\"\",ESTUDIANTES!G83)","v":""},{"$f":"IF(ESTUDIANTES!I83=0,\" \",ESTUDIANTES!I83)","v":" "}," "," "," "]
[31,{"$f":"IF(ESTUDIANTES!G84=0,\"\",ESTUDIANTES!G84)","v":""},{"$f":"IF(ESTUDIANTES!I84=0,\" \",ESTUDIANTES!I84)","v":" "}," "," "," "]
[32,{"$f":"IF(ESTUDIANTES!G85=0,\"\",ESTUDIANTES!G85)","v":""},{"$f":"IF(ESTUDIANTES!I85=0,\" \",ESTUDIANTES!I85)","v":" "}," "," "," "]
[33,{"$f":"IF(ESTUDIANTES!G86=0,\"\",ESTUDIANTES!G86)","v":""},{"$f":"IF(ESTUDIANTES!I86=0,\" \",ESTUDIANTES!I86)","v":" "}," "," "," "]
[34,{"$f":"IF(ESTUDIANTES!G87=0,\"\",ESTUDIANTES!G87)","v":""},{"$f":"IF(ESTUDIANTES!I87=0,\" \",ESTUDIANTES!I87)","v":" "}," "," "," "]
[35,{"$f":"IF(ESTUDIANTES!G88=0,\"\",ESTUDIANTES!G88)","v":""},{"$f":"IF(ESTUDIANTES!I88=0,\" \",ESTUDIANTES!I88)","v":" "}," "," "," "]
[36,{"$f":"IF(ESTUDIANTES!G89=0,\"\",ESTUDIANTES!G89)","v":""},{"$f":"IF(ESTUDIANTES!I89=0,\" \",ESTUDIANTES!I89)","v":" "}," "," "," "]
[37,{"$f":"IF(ESTUDIANTES!G90=0,\"\",ESTUDIANTES!G90)","v":""},{"$f":"IF(ESTUDIANTES!I90=0,\" \",ESTUDIANTES!I90)","v":" "}," "," "," "]
[38,{"$f":"IF(ESTUDIANTES!G91=0,\"\",ESTUDIANTES!G91)","v":""},{"$f":"IF(ESTUDIANTES!I91=0,\" \",ESTUDIANTES!I91)","v":" "}," "," "," "]
[39,{"$f":"IF(ESTUDIANTES!G92=0,\"\",ESTUDIANTES!G92)","v":""},{"$f":"IF(ESTUDIANTES!I92=0,\" \",ESTUDIANTES!I92)","v":" "}," "," "," "]
[40,{"$f":"IF(ESTUDIANTES!G93=0,\"\",ESTUDIANTES!G93)","v":""},{"$f":"IF(ESTUDIANTES!I93=0,\" \",ESTUDIANTES!I93)","v":" "}," "," "," "]
[41,{"$f":"IF(ESTUDIANTES!G94=0,\"\",ESTUDIANTES!G94)","v":""},{"$f":"IF(ESTUDIANTES!I94=0,\" \",ESTUDIANTES!I94)","v":" "}," "," "," "]
[42,{"$f":"IF(ESTUDIANTES!G95=0,\"\",ESTUDIANTES!G95)","v":""},{"$f":"IF(ESTUDIANTES!I95=0,\" \",ESTUDIANTES!I95)","v":" "}," "," "," "]
[43,{"$f":"IF(ESTUDIANTES!G96=0,\"\",ESTUDIANTES!G96)","v":""},{"$f":"IF(ESTUDIANTES!I96=0,\" \",ESTUDIANTES!I96)","v":" "}," "," "," "]
[44,{"$f":"IF(ESTUDIANTES!G97=0,\"\",ESTUDIANTES!G97)","v":""},{"$f":"IF(ESTUDIANTES!I97=0,\" \",ESTUDIANTES!I97)","v":" "}," "," "," "]
[45,{"$f":"IF(ESTUDIANTES!G98=0,\"\",ESTUDIANTES!G98)","v":""},{"$f":"IF(ESTUDIANTES!I98=0,\" \",ESTUDIANTES!I98)","v":" "}," "," "," "]
[46,{"$f":"IF(ESTUDIANTES!G99=0,\"\",ESTUDIANTES!G99)","v":""},{"$f":"IF(ESTUDIANTES!I99=0,\" \",ESTUDIANTES!I99)","v":" "}," "," "," "]
[47,{"$f":"IF(ESTUDIANTES!G100=0,\"\",ESTUDIANTES!G100)","v":""},{"$f":"IF(ESTUDIANTES!I100=0,\" \",ESTUDIANTES!I100)","v":" "}," "," "," "]
[48,{"$f":"IF(ESTUDIANTES!G101=0,\"\",ESTUDIANTES!G101)","v":""},{"$f":"IF(ESTUDIANTES!I101=0,\" \",ESTUDIANTES!I101)","v":" "}," "," "," "]
[49,{"$f":"IF(ESTUDIANTES!G102=0,\"\",ESTUDIANTES!G102)","v":""},{"$f":"IF(ESTUDIANTES!I102=0,\" \",ESTUDIANTES!I102)","v":" "}," "," "," "]
[50,{"$f":"IF(ESTUDIANTES!G103=0,\"\",ESTUDIANTES!G103)","v":""},{"$f":"IF(ESTUDIANTES!I103=0,\" \",ESTUDIANTES!I103)","v":" "}," "," "," "]
[]
[{"$f":"DATOS!$B$3","v":"COLEGIO BACHILLERATO PCEI \"SIN FRONTERAS\""}]
[]
[null,"GRADO/CURSO:",{"$f":"DATOS!$E5","v":"Décimo Año"}]
[null,"NIVEL:",{"$f":"DATOS!$F5","v":"EGB"}]
[null,"PARALELO:",{"$f":"DATOS!$G5","v":0}]
[null,"TUTOR:",{"$f":"DATOS!$H5","v":"DOCENTE "}]
[]
["Nro","NOMBRES Y APELLIDOS","F.N","AÑOS","MESES","DIAS"]
[1,{"$f":"IF(ESTUDIANTES!G104=0,\"\",ESTUDIANTES!G104)","v":""},{"$f":"IF(ESTUDIANTES!I104=0,\" \",ESTUDIANTES!I104)","v":" "},{"$f":"IFERROR(DATEDIF(C127,TODAY(),\"Y\"),\" \")","v":" "},{"$f":"IFERROR(DATEDIF(C127,TODAY(),\"YM\"),\" \")","v":" "},{"$f":"IFERROR(DATEDIF(C127,TODAY(),\"MD\"),\" \")","v":" "}]
[2,{"$f":"IF(ESTUDIANTES!G105=0,\"\",ESTUDIANTES!G105)","v":""},{"$f":"IF(ESTUDIANTES!I105=0,\" \",ESTUDIANTES!I105)","v":" "},{"$f":"IFERROR(DATEDIF(C128,TODAY(),\"Y\"),\" \")","v":" "},{"$f":"IFERROR(DATEDIF(C128,TODAY(),\"YM\"),\" \")","v":" "},{"$f":"IFERROR(DATEDIF(C128,TODAY(),\"MD\"),\" \")","v":" "}]
[3,{"$f":"IF(ESTUDIANTES!G106=0,\"\",ESTUDIANTES!G106)","v":""},{"$f":"IF(ESTUDIANTES!I106=0,\" \",ESTUDIANTES!I106)","v":" "}," "," "," "]
[4,{"$f":"IF(ESTUDIANTES!G107=0,\"\",ESTUDIANTES!G107)","v":""},{"$f":"IF(ESTUDIANTES!I107=0,\" \",ESTUDIANTES!I107)","v":" "}," "," "," "]
[5,{"$f":"IF(ESTUDIANTES!G108=0,\"\",ESTUDIANTES!G108)","v":""},{"$f":"IF(ESTUDIANTES!I108=0,\" \",ESTUDIANTES!I108)","v":" "}," "," "," "]
[6,{"$f":"IF(ESTUDIANTES!G109=0,\"\",ESTUDIANTES!G109)","v":""},{"$f":"IF(ESTUDIANTES!I109=0,\" \",ESTUDIANTES!I109)","v":" "}," "," "," "]
[7,{"$f":"IF(ESTUDIANTES!G110=0,\"\",ESTUDIANTES!G110)","v":""},{"$f":"IF(ESTUDIANTES!I110=0,\" \",ESTUDIANTES!I110)","v":" "}," "," "," "]
[8,{"$f":"IF(ESTUDIANTES!G111=0,\"\",ESTUDIANTES!G111)","v":""},{"$f":"IF(ESTUDIANTES!I111=0,\" \",ESTUDIANTES!I111)","v":" "}," "," "," "]
[9,{"$f":"IF(ESTUDIANTES!G112=0,\"\",ESTUDIANTES!G112)","v":""},{"$f":"IF(ESTUDIANTES!I112=0,\" \",ESTUDIANTES!I112)","v":" "}," "," "," "]
[10,{"$f":"IF(ESTUDIANTES!G113=0,\"\",ESTUDIANTES!G113)","v":""},{"$f":"IF(ESTUDIANTES!I113=0,\" \",ESTUDIANTES!I113)","v":" "}," "," "," "]
[11,{"$f":"IF(ESTUDIANTES!G114=0,\"\",ESTUDIANTES!G114)","v":""},{"$f":"IF(ESTUDIANTES!I114=0,\" \",ESTUDIANTES!I114)","v":" "}," "," "," "]
[12,{"$f":"IF(ESTUDIANTES!G115=0,\"\",ESTUDIANTES!G115)","v":""},{"$f":"IF(ESTUDIANTES!I115=0,\" \",ESTUDIANTES!I115)","v":" "}," "," "," "]
[13,{"$f":"IF(ESTUDIANTES!G116=0,\"\",ESTUDIANTES!G116)","v":""},{"$f":"IF(ESTUDIANTES!I116=0,\" \",ESTUDIANTES!I116)","v":" "}," "," "," "]
[14,{"$f":"IF(ESTUDIANTES!G117=0,\"\",ESTUDIANTES!G117)","v":""},{"$f":"IF(ESTUDIANTES!I117=0,\" \",ESTUDIANTES!I117)","v":" "}," "," "," "]
[15,{"$f":"IF(ESTUDIANTES!G118=0,\"\",ESTUDIANTES!G118)","v":""},{"$f":"IF(ESTUDIANTES!I118=0,\" \",ESTUDIANTES!I118)","v":" "}," "," "," "]
[16,{"$f":"IF(ESTUDIANTES!G119=0,\"\",ESTUDIANTES!G119)","v":""},{"$f":"IF(ESTUDIANTES!I119=0,\" \",ESTUDIANTES!I119)","v":" "}," "," "," "]
[17,{"$f":"IF(ESTUDIANTES!G120=0,\"\",ESTUDIANTES!G120)","v":""},{"$f":"IF(ESTUDIANTES!I120=0,\" \",ESTUDIANTES!I120)","v":" "}," "," "," "]
[18,{"$f":"IF(ESTUDIANTES!G121=0,\"\",ESTUDIANTES!G121)","v":""},{"$f":"IF(ESTUDIANTES!I121=0,\" \",ESTUDIANTES!I121)","v":" "}," "," "," "]
[19,{"$f":"IF(ESTUDIANTES!G122=0,\"\",ESTUDIANTES!G122)","v":""},{"$f":"IF(ESTUDIANTES!I122=0,\" \",ESTUDIANTES!I122)","v":" "}," "," "," "]
[20,{"$f":"IF(ESTUDIANTES!G123=0,\"\",ESTUDIANTES!G123)","v":""},{"$f":"IF(ESTUDIANTES!I123=0,\" \",ESTUDIANTES!I123)","v":" "}," "," "," "]
[21,{"$f":"IF(ESTUDIANTES!G124=0,\"\",ESTUDIANTES!G124)","v":""},{"$f":"IF(ESTUDIANTES!I124=0,\" \",ESTUDIANTES!I124)","v":" "}," "," "," "]
[22,{"$f":"IF(ESTUDIANTES!G125=0,\"\",ESTUDIANTES!G125)","v":""},{"$f":"IF(ESTUDIANTES!I125=0,\" \",ESTUDIANTES!I125)","v":" "}," "," "," "]
[23,{"$f":"IF(ESTUDIANTES!G126=0,\"\",ESTUDIANTES!G126)","v":""},{"$f":"IF(ESTUDIANTES!I126=0,\" \",ESTUDIANTES!I126)","v":" "}," "," "," "]
[24,{"$f":"IF(ESTUDIANTES!G127=0,\"\",ESTUDIANTES!G127)","v":""},{"$f":"IF(ESTUDIANTES!I127=0,\" \",ESTUDIANTES!I127)","v":" "}," "," "," "]
[25,{"$f":"IF(ESTUDIANTES!G128=0,\"\",ESTUDIANTES!G128)","v":""},{"$f":"IF(ESTUDIANTES!I128=0,\" \",ESTUDIANTES!I128)","v":" "}," "," "," "]
[26,{"$f":"IF(ESTUDIANTES!G129=0,\"\",ESTUDIANTES!G129)","v":""},{"$f":"IF(ESTUDIANTES!I129=0,\" \",ESTUDIANTES!I129)","v":" "}," "," "," "]
[27,{"$f":"IF(ESTUDIANTES!G130=0,\"\",ESTUDIANTES!G130)","v":""},{"$f":"IF(ESTUDIANTES!I130=0,\" \",ESTUDIANTES!I130)","v":" "}," "," "," "]
[28,{"$f":"IF(ESTUDIANTES!G131=0,\"\",ESTUDIANTES!G131)","v":""},{"$f":"IF(ESTUDIANTES!I131=0,\" \",ESTUDIANTES!I131)","v":" "}," "," "," "]
[29,{"$f":"IF(ESTUDIANTES!G132=0,\"\",ESTUDIANTES!G132)","v":""},{"$f":"IF(ESTUDIANTES!I132=0,\" \",ESTUDIANTES!I132)","v":" "}," "," "," "]
[30,{"$f":"IF(ESTUDIANTES!G133=0,\"\",ESTUDIANTES!G133)","v":""},{"$f":"IF(ESTUDIANTES!I133=0,\" \",ESTUDIANTES!I133)","v":" "}," "," "," "]
[31,{"$f":"IF(ESTUDIANTES!G134=0,\"\",ESTUDIANTES!G134)","v":""},{"$f":"IF(ESTUDIANTES!I134=0,\" \",ESTUDIANTES!I134)","v":" "}," "," "," "]
[32,{"$f":"IF(ESTUDIANTES!G135=0,\"\",ESTUDIANTES!G135)","v":""},{"$f":"IF(ESTUDIANTES!I135=0,\" \",ESTUDIANTES!I135)","v":" "}," "," "," "]
[33,{"$f":"IF(ESTUDIANTES!G136=0,\"\",ESTUDIANTES!G136)","v":""},{"$f":"IF(ESTUDIANTES!I136=0,\" \",ESTUDIANTES!I136)","v":" "}," "," "," "]
[34,{"$f":"IF(ESTUDIANTES!G137=0,\"\",ESTUDIANTES!G137)","v":""},{"$f":"IF(ESTUDIANTES!I137=0,\" \",ESTUDIANTES!I137)","v":" "}," "," "," "]
[35,{"$f":"IF(ESTUDIANTES!G138=0,\"\",ESTUDIANTES!G138)","v":""},{"$f":"IF(ESTUDIANTES!I138=0,\" \",ESTUDIANTES!I138)","v":" "}," "," "," "]
[36,{"$f":"IF(ESTUDIANTES!G139=0,\"\",ESTUDIANTES!G139)","v":""},{"$f":"IF(ESTUDIANTES!I139=0,\" \",ESTUDIANTES!I139)","v":" "}," "," "," "]
[37,{"$f":"IF(ESTUDIANTES!G140=0,\"\",ESTUDIANTES!G140)","v":""},{"$f":"IF(ESTUDIANTES!I140=0,\" \",ESTUDIANTES!I140)","v":" "}," "," "," "]
[38,{"$f":"IF(ESTUDIANTES!G141=0,\"\",ESTUDIANTES!G141)","v":""},{"$f":"IF(ESTUDIANTES!I141=0,\" \",ESTUDIANTES!I141)","v":" "}," "," "," "]
[39,{"$f":"IF(ESTUDIANTES!G142=0,\"\",ESTUDIANTES!G142)","v":""},{"$f":"IF(ESTUDIANTES!I142=0,\" \",ESTUDIANTES!I142)","v":" "}," "," "," "]
[40,{"$f":"IF(ESTUDIANTES!G143=0,\"\",ESTUDIANTES!G143)","v":""},{"$f":"IF(ESTUDIANTES!I143=0,\" \",ESTUDIANTES!I143)","v":" "}," "," "," "]
[41,{"$f":"IF(ESTUDIANTES!G144=0,\"\",ESTUDIANTES!G144)","v":""},{"$f":"IF(ESTUDIANTES!I144=0,\" \",ESTUDIANTES!I144)","v":" "}," "," "," "]
[42,{"$f":"IF(ESTUDIANTES!G145=0,\"\",ESTUDIANTES!G145)","v":""},{"$f":"IF(ESTUDIANTES!I145=0,\" \",ESTUDIANTES!I145)","v":" "}," "," "," "]
[43,{"$f":"IF(ESTUDIANTES!G146=0,\"\",ESTUDIANTES!G146)","v":""},{"$f":"IF(ESTUDIANTES!I146=0,\" \",ESTUDIANTES!I146)","v":" "}," "," "," "]
[44,{"$f":"IF(ESTUDIANTES!G147=0,\"\",ESTUDIANTES!G147)","v":""},{"$f":"IF(ESTUDIANTES!I147=0,\" \",ESTUDIANTES!I147)","v":" "}," "," "," "]
[45,{"$f":"IF(ESTUDIANTES!G148=0,\"\",ESTUDIANTES!G148)","v":""},{"$f":"IF(ESTUDIANTES!I148=0,\" \",ESTUDIANTES!I148)","v":" "}," "," "," "]
[46,{"$f":"IF(ESTUDIANTES!G149=0,\"\",ESTUDIANTES!G149)","v":""},{"$f":"IF(ESTUDIANTES!I149=0,\" \",ESTUDIANTES!I149)","v":" "}," "," "," "]
[47,{"$f":"IF(ESTUDIANTES!G150=0,\"\",ESTUDIANTES!G150)","v":""},{"$f":"IF(ESTUDIANTES!I150=0,\" \",ESTUDIANTES!I150)","v":" "}," "," "," "]
[48,{"$f":"IF(ESTUDIANTES!G151=0,\"\",ESTUDIANTES!G151)","v":""},{"$f":"IF(ESTUDIANTES!I151=0,\" \",ESTUDIANTES!I151)","v":" "}," "," "," "]
[49,{"$f":"IF(ESTUDIANTES!G152=0,\"\",ESTUDIANTES!G152)","v":""},{"$f":"IF(ESTUDIANTES!I152=0,\" \",ESTUDIANTES!I152)","v":" "}," "," "," "]
[50,{"$f":"IF(ESTUDIANTES!G153=0,\"\",ESTUDIANTES!G153)","v":""},{"$f":"IF(ESTUDIANTES!I153=0,\" \",ESTUDIANTES!I153)","v":" "}," "," "," "]
[]
[{"$f":"DATOS!$B$3","v":"COLEGIO BACHILLERATO PCEI \"SIN FRONTERAS\""}]
[]
[null,"GRADO/CURSO:",{"$f":"DATOS!$E6","v":"Primer Año"}]
[null,"NIVEL:",{"$f":"DATOS!$F6","v":"BGU"}]
[null,"PARALELO:",{"$f":"DATOS!$G6","v":0}]
[null,"TUTOR:",{"$f":"DATOS!$H6","v":"DOCENTE "}]
[]
["Nro","NOMBRES Y APELLIDOS","F.N","AÑOS","MESES","DIAS"]
[1,{"$f":"IF(ESTUDIANTES!G154=0,\"\",ESTUDIANTES!G154)","v":""},{"$f":"IF(ESTUDIANTES!I154=0,\" \",ESTUDIANTES!I154)","v":" "},{"$f":"IFERROR(DATEDIF(C186,TODAY(),\"Y\"),\" \")","v":" "},{"$f":"IFERROR(DATEDIF(C186,TODAY(),\"YM\"),\" \")","v":" "},{"$f":"IFERROR(DATEDIF(C186,TODAY(),\"MD\"),\" \")","v":" "}]
[2,{"$f":"IF(ESTUDIANTES!G155=0,\"\",ESTUDIANTES!G155)","v":""},{"$f":"IF(ESTUDIANTES!I155=0,\" \",ESTUDIANTES!I155)","v":" "},{"$f":"IFERROR(DATEDIF(C187,TODAY(),\"Y\"),\" \")","v":" "},{"$f":"IFERROR(DATEDIF(C187,TODAY(),\"YM\"),\" \")","v":" "},{"$f":"IFERROR(DATEDIF(C187,TODAY(),\"MD\"),\" \")","v":" "}]
[3,{"$f":"IF(ESTUDIANTES!G156=0,\"\",ESTUDIANTES!G156)","v":""},{"$f":"IF(ESTUDIANTES!I156=0,\" \",ESTUDIANTES!I156)","v":" "}," "," "," "]
[4,{"$f":"IF(ESTUDIANTES!G157=0,\"\",ESTUDIANTES!G157)","v":""},{"$f":"IF(ESTUDIANTES!I157=0,\" \",ESTUDIANTES!I157)","v":" "}," "," "," "]
[5,{"$f":"IF(ESTUDIANTES!G158=0,\"\",ESTUDIANTES!G158)","v":""},{"$f":"IF(ESTUDIANTES!I158=0,\" \",ESTUDIANTES!I158)","v":" "}," "," "," "]
[6,{"$f":"IF(ESTUDIANTES!G159=0,\"\",ESTUDIANTES!G159)","v":""},{"$f":"IF(ESTUDIANTES!I159=0,\" \",ESTUDIANTES!I159)","v":" "}," "," "," "]
[7,{"$f":"IF(ESTUDIANTES!G160=0,\"\",ESTUDIANTES!G160)","v":""},{"$f":"IF(ESTUDIANTES!I160=0,\" \",ESTUDIANTES!I160)","v":" "}," "," "," "]
[8,{"$f":"IF(ESTUDIANTES!G161=0,\"\",ESTUDIANTES!G161)","v":""},{"$f":"IF(ESTUDIANTES!I161=0,\" \",ESTUDIANTES!I161)","v":" "}," "," "," "]
[9,{"$f":"IF(ESTUDIANTES!G162=0,\"\",ESTUDIANTES!G162)","v":""},{"$f":"IF(ESTUDIANTES!I162=0,\" \",ESTUDIANTES!I162)","v":" "}," "," "," "]
[10,{"$f":"IF(ESTUDIANTES!G163=0,\"\",ESTUDIANTES!G163)","v":""},{"$f":"IF(ESTUDIANTES!I163=0,\" \",ESTUDIANTES!I163)","v":" "}," "," "," "]
[11,{"$f":"IF(ESTUDIANTES!G164=0,\"\",ESTUDIANTES!G164)","v":""},{"$f":"IF(ESTUDIANTES!I164=0,\" \",ESTUDIANTES!I164)","v":" "}," "," "," "]
[12,{"$f":"IF(ESTUDIANTES!G165=0,\"\",ESTUDIANTES!G165)","v":""},{"$f":"IF(ESTUDIANTES!I165=0,\" \",ESTUDIANTES!I165)","v":" "}," "," "," "]
[13,{"$f":"IF(ESTUDIANTES!G166=0,\"\",ESTUDIANTES!G166)","v":""},{"$f":"IF(ESTUDIANTES!I166=0,\" \",ESTUDIANTES!I166)","v":" "}," "," "," "]
[14,{"$f":"IF(ESTUDIANTES!G167=0,\"\",ESTUDIANTES!G167)","v":""},{"$f":"IF(ESTUDIANTES!I167=0,\" \",ESTUDIANTES!I167)","v":" "}," "," "," "]
[15,{"$f":"IF(ESTUDIANTES!G168=0,\"\",ESTUDIANTES!G168)","v":""},{"$f":"IF(ESTUDIANTES!I168=0,\" \",ESTUDIANTES!I168)","v":" "}," "," "," "]
[16,{"$f":"IF(ESTUDIANTES!G169=0,\"\",ESTUDIANTES!G169)","v":""},{"$f":"IF(ESTUDIANTES!I169=0,\" \",ESTUDIANTES!I169)","v":" "}," "," "," "]
[17,{"$f":"IF(ESTUDIANTES!G170=0,\"\",ESTUDIANTES!G170)","v":""},{"$f":"IF(ESTUDIANTES!I170=0,\" \",ESTUDIANTES!I170)","v":" "}," "," "," "]
[18,{"$f":"IF(ESTUDIANTES!G171=0,\"\",ESTUDIANTES!G171)","v":""},{"$f":"IF(ESTUDIANTES!I171=0,\" \",ESTUDIANTES!I171)","v":" "}," "," "," "]
[19,{"$f":"IF(ESTUDIANTES!G172=0,\"\",ESTUDIANTES!G172)","v":""},{"$f":"IF(ESTUDIANTES!I172=0,\" \",ESTUDIANTES!I172)","v":" "}," "," "," "]
[20,{"$f":"IF(ESTUDIANTES!G173=0,\"\",ESTUDIANTES!G173)","v":""},{"$f":"IF(ESTUDIANTES!I173=0,\" \",ESTUDIANTES!I173)","v":" "}," "," "," "]
[21,{"$f":"IF(ESTUDIANTES!G174=0,\"\",ESTUDIANTES!G174)","v":""},{"$f":"IF(ESTUDIANTES!I174=0,\" \",ESTUDIANTES!I174)","v":" "}," "," "," "]
[22,{"$f":"IF(ESTUDIANTES!G175=0,\"\",ESTUDIANTES!G175)","v":""},{"$f":"IF(ESTUDIANTES!I175=0,\" \",ESTUDIANTES!I175)","v":" "}," "," "," "]
[23,{"$f":"IF(ESTUDIANTES!G176=0,\"\",ESTUDIANTES!G176)","v":""},{"$f":"IF(ESTUDIANTES!I176=0,\" \",ESTUDIANTES!I176)","v":" "}," "," "," "]
[24,{"$f":"IF(ESTUDIANTES!G177=0,\"\",ESTUDIANTES!G177)","v":""},{"$f":"IF(ESTUDIANTES!I177=0,\" \",ESTUDIANTES!I177)","v":" "}," "," "," "]
[25,{"$f":"IF(ESTUDIANTES!G178=0,\"\",ESTUDIANTES!G178)","v":""},{"$f":"IF(ESTUDIANTES!I178=0,\" \",ESTUDIANTES!I178)","v":" "}," "," "," "]
[26,{"$f":"IF(ESTUDIANTES!G179=0,\"\",ESTUDIANTES!G179)","v":""},{"$f":"IF(ESTUDIANTES!I179=0,\" \",ESTUDIANTES!I179)","v":" "}," "," "," "]
[27,{"$f":"IF(ESTUDIANTES!G180=0,\"\",ESTUDIANTES!G180)","v":""},{"$f":"IF(ESTUDIANTES!I180=0,\" \",ESTUDIANTES!I180)","v":" "}," "," "," "]
[28,{"$f":"IF(ESTUDIANTES!G181=0,\"\",ESTUDIANTES!G181)","v":""},{"$f":"IF(ESTUDIANTES!I181=0,\" \",ESTUDIANTES!I181)","v":" "}," "," "," "]
[29,{"$f":"IF(ESTUDIANTES!G182=0,\"\",ESTUDIANTES!G182)","v":""},{"$f":"IF(ESTUDIANTES!I182=0,\" \",ESTUDIANTES!I182)","v":" "}," "," "," "]
[30,{"$f":"IF(ESTUDIANTES!G183=0,\"\",ESTUDIANTES!G183)","v":""},{"$f":"IF(ESTUDIANTES!I183=0,\" \",ESTUDIANTES!I183)","v":" "}," "," "," "]
[31,{"$f":"IF(ESTUDIANTES!G184=0,\"\",ESTUDIANTES!G184)","v":""},{"$f":"IF(ESTUDIANTES!I184=0,\" \",ESTUDIANTES!I184)","v":" "}," "," "," "]
[32,{"$f":"IF(ESTUDIANTES!G185=0,\"\",ESTUDIANTES!G185)","v":""},{"$f":"IF(ESTUDIANTES!I185=0,\" \",ESTUDIANTES!I185)","v":" "}," "," "," "]
[33,{"$f":"IF(ESTUDIANTES!G186=0,\"\",ESTUDIANTES!G186)","v":""},{"$f":"IF(ESTUDIANTES!I186=0,\" \",ESTUDIANTES!I186)","v":" "}," "," "," "]
[34,{"$f":"IF(ESTUDIANTES!G187=0,\"\",ESTUDIANTES!G187)","v":""},{"$f":"IF(ESTUDIANTES!I187=0,\" \",ESTUDIANTES!I187)","v":" "}," "," "," "]
[35,{"$f":"IF(ESTUDIANTES!G188=0,\"\",ESTUDIANTES!G188)","v":""},{"$f":"IF(ESTUDIANTES!I188=0,\" \",ESTUDIANTES!I188)","v":" "}," "," "," "]
[36,{"$f":"IF(ESTUDIANTES!G189=0,\"\",ESTUDIANTES!G189)","v":""},{"$f":"IF(ESTUDIANTES!I189=0,\" \",ESTUDIANTES!I189)","v":" "}," "," "," "]
[37,{"$f":"IF(ESTUDIANTES!G190=0,\"\",ESTUDIANTES!G190)","v":""},{"$f":"IF(ESTUDIANTES!I190=0,\" \",ESTUDIANTES!I190)","v":" "}," "," "," "]
[38,{"$f":"IF(ESTUDIANTES!G191=0,\"\",ESTUDIANTES!G191)","v":""},{"$f":"IF(ESTUDIANTES!I191=0,\" \",ESTUDIANTES!I191)","v":" "}," "," "," "]
[39,{"$f":"IF(ESTUDIANTES!G192=0,\"\",ESTUDIANTES!G192)","v":""},{"$f":"IF(ESTUDIANTES!I192=0,\" \",ESTUDIANTES!I192)","v":" "}," "," "," "]
[40,{"$f":"IF(ESTUDIANTES!G193=0,\"\",ESTUDIANTES!G193)","v":""},{"$f":"IF(ESTUDIANTES!I193=0,\" \",ESTUDIANTES!I193)","v":" "}," "," "," "]
[41,{"$f":"IF(ESTUDIANTES!G194=0,\"\",ESTUDIANTES!G194)","v":""},{"$f":"IF(ESTUDIANTES!I194=0,\" \",ESTUDIANTES!I194)","v":" "}," "," "," "]
[42,{"$f":"IF(ESTUDIANTES!G195=0,\"\",ESTUDIANTES!G195)","v":""},{"$f":"IF(ESTUDIANTES!I195=0,\" \",ESTUDIANTES!I195)","v":" "}," "," "," "]
[43,{"$f":"IF(ESTUDIANTES!G196=0,\"\",ESTUDIANTES!G196)","v":""},{"$f":"IF(ESTUDIANTES!I196=0,\" \",ESTUDIANTES!I196)","v":" "}," "," "," "]
[44,{"$f":"IF(ESTUDIANTES!G197=0,\"\",ESTUDIANTES!G197)","v":""},{"$f":"IF(ESTUDIANTES!I197=0,\" \",ESTUDIANTES!I197)","v":" "}," "," "," "]
[45,{"$f":"IF(ESTUDIANTES!G198=0,\"\",ESTUDIANTES!G198)","v":""},{"$f":"IF(ESTUDIANTES!I198=0,\" \",ESTUDIANTES!I198)","v":" "}," "," "," "]
[46,{"$f":"IF(ESTUDIANTES!G199=0,\"\",ESTUDIANTES!G199)","v":""},{"$f":"IF(ESTUDIANTES!I199=0,\" \",ESTUDIANTES!I199)","v":" "}," "," "," "]
[47,{"$f":"IF(ESTUDIANTES!G200=0,\"\",ESTUDIANTES!G200)","v":""},{"$f":"IF(ESTUDIANTES!I200=0,\" \",ESTUDIANTES!I200)","v":" "}," "," "," "]
[48,{"$f":"IF(ESTUDIANTES!G201=0,\"\",ESTUDIANTES!G201)","v":""},{"$f":"IF(ESTUDIANTES!I201=0,\" \",ESTUDIANTES!I201)","v":" "}," "," "," "]
[49,{"$f":"IF(ESTUDIANTES!G202=0,\"\",ESTUDIANTES!G202)","v":""},{"$f":"IF(ESTUDIANTES!I202=0,\" \",ESTUDIANTES!I202)","v":" "}," "," "," "]
[50,{"$f":"IF(ESTUDIANTES!G203=0,\"\",ESTUDIANTES!G203)","v":""},{"$f":"IF(ESTUDIANTES!I203=0,\" \",ESTUDIANTES!I203)","v":" "}," "," "," "]
[]
[{"$f":"DATOS!$B$3","v":"COLEGIO BACHILLERATO PCEI \"SIN FRONTERAS\""}]
[]
[null,"GRADO/CURSO:",{"$f":"DATOS!$E7","v":"Segundo Año"}]
[null,"NIVEL:",{"$f":"DATOS!$F7","v":"BGU"}]
[null,"PARALELO:",{"$f":"DATOS!$G7","v":0}]
[null,"TUTOR:",{"$f":"DATOS!$H7","v":"DOCENTE "}]
[]
["Nro","NOMBRES Y APELLIDOS","F.N","AÑOS","MESES","DIAS"]
[1,{"$f":"IF(ESTUDIANTES!G204=0,\"\",ESTUDIANTES!G204)","v":""},{"$f":"IF(ESTUDIANTES!I204=0,\" \",ESTUDIANTES!I204)","v":" "},{"$f":"IFERROR(DATEDIF(C245,TODAY(),\"Y\"),\" \")","v":" "},{"$f":"IFERROR(DATEDIF(C245,TODAY(),\"YM\"),\" \")","v":" "},{"$f":"IFERROR(DATEDIF(C245,TODAY(),\"MD\"),\" \")","v":" "}]
[2,{"$f":"IF(ESTUDIANTES!G205=0,\"\",ESTUDIANTES!G205)","v":""},{"$f":"IF(ESTUDIANTES!I205=0,\" \",ESTUDIANTES!I205)","v":" "},{"$f":"IFERROR(DATEDIF(C246,TODAY(),\"Y\"),\" \")","v":" "},{"$f":"IFERROR(DATEDIF(C246,TODAY(),\"YM\"),\" \")","v":" "},{"$f":"IFERROR(DATEDIF(C246,TODAY(),\"MD\"),\" \")","v":" "}]
[3,{"$f":"IF(ESTUDIANTES!G206=0,\"\",ESTUDIANTES!G206)","v":""},{"$f":"IF(ESTUDIANTES!I206=0,\" \",ESTUDIANTES!I206)","v":" "}," "," "," "]
[4,{"$f":"IF(ESTUDIANTES!G207=0,\"\",ESTUDIANTES!G207)","v":""},{"$f":"IF(ESTUDIANTES!I207=0,\" \",ESTUDIANTES!I207)","v":" "}," "," "," "]
[5,{"$f":"IF(ESTUDIANTES!G208=0,\"\",ESTUDIANTES!G208)","v":""},{"$f":"IF(ESTUDIANTES!I208=0,\" \",ESTUDIANTES!I208)","v":" "}," "," "," "]
[6,{"$f":"IF(ESTUDIANTES!G209=0,\"\",ESTUDIANTES!G209)","v":""},{"$f":"IF(ESTUDIANTES!I209=0,\" \",ESTUDIANTES!I209)","v":" "}," "," "," "]
[7,{"$f":"IF(ESTUDIANTES!G210=0,\"\",ESTUDIANTES!G210)","v":""},{"$f":"IF(ESTUDIANTES!I210=0,\" \",ESTUDIANTES!I210)","v":" "}," "," "," "]
[8,{"$f":"IF(ESTUDIANTES!G211=0,\"\",ESTUDIANTES!G211)","v":""},{"$f":"IF(ESTUDIANTES!I211=0,\" \",ESTUDIANTES!I211)","v":" "}," "," "," "]
[9,{"$f":"IF(ESTUDIANTES!G212=0,\"\",ESTUDIANTES!G212)","v":""},{"$f":"IF(ESTUDIANTES!I212=0,\" \",ESTUDIANTES!I212)","v":" "}," "," "," "]
[10,{"$f":"IF(ESTUDIANTES!G213=0,\"\",ESTUDIANTES!G213)","v":""},{"$f":"IF(ESTUDIANTES!I213=0,\" \",ESTUDIANTES!I213)","v":" "}," "," "," "]
[11,{"$f":"IF(ESTUDIANTES!G214=0,\"\",ESTUDIANTES!G214)","v":""},{"$f":"IF(ESTUDIANTES!I214=0,\" \",ESTUDIANTES!I214)","v":" "}," "," "," "]
[12,{"$f":"IF(ESTUDIANTES!G215=0,\"\",ESTUDIANTES!G215)","v":""},{"$f":"IF(ESTUDIANTES!I215=0,\" \",ESTUDIANTES!I215)","v":" "}," "," "," "]
[13,{"$f":"IF(ESTUDIANTES!G216=0,\"\",ESTUDIANTES!G216)","v":""},{"$f":"IF(ESTUDIANTES!I216=0,\" \",ESTUDIANTES!I216)","v":" "}," "," "," "]
[14,{"$f":"IF(ESTUDIANTES!G217=0,\"\",ESTUDIANTES!G217)","v":""},{"$f":"IF(ESTUDIANTES!I217=0,\" \",ESTUDIANTES!I217)","v":" "}," "," "," "]
[15,{"$f":"IF(ESTUDIANTES!G218=0,\"\",ESTUDIANTES!G218)","v":""},{"$f":"IF(ESTUDIANTES!I218=0,\" \",ESTUDIANTES!I218)","v":" "}," "," "," "]
[16,{"$f":"IF(ESTUDIANTES!G219=0,\"\",ESTUDIANTES!G219)","v":""},{"$f":"IF(ESTUDIANTES!I219=0,\" \",ESTUDIANTES!I219)","v":" "}," "," "," "]
[17,{"$f":"IF(ESTUDIANTES!G220=0,\"\",ESTUDIANTES!G220)","v":""},{"$f":"IF(ESTUDIANTES!I220=0,\" \",ESTUDIANTES!I220)","v":" "}," "," "," "]
[18,{"$f":"IF(ESTUDIANTES!G221=0,\"\",ESTUDIANTES!G221)","v":""},{"$f":"IF(ESTUDIANTES!I221=0,\" \",ESTUDIANTES!I221)","v":" "}," "," "," "]
[19,{"$f":"IF(ESTUDIANTES!G222=0,\"\",ESTUDIANTES!G222)","v":""},{"$f":"IF(ESTUDIANTES!I222=0,\" \",ESTUDIANTES!I222)","v":" "}," "," "," "]
[20,{"$f":"IF(ESTUDIANTES!G223=0,\"\",ESTUDIANTES!G223)","v":""},{"$f":"IF(ESTUDIANTES!I223=0,\" \",ESTUDIANTES!I223)","v":" "}," "," "," "]
[21,{"$f":"IF(ESTUDIANTES!G224=0,\"\",ESTUDIANTES!G224)","v":""},{"$f":"IF(ESTUDIANTES!I224=0,\" \",ESTUDIANTES!I224)","v":" "}," "," "," "]
[22,{"$f":"IF(ESTUDIANTES!G225=0,\"\",ESTUDIANTES!G225)","v":""},{"$f":"IF(ESTUDIANTES!I225=0,\" \",ESTUDIANTES!I225)","v":" "}," "," "," "]
[23,{"$f":"IF(ESTUDIANTES!G226=0,\"\",ESTUDIANTES!G226)","v":""},{"$f":"IF(ESTUDIANTES!I226=0,\" \",ESTUDIANTES!I226)","v":" "}," "," "," "]
[24,{"$f":"IF(ESTUDIANTES!G227=0,\"\",ESTUDIANTES!G227)","v":""},{"$f":"IF(ESTUDIANTES!I227=0,\" \",ESTUDIANTES!I227)","v":" "}," "," "," "]
[25,{"$f":"IF(ESTUDIANTES!G228=0,\"\",ESTUDIANTES!G228)","v":""},{"$f":"IF(ESTUDIANTES!I228=0,\" \",ESTUDIANTES!I228)","v":" "}," "," "," "]
[26,{"$f":"IF(ESTUDIANTES!G229=0,\"\",ESTUDIANTES!G229)","v":""},{"$f":"IF(ESTUDIANTES!I229=0,\" \",ESTUDIANTES!I229)","v":" "}," "," "," "]
[27,{"$f":"IF(ESTUDIANTES!G230=0,\"\",ESTUDIANTES!G230)","v":""},{"$f":"IF(ESTUDIANTES!I230=0,\" \",ESTUDIANTES!I230)","v":" "}," "," "," "]
[28,{"$f":"IF(ESTUDIANTES!G231=0,\"\",ESTUDIANTES!G231)","v":""},{"$f":"IF(ESTUDIANTES!I231=0,\" \",ESTUDIANTES!I231)","v":" "}," "," "," "]
[29,{"$f":"IF(ESTUDIANTES!G232=0,\"\",ESTUDIANTES!G232)","v":""},{"$f":"IF(ESTUDIANTES!I232=0,\" \",ESTUDIANTES!I232)","v":" "}," "," "," "]
[30,{"$f":"IF(ESTUDIANTES!G233=0,\"\",ESTUDIANTES!G233)","v":""},{"$f":"IF(ESTUDIANTES!I233=0,\" \",ESTUDIANTES!I233)","v":" "}," "," "," "]
[31,{"$f":"IF(ESTUDIANTES!G234=0,\"\",ESTUDIANTES!G234)","v":""},{"$f":"IF(ESTUDIANTES!I234=0,\" \",ESTUDIANTES!I234)","v":" "}," "," "," "]
[32,{"$f":"IF(ESTUDIANTES!G235=0,\"\",ESTUDIANTES!G235)","v":""},{"$f":"IF(ESTUDIANTES!I235=0,\" \",ESTUDIANTES!I235)","v":" "}," "," "," "]
[33,{"$f":"IF(ESTUDIANTES!G236=0,\"\",ESTUDIANTES!G236)","v":""},{"$f":"IF(ESTUDIANTES!I236=0,\" \",ESTUDIANTES!I236)","v":" "}," "," "," "]
[34,{"$f":"IF(ESTUDIANTES!G237=0,\"\",ESTUDIANTES!G237)","v":""},{"$f":"IF(ESTUDIANTES!I237=0,\" \",ESTUDIANTES!I237)","v":" "}," "," "," "]
[35,{"$f":"IF(ESTUDIANTES!G238=0,\"\",ESTUDIANTES!G238)","v":""},{"$f":"IF(ESTUDIANTES!I238=0,\" \",ESTUDIANTES!I238)","v":" "}," "," "," "]
[36,{"$f":"IF(ESTUDIANTES!G239=0,\"\",ESTUDIANTES!G239)","v":""},{"$f":"IF(ESTUDIANTES!I239=0,\" \",ESTUDIANTES!I239)","v":" "}," "," "," "]
[37,{"$f":"IF(ESTUDIANTES!G240=0,\"\",ESTUDIANTES!G240)","v":""},{"$f":"IF(ESTUDIANTES!I240=0,\" \",ESTUDIANTES!I240)","v":" "}," "," "," "]
[38,{"$f":"IF(ESTUDIANTES!G241=0,\"\",ESTUDIANTES!G241)","v":""},{"$f":"IF(ESTUDIANTES!I241=0,\" \",ESTUDIANTES!I241)","v":" "}," "," "," "]
[39,{"$f":"IF(ESTUDIANTES!G242=0,\"\",ESTUDIANTES!G242)","v":""},{"$f":"IF(ESTUDIANTES!I242=0,\" \",ESTUDIANTES!I242)","v":" "}," "," "," "]
[40,{"$f":"IF(ESTUDIANTES!G243=0,\"\",ESTUDIANTES!G243)","v":""},{"$f":"IF(ESTUDIANTES!I243=0,\" \",ESTUDIANTES!I243)","v":" "}," "," "," "]
[41,{"$f":"IF(ESTUDIANTES!G244=0,\"\",ESTUDIANTES!G244)","v":""},{"$f":"IF(ESTUDIANTES!I244=0,\" \",ESTUDIANTES!I244)","v":" "}," "," "," "]
[42,{"$f":"IF(ESTUDIANTES!G245=0,\"\",ESTUDIANTES!G245)","v":""},{"$f":"IF(ESTUDIANTES!I245=0,\" \",ESTUDIANTES!I245)","v":" "}," "," "," "]
[43,{"$f":"IF(ESTUDIANTES!G246=0,\"\",ESTUDIANTES!G246)","v":""},{"$f":"IF(ESTUDIANTES!I246=0,\" \",ESTUDIANTES!I246)","v":" "}," "," "," "]
[44,{"$f":"IF(ESTUDIANTES!G247=0,\"\",ESTUDIANTES!G247)","v":""},{"$f":"IF(ESTUDIANTES!I247=0,\" \",ESTUDIANTES!I247)","v":" "}," "," "," "]
[45,{"$f":"IF(ESTUDIANTES!G248=0,\"\",ESTUDIANTES!G248)","v":""},{"$f":"IF(ESTUDIANTES!I248=0,\" \",ESTUDIANTES!I248)","v":" "}," "," "," "]
[46,{"$f":"IF(ESTUDIANTES!G249=0,\"\",ESTUDIANTES!G249)","v":""},{"$f":"IF(ESTUDIANTES!I249=0,\" \",ESTUDIANTES!I249)","v":" "}," "," "," "]
[47,{"$f":"IF(ESTUDIANTES!G250=0,\"\",ESTUDIANTES!G250)","v":""},{"$f":"IF(ESTUDIANTES!I250=0,\" \",ESTUDIANTES!I250)","v":" "}," "," "," "]
[48,{"$f":"IF(ESTUDIANTES!G251=0,\"\",ESTUDIANTES!G251)","v":""},{"$f":"IF(ESTUDIANTES!I251=0,\" \",ESTUDIANTES!I251)","v":" "}," "," "," "]
[49,{"$f":"IF(ESTUDIANTES!G252=0,\"\",ESTUDIANTES!G252)","v":""},{"$f":"IF(ESTUDIANTES!I252=0,\" \",ESTUDIANTES!I252)","v":" "}," "," "," "]
[50,{"$f":"IF(ESTUDIANTES!G253=0,\"\",ESTUDIANTES!G253)","v":""},{"$f":"IF(ESTUDIANTES!I253=0,\" \",ESTUDIANTES!I253)","v":" "}," "," "," "]
[]
[{"$f":"DATOS!$B$3","v":"COLEGIO BACHILLERATO PCEI \"SIN FRONTERAS\""}]
[]
[null,"GRADO/CURSO:",{"$f":"DATOS!$E8","v":"Tercer Año"}]
[null,"NIVEL:",{"$f":"DATOS!$F8","v":"BGU"}]
[null,"PARALELO:",{"$f":"DATOS!$G8","v":0}]
[null,"TUTOR:",{"$f":"DATOS!$H8","v":"DOCENTE "}]
[]
["Nro","NOMBRES Y APELLIDOS","F.N","AÑOS","MESES","DIAS"]
[1,{"$f":"IF(ESTUDIANTES!G254=0,\"\",ESTUDIANTES!G254)","v":""},{"$f":"IF(ESTUDIANTES!I254=0,\" \",ESTUDIANTES!I254)","v":" "},{"$f":"IFERROR(DATEDIF(C304,TODAY(),\"Y\"),\" \")","v":" "},{"$f":"IFERROR(DATEDIF(C304,TODAY(),\"YM\"),\" \")","v":" "},{"$f":"IFERROR(DATEDIF(C304,TODAY(),\"MD\"),\" \")","v":" "}]
[2,{"$f":"IF(ESTUDIANTES!G255=0,\"\",ESTUDIANTES!G255)","v":""},{"$f":"IF(ESTUDIANTES!I255=0,\" \",ESTUDIANTES!I255)","v":" "},{"$f":"IFERROR(DATEDIF(C305,TODAY(),\"Y\"),\" \")","v":" "},{"$f":"IFERROR(DATEDIF(C305,TODAY(),\"YM\"),\" \")","v":" "},{"$f":"IFERROR(DATEDIF(C305,TODAY(),\"MD\"),\" \")","v":" "}]
[3,{"$f":"IF(ESTUDIANTES!G256=0,\"\",ESTUDIANTES!G256)","v":""},{"$f":"IF(ESTUDIANTES!I256=0,\" \",ESTUDIANTES!I256)","v":" "}," "," "," "]
[4,{"$f":"IF(ESTUDIANTES!G257=0,\"\",ESTUDIANTES!G257)","v":""},{"$f":"IF(ESTUDIANTES!I257=0,\" \",ESTUDIANTES!I257)","v":" "}," "," "," "]
[5,{"$f":"IF(ESTUDIANTES!G258=0,\"\",ESTUDIANTES!G258)","v":""},{"$f":"IF(ESTUDIANTES!I258=0,\" \",ESTUDIANTES!I258)","v":" "}," "," "," "]
[6,{"$f":"IF(ESTUDIANTES!G259=0,\"\",ESTUDIANTES!G259)","v":""},{"$f":"IF(ESTUDIANTES!I259=0,\" \",ESTUDIANTES!I259)","v":" "}," "," "," "]
[7,{"$f":"IF(ESTUDIANTES!G260=0,\"\",ESTUDIANTES!G260)","v":""},{"$f":"IF(ESTUDIANTES!I260=0,\" \",ESTUDIANTES!I260)","v":" "}," "," "," "]
[8,{"$f":"IF(ESTUDIANTES!G261=0,\"\",ESTUDIANTES!G261)","v":""},{"$f":"IF(ESTUDIANTES!I261=0,\" \",ESTUDIANTES!I261)","v":" "}," "," "," "]
[9,{"$f":"IF(ESTUDIANTES!G262=0,\"\",ESTUDIANTES!G262)","v":""},{"$f":"IF(ESTUDIANTES!I262=0,\" \",ESTUDIANTES!I262)","v":" "}," "," "," "]
[10,{"$f":"IF(ESTUDIANTES!G263=0,\"\",ESTUDIANTES!G263)","v":""},{"$f":"IF(ESTUDIANTES!I263=0,\" \",ESTUDIANTES!I263)","v":" "}," "," "," "]
[11,{"$f":"IF(ESTUDIANTES!G264=0,\"\",ESTUDIANTES!G264)","v":""},{"$f":"IF(ESTUDIANTES!I264=0,\" \",ESTUDIANTES!I264)","v":" "}," "," "," "]
[12,{"$f":"IF(ESTUDIANTES!G265=0,\"\",ESTUDIANTES!G265)","v":""},{"$f":"IF(ESTUDIANTES!I265=0,\" \",ESTUDIANTES!I265)","v":" "}," "," "," "]
[13,{"$f":"IF(ESTUDIANTES!G266=0,\"\",ESTUDIANTES!G266)","v":""},{"$f":"IF(ESTUDIANTES!I266=0,\" \",ESTUDIANTES!I266)","v":" "}," "," "," "]
[14,{"$f":"IF(ESTUDIANTES!G267=0,\"\",ESTUDIANTES!G267)","v":""},{"$f":"IF(ESTUDIANTES!I267=0,\" \",ESTUDIANTES!I267)","v":" "}," "," "," "]
[15,{"$f":"IF(ESTUDIANTES!G268=0,\"\",ESTUDIANTES!G268)","v":""},{"$f":"IF(ESTUDIANTES!I268=0,\" \",ESTUDIANTES!I268)","v":" "}," "," "," "]
[16,{"$f":"IF(ESTUDIANTES!G269=0,\"\",ESTUDIANTES!G269)","v":""},{"$f":"IF(ESTUDIANTES!I269=0,\" \",ESTUDIANTES!I269)","v":" "}," "," "," "]
[17,{"$f":"IF(ESTUDIANTES!G270=0,\"\",ESTUDIANTES!G270)","v":""},{"$f":"IF(ESTUDIANTES!I270=0,\" \",ESTUDIANTES!I270)","v":" "}," "," "," "]
[18,{"$f":"IF(ESTUDIANTES!G271=0,\"\",ESTUDIANTES!G271)","v":""},{"$f":"IF(ESTUDIANTES!I271=0,\" \",ESTUDIANTES!I271)","v":" "}," "," "," "]
[19,{"$f":"IF(ESTUDIANTES!G272=0,\"\",ESTUDIANTES!G272)","v":""},{"$f":"IF(ESTUDIANTES!I272=0,\" \",ESTUDIANTES!I272)","v":" "}," "," "," "]
[20,{"$f":"IF(ESTUDIANTES!G273=0,\"\",ESTUDIANTES!G273)","v":""},{"$f":"IF(ESTUDIANTES!I273=0,\" \",ESTUDIANTES!I273)","v":" "}," "," "," "]
[21,{"$f":"IF(ESTUDIANTES!G274=0,\"\",ESTUDIANTES!G274)","v":""},{"$f":"IF(ESTUDIANTES!I274=0,\" \",ESTUDIANTES!I274)","v":" "}," "," "," "]
[22,{"$f":"IF(ESTUDIANTES!G275=0,\"\",ESTUDIANTES!G275)","v":""},{"$f":"IF(ESTUDIANTES!I275=0,\" \",ESTUDIANTES!I275)","v":" "}," "," "," "]
[23,{"$f":"IF(ESTUDIANTES!G276=0,\"\",ESTUDIANTES!G276)","v":""},{"$f":"IF(ESTUDIANTES!I276=0,\" \",ESTUDIANTES!I276)","v":" "}," "," "," "]
[24,{"$f":"IF(ESTUDIANTES!G277=0,\"\",ESTUDIANTES!G277)","v":""},{"$f":"IF(ESTUDIANTES!I277=0,\" \",ESTUDIANTES!I277)","v":" "}," "," "," "]
[25,{"$f":"IF(ESTUDIANTES!G278=0,\"\",ESTUDIANTES!G278)","v":""},{"$f":"IF(ESTUDIANTES!I278=0,\" \",ESTUDIANTES!I278)","v":" "}," "," "," "]
[26,{"$f":"IF(ESTUDIANTES!G279=0,\"\",ESTUDIANTES!G279)","v":""},{"$f":"IF(ESTUDIANTES!I279=0,\" \",ESTUDIANTES!I279)","v":" "}," "," "," "]
[27,{"$f":"IF(ESTUDIANTES!G280=0,\"\",ESTUDIANTES!G280)","v":""},{"$f":"IF(ESTUDIANTES!I280=0,\" \",ESTUDIANTES!I280)","v":" "}," "," "," "]
[28,{"$f":"IF(ESTUDIANTES!G281=0,\"\",ESTUDIANTES!G281)","v":""},{"$f":"IF(ESTUDIANTES!I281=0,\" \",ESTUDIANTES!I281)","v":" "}," "," "," "]
[29,{"$f":"IF(ESTUDIANTES!G282=0,\"\",ESTUDIANTES!G282)","v":""},{"$f":"IF(ESTUDIANTES!I282=0,\" \",ESTUDIANTES!I282)","v":" "}," "," "," "]
[30,{"$f":"IF(ESTUDIANTES!G283=0,\"\",ESTUDIANTES!G283)","v":""},{"$f":"IF(ESTUDIANTES!I283=0,\" \",ESTUDIANTES!I283)","v":" "}," "," "," "]
[31,{"$f":"IF(ESTUDIANTES!G284=0,\"\",ESTUDIANTES!G284)","v":""},{"$f":"IF(ESTUDIANTES!I284=0,\" \",ESTUDIANTES!I284)","v":" "}," "," "," "]
[32,{"$f":"IF(ESTUDIANTES!G285=0,\"\",ESTUDIANTES!G285)","v":""},{"$f":"IF(ESTUDIANTES!I285=0,\" \",ESTUDIANTES!I285)","v":" "}," "," "," "]
[33,{"$f":"IF(ESTUDIANTES!G286=0,\"\",ESTUDIANTES!G286)","v":""},{"$f":"IF(ESTUDIANTES!I286=0,\" \",ESTUDIANTES!I286)","v":" "}," "," "," "]
[34,{"$f":"IF(ESTUDIANTES!G287=0,\"\",ESTUDIANTES!G287)","v":""},{"$f":"IF(ESTUDIANTES!I287=0,\" \",ESTUDIANTES!I287)","v":" "}," "," "," "]
[35,{"$f":"IF(ESTUDIANTES!G288=0,\"\",ESTUDIANTES!G288)","v":""},{"$f":"IF(ESTUDIANTES!I288=0,\" \",ESTUDIANTES!I288)","v":" "}," "," "," "]
[36,{"$f":"IF(ESTUDIANTES!G289=0,\"\",ESTUDIANTES!G289)","v":""},{"$f":"IF(ESTUDIANTES!I289=0,\" \",ESTUDIANTES!I289)","v":" "}," "," "," "]
[37,{"$f":"IF(ESTUDIANTES!G290=0,\"\",ESTUDIANTES!G290)","v":""},{"$f":"IF(ESTUDIANTES!I290=0,\" \",ESTUDIANTES!I290)","v":" "}," "," "," "]
[38,{"$f":"IF(ESTUDIANTES!G291=0,\"\",ESTUDIANTES!G291)","v":""},{"$f":"IF(ESTUDIANTES!I291=0,\" \",ESTUDIANTES!I291)","v":" "}," "," "," "]
[39,{"$f":"IF(ESTUDIANTES!G292=0,\"\",ESTUDIANTES!G292)","v":""},{"$f":"IF(ESTUDIANTES!I292=0,\" \",ESTUDIANTES!I292)","v":" "}," "," "," "]
[40,{"$f":"IF(ESTUDIANTES!G293=0,\"\",ESTUDIANTES!G293)","v":""},{"$f":"IF(ESTUDIANTES!I293=0,\" \",ESTUDIANTES!I293)","v":" "}," "," "," "]
[41,{"$f":"IF(ESTUDIANTES!G294=0,\"\",ESTUDIANTES!G294)","v":""},{"$f":"IF(ESTUDIANTES!I294=0,\" \",ESTUDIANTES!I294)","v":" "}," "," "," "]
[42,{"$f":"IF(ESTUDIANTES!G295=0,\"\",ESTUDIANTES!G295)","v":""},{"$f":"IF(ESTUDIANTES!I295=0,\" \",ESTUDIANTES!I295)","v":" "}," "," "," "]
[43,{"$f":"IF(ESTUDIANTES!G296=0,\"\",ESTUDIANTES!G296)","v":""},{"$f":"IF(ESTUDIANTES!I296=0,\" \",ESTUDIANTES!I296)","v":" "}," "," "," "]
[44,{"$f":"IF(ESTUDIANTES!G297=0,\"\",ESTUDIANTES!G297)","v":""},{"$f":"IF(ESTUDIANTES!I297=0,\" \",ESTUDIANTES!I297)","v":" "}," "," "," "]
[45,{"$f":"IF(ESTUDIANTES!G298=0,\"\",ESTUDIANTES!G298)","v":""},{"$f":"IF(ESTUDIANTES!I298=0,\" \",ESTUDIANTES!I298)","v":" "}," "," "," "]
[46,{"$f":"IF(ESTUDIANTES!G299=0,\"\",ESTUDIANTES!G299)","v":""},{"$f":"IF(ESTUDIANTES!I299=0,\" \",ESTUDIANTES!I299)","v":" "}," "," "," "]
[47,{"$f":"IF(ESTUDIANTES!G300=0,\"\",ESTUDIANTES!G300)","v":""},{"$f":"IF(ESTUDIANTES!I300=0,\" \",ESTUDIANTES!I300)","v":" "}," "," "," "]
[48,{"$f":"IF(ESTUDIANTES!G301=0,\"\",ESTUDIANTES!G301)","v":""},{"$f":"IF(ESTUDIANTES!I301=0,\" \",ESTUDIANTES!I301)","v":" "}," "," "," "]
[49,{"$f":"IF(ESTUDIANTES!G302=0,\"\",ESTUDIANTES!G302)","v":""},{"$f":"IF(ESTUDIANTES!I302=0,\" \",ESTUDIANTES!I302)","v":" "}," "," "," "]
[50,{"$f":"IF(ESTUDIANTES!G303=0,\"\",ESTUDIANTES!G303)","v":""},{"$f":"IF(ESTUDIANTES!I303=0,\" \",ESTUDIANTES!I303)","v":" "}," "," "," "]
[]
[{"$f":"DATOS!$B$3","v":"COLEGIO BACHILLERATO PCEI \"SIN FRONTERAS\""}]
[]
[null,"GRADO/CURSO:",{"$f":"DATOS!$E9","v":0}]
[null,"NIVEL:",{"$f":"DATOS!$F9","v":0}]
[null,"PARALELO:",{"$f":"DATOS!$G9","v":0}]
[null,"TUTOR:",{"$f":"DATOS!$H9","v":0}]
[]
["Nro","NOMBRES Y APELLIDOS","F.N","AÑOS","MESES","DIAS"]
[1,{"$f":"IF(ESTUDIANTES!G304=0,\"\",ESTUDIANTES!G304)","v":""},{"$f":"IF(ESTUDIANTES!I304=0,\" \",ESTUDIANTES!I304)","v":" "},{"$f":"IFERROR(DATEDIF(C363,TODAY(),\"Y\"),\" \")","v":" "},{"$f":"IFERROR(DATEDIF(C363,TODAY(),\"YM\"),\" \")","v":" "},{"$f":"IFERROR(DATEDIF(C363,TODAY(),\"MD\"),\" \")","v":" "}]
[2,{"$f":"IF(ESTUDIANTES!G305=0,\"\",ESTUDIANTES!G305)","v":""},{"$f":"IF(ESTUDIANTES!I305=0,\" \",ESTUDIANTES!I305)","v":" "},{"$f":"IFERROR(DATEDIF(C364,TODAY(),\"Y\"),\" \")","v":" "},{"$f":"IFERROR(DATEDIF(C364,TODAY(),\"YM\"),\" \")","v":" "},{"$f":"IFERROR(DATEDIF(C364,TODAY(),\"MD\"),\" \")","v":" "}]
[3,{"$f":"IF(ESTUDIANTES!G306=0,\"\",ESTUDIANTES!G306)","v":""},{"$f":"IF(ESTUDIANTES!I306=0,\" \",ESTUDIANTES!I306)","v":" "}," "," "," "]
[4,{"$f":"IF(ESTUDIANTES!G307=0,\"\",ESTUDIANTES!G307)","v":""},{"$f":"IF(ESTUDIANTES!I307=0,\" \",ESTUDIANTES!I307)","v":" "}," "," "," "]
[5,{"$f":"IF(ESTUDIANTES!G308=0,\"\",ESTUDIANTES!G308)","v":""},{"$f":"IF(ESTUDIANTES!I308=0,\" \",ESTUDIANTES!I308)","v":" "}," "," "," "]
[6,{"$f":"IF(ESTUDIANTES!G309=0,\"\",ESTUDIANTES!G309)","v":""},{"$f":"IF(ESTUDIANTES!I309=0,\" \",ESTUDIANTES!I309)","v":" "}," "," "," "]
[7,{"$f":"IF(ESTUDIANTES!G310=0,\"\",ESTUDIANTES!G310)","v":""},{"$f":"IF(ESTUDIANTES!I310=0,\" \",ESTUDIANTES!I310)","v":" "}," "," "," "]
[8,{"$f":"IF(ESTUDIANTES!G311=0,\"\",ESTUDIANTES!G311)","v":""},{"$f":"IF(ESTUDIANTES!I311=0,\" \",ESTUDIANTES!I311)","v":" "}," "," "," "]
[9,{"$f":"IF(ESTUDIANTES!G312=0,\"\",ESTUDIANTES!G312)","v":""},{"$f":"IF(ESTUDIANTES!I312=0,\" \",ESTUDIANTES!I312)","v":" "}," "," "," "]
[10,{"$f":"IF(ESTUDIANTES!G313=0,\"\",ESTUDIANTES!G313)","v":""},{"$f":"IF(ESTUDIANTES!I313=0,\" \",ESTUDIANTES!I313)","v":" "}," "," "," "]
[11,{"$f":"IF(ESTUDIANTES!G314=0,\"\",ESTUDIANTES!G314)","v":""},{"$f":"IF(ESTUDIANTES!I314=0,\" \",ESTUDIANTES!I314)","v":" "}," "," "," "]
[12,{"$f":"IF(ESTUDIANTES!G315=0,\"\",ESTUDIANTES!G315)","v":""},{"$f":"IF(ESTUDIANTES!I315=0,\" \",ESTUDIANTES!I315)","v":" "}," "," "," "]
[13,{"$f":"IF(ESTUDIANTES!G316=0,\"\",ESTUDIANTES!G316)","v":""},{"$f":"IF(ESTUDIANTES!I316=0,\" \",ESTUDIANTES!I316)","v":" "}," "," "," "]
[14,{"$f":"IF(ESTUDIANTES!G317=0,\"\",ESTUDIANTES!G317)","v":""},{"$f":"IF(ESTUDIANTES!I317=0,\" \",ESTUDIANTES!I317)","v":" "}," "," "," "]
[15,{"$f":"IF(ESTUDIANTES!G318=0,\"\",ESTUDIANTES!G318)","v":""},{"$f":"IF(ESTUDIANTES!I318=0,\" \",ESTUDIANTES!I318)","v":" "}," "," "," "]
[16,{"$f":"IF(ESTUDIANTES!G319=0,\"\",ESTUDIANTES!G319)","v":""},{"$f":"IF(ESTUDIANTES!I319=0,\" \",ESTUDIANTES!I319)","v":" "}," "," "," "]
[17,{"$f":"IF(ESTUDIANTES!G320=0,\"\",ESTUDIANTES!G320)","v":""},{"$f":"IF(ESTUDIANTES!I320=0,\" \",ESTUDIANTES!I320)","v":" "}," "," "," "]
[18,{"$f":"IF(ESTUDIANTES!G321=0,\"\",ESTUDIANTES!G321)","v":""},{"$f":"IF(ESTUDIANTES!I321=0,\" \",ESTUDIANTES!I321)","v":" "}," "," "," "]
[19,{"$f":"IF(ESTUDIANTES!G322=0,\"\",ESTUDIANTES!G322)","v":""},{"$f":"IF(ESTUDIANTES!I322=0,\" \",ESTUDIANTES!I322)","v":" "}," "," "," "]
[20,{"$f":"IF(ESTUDIANTES!G323=0,\"\",ESTUDIANTES!G323)","v":""},{"$f":"IF(ESTUDIANTES!I323=0,\" \",ESTUDIANTES!I323)","v":" "}," "," "," "]
[21,{"$f":"IF(ESTUDIANTES!G324=0,\"\",ESTUDIANTES!G324)","v":""},{"$f":"IF(ESTUDIANTES!I324=0,\" \",ESTUDIANTES!I324)","v":" "}," "," "," "]
[22,{"$f":"IF(ESTUDIANTES!G325=0,\"\",ESTUDIANTES!G325)","v":""},{"$f":"IF(ESTUDIANTES!I325=0,\" \",ESTUDIANTES!I325)","v":" "}," "," "," "]
[23,{"$f":"IF(ESTUDIANTES!G326=0,\"\",ESTUDIANTES!G326)","v":""},{"$f":"IF(ESTUDIANTES!I326=0,\" \",ESTUDIANTES!I326)","v":" "}," "," "," "]
[24,{"$f":"IF(ESTUDIANTES!G327=0,\"\",ESTUDIANTES!G327)","v":""},{"$f":"IF(ESTUDIANTES!I327=0,\" \",ESTUDIANTES!I327)","v":" "}," "," "," "]
[25,{"$f":"IF(ESTUDIANTES!G328=0,\"\",ESTUDIANTES!G328)","v":""},{"$f":"IF(ESTUDIANTES!I328=0,\" \",ESTUDIANTES!I328)","v":" "}," "," "," "]
[26,{"$f":"IF(ESTUDIANTES!G329=0,\"\",ESTUDIANTES!G329)","v":""},{"$f":"IF(ESTUDIANTES!I329=0,\" \",ESTUDIANTES!I329)","v":" "}," "," "," "]
[27,{"$f":"IF(ESTUDIANTES!G330=0,\"\",ESTUDIANTES!G330)","v":""},{"$f":"IF(ESTUDIANTES!I330=0,\" \",ESTUDIANTES!I330)","v":" "}," "," "," "]
[28,{"$f":"IF(ESTUDIANTES!G331=0,\"\",ESTUDIANTES!G331)","v":""},{"$f":"IF(ESTUDIANTES!I331=0,\" \",ESTUDIANTES!I331)","v":" "}," "," "," "]
[29,{"$f":"IF(ESTUDIANTES!G332=0,\"\",ESTUDIANTES!G332)","v":""},{"$f":"IF(ESTUDIANTES!I332=0,\" \",ESTUDIANTES!I332)","v":" "}," "," "," "]
[30,{"$f":"IF(ESTUDIANTES!G333=0,\"\",ESTUDIANTES!G333)","v":""},{"$f":"IF(ESTUDIANTES!I333=0,\" \",ESTUDIANTES!I333)","v":" "}," "," "," "]
[31,{"$f":"IF(ESTUDIANTES!G334=0,\"\",ESTUDIANTES!G334)","v":""},{"$f":"IF(ESTUDIANTES!I334=0,\" \",ESTUDIANTES!I334)","v":" "}," "," "," "]
[32,{"$f":"IF(ESTUDIANTES!G335=0,\"\",ESTUDIANTES!G335)","v":""},{"$f":"IF(ESTUDIANTES!I335=0,\" \",ESTUDIANTES!I335)","v":" "}," "," "," "]
[33,{"$f":"IF(ESTUDIANTES!G336=0,\"\",ESTUDIANTES!G336)","v":""},{"$f":"IF(ESTUDIANTES!I336=0,\" \",ESTUDIANTES!I336)","v":" "}," "," "," "]
[34,{"$f":"IF(ESTUDIANTES!G337=0,\"\",ESTUDIANTES!G337)","v":""},{"$f":"IF(ESTUDIANTES!I337=0,\" \",ESTUDIANTES!I337)","v":" "}," "," "," "]
[35,{"$f":"IF(ESTUDIANTES!G338=0,\"\",ESTUDIANTES!G338)","v":""},{"$f":"IF(ESTUDIANTES!I338=0,\" \",ESTUDIANTES!I338)","v":" "}," "," "," "]
[36,{"$f":"IF(ESTUDIANTES!G339=0,\"\",ESTUDIANTES!G339)","v":""},{"$f":"IF(ESTUDIANTES!I339=0,\" \",ESTUDIANTES!I339)","v":" "}," "," "," "]
[37,{"$f":"IF(ESTUDIANTES!G340=0,\"\",ESTUDIANTES!G340)","v":""},{"$f":"IF(ESTUDIANTES!I340=0,\" \",ESTUDIANTES!I340)","v":" "}," "," "," "]
[38,{"$f":"IF(ESTUDIANTES!G341=0,\"\",ESTUDIANTES!G341)","v":""},{"$f":"IF(ESTUDIANTES!I341=0,\" \",ESTUDIANTES!I341)","v":" "}," "," "," "]
[39,{"$f":"IF(ESTUDIANTES!G342=0,\"\",ESTUDIANTES!G342)","v":""},{"$f":"IF(ESTUDIANTES!I342=0,\" \",ESTUDIANTES!I342)","v":" "}," "," "," "]
[40,{"$f":"IF(ESTUDIANTES!G343=0,\"\",ESTUDIANTES!G343)","v":""},{"$f":"IF(ESTUDIANTES!I343=0,\" \",ESTUDIANTES!I343)","v":" "}," "," "," "]
[41,{"$f":"IF(ESTUDIANTES!G344=0,\"\",ESTUDIANTES!G344)","v":""},{"$f":"IF(ESTUDIANTES!I344=0,\" \",ESTUDIANTES!I344)","v":" "}," "," "," "]
[42,{"$f":"IF(ESTUDIANTES!G345=0,\"\",ESTUDIANTES!G345)","v":""},{"$f":"IF(ESTUDIANTES!I345=0,\" \",ESTUDIANTES!I345)","v":" "}," "," "," "]
[43,{"$f":"IF(ESTUDIANTES!G346=0,\"\",ESTUDIANTES!G346)","v":""},{"$f":"IF(ESTUDIANTES!I346=0,\" \",ESTUDIANTES!I346)","v":" "}," "," "," "]
[44,{"$f":"IF(ESTUDIANTES!G347=0,\"\",ESTUDIANTES!G347)","v":""},{"$f":"IF(ESTUDIANTES!I347=0,\" \",ESTUDIANTES!I347)","v":" "}," "," "," "]
[45,{"$f":"IF(ESTUDIANTES!G348=0,\"\",ESTUDIANTES!G348)","v":""},{"$f":"IF(ESTUDIANTES!I348=0,\" \",ESTUDIANTES!I348)","v":" "}," "," "," "]
[46,{"$f":"IF(ESTUDIANTES!G349=0,\"\",ESTUDIANTES!G349)","v":""},{"$f":"IF(ESTUDIANTES!I349=0,\" \",ESTUDIANTES!I349)","v":" "}," "," "," "]
[47,{"$f":"IF(ESTUDIANTES!G350=0,\"\",ESTUDIANTES!G350)","v":""},{"$f":"IF(ESTUDIANTES!I350=0,\" \",ESTUDIANTES!I350)","v":" "}," "," "," "]
[48,{"$f":"IF(ESTUDIANTES!G351=0,\"\",ESTUDIANTES!G351)","v":""},{"$f":"IF(ESTUDIANTES!I351=0,\" \",ESTUDIANTES!I351)","v":" "}," "," "," "]
[49,{"$f":"IF(ESTUDIANTES!G352=0,\"\",ESTUDIANTES!G352)","v":""},{"$f":"IF(ESTUDIANTES!I352=0,\" \",ESTUDIANTES!I352)","v":" "}," "," "," "]
[50,{"$f":"IF(ESTUDIANTES!G353=0,\"\",ESTUDIANTES!G353)","v":""},{"$f":"IF(ESTUDIANTES!I353=0,\" \",ESTUDIANTES!I353)","v":" "}," "," "," "]
[]
[{"$f":"DATOS!$B$3","v":"COLEGIO BACHILLERATO PCEI \"SIN FRONTERAS\""}]
[]
[null,"GRADO/CURSO:",{"$f":"DATOS!$E10","v":0}]
[null,"NIVEL:",{"$f":"DATOS!$F10","v":0}]
[null,"PARALELO:",{"$f":"DATOS!$G10","v":0}]
[null,"TUTOR:",{"$f":"DATOS!$H10","v":0}]
[]
["Nro","NOMBRES Y APELLIDOS","F.N","AÑOS","MESES","DIAS"]
[1,{"$f":"IF(ESTUDIANTES!G354=0,\"\",ESTUDIANTES!G354)","v":""},{"$f":"IF(ESTUDIANTES!I354=0,\" \",ESTUDIANTES!I354)","v":" "},{"$f":"IFERROR(DATEDIF(C422,TODAY(),\"Y\"),\" \")","v":" "},{"$f":"IFERROR(DATEDIF(C422,TODAY(),\"YM\"),\" \")","v":" "},{"$f":"IFERROR(DATEDIF(C422,TODAY(),\"MD\"),\" \")","v":" "}]
[2,{"$f":"IF(ESTUDIANTES!G355=0,\"\",ESTUDIANTES!G355)","v":""},{"$f":"IF(ESTUDIANTES!I355=0,\" \",ESTUDIANTES!I355)","v":" "},{"$f":"IFERROR(DATEDIF(C423,TODAY(),\"Y\"),\" \")","v":" "},{"$f":"IFERROR(DATEDIF(C423,TODAY(),\"YM\"),\" \")","v":" "},{"$f":"IFERROR(DATEDIF(C423,TODAY(),\"MD\"),\" \")","v":" "}]
[3,{"$f":"IF(ESTUDIANTES!G356=0,\"\",ESTUDIANTES!G356)","v":""},{"$f":"IF(ESTUDIANTES!I356=0,\" \",ESTUDIANTES!I356)","v":" "}," "," "," "]
[4,{"$f":"IF(ESTUDIANTES!G357=0,\"\",ESTUDIANTES!G357)","v":""},{"$f":"IF(ESTUDIANTES!I357=0,\" \",ESTUDIANTES!I357)","v":" "}," "," "," "]
[5,{"$f":"IF(ESTUDIANTES!G358=0,\"\",ESTUDIANTES!G358)","v":""},{"$f":"IF(ESTUDIANTES!I358=0,\" \",ESTUDIANTES!I358)","v":" "}," "," "," "]
[6,{"$f":"IF(ESTUDIANTES!G359=0,\"\",ESTUDIANTES!G359)","v":""},{"$f":"IF(ESTUDIANTES!I359=0,\" \",ESTUDIANTES!I359)","v":" "}," "," "," "]
[7,{"$f":"IF(ESTUDIANTES!G360=0,\"\",ESTUDIANTES!G360)","v":""},{"$f":"IF(ESTUDIANTES!I360=0,\" \",ESTUDIANTES!I360)","v":" "}," "," "," "]
[8,{"$f":"IF(ESTUDIANTES!G361=0,\"\",ESTUDIANTES!G361)","v":""},{"$f":"IF(ESTUDIANTES!I361=0,\" \",ESTUDIANTES!I361)","v":" "}," "," "," "]
[9,{"$f":"IF(ESTUDIANTES!G362=0,\"\",ESTUDIANTES!G362)","v":""},{"$f":"IF(ESTUDIANTES!I362=0,\" \",ESTUDIANTES!I362)","v":" "}," "," "," "]
[10,{"$f":"IF(ESTUDIANTES!G363=0,\"\",ESTUDIANTES!G363)","v":""},{"$f":"IF(ESTUDIANTES!I363=0,\" \",ESTUDIANTES!I363)","v":" "}," "," "," "]
[11,{"$f":"IF(ESTUDIANTES!G364=0,\"\",ESTUDIANTES!G364)","v":""},{"$f":"IF(ESTUDIANTES!I364=0,\" \",ESTUDIANTES!I364)","v":" "}," "," "," "]
[12,{"$f":"IF(ESTUDIANTES!G365=0,\"\",ESTUDIANTES!G365)","v":""},{"$f":"IF(ESTUDIANTES!I365=0,\" \",ESTUDIANTES!I365)","v":" "}," "," "," "]
[13,{"$f":"IF(ESTUDIANTES!G366=0,\"\",ESTUDIANTES!G366)","v":""},{"$f":"IF(ESTUDIANTES!I366=0,\" \",ESTUDIANTES!I366)","v":" "}," "," "," "]
[14,{"$f":"IF(ESTUDIANTES!G367=0,\"\",ESTUDIANTES!G367)","v":""},{"$f":"IF(ESTUDIANTES!I367=0,\" \",ESTUDIANTES!I367)","v":" "}," "," "," "]
[15,{"$f":"IF(ESTUDIANTES!G368=0,\"\",ESTUDIANTES!G368)","v":""},{"$f":"IF(ESTUDIANTES!I368=0,\" \",ESTUDIANTES!I368)","v":" "}," "," "," "]
[16,{"$f":"IF(ESTUDIANTES!G369=0,\"\",ESTUDIANTES!G369)","v":""},{"$f":"IF(ESTUDIANTES!I369=0,\" \",ESTUDIANTES!I369)","v":" "}," "," "," "]
[17,{"$f":"IF(ESTUDIANTES!G370=0,\"\",ESTUDIANTES!G370)","v":""},{"$f":"IF(ESTUDIANTES!I370=0,\" \",ESTUDIANTES!I370)","v":" "}," "," "," "]
[18,{"$f":"IF(ESTUDIANTES!G371=0,\"\",ESTUDIANTES!G371)","v":""},{"$f":"IF(ESTUDIANTES!I371=0,\" \",ESTUDIANTES!I371)","v":" "}," "," "," "]
[19,{"$f":"IF(ESTUDIANTES!G372=0,\"\",ESTUDIANTES!G372)","v":""},{"$f":"IF(ESTUDIANTES!I372=0,\" \",ESTUDIANTES!I372)","v":" "}," "," "," "]
[20,{"$f":"IF(ESTUDIANTES!G373=0,\"\",ESTUDIANTES!G373)","v":""},{"$f":"IF(ESTUDIANTES!I373=0,\" \",ESTUDIANTES!I373)","v":" "}," "," "," "]
[21,{"$f":"IF(ESTUDIANTES!G374=0,\"\",ESTUDIANTES!G374)","v":""},{"$f":"IF(ESTUDIANTES!I374=0,\" \",ESTUDIANTES!I374)","v":" "}," "," "," "]
[22,{"$f":"IF(ESTUDIANTES!G375=0,\"\",ESTUDIANTES!G375)","v":""},{"$f":"IF(ESTUDIANTES!I375=0,\" \",ESTUDIANTES!I375)","v":" "}," "," "," "]
[23,{"$f":"IF(ESTUDIANTES!G376=0,\"\",ESTUDIANTES!G376)","v":""},{"$f":"IF(ESTUDIANTES!I376=0,\" \",ESTUDIANTES!I376)","v":" "}," "," "," "]
[24,{"$f":"IF(ESTUDIANTES!G377=0,\"\",ESTUDIANTES!G377)","v":""},{"$f":"IF(ESTUDIANTES!I377=0,\" \",ESTUDIANTES!I377)","v":" "}," "," "," "]
[25,{"$f":"IF(ESTUDIANTES!G378=0,\"\",ESTUDIANTES!G378)","v":""},{"$f":"IF(ESTUDIANTES!I378=0,\" \",ESTUDIANTES!I378)","v":" "}," "," "," "]
[26,{"$f":"IF(ESTUDIANTES!G379=0,\"\",ESTUDIANTES!G379)","v":""},{"$f":"IF(ESTUDIANTES!I379=0,\" \",ESTUDIANTES!I379)","v":" "}," "," "," "]
[27,{"$f":"IF(ESTUDIANTES!G380=0,\"\",ESTUDIANTES!G380)","v":""},{"$f":"IF(ESTUDIANTES!I380=0,\" \",ESTUDIANTES!I380)","v":" "}," "," "," "]
[28,{"$f":"IF(ESTUDIANTES!G381=0,\"\",ESTUDIANTES!G381)","v":""},{"$f":"IF(ESTUDIANTES!I381=0,\" \",ESTUDIANTES!I381)","v":" "}," "," "," "]
[29,{"$f":"IF(ESTUDIANTES!G382=0,\"\",ESTUDIANTES!G382)","v":""},{"$f":"IF(ESTUDIANTES!I382=0,\" \",ESTUDIANTES!I382)","v":" "}," "," "," "]
[30,{"$f":"IF(ESTUDIANTES!G383=0,\"\",ESTUDIANTES!G383)","v":""},{"$f":"IF(ESTUDIANTES!I383=0,\" \",ESTUDIANTES!I383)","v":" "}," "," "," "]
[31,{"$f":"IF(ESTUDIANTES!G384=0,\"\",ESTUDIANTES!G384)","v":""},{"$f":"IF(ESTUDIANTES!I384=0,\" \",ESTUDIANTES!I384)","v":" "}," "," "," "]
[32,{"$f":"IF(ESTUDIANTES!G385=0,\"\",ESTUDIANTES!G385)","v":""},{"$f":"IF(ESTUDIANTES!I385=0,\" \",ESTUDIANTES!I385)","v":" "}," "," "," "]
[33,{"$f":"IF(ESTUDIANTES!G386=0,\"\",ESTUDIANTES!G386)","v":""},{"$f":"IF(ESTUDIANTES!I386=0,\" \",ESTUDIANTES!I386)","v":" "}," "," "," "]
[34,{"$f":"IF(ESTUDIANTES!G387=0,\"\",ESTUDIANTES!G387)","v":""},{"$f":"IF(ESTUDIANTES!I387=0,\" \",ESTUDIANTES!I387)","v":" "}," "," "," "]
[35,{"$f":"IF(ESTUDIANTES!G388=0,\"\",ESTUDIANTES!G388)","v":""},{"$f":"IF(ESTUDIANTES!I388=0,\" \",ESTUDIANTES!I388)","v":" "}," "," "," "]
[36,{"$f":"IF(ESTUDIANTES!G389=0,\"\",ESTUDIANTES!G389)","v":""},{"$f":"IF(ESTUDIANTES!I389=0,\" \",ESTUDIANTES!I389)","v":" "}," "," "," "]
[37,{"$f":"IF(ESTUDIANTES!G390=0,\"\",ESTUDIANTES!G390)","v":""},{"$f":"IF(ESTUDIANTES!I390=0,\" \",ESTUDIANTES!I390)","v":" "}," "," "," "]
[38,{"$f":"IF(ESTUDIANTES!G391=0,\"\",ESTUDIANTES!G391)","v":""},{"$f":"IF(ESTUDIANTES!I391=0,\" \",ESTUDIANTES!I391)","v":" "}," "," "," "]
[39,{"$f":"IF(ESTUDIANTES!G392=0,\"\",ESTUDIANTES!G392)","v":""},{"$f":"IF(ESTUDIANTES!I392=0,\" \",ESTUDIANTES!I392)","v":" "}," "," "," "]
[40,{"$f":"IF(ESTUDIANTES!G393=0,\"\",ESTUDIANTES!G393)","v":""},{"$f":"IF(ESTUDIANTES!I393=0,\" \",ESTUDIANTES!I393)","v":" "}," "," "," "]
[41,{"$f":"IF(ESTUDIANTES!G394=0,\"\",ESTUDIANTES!G394)","v":""},{"$f":"IF(ESTUDIANTES!I394=0,\" \",ESTUDIANTES!I394)","v":" "}," "," "," "]
[42,{"$f":"IF(ESTUDIANTES!G395=0,\"\",ESTUDIANTES!G395)","v":""},{"$f":"IF(ESTUDIANTES!I395=0,\" \",ESTUDIANTES!I395)","v":" "}," "," "," "]
[43,{"$f":"IF(ESTUDIANTES!G396=0,\"\",ESTUDIANTES!G396)","v":""},{"$f":"IF(ESTUDIANTES!I396=0,\" \",ESTUDIANTES!I396)","v":" "}," "," "," "]
[44,{"$f":"IF(ESTUDIANTES!G397=0,\"\",ESTUDIANTES!G397)","v":""},{"$f":"IF(ESTUDIANTES!I397=0,\" \",ESTUDIANTES!I397)","v":" "}," "," "," "]
[45,{"$f":"IF(ESTUDIANTES!G398=0,\"\",ESTUDIANTES!G398)","v":""},{"$f":"IF(ESTUDIANTES!I398=0,\" \",ESTUDIANTES!I398)","v":" "}," "," "," "]
[46,{"$f":"IF(ESTUDIANTES!G399=0,\"\",ESTUDIANTES!G399)","v":""},{"$f":"IF(ESTUDIANTES!I399=0,\" \",ESTUDIANTES!I399)","v":" "}," "," "," "]
[47,{"$f":"IF(ESTUDIANTES!G400=0,\"\",ESTUDIANTES!G400)","v":""},{"$f":"IF(ESTUDIANTES!I400=0,\" \",ESTUDIANTES!I400)","v":" "}," "," "," "]
[48,{"$f":"IF(ESTUDIANTES!G401=0,\"\",ESTUDIANTES!G401)","v":""},{"$f":"IF(ESTUDIANTES!I401=0,\" \",ESTUDIANTES!I401)","v":" "}," "," "," "]
[49,{"$f":"IF(ESTUDIANTES!G402=0,\"\",ESTUDIANTES!G402)","v":""},{"$f":"IF(ESTUDIANTES!I402=0,\" \",ESTUDIANTES!I402)","v":" "}," "," "," "]
[50,{"$f":"IF(ESTUDIANTES!G403=0,\"\",ESTUDIANTES!G403)","v":""},{"$f":"IF(ESTUDIANTES!I403=0,\" \",ESTUDIANTES!I403)","v":" "}," "," "," "]
[]
[{"$f":"DATOS!$B$3","v":"COLEGIO BACHILLERATO PCEI \"SIN FRONTERAS\""}]
[]
[null,"GRADO/CURSO:",{"$f":"DATOS!$E11","v":0}]
[null,"NIVEL:",{"$f":"DATOS!$F11","v":0}]
[null,"PARALELO:",{"$f":"DATOS!$G11","v":0}]
[null,"TUTOR:",{"$f":"DATOS!$H11","v":0}]
[]
["Nro","NOMBRES Y APELLIDOS","F.N","AÑOS","MESES","DIAS"]
[1,{"$f":"IF(ESTUDIANTES!G404=0,\"\",ESTUDIANTES!G404)","v":""},{"$f":"IF(ESTUDIANTES!I404=0,\" \",ESTUDIANTES!I404)","v":" "},{"$f":"IFERROR(DATEDIF(C481,TODAY(),\"Y\"),\" \")","v":" "},{"$f":"IFERROR(DATEDIF(C481,TODAY(),\"YM\"),\" \")","v":" "},{"$f":"IFERROR(DATEDIF(C481,TODAY(),\"MD\"),\" \")","v":" "}]
[2,{"$f":"IF(ESTUDIANTES!G405=0,\"\",ESTUDIANTES!G405)","v":""},{"$f":"IF(ESTUDIANTES!I405=0,\" \",ESTUDIANTES!I405)","v":" "},{"$f":"IFERROR(DATEDIF(C482,TODAY(),\"Y\"),\" \")","v":" "},{"$f":"IFERROR(DATEDIF(C482,TODAY(),\"YM\"),\" \")","v":" "},{"$f":"IFERROR(DATEDIF(C482,TODAY(),\"MD\"),\" \")","v":" "}]
[3,{"$f":"IF(ESTUDIANTES!G406=0,\"\",ESTUDIANTES!G406)","v":""},{"$f":"IF(ESTUDIANTES!I406=0,\" \",ESTUDIANTES!I406)","v":" "}," "," "," "]
[4,{"$f":"IF(ESTUDIANTES!G407=0,\"\",ESTUDIANTES!G407)","v":""},{"$f":"IF(ESTUDIANTES!I407=0,\" \",ESTUDIANTES!I407)","v":" "}," "," "," "]
[5,{"$f":"IF(ESTUDIANTES!G408=0,\"\",ESTUDIANTES!G408)","v":""},{"$f":"IF(ESTUDIANTES!I408=0,\" \",ESTUDIANTES!I408)","v":" "}," "," "," "]
[6,{"$f":"IF(ESTUDIANTES!G409=0,\"\",ESTUDIANTES!G409)","v":""},{"$f":"IF(ESTUDIANTES!I409=0,\" \",ESTUDIANTES!I409)","v":" "}," "," "," "]
[7,{"$f":"IF(ESTUDIANTES!G410=0,\"\",ESTUDIANTES!G410)","v":""},{"$f":"IF(ESTUDIANTES!I410=0,\" \",ESTUDIANTES!I410)","v":" "}," "," "," "]
[8,{"$f":"IF(ESTUDIANTES!G411=0,\"\",ESTUDIANTES!G411)","v":""},{"$f":"IF(ESTUDIANTES!I411=0,\" \",ESTUDIANTES!I411)","v":" "}," "," "," "]
[9,{"$f":"IF(ESTUDIANTES!G412=0,\"\",ESTUDIANTES!G412)","v":""},{"$f":"IF(ESTUDIANTES!I412=0,\" \",ESTUDIANTES!I412)","v":" "}," "," "," "]
[10,{"$f":"IF(ESTUDIANTES!G413=0,\"\",ESTUDIANTES!G413)","v":""},{"$f":"IF(ESTUDIANTES!I413=0,\" \",ESTUDIANTES!I413)","v":" "}," "," "," "]
[11,{"$f":"IF(ESTUDIANTES!G414=0,\"\",ESTUDIANTES!G414)","v":""},{"$f":"IF(ESTUDIANTES!I414=0,\" \",ESTUDIANTES!I414)","v":" "}," "," "," "]
[12,{"$f":"IF(ESTUDIANTES!G415=0,\"\",ESTUDIANTES!G415)","v":""},{"$f":"IF(ESTUDIANTES!I415=0,\" \",ESTUDIANTES!I415)","v":" "}," "," "," "]
[13,{"$f":"IF(ESTUDIANTES!G416=0,\"\",ESTUDIANTES!G416)","v":""},{"$f":"IF(ESTUDIANTES!I416=0,\" \",ESTUDIANTES!I416)","v":" "}," "," "," "]
[14,{"$f":"IF(ESTUDIANTES!G417=0,\"\",ESTUDIANTES!G417)","v":""},{"$f":"IF(ESTUDIANTES!I417=0,\" \",ESTUDIANTES!I417)","v":" "}," "," "," "]
[15,{"$f":"IF(ESTUDIANTES!G418=0,\"\",ESTUDIANTES!G418)","v":""},{"$f":"IF(ESTUDIANTES!I418=0,\" \",ESTUDIANTES!I418)","v":" "}," "," "," "]
[16,{"$f":"IF(ESTUDIANTES!G419=0,\"\",ESTUDIANTES!G419)","v":""},{"$f":"IF(ESTUDIANTES!I419=0,\" \",ESTUDIANTES!I419)","v":" "}," "," "," "]
[17,{"$f":"IF(ESTUDIANTES!G420=0,\"\",ESTUDIANTES!G420)","v":""},{"$f":"IF(ESTUDIANTES!I420=0,\" \",ESTUDIANTES!I420)","v":" "}," "," "," "]
[18,{"$f":"IF(ESTUDIANTES!G421=0,\"\",ESTUDIANTES!G421)","v":""},{"$f":"IF(ESTUDIANTES!I421=0,\" \",ESTUDIANTES!I421)","v":" "}," "," "," "]
[19,{"$f":"IF(ESTUDIANTES!G422=0,\"\",ESTUDIANTES!G422)","v":""},{"$f":"IF(ESTUDIANTES!I422=0,\" \",ESTUDIANTES!I422)","v":" "}," "," "," "]
[20,{"$f":"IF(ESTUDIANTES!G423=0,\"\",ESTUDIANTES!G423)","v":""},{"$f":"IF(ESTUDIANTES!I423=0,\" \",ESTUDIANTES!I423)","v":" "}," "," "," "]
[21,{"$f":"IF(ESTUDIANTES!G424=0,\"\",ESTUDIANTES!G424)","v":""},{"$f":"IF(ESTUDIANTES!I424=0,\" \",ESTUDIANTES!I424)","v":" "}," "," "," "]
[22,{"$f":"IF(ESTUDIANTES!G425=0,\"\",ESTUDIANTES!G425)","v":""},{"$f":"IF(ESTUDIANTES!I425=0,\" \",ESTUDIANTES!I425)","v":" "}," "," "," "]
[23,{"$f":"IF(ESTUDIANTES!G426=0,\"\",ESTUDIANTES!G426)","v":""},{"$f":"IF(ESTUDIANTES!I426=0,\" \",ESTUDIANTES!I426)","v":" "}," "," "," "]
[24,{"$f":"IF(ESTUDIANTES!G427=0,\"\",ESTUDIANTES!G427)","v":""},{"$f":"IF(ESTUDIANTES!I427=0,\" \",ESTUDIANTES!I427)","v":" "}," "," "," "]
[25,{"$f":"IF(ESTUDIANTES!G428=0,\"\",ESTUDIANTES!G428)","v":""},{"$f":"IF(ESTUDIANTES!I428=0,\" \",ESTUDIANTES!I428)","v":" "}," "," "," "]
[26,{"$f":"IF(ESTUDIANTES!G429=0,\"\",ESTUDIANTES!G429)","v":""},{"$f":"IF(ESTUDIANTES!I429=0,\" \",ESTUDIANTES!I429)","v":" "}," "," "," "]
[27,{"$f":"IF(ESTUDIANTES!G430=0,\"\",ESTUDIANTES!G430)","v":""},{"$f":"IF(ESTUDIANTES!I430=0,\" \",ESTUDIANTES!I430)","v":" "}," "," "," "]
[28,{"$f":"IF(ESTUDIANTES!G431=0,\"\",ESTUDIANTES!G431)","v":""},{"$f":"IF(ESTUDIANTES!I431=0,\" \",ESTUDIANTES!I431)","v":" "}," "," "," "]
[29,{"$f":"IF(ESTUDIANTES!G432=0,\"\",ESTUDIANTES!G432)","v":""},{"$f":"IF(ESTUDIANTES!I432=0,\" \",ESTUDIANTES!I432)","v":" "}," "," "," "]
[30,{"$f":"IF(ESTUDIANTES!G433=0,\"\",ESTUDIANTES!G433)","v":""},{"$f":"IF(ESTUDIANTES!I433=0,\" \",ESTUDIANTES!I433)","v":" "}," "," "," "]
[31,{"$f":"IF(ESTUDIANTES!G434=0,\"\",ESTUDIANTES!G434)","v":""},{"$f":"IF(ESTUDIANTES!I434=0,\" \",ESTUDIANTES!I434)","v":" "}," "," "," "]
[32,{"$f":"IF(ESTUDIANTES!G435=0,\"\",ESTUDIANTES!G435)","v":""},{"$f":"IF(ESTUDIANTES!I435=0,\" \",ESTUDIANTES!I435)","v":" "}," "," "," "]
[33,{"$f":"IF(ESTUDIANTES!G436=0,\"\",ESTUDIANTES!G436)","v":""},{"$f":"IF(ESTUDIANTES!I436=0,\" \",ESTUDIANTES!I436)","v":" "}," "," "," "]
[34,{"$f":"IF(ESTUDIANTES!G437=0,\"\",ESTUDIANTES!G437)","v":""},{"$f":"IF(ESTUDIANTES!I437=0,\" \",ESTUDIANTES!I437)","v":" "}," "," "," "]
[35,{"$f":"IF(ESTUDIANTES!G438=0,\"\",ESTUDIANTES!G438)","v":""},{"$f":"IF(ESTUDIANTES!I438=0,\" \",ESTUDIANTES!I438)","v":" "}," "," "," "]
[36,{"$f":"IF(ESTUDIANTES!G439=0,\"\",ESTUDIANTES!G439)","v":""},{"$f":"IF(ESTUDIANTES!I439=0,\" \",ESTUDIANTES!I439)","v":" "}," "," "," "]
[37,{"$f":"IF(ESTUDIANTES!G440=0,\"\",ESTUDIANTES!G440)","v":""},{"$f":"IF(ESTUDIANTES!I440=0,\" \",ESTUDIANTES!I440)","v":" "}," "," "," "]
[38,{"$f":"IF(ESTUDIANTES!G441=0,\"\",ESTUDIANTES!G441)","v":""},{"$f":"IF(ESTUDIANTES!I441=0,\" \",ESTUDIANTES!I441)","v":" "}," "," "," "]
[39,{"$f":"IF(ESTUDIANTES!G442=0,\"\",ESTUDIANTES!G442)","v":""},{"$f":"IF(ESTUDIANTES!I442=0,\" \",ESTUDIANTES!I442)","v":" "}," "," "," "]
[40,{"$f":"IF(ESTUDIANTES!G443=0,\"\",ESTUDIANTES!G443)","v":""},{"$f":"IF(ESTUDIANTES!I443=0,\" \",ESTUDIANTES!I443)","v":" "}," "," "," "]
[41,{"$f":"IF(ESTUDIANTES!G444=0,\"\",ESTUDIANTES!G444)","v":""},{"$f":"IF(ESTUDIANTES!I444=0,\" \",ESTUDIANTES!I444)","v":" "}," "," "," "]
[42,{"$f":"IF(ESTUDIANTES!G445=0,\"\",ESTUDIANTES!G445)","v":""},{"$f":"IF(ESTUDIANTES!I445=0,\" \",ESTUDIANTES!I445)","v":" "}," "," "," "]
[43,{"$f":"IF(ESTUDIANTES!G446=0,\"\",ESTUDIANTES!G446)","v":""},{"$f":"IF(ESTUDIANTES!I446=0,\" \",ESTUDIANTES!I446)","v":" "}," "," "," "]
[44,{"$f":"IF(ESTUDIANTES!G447=0,\"\",ESTUDIANTES!G447)","v":""},{"$f":"IF(ESTUDIANTES!I447=0,\" \",ESTUDIANTES!I447)","v":" "}," "," "," "]
[45,{"$f":"IF(ESTUDIANTES!G448=0,\"\",ESTUDIANTES!G448)","v":""},{"$f":"IF(ESTUDIANTES!I448=0,\" \",ESTUDIANTES!I448)","v":" "}," "," "," "]
[46,{"$f":"IF(ESTUDIANTES!G449=0,\"\",ESTUDIANTES!G449)","v":""},{"$f":"IF(ESTUDIANTES!I449=0,\" \",ESTUDIANTES!I449)","v":" "}," "," "," "]
[47,{"$f":"IF(ESTUDIANTES!G450=0,\"\",ESTUDIANTES!G450)","v":""},{"$f":"IF(ESTUDIANTES!I450=0,\" \",ESTUDIANTES!I450)","v":" "}," "," "," "]
[48,{"$f":"IF(ESTUDIANTES!G451=0,\"\",ESTUDIANTES!G451)","v":""},{"$f":"IF(ESTUDIANTES!I451=0,\" \",ESTUDIANTES!I451)","v":" "}," "," "," "]
[49,{"$f":"IF(ESTUDIANTES!G452=0,\"\",ESTUDIANTES!G452)","v":""},{"$f":"IF(ESTUDIANTES!I452=0,\" \",ESTUDIANTES!I452)","v":" "}," "," "," "]
[50,{"$f":"IF(ESTUDIANTES!G453=0,\"\",ESTUDIANTES!G453)","v":""},{"$f":"IF(ESTUDIANTES!I453=0,\" \",ESTUDIANTES!I453)","v":" "}," "," "," "]
[]
[{"$f":"DATOS!$B$3","v":"COLEGIO BACHILLERATO PCEI \"SIN FRONTERAS\""}]
[]
[null,"GRADO/CURSO:",{"$f":"DATOS!$E12","v":0}]
[null,"NIVEL:",{"$f":"DATOS!$F12","v":0}]
[null,"PARALELO:",{"$f":"DATOS!$G12","v":0}]
[null,"TUTOR:",{"$f":"DATOS!$H12","v":0}]
[]
["Nro","NOMBRES Y APELLIDOS","F.N","AÑOS","MESES","DIAS"]
[1,{"$f":"IF(ESTUDIANTES!G454=0,\"\",ESTUDIANTES!G454)","v":""},{"$f":"IF(ESTUDIANTES!I454=0,\" \",ESTUDIANTES!I454)","v":" "},{"$f":"IFERROR(DATEDIF(C540,TODAY(),\"Y\"),\" \")","v":" "},{"$f":"IFERROR(DATEDIF(C540,TODAY(),\"YM\"),\" \")","v":" "},{"$f":"IFERROR(DATEDIF(C540,TODAY(),\"MD\"),\" \")","v":" "}]
[2,{"$f":"IF(ESTUDIANTES!G455=0,\"\",ESTUDIANTES!G455)","v":""},{"$f":"IF(ESTUDIANTES!I455=0,\" \",ESTUDIANTES!I455)","v":" "},{"$f":"IFERROR(DATEDIF(C541,TODAY(),\"Y\"),\" \")","v":" "},{"$f":"IFERROR(DATEDIF(C541,TODAY(),\"YM\"),\" \")","v":" "},{"$f":"IFERROR(DATEDIF(C541,TODAY(),\"MD\"),\" \")","v":" "}]
[3,{"$f":"IF(ESTUDIANTES!G456=0,\"\",ESTUDIANTES!G456)","v":""},{"$f":"IF(ESTUDIANTES!I456=0,\" \",ESTUDIANTES!I456)","v":" "}," "," "," "]
[4,{"$f":"IF(ESTUDIANTES!G457=0,\"\",ESTUDIANTES!G457)","v":""},{"$f":"IF(ESTUDIANTES!I457=0,\" \",ESTUDIANTES!I457)","v":" "}," "," "," "]
[5,{"$f":"IF(ESTUDIANTES!G458=0,\"\",ESTUDIANTES!G458)","v":""},{"$f":"IF(ESTUDIANTES!I458=0,\" \",ESTUDIANTES!I458)","v":" "}," "," "," "]
[6,{"$f":"IF(ESTUDIANTES!G459=0,\"\",ESTUDIANTES!G459)","v":""},{"$f":"IF(ESTUDIANTES!I459=0,\" \",ESTUDIANTES!I459)","v":" "}," "," "," "]
[7,{"$f":"IF(ESTUDIANTES!G460=0,\"\",ESTUDIANTES!G460)","v":""},{"$f":"IF(ESTUDIANTES!I460=0,\" \",ESTUDIANTES!I460)","v":" "}," "," "," "]
[8,{"$f":"IF(ESTUDIANTES!G461=0,\"\",ESTUDIANTES!G461)","v":""},{"$f":"IF(ESTUDIANTES!I461=0,\" \",ESTUDIANTES!I461)","v":" "}," "," "," "]
[9,{"$f":"IF(ESTUDIANTES!G462=0,\"\",ESTUDIANTES!G462)","v":""},{"$f":"IF(ESTUDIANTES!I462=0,\" \",ESTUDIANTES!I462)","v":" "}," "," "," "]
[10,{"$f":"IF(ESTUDIANTES!G463=0,\"\",ESTUDIANTES!G463)","v":""},{"$f":"IF(ESTUDIANTES!I463=0,\" \",ESTUDIANTES!I463)","v":" "}," "," "," "]
[11,{"$f":"IF(ESTUDIANTES!G464=0,\"\",ESTUDIANTES!G464)","v":""},{"$f":"IF(ESTUDIANTES!I464=0,\" \",ESTUDIANTES!I464)","v":" "}," "," "," "]
[12,{"$f":"IF(ESTUDIANTES!G465=0,\"\",ESTUDIANTES!G465)","v":""},{"$f":"IF(ESTUDIANTES!I465=0,\" \",ESTUDIANTES!I465)","v":" "}," "," "," "]
[13,{"$f":"IF(ESTUDIANTES!G466=0,\"\",ESTUDIANTES!G466)","v":""},{"$f":"IF(ESTUDIANTES!I466=0,\" \",ESTUDIANTES!I466)","v":" "}," "," "," "]
[14,{"$f":"IF(ESTUDIANTES!G467=0,\"\",ESTUDIANTES!G467)","v":""},{"$f":"IF(ESTUDIANTES!I467=0,\" \",ESTUDIANTES!I467)","v":" "}," "," "," "]
[15,{"$f":"IF(ESTUDIANTES!G468=0,\"\",ESTUDIANTES!G468)","v":""},{"$f":"IF(ESTUDIANTES!I468=0,\" \",ESTUDIANTES!I468)","v":" "}," "," "," "]
[16,{"$f":"IF(ESTUDIANTES!G469=0,\"\",ESTUDIANTES!G469)","v":""},{"$f":"IF(ESTUDIANTES!I469=0,\" \",ESTUDIANTES!I469)","v":" "}," "," "," "]
[17,{"$f":"IF(ESTUDIANTES!G470=0,\"\",ESTUDIANTES!G470)","v":""},{"$f":"IF(ESTUDIANTES!I470=0,\" \",ESTUDIANTES!I470)","v":" "}," "," "," "]
[18,{"$f":"IF(ESTUDIANTES!G471=0,\"\",ESTUDIANTES!G471)","v":""},{"$f":"IF(ESTUDIANTES!I471=0,\" \",ESTUDIANTES!I471)","v":" "}," "," "," "]
[19,{"$f":"IF(ESTUDIANTES!G472=0,\"\",ESTUDIANTES!G472)","v":""},{"$f":"IF(ESTUDIANTES!I472=0,\" \",ESTUDIANTES!I472)","v":" "}," "," "," "]
[20,{"$f":"IF(ESTUDIANTES!G473=0,\"\",ESTUDIANTES!G473)","v":""},{"$f":"IF(ESTUDIANTES!I473=0,\" \",ESTUDIANTES!I473)","v":" "}," "," "," "]
[21,{"$f":"IF(ESTUDIANTES!G474=0,\"\",ESTUDIANTES!G474)","v":""},{"$f":"IF(ESTUDIANTES!I474=0,\" \",ESTUDIANTES!I474)","v":" "}," "," "," "]
[22,{"$f":"IF(ESTUDIANTES!G475=0,\"\",ESTUDIANTES!G475)","v":""},{"$f":"IF(ESTUDIANTES!I475=0,\" \",ESTUDIANTES!I475)","v":" "}," "," "," "]
[23,{"$f":"IF(ESTUDIANTES!G476=0,\"\",ESTUDIANTES!G476)","v":""},{"$f":"IF(ESTUDIANTES!I476=0,\" \",ESTUDIANTES!I476)","v":" "}," "," "," "]
[24,{"$f":"IF(ESTUDIANTES!G477=0,\"\",ESTUDIANTES!G477)","v":""},{"$f":"IF(ESTUDIANTES!I477=0,\" \",ESTUDIANTES!I477)","v":" "}," "," "," "]
[25,{"$f":"IF(ESTUDIANTES!G478=0,\"\",ESTUDIANTES!G478)","v":""},{"$f":"IF(ESTUDIANTES!I478=0,\" \",ESTUDIANTES!I478)","v":" "}," "," "," "]
[26,{"$f":"IF(ESTUDIANTES!G479=0,\"\",ESTUDIANTES!G479)","v":""},{"$f":"IF(ESTUDIANTES!I479=0,\" \",ESTUDIANTES!I479)","v":" "}," "," "," "]
[27,{"$f":"IF(ESTUDIANTES!G480=0,\"\",ESTUDIANTES!G480)","v":""},{"$f":"IF(ESTUDIANTES!I480=0,\" \",ESTUDIANTES!I480)","v":" "}," "," "," "]
[28,{"$f":"IF(ESTUDIANTES!G481=0,\"\",ESTUDIANTES!G481)","v":""},{"$f":"IF(ESTUDIANTES!I481=0,\" \",ESTUDIANTES!I481)","v":" "}," "," "," "]
[29,{"$f":"IF(ESTUDIANTES!G482=0,\"\",ESTUDIANTES!G482)","v":""},{"$f":"IF(ESTUDIANTES!I482=0,\" \",ESTUDIANTES!I482)","v":" "}," "," "," "]
[30,{"$f":"IF(ESTUDIANTES!G483=0,\"\",ESTUDIANTES!G483)","v":""},{"$f":"IF(ESTUDIANTES!I483=0,\" \",ESTUDIANTES!I483)","v":" "}," "," "," "]
[31,{"$f":"IF(ESTUDIANTES!G484=0,\"\",ESTUDIANTES!G484)","v":""},{"$f":"IF(ESTUDIANTES!I484=0,\" \",ESTUDIANTES!I484)","v":" "}," "," "," "]
[32,{"$f":"IF(ESTUDIANTES!G485=0,\"\",ESTUDIANTES!G485)","v":""},{"$f":"IF(ESTUDIANTES!I485=0,\" \",ESTUDIANTES!I485)","v":" "}," "," "," "]
[33,{"$f":"IF(ESTUDIANTES!G486=0,\"\",ESTUDIANTES!G486)","v":""},{"$f":"IF(ESTUDIANTES!I486=0,\" \",ESTUDIANTES!I486)","v":" "}," "," "," "]
[34,{"$f":"IF(ESTUDIANTES!G487=0,\"\",ESTUDIANTES!G487)","v":""},{"$f":"IF(ESTUDIANTES!I487=0,\" \",ESTUDIANTES!I487)","v":" "}," "," "," "]
[35,{"$f":"IF(ESTUDIANTES!G488=0,\"\",ESTUDIANTES!G488)","v":""},{"$f":"IF(ESTUDIANTES!I488=0,\" \",ESTUDIANTES!I488)","v":" "}," "," "," "]
[36,{"$f":"IF(ESTUDIANTES!G489=0,\"\",ESTUDIANTES!G489)","v":""},{"$f":"IF(ESTUDIANTES!I489=0,\" \",ESTUDIANTES!I489)","v":" "}," "," "," "]
[37,{"$f":"IF(ESTUDIANTES!G490=0,\"\",ESTUDIANTES!G490)","v":""},{"$f":"IF(ESTUDIANTES!I490=0,\" \",ESTUDIANTES!I490)","v":" "}," "," "," "]
[38,{"$f":"IF(ESTUDIANTES!G491=0,\"\",ESTUDIANTES!G491)","v":""},{"$f":"IF(ESTUDIANTES!I491=0,\" \",ESTUDIANTES!I491)","v":" "}," "," "," "]
[39,{"$f":"IF(ESTUDIANTES!G492=0,\"\",ESTUDIANTES!G492)","v":""},{"$f":"IF(ESTUDIANTES!I492=0,\" \",ESTUDIANTES!I492)","v":" "}," "," "," "]
[40,{"$f":"IF(ESTUDIANTES!G493=0,\"\",ESTUDIANTES!G493)","v":""},{"$f":"IF(ESTUDIANTES!I493=0,\" \",ESTUDIANTES!I493)","v":" "}," "," "," "]
[41,{"$f":"IF(ESTUDIANTES!G494=0,\"\",ESTUDIANTES!G494)","v":""},{"$f":"IF(ESTUDIANTES!I494=0,\" \",ESTUDIANTES!I494)","v":" "}," "," "," "]
[42,{"$f":"IF(ESTUDIANTES!G495=0,\"\",ESTUDIANTES!G495)","v":""},{"$f":"IF(ESTUDIANTES!I495=0,\" \",ESTUDIANTES!I495)","v":" "}," "," "," "]
[43,{"$f":"IF(ESTUDIANTES!G496=0,\"\",ESTUDIANTES!G496)","v":""},{"$f":"IF(ESTUDIANTES!I496=0,\" \",ESTUDIANTES!I496)","v":" "}," "," "," "]
[44,{"$f":"IF(ESTUDIANTES!G497=0,\"\",ESTUDIANTES!G497)","v":""},{"$f":"IF(ESTUDIANTES!I497=0,\" \",ESTUDIANTES!I497)","v":" "}," "," "," "]
[45,{"$f":"IF(ESTUDIANTES!G498=0,\"\",ESTUDIANTES!G498)","v":""},{"$f":"IF(ESTUDIANTES!I498=0,\" \",ESTUDIANTES!I498)","v":" "}," "," "," "]
[46,{"$f":"IF(ESTUDIANTES!G499=0,\"\",ESTUDIANTES!G499)","v":""},{"$f":"IF(ESTUDIANTES!I499=0,\" \",ESTUDIANTES!I499)","v":" "}," "," "," "]
[47,{"$f":"IF(ESTUDIANTES!G500=0,\"\",ESTUDIANTES!G500)","v":""},{"$f":"IF(ESTUDIANTES!I500=0,\" \",ESTUDIANTES!I500)","v":" "}," "," "," "]
[48,{"$f":"IF(ESTUDIANTES!G501=0,\"\",ESTUDIANTES!G501)","v":""},{"$f":"IF(ESTUDIANTES!I501=0,\" \",ESTUDIANTES!I501)","v":" "}," "," "," "]
[49,{"$f":"IF(ESTUDIANTES!G502=0,\"\",ESTUDIANTES!G502)","v":""},{"$f":"IF(ESTUDIANTES!I502=0,\" \",ESTUDIANTES!I502)","v":" "}," "," "," "]
[50,{"$f":"IF(ESTUDIANTES!G503=0,\"\",ESTUDIANTES!G503)","v":""},{"$f":"IF(ESTUDIANTES!I503=0,\" \",ESTUDIANTES!I503)","v":" "}," "," "," "]
[]
[{"$f":"DATOS!$B$3","v":"COLEGIO BACHILLERATO PCEI \"SIN FRONTERAS\""}]
[]
[null,"GRADO/CURSO:",{"$f":"DATOS!$E13","v":0}]
[null,"NIVEL:",{"$f":"DATOS!$F13","v":0}]
[null,"PARALELO:",{"$f":"DATOS!$G13","v":0}]
[null,"TUTOR:",{"$f":"DATOS!$H13","v":0}]
[]
["Nro","NOMBRES Y APELLIDOS","F.N","AÑOS","MESES","DIAS"]
[1,{"$f":"IF(ESTUDIANTES!G504=0,\"\",ESTUDIANTES!G504)","v":""},{"$f":"IF(ESTUDIANTES!I504=0,\" \",ESTUDIANTES!I504)","v":" "},{"$f":"IFERROR(DATEDIF(C599,TODAY(),\"Y\"),\" \")","v":" "},{"$f":"IFERROR(DATEDIF(C599,TODAY(),\"YM\"),\" \")","v":" "},{"$f":"IFERROR(DATEDIF(C599,TODAY(),\"MD\"),\" \")","v":" "}]
[2,{"$f":"IF(ESTUDIANTES!G505=0,\"\",ESTUDIANTES!G505)","v":""},{"$f":"IF(ESTUDIANTES!I505=0,\" \",ESTUDIANTES!I505)","v":" "},{"$f":"IFERROR(DATEDIF(C600,TODAY(),\"Y\"),\" \")","v":" "},{"$f":"IFERROR(DATEDIF(C600,TODAY(),\"YM\"),\" \")","v":" "},{"$f":"IFERROR(DATEDIF(C600,TODAY(),\"MD\"),\" \")","v":" "}]
[3,{"$f":"IF(ESTUDIANTES!G506=0,\"\",ESTUDIANTES!G506)","v":""},{"$f":"IF(ESTUDIANTES!I506=0,\" \",ESTUDIANTES!I506)","v":" "}," "," "," "]
[4,{"$f":"IF(ESTUDIANTES!G507=0,\"\",ESTUDIANTES!G507)","v":""},{"$f":"IF(ESTUDIANTES!I507=0,\" \",ESTUDIANTES!I507)","v":" "}," "," "," "]
[5,{"$f":"IF(ESTUDIANTES!G508=0,\"\",ESTUDIANTES!G508)","v":""},{"$f":"IF(ESTUDIANTES!I508=0,\" \",ESTUDIANTES!I508)","v":" "}," "," "," "]
[6,{"$f":"IF(ESTUDIANTES!G509=0,\"\",ESTUDIANTES!G509)","v":""},{"$f":"IF(ESTUDIANTES!I509=0,\" \",ESTUDIANTES!I509)","v":" "}," "," "," "]
[7,{"$f":"IF(ESTUDIANTES!G510=0,\"\",ESTUDIANTES!G510)","v":""},{"$f":"IF(ESTUDIANTES!I510=0,\" \",ESTUDIANTES!I510)","v":" "}," "," "," "]
[8,{"$f":"IF(ESTUDIANTES!G511=0,\"\",ESTUDIANTES!G511)","v":""},{"$f":"IF(ESTUDIANTES!I511=0,\" \",ESTUDIANTES!I511)","v":" "}," "," "," "]
[9,{"$f":"IF(ESTUDIANTES!G512=0,\"\",ESTUDIANTES!G512)","v":""},{"$f":"IF(ESTUDIANTES!I512=0,\" \",ESTUDIANTES!I512)","v":" "}," "," "," "]
[10,{"$f":"IF(ESTUDIANTES!G513=0,\"\",ESTUDIANTES!G513)","v":""},{"$f":"IF(ESTUDIANTES!I513=0,\" \",ESTUDIANTES!I513)","v":" "}," "," "," "]
[11,{"$f":"IF(ESTUDIANTES!G514=0,\"\",ESTUDIANTES!G514)","v":""},{"$f":"IF(ESTUDIANTES!I514=0,\" \",ESTUDIANTES!I514)","v":" "}," "," "," "]
[12,{"$f":"IF(ESTUDIANTES!G515=0,\"\",ESTUDIANTES!G515)","v":""},{"$f":"IF(ESTUDIANTES!I515=0,\" \",ESTUDIANTES!I515)","v":" "}," "," "," "]
[13,{"$f":"IF(ESTUDIANTES!G516=0,\"\",ESTUDIANTES!G516)","v":""},{"$f":"IF(ESTUDIANTES!I516=0,\" \",ESTUDIANTES!I516)","v":" "}," "," "," "]
[14,{"$f":"IF(ESTUDIANTES!G517=0,\"\",ESTUDIANTES!G517)","v":""},{"$f":"IF(ESTUDIANTES!I517=0,\" \",ESTUDIANTES!I517)","v":" "}," "," "," "]
[15,{"$f":"IF(ESTUDIANTES!G518=0,\"\",ESTUDIANTES!G518)","v":""},{"$f":"IF(ESTUDIANTES!I518=0,\" \",ESTUDIANTES!I518)","v":" "}," "," "," "]
[16,{"$f":"IF(ESTUDIANTES!G519=0,\"\",ESTUDIANTES!G519)","v":""},{"$f":"IF(ESTUDIANTES!I519=0,\" \",ESTUDIANTES!I519)","v":" "}," "," "," "]
[17,{"$f":"IF(ESTUDIANTES!G520=0,\"\",ESTUDIANTES!G520)","v":""},{"$f":"IF(ESTUDIANTES!I520=0,\" \",ESTUDIANTES!I520)","v":" "}," "," "," "]
[18,{"$f":"IF(ESTUDIANTES!G521=0,\"\",ESTUDIANTES!G521)","v":""},{"$f":"IF(ESTUDIANTES!I521=0,\" \",ESTUDIANTES!I521)","v":" "}," "," "," "]
[19,{"$f":"IF(ESTUDIANTES!G522=0,\"\",ESTUDIANTES!G522)","v":""},{"$f":"IF(ESTUDIANTES!I522=0,\" \",ESTUDIANTES!I522)","v":" "}," "," "," "]
[20,{"$f":"IF(ESTUDIANTES!G523=0,\"\",ESTUDIANTES!G523)","v":""},{"$f":"IF(ESTUDIANTES!I523=0,\" \",ESTUDIANTES!I523)","v":" "}," "," "," "]
[21,{"$f":"IF(ESTUDIANTES!G524=0,\"\",ESTUDIANTES!G524)","v":""},{"$f":"IF(ESTUDIANTES!I524=0,\" \",ESTUDIANTES!I524)","v":" "}," "," "," "]
[22,{"$f":"IF(ESTUDIANTES!G525=0,\"\",ESTUDIANTES!G525)","v":""},{"$f":"IF(ESTUDIANTES!I525=0,\" \",ESTUDIANTES!I525)","v":" "}," "," "," "]
[23,{"$f":"IF(ESTUDIANTES!G526=0,\"\",ESTUDIANTES!G526)","v":""},{"$f":"IF(ESTUDIANTES!I526=0,\" \",ESTUDIANTES!I526)","v":" "}," "," "," "]
[24,{"$f":"IF(ESTUDIANTES!G527=0,\"\",ESTUDIANTES!G527)","v":""},{"$f":"IF(ESTUDIANTES!I527=0,\" \",ESTUDIANTES!I527)","v":" "}," "," "," "]
[25,{"$f":"IF(ESTUDIANTES!G528=0,\"\",ESTUDIANTES!G528)","v":""},{"$f":"IF(ESTUDIANTES!I528=0,\" \",ESTUDIANTES!I528)","v":" "}," "," "," "]
[26,{"$f":"IF(ESTUDIANTES!G529=0,\"\",ESTUDIANTES!G529)","v":""},{"$f":"IF(ESTUDIANTES!I529=0,\" \",ESTUDIANTES!I529)","v":" "}," "," "," "]
[27,{"$f":"IF(ESTUDIANTES!G530=0,\"\",ESTUDIANTES!G530)","v":""},{"$f":"IF(ESTUDIANTES!I530=0,\" \",ESTUDIANTES!I530)","v":" "}," "," "," "]
[28,{"$f":"IF(ESTUDIANTES!G531=0,\"\",ESTUDIANTES!G531)","v":""},{"$f":"IF(ESTUDIANTES!I531=0,\" \",ESTUDIANTES!I531)","v":" "}," "," "," "]
[29,{"$f":"IF(ESTUDIANTES!G532=0,\"\",ESTUDIANTES!G532)","v":""},{"$f":"IF(ESTUDIANTES!I532=0,\" \",ESTUDIANTES!I532)","v":" "}," "," "," "]
[30,{"$f":"IF(ESTUDIANTES!G533=0,\"\",ESTUDIANTES!G533)","v":""},{"$f":"IF(ESTUDIANTES!I533=0,\" \",ESTUDIANTES!I533)","v":" "}," "," "," "]
[31,{"$f":"IF(ESTUDIANTES!G534=0,\"\",ESTUDIANTES!G534)","v":""},{"$f":"IF(ESTUDIANTES!I534=0,\" \",ESTUDIANTES!I534)","v":" "}," "," "," "]
[32,{"$f":"IF(ESTUDIANTES!G535=0,\"\",ESTUDIANTES!G535)","v":""},{"$f":"IF(ESTUDIANTES!I535=0,\" \",ESTUDIANTES!I535)","v":" "}," "," "," "]
[33,{"$f":"IF(ESTUDIANTES!G536=0,\"\",ESTUDIANTES!G536)","v":""},{"$f":"IF(ESTUDIANTES!I536=0,\" \",ESTUDIANTES!I536)","v":" "}," "," "," "]
[34,{"$f":"IF(ESTUDIANTES!G537=0,\"\",ESTUDIANTES!G537)","v":""},{"$f":"IF(ESTUDIANTES!I537=0,\" \",ESTUDIANTES!I537)","v":" "}," "," "," "]
[35,{"$f":"IF(ESTUDIANTES!G538=0,\"\",ESTUDIANTES!G538)","v":""},{"$f":"IF(ESTUDIANTES!I538=0,\" \",ESTUDIANTES!I538)","v":" "}," "," "," "]
[36,{"$f":"IF(ESTUDIANTES!G539=0,\"\",ESTUDIANTES!G539)","v":""},{"$f":"IF(ESTUDIANTES!I539=0,\" \",ESTUDIANTES!I539)","v":" "}," "," "," "]
[37,{"$f":"IF(ESTUDIANTES!G540=0,\"\",ESTUDIANTES!G540)","v":""},{"$f":"IF(ESTUDIANTES!I540=0,\" \",ESTUDIANTES!I540)","v":" "}," "," "," "]
[38,{"$f":"IF(ESTUDIANTES!G541=0,\"\",ESTUDIANTES!G541)","v":""},{"$f":"IF(ESTUDIANTES!I541=0,\" \",ESTUDIANTES!I541)","v":" "}," "," "," "]
[39,{"$f":"IF(ESTUDIANTES!G542=0,\"\",ESTUDIANTES!G542)","v":""},{"$f":"IF(ESTUDIANTES!I542=0,\" \",ESTUDIANTES!I542)","v":" "}," "," "," "]
[40,{"$f":"IF(ESTUDIANTES!G543=0,\"\",ESTUDIANTES!G543)","v":""},{"$f":"IF(ESTUDIANTES!I543=0,\" \",ESTUDIANTES!I543)","v":" "}," "," "," "]
[41,{"$f":"IF(ESTUDIANTES!G544=0,\"\",ESTUDIANTES!G544)","v":""},{"$f":"IF(ESTUDIANTES!I544=0,\" \",ESTUDIANTES!I544)","v":" "}," "," "," "]
[42,{"$f":"IF(ESTUDIANTES!G545=0,\"\",ESTUDIANTES!G545)","v":""},{"$f":"IF(ESTUDIANTES!I545=0,\" \",ESTUDIANTES!I545)","v":" "}," "," "," "]
[43,{"$f":"IF(ESTUDIANTES!G546=0,\"\",ESTUDIANTES!G546)","v":""},{"$f":"IF(ESTUDIANTES!I546=0,\" \",ESTUDIANTES!I546)","v":" "}," "," "," "]
[44,{"$f":"IF(ESTUDIANTES!G547=0,\"\",ESTUDIANTES!G547)","v":""},{"$f":"IF(ESTUDIANTES!I547=0,\" \",ESTUDIANTES!I547)","v":" "}," "," "," "]
[45,{"$f":"IF(ESTUDIANTES!G548=0,\"\",ESTUDIANTES!G548)","v":""},{"$f":"IF(ESTUDIANTES!I548=0,\" \",ESTUDIANTES!I548)","v":" "}," "," "," "]
[46,{"$f":"IF(ESTUDIANTES!G549=0,\"\",ESTUDIANTES!G549)","v":""},{"$f":"IF(ESTUDIANTES!I549=0,\" \",ESTUDIANTES!I549)","v":" "}," "," "," "]
[47,{"$f":"IF(ESTUDIANTES!G550=0,\"\",ESTUDIANTES!G550)","v":""},{"$f":"IF(ESTUDIANTES!I550=0,\" \",ESTUDIANTES!I550)","v":" "}," "," "," "]
[48,{"$f":"IF(ESTUDIANTES!G551=0,\"\",ESTUDIANTES!G551)","v":""},{"$f":"IF(ESTUDIANTES!I551=0,\" \",ESTUDIANTES!I551)","v":" "}," "," "," "]
[49,{"$f":"IF(ESTUDIANTES!G552=0,\"\",ESTUDIANTES!G552)","v":""},{"$f":"IF(ESTUDIANTES!I552=0,\" \",ESTUDIANTES!I552)","v":" "}," "," "," "]
[50,{"$f":"IF(ESTUDIANTES!G553=0,\"\",ESTUDIANTES!G553)","v":""},{"$f":"IF(ESTUDIANTES!I553=0,\" \",ESTUDIANTES!I553)","v":" "}," "," "," "]
[]
[{"$f":"DATOS!$B$3","v":"COLEGIO BACHILLERATO PCEI \"SIN FRONTERAS\""}]
[]
[null,"GRADO/CURSO:",{"$f":"DATOS!$E14","v":0}]
[null,"NIVEL:",{"$f":"DATOS!$F14","v":0}]
[null,"PARALELO:",{"$f":"DATOS!$G14","v":0}]
[null,"TUTOR:",{"$f":"DATOS!$H14","v":0}]
[]
["Nro","NOMBRES Y APELLIDOS","F.N","AÑOS","MESES","DIAS"]
[1,{"$f":"IF(ESTUDIANTES!G554=0,\"\",ESTUDIANTES!G554)","v":""},{"$f":"IF(ESTUDIANTES!I554=0,\" \",ESTUDIANTES!I554)","v":" "},{"$f":"IFERROR(DATEDIF(C658,TODAY(),\"Y\"),\" \")","v":" "},{"$f":"IFERROR(DATEDIF(C658,TODAY(),\"YM\"),\" \")","v":" "},{"$f":"IFERROR(DATEDIF(C658,TODAY(),\"MD\"),\" \")","v":" "}]
[2,{"$f":"IF(ESTUDIANTES!G555=0,\"\",ESTUDIANTES!G555)","v":""},{"$f":"IF(ESTUDIANTES!I555=0,\" \",ESTUDIANTES!I555)","v":" "},{"$f":"IFERROR(DATEDIF(C659,TODAY(),\"Y\"),\" \")","v":" "},{"$f":"IFERROR(DATEDIF(C659,TODAY(),\"YM\"),\" \")","v":" "},{"$f":"IFERROR(DATEDIF(C659,TODAY(),\"MD\"),\" \")","v":" "}]
[3,{"$f":"IF(ESTUDIANTES!G556=0,\"\",ESTUDIANTES!G556)","v":""},{"$f":"IF(ESTUDIANTES!I556=0,\" \",ESTUDIANTES!I556)","v":" "}," "," "," "]
[4,{"$f":"IF(ESTUDIANTES!G557=0,\"\",ESTUDIANTES!G557)","v":""},{"$f":"IF(ESTUDIANTES!I557=0,\" \",ESTUDIANTES!I557)","v":" "}," "," "," "]
[5,{"$f":"IF(ESTUDIANTES!G558=0,\"\",ESTUDIANTES!G558)","v":""},{"$f":"IF(ESTUDIANTES!I558=0,\" \",ESTUDIANTES!I558)","v":" "}," "," "," "]
[6,{"$f":"IF(ESTUDIANTES!G559=0,\"\",ESTUDIANTES!G559)","v":""},{"$f":"IF(ESTUDIANTES!I559=0,\" \",ESTUDIANTES!I559)","v":" "}," "," "," "]
[7,{"$f":"IF(ESTUDIANTES!G560=0,\"\",ESTUDIANTES!G560)","v":""},{"$f":"IF(ESTUDIANTES!I560=0,\" \",ESTUDIANTES!I560)","v":" "}," "," "," "]
[8,{"$f":"IF(ESTUDIANTES!G561=0,\"\",ESTUDIANTES!G561)","v":""},{"$f":"IF(ESTUDIANTES!I561=0,\" \",ESTUDIANTES!I561)","v":" "}," "," "," "]
[9,{"$f":"IF(ESTUDIANTES!G562=0,\"\",ESTUDIANTES!G562)","v":""},{"$f":"IF(ESTUDIANTES!I562=0,\" \",ESTUDIANTES!I562)","v":" "}," "," "," "]
[10,{"$f":"IF(ESTUDIANTES!G563=0,\"\",ESTUDIANTES!G563)","v":""},{"$f":"IF(ESTUDIANTES!I563=0,\" \",ESTUDIANTES!I563)","v":" "}," "," "," "]
[11,{"$f":"IF(ESTUDIANTES!G564=0,\"\",ESTUDIANTES!G564)","v":""},{"$f":"IF(ESTUDIANTES!I564=0,\" \",ESTUDIANTES!I564)","v":" "}," "," "," "]
[12,{"$f":"IF(ESTUDIANTES!G565=0,\"\",ESTUDIANTES!G565)","v":""},{"$f":"IF(ESTUDIANTES!I565=0,\" \",ESTUDIANTES!I565)","v":" "}," "," "," "]
[13,{"$f":"IF(ESTUDIANTES!G566=0,\"\",ESTUDIANTES!G566)","v":""},{"$f":"IF(ESTUDIANTES!I566=0,\" \",ESTUDIANTES!I566)","v":" "}," "," "," "]
[14,{"$f":"IF(ESTUDIANTES!G567=0,\"\",ESTUDIANTES!G567)","v":""},{"$f":"IF(ESTUDIANTES!I567=0,\" \",ESTUDIANTES!I567)","v":" "}," "," "," "]
[15,{"$f":"IF(ESTUDIANTES!G568=0,\"\",ESTUDIANTES!G568)","v":""},{"$f":"IF(ESTUDIANTES!I568=0,\" \",ESTUDIANTES!I568)","v":" "}," "," "," "]
[16,{"$f":"IF(ESTUDIANTES!G569=0,\"\",ESTUDIANTES!G569)","v":""},{"$f":"IF(ESTUDIANTES!I569=0,\" \",ESTUDIANTES!I569)","v":" "}," "," "," "]
[17,{"$f":"IF(ESTUDIANTES!G570=0,\"\",ESTUDIANTES!G570)","v":""},{"$f":"IF(ESTUDIANTES!I570=0,\" \",ESTUDIANTES!I570)","v":" "}," "," "," "]
[18,{"$f":"IF(ESTUDIANTES!G571=0,\"\",ESTUDIANTES!G571)","v":""},{"$f":"IF(ESTUDIANTES!I571=0,\" \",ESTUDIANTES!I571)","v":" "}," "," "," "]
[19,{"$f":"IF(ESTUDIANTES!G572=0,\"\",ESTUDIANTES!G572)","v":""},{"$f":"IF(ESTUDIANTES!I572=0,\" \",ESTUDIANTES!I572)","v":" "}," "," "," "]
[20,{"$f":"IF(ESTUDIANTES!G573=0,\"\",ESTUDIANTES!G573)","v":""},{"$f":"IF(ESTUDIANTES!I573=0,\" \",ESTUDIANTES!I573)","v":" "}," "," "," "]
[21,{"$f":"IF(ESTUDIANTES!G574=0,\"\",ESTUDIANTES!G574)","v":""},{"$f":"IF(ESTUDIANTES!I574=0,\" \",ESTUDIANTES!I574)","v":" "}," "," "," "]
[22,{"$f":"IF(ESTUDIANTES!G575=0,\"\",ESTUDIANTES!G575)","v":""},{"$f":"IF(ESTUDIANTES!I575=0,\" \",ESTUDIANTES!I575)","v":" "}," "," "," "]
[23,{"$f":"IF(ESTUDIANTES!G576=0,\"\",ESTUDIANTES!G576)","v":""},{"$f":"IF(ESTUDIANTES!I576=0,\" \",ESTUDIANTES!I576)","v":" "}," "," "," "]
[24,{"$f":"IF(ESTUDIANTES!G577=0,\"\",ESTUDIANTES!G577)","v":""},{"$f":"IF(ESTUDIANTES!I577=0,\" \",ESTUDIANTES!I577)","v":" "}," "," "," "]
[25,{"$f":"IF(ESTUDIANTES!G578=0,\"\",ESTUDIANTES!G578)","v":""},{"$f":"IF(ESTUDIANTES!I578=0,\" \",ESTUDIANTES!I578)","v":" "}," "," "," "]
[26,{"$f":"IF(ESTUDIANTES!G579=0,\"\",ESTUDIANTES!G579)","v":""},{"$f":"IF(ESTUDIANTES!I579=0,\" \",ESTUDIANTES!I579)","v":" "}," "," "," "]
[27,{"$f":"IF(ESTUDIANTES!G580=0,\"\",ESTUDIANTES!G580)","v":""},{"$f":"IF(ESTUDIANTES!I580=0,\" \",ESTUDIANTES!I580)","v":" "}," "," "," "]
[28,{"$f":"IF(ESTUDIANTES!G581=0,\"\",ESTUDIANTES!G581)","v":""},{"$f":"IF(ESTUDIANTES!I581=0,\" \",ESTUDIANTES!I581)","v":" "}," "," "," "]
[29,{"$f":"IF(ESTUDIANTES!G582=0,\"\",ESTUDIANTES!G582)","v":""},{"$f":"IF(ESTUDIANTES!I582=0,\" \",ESTUDIANTES!I582)","v":" "}," "," "," "]
[30,{"$f":"IF(ESTUDIANTES!G583=0,\"\",ESTUDIANTES!G583)","v":""},{"$f":"IF(ESTUDIANTES!I583=0,\" \",ESTUDIANTES!I583)","v":" "}," "," "," "]
[31,{"$f":"IF(ESTUDIANTES!G584=0,\"\",ESTUDIANTES!G584)","v":""},{"$f":"IF(ESTUDIANTES!I584=0,\" \",ESTUDIANTES!I584)","v":" "}," "," "," "]
[32,{"$f":"IF(ESTUDIANTES!G585=0,\"\",ESTUDIANTES!G585)","v":""},{"$f":"IF(ESTUDIANTES!I585=0,\" \",ESTUDIANTES!I585)","v":" "}," "," "," "]
[33,{"$f":"IF(ESTUDIANTES!G586=0,\"\",ESTUDIANTES!G586)","v":""},{"$f":"IF(ESTUDIANTES!I586=0,\" \",ESTUDIANTES!I586)","v":" "}," "," "," "]
[34,{"$f":"IF(ESTUDIANTES!G587=0,\"\",ESTUDIANTES!G587)","v":""},{"$f":"IF(ESTUDIANTES!I587=0,\" \",ESTUDIANTES!I587)","v":" "}," "," "," "]
[35,{"$f":"IF(ESTUDIANTES!G588=0,\"\",ESTUDIANTES!G588)","v":""},{"$f":"IF(ESTUDIANTES!I588=0,\" \",ESTUDIANTES!I588)","v":" "}," "," "," "]
[36,{"$f":"IF(ESTUDIANTES!G589=0,\"\",ESTUDIANTES!G589)","v":""},{"$f":"IF(ESTUDIANTES!I589=0,\" \",ESTUDIANTES!I589)","v":" "}," "," "," "]
[37,{"$f":"IF(ESTUDIANTES!G590=0,\"\",ESTUDIANTES!G590)","v":""},{"$f":"IF(ESTUDIANTES!I590=0,\" \",ESTUDIANTES!I590)","v":" "}," "," "," "]
[38,{"$f":"IF(ESTUDIANTES!G591=0,\"\",ESTUDIANTES!G591)","v":""},{"$f":"IF(ESTUDIANTES!I591=0,\" \",ESTUDIANTES!I591)","v":" "}," "," "," "]
[39,{"$f":"IF(ESTUDIANTES!G592=0,\"\",ESTUDIANTES!G592)","v":""},{"$f":"IF(ESTUDIANTES!I592=0,\" \",ESTUDIANTES!I592)","v":" "}," "," "," "]
[40,{"$f":"IF(ESTUDIANTES!G593=0,\"\",ESTUDIANTES!G593)","v":""},{"$f":"IF(ESTUDIANTES!I593=0,\" \",ESTUDIANTES!I593)","v":" "}," "," "," "]
[41,{"$f":"IF(ESTUDIANTES!G594=0,\"\",ESTUDIANTES!G594)","v":""},{"$f":"IF(ESTUDIANTES!I594=0,\" \",ESTUDIANTES!I594)","v":" "}," "," "," "]
[42,{"$f":"IF(ESTUDIANTES!G595=0,\"\",ESTUDIANTES!G595)","v":""},{"$f":"IF(ESTUDIANTES!I595=0,\" \",ESTUDIANTES!I595)","v":" "}," "," "," "]
[43,{"$f":"IF(ESTUDIANTES!G596=0,\"\",ESTUDIANTES!G596)","v":""},{"$f":"IF(ESTUDIANTES!I596=0,\" \",ESTUDIANTES!I596)","v":" "}," "," "," "]
[44,{"$f":"IF(ESTUDIANTES!G597=0,\"\",ESTUDIANTES!G597)","v":""},{"$f":"IF(ESTUDIANTES!I597=0,\" \",ESTUDIANTES!I597)","v":" "}," "," "," "]
[45,{"$f":"IF(ESTUDIANTES!G598=0,\"\",ESTUDIANTES!G598)","v":""},{"$f":"IF(ESTUDIANTES!I598=0,\" \",ESTUDIANTES!I598)","v":" "}," "," "," "]
[46,{"$f":"IF(ESTUDIANTES!G599=0,\"\",ESTUDIANTES!G599)","v":""},{"$f":"IF(ESTUDIANTES!I599=0,\" \",ESTUDIANTES!I599)","v":" "}," "," "," "]
[47,{"$f":"IF(ESTUDIANTES!G600=0,\"\",ESTUDIANTES!G600)","v":""},{"$f":"IF(ESTUDIANTES!I600=0,\" \",ESTUDIANTES!I600)","v":" "}," "," "," "]
[48,{"$f":"IF(ESTUDIANTES!G601=0,\"\",ESTUDIANTES!G601)","v":""},{"$f":"IF(ESTUDIANTES!I601=0,\" \",ESTUDIANTES!I601)","v":" "}," "," "," "]
[49,{"$f":"IF(ESTUDIANTES!G602=0,\"\",ESTUDIANTES!G602)","v":""},{"$f":"IF(ESTUDIANTES!I602=0,\" \",ESTUDIANTES!I602)","v":" "}," "," "," "]
[50,{"$f":"IF(ESTUDIANTES!G603=0,\"\",ESTUDIANTES!G603)","v":""},{"$f":"IF(ESTUDIANTES!I603=0,\" \",ESTUDIANTES!I603)","v":" "}," "," "," "]
[]
[{"$f":"DATOS!$B$3","v":"COLEGIO BACHILLERATO PCEI \"SIN FRONTERAS\""}]
[]
[null,"GRADO/CURSO:",{"$f":"DATOS!$E15","v":0}]
[null,"NIVEL:",{"$f":"DATOS!$F15","v":0}]
[null,"PARALELO:",{"$f":"DATOS!$G15","v":0}]
[null,"TUTOR:",{"$f":"DATOS!$H15","v":0}]
[]
["Nro","NOMBRES Y APELLIDOS","F.N","AÑOS","MESES","DIAS"]
[1,{"$f":"IF(ESTUDIANTES!G604=0,\"\",ESTUDIANTES!G604)","v":""},{"$f":"IF(ESTUDIANTES!I604=0,\" \",ESTUDIANTES!I604)","v":" "},{"$f":"IFERROR(DATEDIF(C717,TODAY(),\"Y\"),\" \")","v":" "},{"$f":"IFERROR(DATEDIF(C717,TODAY(),\"YM\"),\" \")","v":" "},{"$f":"IFERROR(DATEDIF(C717,TODAY(),\"MD\"),\" \")","v":" "}]
[2,{"$f":"IF(ESTUDIANTES!G605=0,\"\",ESTUDIANTES!G605)","v":""},{"$f":"IF(ESTUDIANTES!I605=0,\" \",ESTUDIANTES!I605)","v":" "},{"$f":"IFERROR(DATEDIF(C718,TODAY(),\"Y\"),\" \")","v":" "},{"$f":"IFERROR(DATEDIF(C718,TODAY(),\"YM\"),\" \")","v":" "},{"$f":"IFERROR(DATEDIF(C718,TODAY(),\"MD\"),\" \")","v":" "}]
[3,{"$f":"IF(ESTUDIANTES!G606=0,\"\",ESTUDIANTES!G606)","v":""},{"$f":"IF(ESTUDIANTES!I606=0,\" \",ESTUDIANTES!I606)","v":" "}," "," "," "]
[4,{"$f":"IF(ESTUDIANTES!G607=0,\"\",ESTUDIANTES!G607)","v":""},{"$f":"IF(ESTUDIANTES!I607=0,\" \",ESTUDIANTES!I607)","v":" "}," "," "," "]
[5,{"$f":"IF(ESTUDIANTES!G608=0,\"\",ESTUDIANTES!G608)","v":""},{"$f":"IF(ESTUDIANTES!I608=0,\" \",ESTUDIANTES!I608)","v":" "}," "," "," "]
[6,{"$f":"IF(ESTUDIANTES!G609=0,\"\",ESTUDIANTES!G609)","v":""},{"$f":"IF(ESTUDIANTES!I609=0,\" \",ESTUDIANTES!I609)","v":" "}," "," "," "]
[7,{"$f":"IF(ESTUDIANTES!G610=0,\"\",ESTUDIANTES!G610)","v":""},{"$f":"IF(ESTUDIANTES!I610=0,\" \",ESTUDIANTES!I610)","v":" "}," "," "," "]
[8,{"$f":"IF(ESTUDIANTES!G611=0,\"\",ESTUDIANTES!G611)","v":""},{"$f":"IF(ESTUDIANTES!I611=0,\" \",ESTUDIANTES!I611)","v":" "}," "," "," "]
[9,{"$f":"IF(ESTUDIANTES!G612=0,\"\",ESTUDIANTES!G612)","v":""},{"$f":"IF(ESTUDIANTES!I612=0,\" \",ESTUDIANTES!I612)","v":" "}," "," "," "]
[10,{"$f":"IF(ESTUDIANTES!G613=0,\"\",ESTUDIANTES!G613)","v":""},{"$f":"IF(ESTUDIANTES!I613=0,\" \",ESTUDIANTES!I613)","v":" "}," "," "," "]
[11,{"$f":"IF(ESTUDIANTES!G614=0,\"\",ESTUDIANTES!G614)","v":""},{"$f":"IF(ESTUDIANTES!I614=0,\" \",ESTUDIANTES!I614)","v":" "}," "," "," "]
[12,{"$f":"IF(ESTUDIANTES!G615=0,\"\",ESTUDIANTES!G615)","v":""},{"$f":"IF(ESTUDIANTES!I615=0,\" \",ESTUDIANTES!I615)","v":" "}," "," "," "]
[13,{"$f":"IF(ESTUDIANTES!G616=0,\"\",ESTUDIANTES!G616)","v":""},{"$f":"IF(ESTUDIANTES!I616=0,\" \",ESTUDIANTES!I616)","v":" "}," "," "," "]
[14,{"$f":"IF(ESTUDIANTES!G617=0,\"\",ESTUDIANTES!G617)","v":""},{"$f":"IF(ESTUDIANTES!I617=0,\" \",ESTUDIANTES!I617)","v":" "}," "," "," "]
[15,{"$f":"IF(ESTUDIANTES!G618=0,\"\",ESTUDIANTES!G618)","v":""},{"$f":"IF(ESTUDIANTES!I618=0,\" \",ESTUDIANTES!I618)","v":" "}," "," "," "]
[16,{"$f":"IF(ESTUDIANTES!G619=0,\"\",ESTUDIANTES!G619)","v":""},{"$f":"IF(ESTUDIANTES!I619=0,\" \",ESTUDIANTES!I619)","v":" "}," "," "," "]
[17,{"$f":"IF(ESTUDIANTES!G620=0,\"\",ESTUDIANTES!G620)","v":""},{"$f":"IF(ESTUDIANTES!I620=0,\" \",ESTUDIANTES!I620)","v":" "}," "," "," "]
[18,{"$f":"IF(ESTUDIANTES!G621=0,\"\",ESTUDIANTES!G621)","v":""},{"$f":"IF(ESTUDIANTES!I621=0,\" \",ESTUDIANTES!I621)","v":" "}," "," "," "]
[19,{"$f":"IF(ESTUDIANTES!G622=0,\"\",ESTUDIANTES!G622)","v":""},{"$f":"IF(ESTUDIANTES!I622=0,\" \",ESTUDIANTES!I622)","v":" "}," "," "," "]
[20,{"$f":"IF(ESTUDIANTES!G623=0,\"\",ESTUDIANTES!G623)","v":""},{"$f":"IF(ESTUDIANTES!I623=0,\" \",ESTUDIANTES!I623)","v":" "}," "," "," "]
[21,{"$f":"IF(ESTUDIANTES!G624=0,\"\",ESTUDIANTES!G624)","v":""},{"$f":"IF(ESTUDIANTES!I624=0,\" \",ESTUDIANTES!I624)","v":" "}," "," "," "]
[22,{"$f":"IF(ESTUDIANTES!G625=0,\"\",ESTUDIANTES!G625)","v":""},{"$f":"IF(ESTUDIANTES!I625=0,\" \",ESTUDIANTES!I625)","v":" "}," "," "," "]
[23,{"$f":"IF(ESTUDIANTES!G626=0,\"\",ESTUDIANTES!G626)","v":""},{"$f":"IF(ESTUDIANTES!I626=0,\" \",ESTUDIANTES!I626)","v":" "}," "," "," "]
[24,{"$f":"IF(ESTUDIANTES!G627=0,\"\",ESTUDIANTES!G627)","v":""},{"$f":"IF(ESTUDIANTES!I627=0,\" \",ESTUDIANTES!I627)","v":" "}," "," "," "]
[25,{"$f":"IF(ESTUDIANTES!G628=0,\"\",ESTUDIANTES!G628)","v":""},{"$f":"IF(ESTUDIANTES!I628=0,\" \",ESTUDIANTES!I628)","v":" "}," "," "," "]
[26,{"$f":"IF(ESTUDIANTES!G629=0,\"\",ESTUDIANTES!G629)","v":""},{"$f":"IF(ESTUDIANTES!I629=0,\" \",ESTUDIANTES!I629)","v":" "}," "," "," "]
[27,{"$f":"IF(ESTUDIANTES!G630=0,\"\",ESTUDIANTES!G630)","v":""},{"$f":"IF(ESTUDIANTES!I630=0,\" \",ESTUDIANTES!I630)","v":" "}," "," "," "]
[28,{"$f":"IF(ESTUDIANTES!G631=0,\"\",ESTUDIANTES!G631)","v":""},{"$f":"IF(ESTUDIANTES!I631=0,\" \",ESTUDIANTES!I631)","v":" "}," "," "," "]
[29,{"$f":"IF(ESTUDIANTES!G632=0,\"\",ESTUDIANTES!G632)","v":""},{"$f":"IF(ESTUDIANTES!I632=0,\" \",ESTUDIANTES!I632)","v":" "}," "," "," "]
[30,{"$f":"IF(ESTUDIANTES!G633=0,\"\",ESTUDIANTES!G633)","v":""},{"$f":"IF(ESTUDIANTES!I633=0,\" \",ESTUDIANTES!I633)","v":" "}," "," "," "]
[31,{"$f":"IF(ESTUDIANTES!G634=0,\"\",ESTUDIANTES!G634)","v":""},{"$f":"IF(ESTUDIANTES!I634=0,\" \",ESTUDIANTES!I634)","v":" "}," "," "," "]
[32,{"$f":"IF(ESTUDIANTES!G635=0,\"\",ESTUDIANTES!G635)","v":""},{"$f":"IF(ESTUDIANTES!I635=0,\" \",ESTUDIANTES!I635)","v":" "}," "," "," "]
[33,{"$f":"IF(ESTUDIANTES!G636=0,\"\",ESTUDIANTES!G636)","v":""},{"$f":"IF(ESTUDIANTES!I636=0,\" \",ESTUDIANTES!I636)","v":" "}," "," "," "]
[34,{"$f":"IF(ESTUDIANTES!G637=0,\"\",ESTUDIANTES!G637)","v":""},{"$f":"IF(ESTUDIANTES!I637=0,\" \",ESTUDIANTES!I637)","v":" "}," "," "," "]
[35,{"$f":"IF(ESTUDIANTES!G638=0,\"\",ESTUDIANTES!G638)","v":""},{"$f":"IF(ESTUDIANTES!I638=0,\" \",ESTUDIANTES!I638)","v":" "}," "," "," "]
[36,{"$f":"IF(ESTUDIANTES!G639=0,\"\",ESTUDIANTES!G639)","v":""},{"$f":"IF(ESTUDIANTES!I639=0,\" \",ESTUDIANTES!I639)","v":" "}," "," "," "]
[37,{"$f":"IF(ESTUDIANTES!G640=0,\"\",ESTUDIANTES!G640)","v":""},{"$f":"IF(ESTUDIANTES!I640=0,\" \",ESTUDIANTES!I640)","v":" "}," "," "," "]
[38,{"$f":"IF(ESTUDIANTES!G641=0,\"\",ESTUDIANTES!G641)","v":""},{"$f":"IF(ESTUDIANTES!I641=0,\" \",ESTUDIANTES!I641)","v":" "}," "," "," "]
[39,{"$f":"IF(ESTUDIANTES!G642=0,\"\",ESTUDIANTES!G642)","v":""},{"$f":"IF(ESTUDIANTES!I642=0,\" \",ESTUDIANTES!I642)","v":" "}," "," "," "]
[40,{"$f":"IF(ESTUDIANTES!G643=0,\"\",ESTUDIANTES!G643)","v":""},{"$f":"IF(ESTUDIANTES!I643=0,\" \",ESTUDIANTES!I643)","v":" "}," "," "," "]
[41,{"$f":"IF(ESTUDIANTES!G644=0,\"\",ESTUDIANTES!G644)","v":""},{"$f":"IF(ESTUDIANTES!I644=0,\" \",ESTUDIANTES!I644)","v":" "}," "," "," "]
[42,{"$f":"IF(ESTUDIANTES!G645=0,\"\",ESTUDIANTES!G645)","v":""},{"$f":"IF(ESTUDIANTES!I645=0,\" \",ESTUDIANTES!I645)","v":" "}," "," "," "]
[43,{"$f":"IF(ESTUDIANTES!G646=0,\"\",ESTUDIANTES!G646)","v":""},{"$f":"IF(ESTUDIANTES!I646=0,\" \",ESTUDIANTES!I646)","v":" "}," "," "," "]
[44,{"$f":"IF(ESTUDIANTES!G647=0,\"\",ESTUDIANTES!G647)","v":""},{"$f":"IF(ESTUDIANTES!I647=0,\" \",ESTUDIANTES!I647)","v":" "}," "," "," "]
[45,{"$f":"IF(ESTUDIANTES!G648=0,\"\",ESTUDIANTES!G648)","v":""},{"$f":"IF(ESTUDIANTES!I648=0,\" \",ESTUDIANTES!I648)","v":" "}," "," "," "]
[46,{"$f":"IF(ESTUDIANTES!G649=0,\"\",ESTUDIANTES!G649)","v":""},{"$f":"IF(ESTUDIANTES!I649=0,\" \",ESTUDIANTES!I649)","v":" "}," "," "," "]
[47,{"$f":"IF(ESTUDIANTES!G650=0,\"\",ESTUDIANTES!G650)","v":""},{"$f":"IF(ESTUDIANTES!I650=0,\" \",ESTUDIANTES!I650)","v":" "}," "," "," "]
[48,{"$f":"IF(ESTUDIANTES!G651=0,\"\",ESTUDIANTES!G651)","v":""},{"$f":"IF(ESTUDIANTES!I651=0,\" \",ESTUDIANTES!I651)","v":" "}," "," "," "]
[49,{"$f":"IF(ESTUDIANTES!G652=0,\"\",ESTUDIANTES!G652)","v":""},{"$f":"IF(ESTUDIANTES!I652=0,\" \",ESTUDIANTES!I652)","v":" "}," "," "," "]
[50,{"$f":"IF(ESTUDIANTES!G653=0,\"\",ESTUDIANTES!G653)","v":""},{"$f":"IF(ESTUDIANTES!I653=0,\" \",ESTUDIANTES!I653)","v":" "}," "," "," "]
[]
[{"$f":"DATOS!$B$3","v":"COLEGIO BACHILLERATO PCEI \"SIN FRONTERAS\""}]
[]
[null,"GRADO/CURSO:",{"$f":"DATOS!$E16","v":0}]
[null,"NIVEL:",{"$f":"DATOS!$F16","v":0}]
[null,"PARALELO:",{"$f":"DATOS!$G16","v":0}]
[null,"TUTOR:",{"$f":"DATOS!$H16","v":0}]
[]
["Nro","NOMBRES Y APELLIDOS","F.N","AÑOS","MESES","DIAS"]
[1,{"$f":"IF(ESTUDIANTES!G654=0,\"\",ESTUDIANTES!G654)","v":""},{"$f":"IF(ESTUDIANTES!I654=0,\" \",ESTUDIANTES!I654)","v":" "},{"$f":"IFERROR(DATEDIF(C776,TODAY(),\"Y\"),\" \")","v":" "},{"$f":"IFERROR(DATEDIF(C776,TODAY(),\"YM\"),\" \")","v":" "},{"$f":"IFERROR(DATEDIF(C776,TODAY(),\"MD\"),\" \")","v":" "}]
[2,{"$f":"IF(ESTUDIANTES!G655=0,\"\",ESTUDIANTES!G655)","v":""},{"$f":"IF(ESTUDIANTES!I655=0,\" \",ESTUDIANTES!I655)","v":" "},{"$f":"IFERROR(DATEDIF(C777,TODAY(),\"Y\"),\" \")","v":" "},{"$f":"IFERROR(DATEDIF(C777,TODAY(),\"YM\"),\" \")","v":" "},{"$f":"IFERROR(DATEDIF(C777,TODAY(),\"MD\"),\" \")","v":" "}]
[3,{"$f":"IF(ESTUDIANTES!G656=0,\"\",ESTUDIANTES!G656)","v":""},{"$f":"IF(ESTUDIANTES!I656=0,\" \",ESTUDIANTES!I656)","v":" "}," "," "," "]
[4,{"$f":"IF(ESTUDIANTES!G657=0,\"\",ESTUDIANTES!G657)","v":""},{"$f":"IF(ESTUDIANTES!I657=0,\" \",ESTUDIANTES!I657)","v":" "}," "," "," "]
[5,{"$f":"IF(ESTUDIANTES!G658=0,\"\",ESTUDIANTES!G658)","v":""},{"$f":"IF(ESTUDIANTES!I658=0,\" \",ESTUDIANTES!I658)","v":" "}," "," "," "]
[6,{"$f":"IF(ESTUDIANTES!G659=0,\"\",ESTUDIANTES!G659)","v":""},{"$f":"IF(ESTUDIANTES!I659=0,\" \",ESTUDIANTES!I659)","v":" "}," "," "," "]
[7,{"$f":"IF(ESTUDIANTES!G660=0,\"\",ESTUDIANTES!G660)","v":""},{"$f":"IF(ESTUDIANTES!I660=0,\" \",ESTUDIANTES!I660)","v":" "}," "," "," "]
[8,{"$f":"IF(ESTUDIANTES!G661=0,\"\",ESTUDIANTES!G661)","v":""},{"$f":"IF(ESTUDIANTES!I661=0,\" \",ESTUDIANTES!I661)","v":" "}," "," "," "]
[9,{"$f":"IF(ESTUDIANTES!G662=0,\"\",ESTUDIANTES!G662)","v":""},{"$f":"IF(ESTUDIANTES!I662=0,\" \",ESTUDIANTES!I662)","v":" "}," "," "," "]
[10,{"$f":"IF(ESTUDIANTES!G663=0,\"\",ESTUDIANTES!G663)","v":""},{"$f":"IF(ESTUDIANTES!I663=0,\" \",ESTUDIANTES!I663)","v":" "}," "," "," "]
[11,{"$f":"IF(ESTUDIANTES!G664=0,\"\",ESTUDIANTES!G664)","v":""},{"$f":"IF(ESTUDIANTES!I664=0,\" \",ESTUDIANTES!I664)","v":" "}," "," "," "]
[12,{"$f":"IF(ESTUDIANTES!G665=0,\"\",ESTUDIANTES!G665)","v":""},{"$f":"IF(ESTUDIANTES!I665=0,\" \",ESTUDIANTES!I665)","v":" "}," "," "," "]
[13,{"$f":"IF(ESTUDIANTES!G666=0,\"\",ESTUDIANTES!G666)","v":""},{"$f":"IF(ESTUDIANTES!I666=0,\" \",ESTUDIANTES!I666)","v":" "}," "," "," "]
[14,{"$f":"IF(ESTUDIANTES!G667=0,\"\",ESTUDIANTES!G667)","v":""},{"$f":"IF(ESTUDIANTES!I667=0,\" \",ESTUDIANTES!I667)","v":" "}," "," "," "]
[15,{"$f":"IF(ESTUDIANTES!G668=0,\"\",ESTUDIANTES!G668)","v":""},{"$f":"IF(ESTUDIANTES!I668=0,\" \",ESTUDIANTES!I668)","v":" "}," "," "," "]
[16,{"$f":"IF(ESTUDIANTES!G669=0,\"\",ESTUDIANTES!G669)","v":""},{"$f":"IF(ESTUDIANTES!I669=0,\" \",ESTUDIANTES!I669)","v":" "}," "," "," "]
[17,{"$f":"IF(ESTUDIANTES!G670=0,\"\",ESTUDIANTES!G670)","v":""},{"$f":"IF(ESTUDIANTES!I670=0,\" \",ESTUDIANTES!I670)","v":" "}," "," "," "]
[18,{"$f":"IF(ESTUDIANTES!G671=0,\"\",ESTUDIANTES!G671)","v":""},{"$f":"IF(ESTUDIANTES!I671=0,\" \",ESTUDIANTES!I671)","v":" "}," "," "," "]
[19,{"$f":"IF(ESTUDIANTES!G672=0,\"\",ESTUDIANTES!G672)","v":""},{"$f":"IF(ESTUDIANTES!I672=0,\" \",ESTUDIANTES!I672)","v":" "}," "," "," "]
[20,{"$f":"IF(ESTUDIANTES!G673=0,\"\",ESTUDIANTES!G673)","v":""},{"$f":"IF(ESTUDIANTES!I673=0,\" \",ESTUDIANTES!I673)","v":" "}," "," "," "]
[21,{"$f":"IF(ESTUDIANTES!G674=0,\"\",ESTUDIANTES!G674)","v":""},{"$f":"IF(ESTUDIANTES!I674=0,\" \",ESTUDIANTES!I674)","v":" "}," "," "," "]
[22,{"$f":"IF(ESTUDIANTES!G675=0,\"\",ESTUDIANTES!G675)","v":""},{"$f":"IF(ESTUDIANTES!I675=0,\" \",ESTUDIANTES!I675)","v":" "}," "," "," "]
[23,{"$f":"IF(ESTUDIANTES!G676=0,\"\",ESTUDIANTES!G676)","v":""},{"$f":"IF(ESTUDIANTES!I676=0,\" \",ESTUDIANTES!I676)","v":" "}," "," "," "]
[24,{"$f":"IF(ESTUDIANTES!G677=0,\"\",ESTUDIANTES!G677)","v":""},{"$f":"IF(ESTUDIANTES!I677=0,\" \",ESTUDIANTES!I677)","v":" "}," "," "," "]
[25,{"$f":"IF(ESTUDIANTES!G678=0,\"\",ESTUDIANTES!G678)","v":""},{"$f":"IF(ESTUDIANTES!I678=0,\" \",ESTUDIANTES!I678)","v":" "}," "," "," "]
[26,{"$f":"IF(ESTUDIANTES!G679=0,\"\",ESTUDIANTES!G679)","v":""},{"$f":"IF(ESTUDIANTES!I679=0,\" \",ESTUDIANTES!I679)","v":" "}," "," "," "]
[27,{"$f":"IF(ESTUDIANTES!G680=0,\"\",ESTUDIANTES!G680)","v":""},{"$f":"IF(ESTUDIANTES!I680=0,\" \",ESTUDIANTES!I680)","v":" "}," "," "," "]
[28,{"$f":"IF(ESTUDIANTES!G681=0,\"\",ESTUDIANTES!G681)","v":""},{"$f":"IF(ESTUDIANTES!I681=0,\" \",ESTUDIANTES!I681)","v":" "}," "," "," "]
[29,{"$f":"IF(ESTUDIANTES!G682=0,\"\",ESTUDIANTES!G682)","v":""},{"$f":"IF(ESTUDIANTES!I682=0,\" \",ESTUDIANTES!I682)","v":" "}," "," "," "]
[30,{"$f":"IF(ESTUDIANTES!G683=0,\"\",ESTUDIANTES!G683)","v":""},{"$f":"IF(ESTUDIANTES!I683=0,\" \",ESTUDIANTES!I683)","v":" "}," "," "," "]
[31,{"$f":"IF(ESTUDIANTES!G684=0,\"\",ESTUDIANTES!G684)","v":""},{"$f":"IF(ESTUDIANTES!I684=0,\" \",ESTUDIANTES!I684)","v":" "}," "," "," "]
[32,{"$f":"IF(ESTUDIANTES!G685=0,\"\",ESTUDIANTES!G685)","v":""},{"$f":"IF(ESTUDIANTES!I685=0,\" \",ESTUDIANTES!I685)","v":" "}," "," "," "]
[33,{"$f":"IF(ESTUDIANTES!G686=0,\"\",ESTUDIANTES!G686)","v":""},{"$f":"IF(ESTUDIANTES!I686=0,\" \",ESTUDIANTES!I686)","v":" "}," "," "," "]
[34,{"$f":"IF(ESTUDIANTES!G687=0,\"\",ESTUDIANTES!G687)","v":""},{"$f":"IF(ESTUDIANTES!I687=0,\" \",ESTUDIANTES!I687)","v":" "}," "," "," "]
[35,{"$f":"IF(ESTUDIANTES!G688=0,\"\",ESTUDIANTES!G688)","v":""},{"$f":"IF(ESTUDIANTES!I688=0,\" \",ESTUDIANTES!I688)","v":" "}," "," "," "]
[36,{"$f":"IF(ESTUDIANTES!G689=0,\"\",ESTUDIANTES!G689)","v":""},{"$f":"IF(ESTUDIANTES!I689=0,\" \",ESTUDIANTES!I689)","v":" "}," "," "," "]
[37,{"$f":"IF(ESTUDIANTES!G690=0,\"\",ESTUDIANTES!G690)","v":""},{"$f":"IF(ESTUDIANTES!I690=0,\" \",ESTUDIANTES!I690)","v":" "}," "," "," "]
[38,{"$f":"IF(ESTUDIANTES!G691=0,\"\",ESTUDIANTES!G691)","v":""},{"$f":"IF(ESTUDIANTES!I691=0,\" \",ESTUDIANTES!I691)","v":" "}," "," "," "]
[39,{"$f":"IF(ESTUDIANTES!G692=0,\"\",ESTUDIANTES!G692)","v":""},{"$f":"IF(ESTUDIANTES!I692=0,\" \",ESTUDIANTES!I692)","v":" "}," "," "," "]
[40,{"$f":"IF(ESTUDIANTES!G693=0,\"\",ESTUDIANTES!G693)","v":""},{"$f":"IF(ESTUDIANTES!I693=0,\" \",ESTUDIANTES!I693)","v":" "}," "," "," "]
[41,{"$f":"IF(ESTUDIANTES!G694=0,\"\",ESTUDIANTES!G694)","v":""},{"$f":"IF(ESTUDIANTES!I694=0,\" \",ESTUDIANTES!I694)","v":" "}," "," "," "]
[42,{"$f":"IF(ESTUDIANTES!G695=0,\"\",ESTUDIANTES!G695)","v":""},{"$f":"IF(ESTUDIANTES!I695=0,\" \",ESTUDIANTES!I695)","v":" "}," "," "," "]
[43,{"$f":"IF(ESTUDIANTES!G696=0,\"\",ESTUDIANTES!G696)","v":""},{"$f":"IF(ESTUDIANTES!I696=0,\" \",ESTUDIANTES!I696)","v":" "}," "," "," "]
[44,{"$f":"IF(ESTUDIANTES!G697=0,\"\",ESTUDIANTES!G697)","v":""},{"$f":"IF(ESTUDIANTES!I697=0,\" \",ESTUDIANTES!I697)","v":" "}," "," "," "]
[45,{"$f":"IF(ESTUDIANTES!G698=0,\"\",ESTUDIANTES!G698)","v":""},{"$f":"IF(ESTUDIANTES!I698=0,\" \",ESTUDIANTES!I698)","v":" "}," "," "," "]
[46,{"$f":"IF(ESTUDIANTES!G699=0,\"\",ESTUDIANTES!G699)","v":""},{"$f":"IF(ESTUDIANTES!I699=0,\" \",ESTUDIANTES!I699)","v":" "}," "," "," "]
[47,{"$f":"IF(ESTUDIANTES!G700=0,\"\",ESTUDIANTES!G700)","v":""},{"$f":"IF(ESTUDIANTES!I700=0,\" \",ESTUDIANTES!I700)","v":" "}," "," "," "]
[48,{"$f":"IF(ESTUDIANTES!G701=0,\"\",ESTUDIANTES!G701)","v":""},{"$f":"IF(ESTUDIANTES!I701=0,\" \",ESTUDIANTES!I701)","v":" "}," "," "," "]
[49,{"$f":"IF(ESTUDIANTES!G702=0,\"\",ESTUDIANTES!G702)","v":""},{"$f":"IF(ESTUDIANTES!I702=0,\" \",ESTUDIANTES!I702)","v":" "}," "," "," "]
[50,{"$f":"IF(ESTUDIANTES!G703=0,\"\",ESTUDIANTES!G703)","v":""},{"$f":"IF(ESTUDIANTES!I703=0,\" \",ESTUDIANTES!I703)","v":" "}," "," "," "]
[]
[{"$f":"DATOS!$B$3","v":"COLEGIO BACHILLERATO PCEI \"SIN FRONTERAS\""}]
[]
[null,"GRADO/CURSO:",{"$f":"DATOS!$E17","v":0}]
[null,"NIVEL:",{"$f":"DATOS!$F17","v":0}]
[null,"PARALELO:",{"$f":"DATOS!$G17","v":0}]
[null,"TUTOR:",{"$f":"DATOS!$H17","v":0}]
[]
["Nro","NOMBRES Y APELLIDOS","F.N","AÑOS","MESES","DIAS"]
[1,{"$f":"IF(ESTUDIANTES!G704=0,\"\",ESTUDIANTES!G704)","v":""},{"$f":"IF(ESTUDIANTES!I704=0,\" \",ESTUDIANTES!I704)","v":" "},{"$f":"IFERROR(DATEDIF(C835,TODAY(),\"Y\"),\" \")","v":" "},{"$f":"IFERROR(DATEDIF(C835,TODAY(),\"YM\"),\" \")","v":" "},{"$f":"IFERROR(DATEDIF(C835,TODAY(),\"MD\"),\" \")","v":" "}]
[2,{"$f":"IF(ESTUDIANTES!G705=0,\"\",ESTUDIANTES!G705)","v":""},{"$f":"IF(ESTUDIANTES!I705=0,\" \",ESTUDIANTES!I705)","v":" "},{"$f":"IFERROR(DATEDIF(C836,TODAY(),\"Y\"),\" \")","v":" "},{"$f":"IFERROR(DATEDIF(C836,TODAY(),\"YM\"),\" \")","v":" "},{"$f":"IFERROR(DATEDIF(C836,TODAY(),\"MD\"),\" \")","v":" "}]
[3,{"$f":"IF(ESTUDIANTES!G706=0,\"\",ESTUDIANTES!G706)","v":""},{"$f":"IF(ESTUDIANTES!I706=0,\" \",ESTUDIANTES!I706)","v":" "}," "," "," "]
[4,{"$f":"IF(ESTUDIANTES!G707=0,\"\",ESTUDIANTES!G707)","v":""},{"$f":"IF(ESTUDIANTES!I707=0,\" \",ESTUDIANTES!I707)","v":" "}," "," "," "]
[5,{"$f":"IF(ESTUDIANTES!G708=0,\"\",ESTUDIANTES!G708)","v":""},{"$f":"IF(ESTUDIANTES!I708=0,\" \",ESTUDIANTES!I708)","v":" "}," "," "," "]
[6,{"$f":"IF(ESTUDIANTES!G709=0,\"\",ESTUDIANTES!G709)","v":""},{"$f":"IF(ESTUDIANTES!I709=0,\" \",ESTUDIANTES!I709)","v":" "}," "," "," "]
[7,{"$f":"IF(ESTUDIANTES!G710=0,\"\",ESTUDIANTES!G710)","v":""},{"$f":"IF(ESTUDIANTES!I710=0,\" \",ESTUDIANTES!I710)","v":" "}," "," "," "]
[8,{"$f":"IF(ESTUDIANTES!G711=0,\"\",ESTUDIANTES!G711)","v":""},{"$f":"IF(ESTUDIANTES!I711=0,\" \",ESTUDIANTES!I711)","v":" "}," "," "," "]
[9,{"$f":"IF(ESTUDIANTES!G712=0,\"\",ESTUDIANTES!G712)","v":""},{"$f":"IF(ESTUDIANTES!I712=0,\" \",ESTUDIANTES!I712)","v":" "}," "," "," "]
[10,{"$f":"IF(ESTUDIANTES!G713=0,\"\",ESTUDIANTES!G713)","v":""},{"$f":"IF(ESTUDIANTES!I713=0,\" \",ESTUDIANTES!I713)","v":" "}," "," "," "]
[11,{"$f":"IF(ESTUDIANTES!G714=0,\"\",ESTUDIANTES!G714)","v":""},{"$f":"IF(ESTUDIANTES!I714=0,\" \",ESTUDIANTES!I714)","v":" "}," "," "," "]
[12,{"$f":"IF(ESTUDIANTES!G715=0,\"\",ESTUDIANTES!G715)","v":""},{"$f":"IF(ESTUDIANTES!I715=0,\" \",ESTUDIANTES!I715)","v":" "}," "," "," "]
[13,{"$f":"IF(ESTUDIANTES!G716=0,\"\",ESTUDIANTES!G716)","v":""},{"$f":"IF(ESTUDIANTES!I716=0,\" \",ESTUDIANTES!I716)","v":" "}," "," "," "]
[14,{"$f":"IF(ESTUDIANTES!G717=0,\"\",ESTUDIANTES!G717)","v":""},{"$f":"IF(ESTUDIANTES!I717=0,\" \",ESTUDIANTES!I717)","v":" "}," "," "," "]
[15,{"$f":"IF(ESTUDIANTES!G718=0,\"\",ESTUDIANTES!G718)","v":""},{"$f":"IF(ESTUDIANTES!I718=0,\" \",ESTUDIANTES!I718)","v":" "}," "," "," "]
[16,{"$f":"IF(ESTUDIANTES!G719=0,\"\",ESTUDIANTES!G719)","v":""},{"$f":"IF(ESTUDIANTES!I719=0,\" \",ESTUDIANTES!I719)","v":" "}," "," "," "]
[17,{"$f":"IF(ESTUDIANTES!G720=0,\"\",ESTUDIANTES!G720)","v":""},{"$f":"IF(ESTUDIANTES!I720=0,\" \",ESTUDIANTES!I720)","v":" "}," "," "," "]
[18,{"$f":"IF(ESTUDIANTES!G721=0,\"\",ESTUDIANTES!G721)","v":""},{"$f":"IF(ESTUDIANTES!I721=0,\" \",ESTUDIANTES!I721)","v":" "}," "," "," "]
[19,{"$f":"IF(ESTUDIANTES!G722=0,\"\",ESTUDIANTES!G722)","v":""},{"$f":"IF(ESTUDIANTES!I722=0,\" \",ESTUDIANTES!I722)","v":" "}," "," "," "]
[20,{"$f":"IF(ESTUDIANTES!G723=0,\"\",ESTUDIANTES!G723)","v":""},{"$f":"IF(ESTUDIANTES!I723=0,\" \",ESTUDIANTES!I723)","v":" "}," "," "," "]
[21,{"$f":"IF(ESTUDIANTES!G724=0,\"\",ESTUDIANTES!G724)","v":""},{"$f":"IF(ESTUDIANTES!I724=0,\" \",ESTUDIANTES!I724)","v":" "}," "," "," "]
[22,{"$f":"IF(ESTUDIANTES!G725=0,\"\",ESTUDIANTES!G725)","v":""},{"$f":"IF(ESTUDIANTES!I725=0,\" \",ESTUDIANTES!I725)","v":" "}," "," "," "]
[23,{"$f":"IF(ESTUDIANTES!G726=0,\"\",ESTUDIANTES!G726)","v":""},{"$f":"IF(ESTUDIANTES!I726=0,\" \",ESTUDIANTES!I726)","v":" "}," "," "," "]
[24,{"$f":"IF(ESTUDIANTES!G727=0,\"\",ESTUDIANTES!G727)","v":""},{"$f":"IF(ESTUDIANTES!I727=0,\" \",ESTUDIANTES!I727)","v":" "}," "," "," "]
[25,{"$f":"IF(ESTUDIANTES!G728=0,\"\",ESTUDIANTES!G728)","v":""},{"$f":"IF(ESTUDIANTES!I728=0,\" \",ESTUDIANTES!I728)","v":" "}," "," "," "]
[26,{"$f":"IF(ESTUDIANTES!G729=0,\"\",ESTUDIANTES!G729)","v":""},{"$f":"IF(ESTUDIANTES!I729=0,\" \",ESTUDIANTES!I729)","v":" "}," "," "," "]
[27,{"$f":"IF(ESTUDIANTES!G730=0,\"\",ESTUDIANTES!G730)","v":""},{"$f":"IF(ESTUDIANTES!I730=0,\" \",ESTUDIANTES!I730)","v":" "}," "," "," "]
[28,{"$f":"IF(ESTUDIANTES!G731=0,\"\",ESTUDIANTES!G731)","v":""},{"$f":"IF(ESTUDIANTES!I731=0,\" \",ESTUDIANTES!I731)","v":" "}," "," "," "]
[29,{"$f":"IF(ESTUDIANTES!G732=0,\"\",ESTUDIANTES!G732)","v":""},{"$f":"IF(ESTUDIANTES!I732=0,\" \",ESTUDIANTES!I732)","v":" "}," "," "," "]
[30,{"$f":"IF(ESTUDIANTES!G733=0,\"\",ESTUDIANTES!G733)","v":""},{"$f":"IF(ESTUDIANTES!I733=0,\" \",ESTUDIANTES!I733)","v":" "}," "," "," "]
[31,{"$f":"IF(ESTUDIANTES!G734=0,\"\",ESTUDIANTES!G734)","v":""},{"$f":"IF(ESTUDIANTES!I734=0,\" \",ESTUDIANTES!I734)","v":" "}," "," "," "]
[32,{"$f":"IF(ESTUDIANTES!G735=0,\"\",ESTUDIANTES!G735)","v":""},{"$f":"IF(ESTUDIANTES!I735=0,\" \",ESTUDIANTES!I735)","v":" "}," "," "," "]
[33,{"$f":"IF(ESTUDIANTES!G736=0,\"\",ESTUDIANTES!G736)","v":""},{"$f":"IF(ESTUDIANTES!I736=0,\" \",ESTUDIANTES!I736)","v":" "}," "," "," "]
[34,{"$f":"IF(ESTUDIANTES!G737=0,\"\",ESTUDIANTES!G737)","v":""},{"$f":"IF(ESTUDIANTES!I737=0,\" \",ESTUDIANTES!I737)","v":" "}," "," "," "]
[35,{"$f":"IF(ESTUDIANTES!G738=0,\"\",ESTUDIANTES!G738)","v":""},{"$f":"IF(ESTUDIANTES!I738=0,\" \",ESTUDIANTES!I738)","v":" "}," "," "," "]
[36,{"$f":"IF(ESTUDIANTES!G739=0,\"\",ESTUDIANTES!G739)","v":""},{"$f":"IF(ESTUDIANTES!I739=0,\" \",ESTUDIANTES!I739)","v":" "}," "," "," "]
[37,{"$f":"IF(ESTUDIANTES!G740=0,\"\",ESTUDIANTES!G740)","v":""},{"$f":"IF(ESTUDIANTES!I740=0,\" \",ESTUDIANTES!I740)","v":" "}," "," "," "]
[38,{"$f":"IF(ESTUDIANTES!G741=0,\"\",ESTUDIANTES!G741)","v":""},{"$f":"IF(ESTUDIANTES!I741=0,\" \",ESTUDIANTES!I741)","v":" "}," "," "," "]
[39,{"$f":"IF(ESTUDIANTES!G742=0,\"\",ESTUDIANTES!G742)","v":""},{"$f":"IF(ESTUDIANTES!I742=0,\" \",ESTUDIANTES!I742)","v":" "}," "," "," "]
[40,{"$f":"IF(ESTUDIANTES!G743=0,\"\",ESTUDIANTES!G743)","v":""},{"$f":"IF(ESTUDIANTES!I743=0,\" \",ESTUDIANTES!I743)","v":" "}," "," "," "]
[41,{"$f":"IF(ESTUDIANTES!G744=0,\"\",ESTUDIANTES!G744)","v":""},{"$f":"IF(ESTUDIANTES!I744=0,\" \",ESTUDIANTES!I744)","v":" "}," "," "," "]
[42,{"$f":"IF(ESTUDIANTES!G745=0,\"\",ESTUDIANTES!G745)","v":""},{"$f":"IF(ESTUDIANTES!I745=0,\" \",ESTUDIANTES!I745)","v":" "}," "," "," "]
[43,{"$f":"IF(ESTUDIANTES!G746=0,\"\",ESTUDIANTES!G746)","v":""},{"$f":"IF(ESTUDIANTES!I746=0,\" \",ESTUDIANTES!I746)","v":" "}," "," "," "]
[44,{"$f":"IF(ESTUDIANTES!G747=0,\"\",ESTUDIANTES!G747)","v":""},{"$f":"IF(ESTUDIANTES!I747=0,\" \",ESTUDIANTES!I747)","v":" "}," "," "," "]
[45,{"$f":"IF(ESTUDIANTES!G748=0,\"\",ESTUDIANTES!G748)","v":""},{"$f":"IF(ESTUDIANTES!I748=0,\" \",ESTUDIANTES!I748)","v":" "}," "," "," "]
[46,{"$f":"IF(ESTUDIANTES!G749=0,\"\",ESTUDIANTES!G749)","v":""},{"$f":"IF(ESTUDIANTES!I749=0,\" \",ESTUDIANTES!I749)","v":" "}," "," "," "]
[47,{"$f":"IF(ESTUDIANTES!G750=0,\"\",ESTUDIANTES!G750)","v":""},{"$f":"IF(ESTUDIANTES!I750=0,\" \",ESTUDIANTES!I750)","v":" "}," "," "," "]
[48,{"$f":"IF(ESTUDIANTES!G751=0,\"\",ESTUDIANTES!G751)","v":""},{"$f":"IF(ESTUDIANTES!I751=0,\" \",ESTUDIANTES!I751)","v":" "}," "," "," "]
[49,{"$f":"IF(ESTUDIANTES!G752=0,\"\",ESTUDIANTES!G752)","v":""},{"$f":"IF(ESTUDIANTES!I752=0,\" \",ESTUDIANTES!I752)","v":" "}," "," "," "]
[50,{"$f":"IF(ESTUDIANTES!G753=0,\"\",ESTUDIANTES!G753)","v":""},{"$f":"IF(ESTUDIANTES!I753=0,\" \",ESTUDIANTES!I753)","v":" "}," "," "," "]
[]
[{"$f":"DATOS!$B$3","v":"COLEGIO BACHILLERATO PCEI \"SIN FRONTERAS\""}]
[]
[null,"GRADO/CURSO:",{"$f":"DATOS!$E18","v":0}]
[null,"NIVEL:",{"$f":"DATOS!$F18","v":0}]
[null,"PARALELO:",{"$f":"DATOS!$G18","v":0}]
[null,"TUTOR:",{"$f":"DATOS!$H18","v":0}]
[]
["Nro","NOMBRES Y APELLIDOS","F.N","AÑOS","MESES","DIAS"]
[1,{"$f":"IF(ESTUDIANTES!G754=0,\"\",ESTUDIANTES!G754)","v":""},{"$f":"IF(ESTUDIANTES!I754=0,\" \",ESTUDIANTES!I754)","v":" "},{"$f":"IFERROR(DATEDIF(C894,TODAY(),\"Y\"),\" \")","v":" "},{"$f":"IFERROR(DATEDIF(C894,TODAY(),\"YM\"),\" \")","v":" "},{"$f":"IFERROR(DATEDIF(C894,TODAY(),\"MD\"),\" \")","v":" "}]
[2,{"$f":"IF(ESTUDIANTES!G755=0,\"\",ESTUDIANTES!G755)","v":""},{"$f":"IF(ESTUDIANTES!I755=0,\" \",ESTUDIANTES!I755)","v":" "},{"$f":"IFERROR(DATEDIF(C895,TODAY(),\"Y\"),\" \")","v":" "},{"$f":"IFERROR(DATEDIF(C895,TODAY(),\"YM\"),\" \")","v":" "},{"$f":"IFERROR(DATEDIF(C895,TODAY(),\"MD\"),\" \")","v":" "}]
[3,{"$f":"IF(ESTUDIANTES!G756=0,\"\",ESTUDIANTES!G756)","v":""},{"$f":"IF(ESTUDIANTES!I756=0,\" \",ESTUDIANTES!I756)","v":" "}," "," "," "]
[4,{"$f":"IF(ESTUDIANTES!G757=0,\"\",ESTUDIANTES!G757)","v":""},{"$f":"IF(ESTUDIANTES!I757=0,\" \",ESTUDIANTES!I757)","v":" "}," "," "," "]
[5,{"$f":"IF(ESTUDIANTES!G758=0,\"\",ESTUDIANTES!G758)","v":""},{"$f":"IF(ESTUDIANTES!I758=0,\" \",ESTUDIANTES!I758)","v":" "}," "," "," "]
[6,{"$f":"IF(ESTUDIANTES!G759=0,\"\",ESTUDIANTES!G759)","v":""},{"$f":"IF(ESTUDIANTES!I759=0,\" \",ESTUDIANTES!I759)","v":" "}," "," "," "]
[7,{"$f":"IF(ESTUDIANTES!G760=0,\"\",ESTUDIANTES!G760)","v":""},{"$f":"IF(ESTUDIANTES!I760=0,\" \",ESTUDIANTES!I760)","v":" "}," "," "," "]
[8,{"$f":"IF(ESTUDIANTES!G761=0,\"\",ESTUDIANTES!G761)","v":""},{"$f":"IF(ESTUDIANTES!I761=0,\" \",ESTUDIANTES!I761)","v":" "}," "," "," "]
[9,{"$f":"IF(ESTUDIANTES!G762=0,\"\",ESTUDIANTES!G762)","v":""},{"$f":"IF(ESTUDIANTES!I762=0,\" \",ESTUDIANTES!I762)","v":" "}," "," "," "]
[10,{"$f":"IF(ESTUDIANTES!G763=0,\"\",ESTUDIANTES!G763)","v":""},{"$f":"IF(ESTUDIANTES!I763=0,\" \",ESTUDIANTES!I763)","v":" "}," "," "," "]
[11,{"$f":"IF(ESTUDIANTES!G764=0,\"\",ESTUDIANTES!G764)","v":""},{"$f":"IF(ESTUDIANTES!I764=0,\" \",ESTUDIANTES!I764)","v":" "}," "," "," "]
[12,{"$f":"IF(ESTUDIANTES!G765=0,\"\",ESTUDIANTES!G765)","v":""},{"$f":"IF(ESTUDIANTES!I765=0,\" \",ESTUDIANTES!I765)","v":" "}," "," "," "]
[13,{"$f":"IF(ESTUDIANTES!G766=0,\"\",ESTUDIANTES!G766)","v":""},{"$f":"IF(ESTUDIANTES!I766=0,\" \",ESTUDIANTES!I766)","v":" "}," "," "," "]
[14,{"$f":"IF(ESTUDIANTES!G767=0,\"\",ESTUDIANTES!G767)","v":""},{"$f":"IF(ESTUDIANTES!I767=0,\" \",ESTUDIANTES!I767)","v":" "}," "," "," "]
[15,{"$f":"IF(ESTUDIANTES!G768=0,\"\",ESTUDIANTES!G768)","v":""},{"$f":"IF(ESTUDIANTES!I768=0,\" \",ESTUDIANTES!I768)","v":" "}," "," "," "]
[16,{"$f":"IF(ESTUDIANTES!G769=0,\"\",ESTUDIANTES!G769)","v":""},{"$f":"IF(ESTUDIANTES!I769=0,\" \",ESTUDIANTES!I769)","v":" "}," "," "," "]
[17,{"$f":"IF(ESTUDIANTES!G770=0,\"\",ESTUDIANTES!G770)","v":""},{"$f":"IF(ESTUDIANTES!I770=0,\" \",ESTUDIANTES!I770)","v":" "}," "," "," "]
[18,{"$f":"IF(ESTUDIANTES!G771=0,\"\",ESTUDIANTES!G771)","v":""},{"$f":"IF(ESTUDIANTES!I771=0,\" \",ESTUDIANTES!I771)","v":" "}," "," "," "]
[19,{"$f":"IF(ESTUDIANTES!G772=0,\"\",ESTUDIANTES!G772)","v":""},{"$f":"IF(ESTUDIANTES!I772=0,\" \",ESTUDIANTES!I772)","v":" "}," "," "," "]
[20,{"$f":"IF(ESTUDIANTES!G773=0,\"\",ESTUDIANTES!G773)","v":""},{"$f":"IF(ESTUDIANTES!I773=0,\" \",ESTUDIANTES!I773)","v":" "}," "," "," "]
[21,{"$f":"IF(ESTUDIANTES!G774=0,\"\",ESTUDIANTES!G774)","v":""},{"$f":"IF(ESTUDIANTES!I774=0,\" \",ESTUDIANTES!I774)","v":" "}," "," "," "]
[22,{"$f":"IF(ESTUDIANTES!G775=0,\"\",ESTUDIANTES!G775)","v":""},{"$f":"IF(ESTUDIANTES!I775=0,\" \",ESTUDIANTES!I775)","v":" "}," "," "," "]
[23,{"$f":"IF(ESTUDIANTES!G776=0,\"\",ESTUDIANTES!G776)","v":""},{"$f":"IF(ESTUDIANTES!I776=0,\" \",ESTUDIANTES!I776)","v":" "}," "," "," "]
[24,{"$f":"IF(ESTUDIANTES!G777=0,\"\",ESTUDIANTES!G777)","v":""},{"$f":"IF(ESTUDIANTES!I777=0,\" \",ESTUDIANTES!I777)","v":" "}," "," "," "]
[25,{"$f":"IF(ESTUDIANTES!G778=0,\"\",ESTUDIANTES!G778)","v":""},{"$f":"IF(ESTUDIANTES!I778=0,\" \",ESTUDIANTES!I778)","v":" "}," "," "," "]
[26,{"$f":"IF(ESTUDIANTES!G779=0,\"\",ESTUDIANTES!G779)","v":""},{"$f":"IF(ESTUDIANTES!I779=0,\" \",ESTUDIANTES!I779)","v":" "}," "," "," "]
[27,{"$f":"IF(ESTUDIANTES!G780=0,\"\",ESTUDIANTES!G780)","v":""},{"$f":"IF(ESTUDIANTES!I780=0,\" \",ESTUDIANTES!I780)","v":" "}," "," "," "]
[28,{"$f":"IF(ESTUDIANTES!G781=0,\"\",ESTUDIANTES!G781)","v":""},{"$f":"IF(ESTUDIANTES!I781=0,\" \",ESTUDIANTES!I781)","v":" "}," "," "," "]
[29,{"$f":"IF(ESTUDIANTES!G782=0,\"\",ESTUDIANTES!G782)","v":""},{"$f":"IF(ESTUDIANTES!I782=0,\" \",ESTUDIANTES!I782)","v":" "}," "," "," "]
[30,{"$f":"IF(ESTUDIANTES!G783=0,\"\",ESTUDIANTES!G783)","v":""},{"$f":"IF(ESTUDIANTES!I783=0,\" \",ESTUDIANTES!I783)","v":" "}," "," "," "]
[31,{"$f":"IF(ESTUDIANTES!G784=0,\"\",ESTUDIANTES!G784)","v":""},{"$f":"IF(ESTUDIANTES!I784=0,\" \",ESTUDIANTES!I784)","v":" "}," "," "," "]
[32,{"$f":"IF(ESTUDIANTES!G785=0,\"\",ESTUDIANTES!G785)","v":""},{"$f":"IF(ESTUDIANTES!I785=0,\" \",ESTUDIANTES!I785)","v":" "}," "," "," "]
[33,{"$f":"IF(ESTUDIANTES!G786=0,\"\",ESTUDIANTES!G786)","v":""},{"$f":"IF(ESTUDIANTES!I786=0,\" \",ESTUDIANTES!I786)","v":" "}," "," "," "]
[34,{"$f":"IF(ESTUDIANTES!G787=0,\"\",ESTUDIANTES!G787)","v":""},{"$f":"IF(ESTUDIANTES!I787=0,\" \",ESTUDIANTES!I787)","v":" "}," "," "," "]
[35,{"$f":"IF(ESTUDIANTES!G788=0,\"\",ESTUDIANTES!G788)","v":""},{"$f":"IF(ESTUDIANTES!I788=0,\" \",ESTUDIANTES!I788)","v":" "}," "," "," "]
[36,{"$f":"IF(ESTUDIANTES!G789=0,\"\",ESTUDIANTES!G789)","v":""},{"$f":"IF(ESTUDIANTES!I789=0,\" \",ESTUDIANTES!I789)","v":" "}," "," "," "]
[37,{"$f":"IF(ESTUDIANTES!G790=0,\"\",ESTUDIANTES!G790)","v":""},{"$f":"IF(ESTUDIANTES!I790=0,\" \",ESTUDIANTES!I790)","v":" "}," "," "," "]
[38,{"$f":"IF(ESTUDIANTES!G791=0,\"\",ESTUDIANTES!G791)","v":""},{"$f":"IF(ESTUDIANTES!I791=0,\" \",ESTUDIANTES!I791)","v":" "}," "," "," "]
[39,{"$f":"IF(ESTUDIANTES!G792=0,\"\",ESTUDIANTES!G792)","v":""},{"$f":"IF(ESTUDIANTES!I792=0,\" \",ESTUDIANTES!I792)","v":" "}," "," "," "]
[40,{"$f":"IF(ESTUDIANTES!G793=0,\"\",ESTUDIANTES!G793)","v":""},{"$f":"IF(ESTUDIANTES!I793=0,\" \",ESTUDIANTES!I793)","v":" "}," "," "," "]
[41,{"$f":"IF(ESTUDIANTES!G794=0,\"\",ESTUDIANTES!G794)","v":""},{"$f":"IF(ESTUDIANTES!I794=0,\" \",ESTUDIANTES!I794)","v":" "}," "," "," "]
[42,{"$f":"IF(ESTUDIANTES!G795=0,\"\",ESTUDIANTES!G795)","v":""},{"$f":"IF(ESTUDIANTES!I795=0,\" \",ESTUDIANTES!I795)","v":" "}," "," "," "]
[43,{"$f":"IF(ESTUDIANTES!G796=0,\"\",ESTUDIANTES!G796)","v":""},{"$f":"IF(ESTUDIANTES!I796=0,\" \",ESTUDIANTES!I796)","v":" "}," "," "," "]
[44,{"$f":"IF(ESTUDIANTES!G797=0,\"\",ESTUDIANTES!G797)","v":""},{"$f":"IF(ESTUDIANTES!I797=0,\" \",ESTUDIANTES!I797)","v":" "}," "," "," "]
[45,{"$f":"IF(ESTUDIANTES!G798=0,\"\",ESTUDIANTES!G798)","v":""},{"$f":"IF(ESTUDIANTES!I798=0,\" \",ESTUDIANTES!I798)","v":" "}," "," "," "]
[46,{"$f":"IF(ESTUDIANTES!G799=0,\"\",ESTUDIANTES!G799)","v":""},{"$f":"IF(ESTUDIANTES!I799=0,\" \",ESTUDIANTES!I799)","v":" "}," "," "," "]
[47,{"$f":"IF(ESTUDIANTES!G800=0,\"\",ESTUDIANTES!G800)","v":""},{"$f":"IF(ESTUDIANTES!I800=0,\" \",ESTUDIANTES!I800)","v":" "}," "," "," "]
[48,{"$f":"IF(ESTUDIANTES!G801=0,\"\",ESTUDIANTES!G801)","v":""},{"$f":"IF(ESTUDIANTES!I801=0,\" \",ESTUDIANTES!I801)","v":" "}," "," "," "]
[49,{"$f":"IF(ESTUDIANTES!G802=0,\"\",ESTUDIANTES!G802)","v":""},{"$f":"IF(ESTUDIANTES!I802=0,\" \",ESTUDIANTES!I802)","v":" "}," "," "," "]
[50,{"$f":"IF(ESTUDIANTES!G803=0,\"\",ESTUDIANTES!G803)","v":""},{"$f":"IF(ESTUDIANTES!I803=0,\" \",ESTUDIANTES!I803)","v":" "}," "," "," "]
[]
[{"$f":"DATOS!$B$3","v":"COLEGIO BACHILLERATO PCEI \"SIN FRONTERAS\""}]
[]
[null,"GRADO/CURSO:",{"$f":"DATOS!$E19","v":0}]
[null,"NIVEL:",{"$f":"DATOS!$F19","v":0}]
[null,"PARALELO:",{"$f":"DATOS!$G19","v":0}]
[null,"TUTOR:",{"$f":"DATOS!$H19","v":0}]
[]
["Nro","NOMBRES Y APELLIDOS","F.N","AÑOS","MESES","DIAS"]
[1,{"$f":"IF(ESTUDIANTES!G804=0,\"\",ESTUDIANTES!G804)","v":""},{"$f":"IF(ESTUDIANTES!I804=0,\" \",ESTUDIANTES!I804)","v":" "},{"$f":"IFERROR(DATEDIF(C953,TODAY(),\"Y\"),\" \")","v":" "},{"$f":"IFERROR(DATEDIF(C953,TODAY(),\"YM\"),\" \")","v":" "},{"$f":"IFERROR(DATEDIF(C953,TODAY(),\"MD\"),\" \")","v":" "}]
[2,{"$f":"IF(ESTUDIANTES!G805=0,\"\",ESTUDIANTES!G805)","v":""},{"$f":"IF(ESTUDIANTES!I805=0,\" \",ESTUDIANTES!I805)","v":" "},{"$f":"IFERROR(DATEDIF(C954,TODAY(),\"Y\"),\" \")","v":" "},{"$f":"IFERROR(DATEDIF(C954,TODAY(),\"YM\"),\" \")","v":" "},{"$f":"IFERROR(DATEDIF(C954,TODAY(),\"MD\"),\" \")","v":" "}]
[3,{"$f":"IF(ESTUDIANTES!G806=0,\"\",ESTUDIANTES!G806)","v":""},{"$f":"IF(ESTUDIANTES!I806=0,\" \",ESTUDIANTES!I806)","v":" "}," "," "," "]
[4,{"$f":"IF(ESTUDIANTES!G807=0,\"\",ESTUDIANTES!G807)","v":""},{"$f":"IF(ESTUDIANTES!I807=0,\" \",ESTUDIANTES!I807)","v":" "}," "," "," "]
[5,{"$f":"IF(ESTUDIANTES!G808=0,\"\",ESTUDIANTES!G808)","v":""},{"$f":"IF(ESTUDIANTES!I808=0,\" \",ESTUDIANTES!I808)","v":" "}," "," "," "]
[6,{"$f":"IF(ESTUDIANTES!G809=0,\"\",ESTUDIANTES!G809)","v":""},{"$f":"IF(ESTUDIANTES!I809=0,\" \",ESTUDIANTES!I809)","v":" "}," "," "," "]
[7,{"$f":"IF(ESTUDIANTES!G810=0,\"\",ESTUDIANTES!G810)","v":""},{"$f":"IF(ESTUDIANTES!I810=0,\" \",ESTUDIANTES!I810)","v":" "}," "," "," "]
[8,{"$f":"IF(ESTUDIANTES!G811=0,\"\",ESTUDIANTES!G811)","v":""},{"$f":"IF(ESTUDIANTES!I811=0,\" \",ESTUDIANTES!I811)","v":" "}," "," "," "]
[9,{"$f":"IF(ESTUDIANTES!G812=0,\"\",ESTUDIANTES!G812)","v":""},{"$f":"IF(ESTUDIANTES!I812=0,\" \",ESTUDIANTES!I812)","v":" "}," "," "," "]
[10,{"$f":"IF(ESTUDIANTES!G813=0,\"\",ESTUDIANTES!G813)","v":""},{"$f":"IF(ESTUDIANTES!I813=0,\" \",ESTUDIANTES!I813)","v":" "}," "," "," "]
[11,{"$f":"IF(ESTUDIANTES!G814=0,\"\",ESTUDIANTES!G814)","v":""},{"$f":"IF(ESTUDIANTES!I814=0,\" \",ESTUDIANTES!I814)","v":" "}," "," "," "]
[12,{"$f":"IF(ESTUDIANTES!G815=0,\"\",ESTUDIANTES!G815)","v":""},{"$f":"IF(ESTUDIANTES!I815=0,\" \",ESTUDIANTES!I815)","v":" "}," "," "," "]
[13,{"$f":"IF(ESTUDIANTES!G816=0,\"\",ESTUDIANTES!G816)","v":""},{"$f":"IF(ESTUDIANTES!I816=0,\" \",ESTUDIANTES!I816)","v":" "}," "," "," "]
[14,{"$f":"IF(ESTUDIANTES!G817=0,\"\",ESTUDIANTES!G817)","v":""},{"$f":"IF(ESTUDIANTES!I817=0,\" \",ESTUDIANTES!I817)","v":" "}," "," "," "]
[15,{"$f":"IF(ESTUDIANTES!G818=0,\"\",ESTUDIANTES!G818)","v":""},{"$f":"IF(ESTUDIANTES!I818=0,\" \",ESTUDIANTES!I818)","v":" "}," "," "," "]
[16,{"$f":"IF(ESTUDIANTES!G819=0,\"\",ESTUDIANTES!G819)","v":""},{"$f":"IF(ESTUDIANTES!I819=0,\" \",ESTUDIANTES!I819)","v":" "}," "," "," "]
[17,{"$f":"IF(ESTUDIANTES!G820=0,\"\",ESTUDIANTES!G820)","v":""},{"$f":"IF(ESTUDIANTES!I820=0,\" \",ESTUDIANTES!I820)","v":" "}," "," "," "]
[18,{"$f":"IF(ESTUDIANTES!G821=0,\"\",ESTUDIANTES!G821)","v":""},{"$f":"IF(ESTUDIANTES!I821=0,\" \",ESTUDIANTES!I821)","v":" "}," "," "," "]
[19,{"$f":"IF(ESTUDIANTES!G822=0,\"\",ESTUDIANTES!G822)","v":""},{"$f":"IF(ESTUDIANTES!I822=0,\" \",ESTUDIANTES!I822)","v":" "}," "," "," "]
[20,{"$f":"IF(ESTUDIANTES!G823=0,\"\",ESTUDIANTES!G823)","v":""},{"$f":"IF(ESTUDIANTES!I823=0,\" \",ESTUDIANTES!I823)","v":" "}," "," "," "]
[21,{"$f":"IF(ESTUDIANTES!G824=0,\"\",ESTUDIANTES!G824)","v":""},{"$f":"IF(ESTUDIANTES!I824=0,\" \",ESTUDIANTES!I824)","v":" "}," "," "," "]
[22,{"$f":"IF(ESTUDIANTES!G825=0,\"\",ESTUDIANTES!G825)","v":""},{"$f":"IF(ESTUDIANTES!I825=0,\" \",ESTUDIANTES!I825)","v":" "}," "," "," "]
[23,{"$f":"IF(ESTUDIANTES!G826=0,\"\",ESTUDIANTES!G826)","v":""},{"$f":"IF(ESTUDIANTES!I826=0,\" \",ESTUDIANTES!I826)","v":" "}," "," "," "]
[24,{"$f":"IF(ESTUDIANTES!G827=0,\"\",ESTUDIANTES!G827)","v":""},{"$f":"IF(ESTUDIANTES!I827=0,\" \",ESTUDIANTES!I827)","v":" "}," "," "," "]
[25,{"$f":"IF(ESTUDIANTES!G828=0,\"\",ESTUDIANTES!G828)","v":""},{"$f":"IF(ESTUDIANTES!I828=0,\" \",ESTUDIANTES!I828)","v":" "}," "," "," "]
[26,{"$f":"IF(ESTUDIANTES!G829=0,\"\",ESTUDIANTES!G829)","v":""},{"$f":"IF(ESTUDIANTES!I829=0,\" \",ESTUDIANTES!I829)","v":" "}," "," "," "]
[27,{"$f":"IF(ESTUDIANTES!G830=0,\"\",ESTUDIANTES!G830)","v":""},{"$f":"IF(ESTUDIANTES!I830=0,\" \",ESTUDIANTES!I830)","v":" "}," "," "," "]
[28,{"$f":"IF(ESTUDIANTES!G831=0,\"\",ESTUDIANTES!G831)","v":""},{"$f":"IF(ESTUDIANTES!I831=0,\" \",ESTUDIANTES!I831)","v":" "}," "," "," "]
[29,{"$f":"IF(ESTUDIANTES!G832=0,\"\",ESTUDIANTES!G832)","v":""},{"$f":"IF(ESTUDIANTES!I832=0,\" \",ESTUDIANTES!I832)","v":" "}," "," "," "]
[30,{"$f":"IF(ESTUDIANTES!G833=0,\"\",ESTUDIANTES!G833)","v":""},{"$f":"IF(ESTUDIANTES!I833=0,\" \",ESTUDIANTES!I833)","v":" "}," "," "," "]
[31,{"$f":"IF(ESTUDIANTES!G834=0,\"\",ESTUDIANTES!G834)","v":""},{"$f":"IF(ESTUDIANTES!I834=0,\" \",ESTUDIANTES!I834)","v":" "}," "," "," "]
[32,{"$f":"IF(ESTUDIANTES!G835=0,\"\",ESTUDIANTES!G835)","v":""},{"$f":"IF(ESTUDIANTES!I835=0,\" \",ESTUDIANTES!I835)","v":" "}," "," "," "]
[33,{"$f":"IF(ESTUDIANTES!G836=0,\"\",ESTUDIANTES!G836)","v":""},{"$f":"IF(ESTUDIANTES!I836=0,\" \",ESTUDIANTES!I836)","v":" "}," "," "," "]
[34,{"$f":"IF(ESTUDIANTES!G837=0,\"\",ESTUDIANTES!G837)","v":""},{"$f":"IF(ESTUDIANTES!I837=0,\" \",ESTUDIANTES!I837)","v":" "}," "," "," "]
[35,{"$f":"IF(ESTUDIANTES!G838=0,\"\",ESTUDIANTES!G838)","v":""},{"$f":"IF(ESTUDIANTES!I838=0,\" \",ESTUDIANTES!I838)","v":" "}," "," "," "]
[36,{"$f":"IF(ESTUDIANTES!G839=0,\"\",ESTUDIANTES!G839)","v":""},{"$f":"IF(ESTUDIANTES!I839=0,\" \",ESTUDIANTES!I839)","v":" "}," "," "," "]
[37,{"$f":"IF(ESTUDIANTES!G840=0,\"\",ESTUDIANTES!G840)","v":""},{"$f":"IF(ESTUDIANTES!I840=0,\" \",ESTUDIANTES!I840)","v":" "}," "," "," "]
[38,{"$f":"IF(ESTUDIANTES!G841=0,\"\",ESTUDIANTES!G841)","v":""},{"$f":"IF(ESTUDIANTES!I841=0,\" \",ESTUDIANTES!I841)","v":" "}," "," "," "]
[39,{"$f":"IF(ESTUDIANTES!G842=0,\"\",ESTUDIANTES!G842)","v":""},{"$f":"IF(ESTUDIANTES!I842=0,\" \",ESTUDIANTES!I842)","v":" "}," "," "," "]
[40,{"$f":"IF(ESTUDIANTES!G843=0,\"\",ESTUDIANTES!G843)","v":""},{"$f":"IF(ESTUDIANTES!I843=0,\" \",ESTUDIANTES!I843)","v":" "}," "," "," "]
[41,{"$f":"IF(ESTUDIANTES!G844=0,\"\",ESTUDIANTES!G844)","v":""},{"$f":"IF(ESTUDIANTES!I844=0,\" \",ESTUDIANTES!I844)","v":" "}," "," "," "]
[42,{"$f":"IF(ESTUDIANTES!G845=0,\"\",ESTUDIANTES!G845)","v":""},{"$f":"IF(ESTUDIANTES!I845=0,\" \",ESTUDIANTES!I845)","v":" "}," "," "," "]
[43,{"$f":"IF(ESTUDIANTES!G846=0,\"\",ESTUDIANTES!G846)","v":""},{"$f":"IF(ESTUDIANTES!I846=0,\" \",ESTUDIANTES!I846)","v":" "}," "," "," "]
[44,{"$f":"IF(ESTUDIANTES!G847=0,\"\",ESTUDIANTES!G847)","v":""},{"$f":"IF(ESTUDIANTES!I847=0,\" \",ESTUDIANTES!I847)","v":" "}," "," "," "]
[45,{"$f":"IF(ESTUDIANTES!G848=0,\"\",ESTUDIANTES!G848)","v":""},{"$f":"IF(ESTUDIANTES!I848=0,\" \",ESTUDIANTES!I848)","v":" "}," "," "," "]
[46,{"$f":"IF(ESTUDIANTES!G849=0,\"\",ESTUDIANTES!G849)","v":""},{"$f":"IF(ESTUDIANTES!I849=0,\" \",ESTUDIANTES!I849)","v":" "}," "," "," "]
[47,{"$f":"IF(ESTUDIANTES!G850=0,\"\",ESTUDIANTES!G850)","v":""},{"$f":"IF(ESTUDIANTES!I850=0,\" \",ESTUDIANTES!I850)","v":" "}," "," "," "]
[48,{"$f":"IF(ESTUDIANTES!G851=0,\"\",ESTUDIANTES!G851)","v":""},{"$f":"IF(ESTUDIANTES!I851=0,\" \",ESTUDIANTES!I851)","v":" "}," "," "," "]
[49,{"$f":"IF(ESTUDIANTES!G852=0,\"\",ESTUDIANTES!G852)","v":""},{"$f":"IF(ESTUDIANTES!I852=0,\" \",ESTUDIANTES!I852)","v":" "}," "," "," "]
[50,{"$f":"IF(ESTUDIANTES!G853=0,\"\",ESTUDIANTES!G853)","v":""},{"$f":"IF(ESTUDIANTES!I853=0,\" \",ESTUDIANTES!I853)","v":" "}," "," "," "]
[]
[{"$f":"DATOS!$B$3","v":"COLEGIO BACHILLERATO PCEI \"SIN FRONTERAS\""}]
[]
[null,"GRADO/CURSO:",{"$f":"DATOS!$E20","v":0}]
[null,"NIVEL:",{"$f":"DATOS!$F20","v":0}]
[null,"PARALELO:",{"$f":"DATOS!$G20","v":0}]
[null,"TUTOR:",{"$f":"DATOS!$H20","v":0}]
[]
["Nro","NOMBRES Y APELLIDOS","F.N","AÑOS","MESES","DIAS"]
[1,{"$f":"IF(ESTUDIANTES!G854=0,\"\",ESTUDIANTES!G854)","v":""},{"$f":"IF(ESTUDIANTES!I854=0,\" \",ESTUDIANTES!I854)","v":" "},{"$f":"IFERROR(DATEDIF(C1012,TODAY(),\"Y\"),\" \")","v":" "},{"$f":"IFERROR(DATEDIF(C1012,TODAY(),\"YM\"),\" \")","v":" "},{"$f":"IFERROR(DATEDIF(C1012,TODAY(),\"MD\"),\" \")","v":" "}]
[2,{"$f":"IF(ESTUDIANTES!G855=0,\"\",ESTUDIANTES!G855)","v":""},{"$f":"IF(ESTUDIANTES!I855=0,\" \",ESTUDIANTES!I855)","v":" "},{"$f":"IFERROR(DATEDIF(C1013,TODAY(),\"Y\"),\" \")","v":" "},{"$f":"IFERROR(DATEDIF(C1013,TODAY(),\"YM\"),\" \")","v":" "},{"$f":"IFERROR(DATEDIF(C1013,TODAY(),\"MD\"),\" \")","v":" "}]
[3,{"$f":"IF(ESTUDIANTES!G856=0,\"\",ESTUDIANTES!G856)","v":""},{"$f":"IF(ESTUDIANTES!I856=0,\" \",ESTUDIANTES!I856)","v":" "}," "," "," "]
[4,{"$f":"IF(ESTUDIANTES!G857=0,\"\",ESTUDIANTES!G857)","v":""},{"$f":"IF(ESTUDIANTES!I857=0,\" \",ESTUDIANTES!I857)","v":" "}," "," "," "]
[5,{"$f":"IF(ESTUDIANTES!G858=0,\"\",ESTUDIANTES!G858)","v":""},{"$f":"IF(ESTUDIANTES!I858=0,\" \",ESTUDIANTES!I858)","v":" "}," "," "," "]
[6,{"$f":"IF(ESTUDIANTES!G859=0,\"\",ESTUDIANTES!G859)","v":""},{"$f":"IF(ESTUDIANTES!I859=0,\" \",ESTUDIANTES!I859)","v":" "}," "," "," "]
[7,{"$f":"IF(ESTUDIANTES!G860=0,\"\",ESTUDIANTES!G860)","v":""},{"$f":"IF(ESTUDIANTES!I860=0,\" \",ESTUDIANTES!I860)","v":" "}," "," "," "]
[8,{"$f":"IF(ESTUDIANTES!G861=0,\"\",ESTUDIANTES!G861)","v":""},{"$f":"IF(ESTUDIANTES!I861=0,\" \",ESTUDIANTES!I861)","v":" "}," "," "," "]
[9,{"$f":"IF(ESTUDIANTES!G862=0,\"\",ESTUDIANTES!G862)","v":""},{"$f":"IF(ESTUDIANTES!I862=0,\" \",ESTUDIANTES!I862)","v":" "}," "," "," "]
[10,{"$f":"IF(ESTUDIANTES!G863=0,\"\",ESTUDIANTES!G863)","v":""},{"$f":"IF(ESTUDIANTES!I863=0,\" \",ESTUDIANTES!I863)","v":" "}," "," "," "]
[11,{"$f":"IF(ESTUDIANTES!G864=0,\"\",ESTUDIANTES!G864)","v":""},{"$f":"IF(ESTUDIANTES!I864=0,\" \",ESTUDIANTES!I864)","v":" "}," "," "," "]
[12,{"$f":"IF(ESTUDIANTES!G865=0,\"\",ESTUDIANTES!G865)","v":""},{"$f":"IF(ESTUDIANTES!I865=0,\" \",ESTUDIANTES!I865)","v":" "}," "," "," "]
[13,{"$f":"IF(ESTUDIANTES!G866=0,\"\",ESTUDIANTES!G866)","v":""},{"$f":"IF(ESTUDIANTES!I866=0,\" \",ESTUDIANTES!I866)","v":" "}," "," "," "]
[14,{"$f":"IF(ESTUDIANTES!G867=0,\"\",ESTUDIANTES!G867)","v":""},{"$f":"IF(ESTUDIANTES!I867=0,\" \",ESTUDIANTES!I867)","v":" "}," "," "," "]
[15,{"$f":"IF(ESTUDIANTES!G868=0,\"\",ESTUDIANTES!G868)","v":""},{"$f":"IF(ESTUDIANTES!I868=0,\" \",ESTUDIANTES!I868)","v":" "}," "," "," "]
[16,{"$f":"IF(ESTUDIANTES!G869=0,\"\",ESTUDIANTES!G869)","v":""},{"$f":"IF(ESTUDIANTES!I869=0,\" \",ESTUDIANTES!I869)","v":" "}," "," "," "]
[17,{"$f":"IF(ESTUDIANTES!G870=0,\"\",ESTUDIANTES!G870)","v":""},{"$f":"IF(ESTUDIANTES!I870=0,\" \",ESTUDIANTES!I870)","v":" "}," "," "," "]
[18,{"$f":"IF(ESTUDIANTES!G871=0,\"\",ESTUDIANTES!G871)","v":""},{"$f":"IF(ESTUDIANTES!I871=0,\" \",ESTUDIANTES!I871)","v":" "}," "," "," "]
[19,{"$f":"IF(ESTUDIANTES!G872=0,\"\",ESTUDIANTES!G872)","v":""},{"$f":"IF(ESTUDIANTES!I872=0,\" \",ESTUDIANTES!I872)","v":" "}," "," "," "]
[20,{"$f":"IF(ESTUDIANTES!G873=0,\"\",ESTUDIANTES!G873)","v":""},{"$f":"IF(ESTUDIANTES!I873=0,\" \",ESTUDIANTES!I873)","v":" "}," "," "," "]
[21,{"$f":"IF(ESTUDIANTES!G874=0,\"\",ESTUDIANTES!G874)","v":""},{"$f":"IF(ESTUDIANTES!I874=0,\" \",ESTUDIANTES!I874)","v":" "}," "," "," "]
[22,{"$f":"IF(ESTUDIANTES!G875=0,\"\",ESTUDIANTES!G875)","v":""},{"$f":"IF(ESTUDIANTES!I875=0,\" \",ESTUDIANTES!I875)","v":" "}," "," "," "]
[23,{"$f":"IF(ESTUDIANTES!G876=0,\"\",ESTUDIANTES!G876)","v":""},{"$f":"IF(ESTUDIANTES!I876=0,\" \",ESTUDIANTES!I876)","v":" "}," "," "," "]
[24,{"$f":"IF(ESTUDIANTES!G877=0,\"\",ESTUDIANTES!G877)","v":""},{"$f":"IF(ESTUDIANTES!I877=0,\" \",ESTUDIANTES!I877)","v":" "}," "," "," "]
[25,{"$f":"IF(ESTUDIANTES!G878=0,\"\",ESTUDIANTES!G878)","v":""},{"$f":"IF(ESTUDIANTES!I878=0,\" \",ESTUDIANTES!I878)","v":" "}," "," "," "]
[26,{"$f":"IF(ESTUDIANTES!G879=0,\"\",ESTUDIANTES!G879)","v":""},{"$f":"IF(ESTUDIANTES!I879=0,\" \",ESTUDIANTES!I879)","v":" "}," "," "," "]
[27,{"$f":"IF(ESTUDIANTES!G880=0,\"\",ESTUDIANTES!G880)","v":""},{"$f":"IF(ESTUDIANTES!I880=0,\" \",ESTUDIANTES!I880)","v":" "}," "," "," "]
[28,{"$f":"IF(ESTUDIANTES!G881=0,\"\",ESTUDIANTES!G881)","v":""},{"$f":"IF(ESTUDIANTES!I881=0,\" \",ESTUDIANTES!I881)","v":" "}," "," "," "]
[29,{"$f":"IF(ESTUDIANTES!G882=0,\"\",ESTUDIANTES!G882)","v":""},{"$f":"IF(ESTUDIANTES!I882=0,\" \",ESTUDIANTES!I882)","v":" "}," "," "," "]
[30,{"$f":"IF(ESTUDIANTES!G883=0,\"\",ESTUDIANTES!G883)","v":""},{"$f":"IF(ESTUDIANTES!I883=0,\" \",ESTUDIANTES!I883)","v":" "}," "," "," "]
[31,{"$f":"IF(ESTUDIANTES!G884=0,\"\",ESTUDIANTES!G884)","v":""},{"$f":"IF(ESTUDIANTES!I884=0,\" \",ESTUDIANTES!I884)","v":" "}," "," "," "]
[32,{"$f":"IF(ESTUDIANTES!G885=0,\"\",ESTUDIANTES!G885)","v":""},{"$f":"IF(ESTUDIANTES!I885=0,\" \",ESTUDIANTES!I885)","v":" "}," "," "," "]
[33,{"$f":"IF(ESTUDIANTES!G886=0,\"\",ESTUDIANTES!G886)","v":""},{"$f":"IF(ESTUDIANTES!I886=0,\" \",ESTUDIANTES!I886)","v":" "}," "," "," "]
[34,{"$f":"IF(ESTUDIANTES!G887=0,\"\",ESTUDIANTES!G887)","v":""},{"$f":"IF(ESTUDIANTES!I887=0,\" \",ESTUDIANTES!I887)","v":" "}," "," "," "]
[35,{"$f":"IF(ESTUDIANTES!G888=0,\"\",ESTUDIANTES!G888)","v":""},{"$f":"IF(ESTUDIANTES!I888=0,\" \",ESTUDIANTES!I888)","v":" "}," "," "," "]
[36,{"$f":"IF(ESTUDIANTES!G889=0,\"\",ESTUDIANTES!G889)","v":""},{"$f":"IF(ESTUDIANTES!I889=0,\" \",ESTUDIANTES!I889)","v":" "}," "," "," "]
[37,{"$f":"IF(ESTUDIANTES!G890=0,\"\",ESTUDIANTES!G890)","v":""},{"$f":"IF(ESTUDIANTES!I890=0,\" \",ESTUDIANTES!I890)","v":" "}," "," "," "]
[38,{"$f":"IF(ESTUDIANTES!G891=0,\"\",ESTUDIANTES!G891)","v":""},{"$f":"IF(ESTUDIANTES!I891=0,\" \",ESTUDIANTES!I891)","v":" "}," "," "," "]
[39,{"$f":"IF(ESTUDIANTES!G892=0,\"\",ESTUDIANTES!G892)","v":""},{"$f":"IF(ESTUDIANTES!I892=0,\" \",ESTUDIANTES!I892)","v":" "}," "," "," "]
[40,{"$f":"IF(ESTUDIANTES!G893=0,\"\",ESTUDIANTES!G893)","v":""},{"$f":"IF(ESTUDIANTES!I893=0,\" \",ESTUDIANTES!I893)","v":" "}," "," "," "]
[41,{"$f":"IF(ESTUDIANTES!G894=0,\"\",ESTUDIANTES!G894)","v":""},{"$f":"IF(ESTUDIANTES!I894=0,\" \",ESTUDIANTES!I894)","v":" "}," "," "," "]
[42,{"$f":"IF(ESTUDIANTES!G895=0,\"\",ESTUDIANTES!G895)","v":""},{"$f":"IF(ESTUDIANTES!I895=0,\" \",ESTUDIANTES!I895)","v":" "}," "," "," "]
[43,{"$f":"IF(ESTUDIANTES!G896=0,\"\",ESTUDIANTES!G896)","v":""},{"$f":"IF(ESTUDIANTES!I896=0,\" \",ESTUDIANTES!I896)","v":" "}," "," "," "]
[44,{"$f":"IF(ESTUDIANTES!G897=0,\"\",ESTUDIANTES!G897)","v":""},{"$f":"IF(ESTUDIANTES!I897=0,\" \",ESTUDIANTES!I897)","v":" "}," "," "," "]
[45,{"$f":"IF(ESTUDIANTES!G898=0,\"\",ESTUDIANTES!G898)","v":""},{"$f":"IF(ESTUDIANTES!I898=0,\" \",ESTUDIANTES!I898)","v":" "}," "," "," "]
[46,{"$f":"IF(ESTUDIANTES!G899=0,\"\",ESTUDIANTES!G899)","v":""},{"$f":"IF(ESTUDIANTES!I899=0,\" \",ESTUDIANTES!I899)","v":" "}," "," "," "]
[47,{"$f":"IF(ESTUDIANTES!G900=0,\"\",ESTUDIANTES!G900)","v":""},{"$f":"IF(ESTUDIANTES!I900=0,\" \",ESTUDIANTES!I900)","v":" "}," "," "," "]
[48,{"$f":"IF(ESTUDIANTES!G901=0,\"\",ESTUDIANTES!G901)","v":""},{"$f":"IF(ESTUDIANTES!I901=0,\" \",ESTUDIANTES!I901)","v":" "}," "," "," "]
[49,{"$f":"IF(ESTUDIANTES!G902=0,\"\",ESTUDIANTES!G902)","v":""},{"$f":"IF(ESTUDIANTES!I902=0,\" \",ESTUDIANTES!I902)","v":" "}," "," "," "]
[50,{"$f":"IF(ESTUDIANTES!G903=0,\"\",ESTUDIANTES!G903)","v":""},{"$f":"IF(ESTUDIANTES!I903=0,\" \",ESTUDIANTES!I903)","v":" "}," "," "," "]
[]
[{"$f":"DATOS!$B$3","v":"COLEGIO BACHILLERATO PCEI \"SIN FRONTERAS\""}]
[]
[null,"GRADO/CURSO:",{"$f":"DATOS!$E21","v":0}]
[null,"NIVEL:",{"$f":"DATOS!$F21","v":0}]
[null,"PARALELO:",{"$f":"DATOS!$G21","v":0}]
[null,"TUTOR:",{"$f":"DATOS!$H21","v":0}]
[]
["Nro","NOMBRES Y APELLIDOS","F.N","AÑOS","MESES","DIAS"]
[1,{"$f":"IF(ESTUDIANTES!G904=0,\"\",ESTUDIANTES!G904)","v":""},{"$f":"IF(ESTUDIANTES!I904=0,\" \",ESTUDIANTES!I904)","v":" "},{"$f":"IFERROR(DATEDIF(C1071,TODAY(),\"Y\"),\" \")","v":" "},{"$f":"IFERROR(DATEDIF(C1071,TODAY(),\"YM\"),\" \")","v":" "},{"$f":"IFERROR(DATEDIF(C1071,TODAY(),\"MD\"),\" \")","v":" "}]
[2,{"$f":"IF(ESTUDIANTES!G905=0,\"\",ESTUDIANTES!G905)","v":""},{"$f":"IF(ESTUDIANTES!I905=0,\" \",ESTUDIANTES!I905)","v":" "},{"$f":"IFERROR(DATEDIF(C1072,TODAY(),\"Y\"),\" \")","v":" "},{"$f":"IFERROR(DATEDIF(C1072,TODAY(),\"YM\"),\" \")","v":" "},{"$f":"IFERROR(DATEDIF(C1072,TODAY(),\"MD\"),\" \")","v":" "}]
[3,{"$f":"IF(ESTUDIANTES!G906=0,\"\",ESTUDIANTES!G906)","v":""},{"$f":"IF(ESTUDIANTES!I906=0,\" \",ESTUDIANTES!I906)","v":" "}," "," "," "]
[4,{"$f":"IF(ESTUDIANTES!G907=0,\"\",ESTUDIANTES!G907)","v":""},{"$f":"IF(ESTUDIANTES!I907=0,\" \",ESTUDIANTES!I907)","v":" "}," "," "," "]
[5,{"$f":"IF(ESTUDIANTES!G908=0,\"\",ESTUDIANTES!G908)","v":""},{"$f":"IF(ESTUDIANTES!I908=0,\" \",ESTUDIANTES!I908)","v":" "}," "," "," "]
[6,{"$f":"IF(ESTUDIANTES!G909=0,\"\",ESTUDIANTES!G909)","v":""},{"$f":"IF(ESTUDIANTES!I909=0,\" \",ESTUDIANTES!I909)","v":" "}," "," "," "]
[7,{"$f":"IF(ESTUDIANTES!G910=0,\"\",ESTUDIANTES!G910)","v":""},{"$f":"IF(ESTUDIANTES!I910=0,\" \",ESTUDIANTES!I910)","v":" "}," "," "," "]
[8,{"$f":"IF(ESTUDIANTES!G911=0,\"\",ESTUDIANTES!G911)","v":""},{"$f":"IF(ESTUDIANTES!I911=0,\" \",ESTUDIANTES!I911)","v":" "}," "," "," "]
[9,{"$f":"IF(ESTUDIANTES!G912=0,\"\",ESTUDIANTES!G912)","v":""},{"$f":"IF(ESTUDIANTES!I912=0,\" \",ESTUDIANTES!I912)","v":" "}," "," "," "]
[10,{"$f":"IF(ESTUDIANTES!G913=0,\"\",ESTUDIANTES!G913)","v":""},{"$f":"IF(ESTUDIANTES!I913=0,\" \",ESTUDIANTES!I913)","v":" "}," "," "," "]
[11,{"$f":"IF(ESTUDIANTES!G914=0,\"\",ESTUDIANTES!G914)","v":""},{"$f":"IF(ESTUDIANTES!I914=0,\" \",ESTUDIANTES!I914)","v":" "}," "," "," "]
[12,{"$f":"IF(ESTUDIANTES!G915=0,\"\",ESTUDIANTES!G915)","v":""},{"$f":"IF(ESTUDIANTES!I915=0,\" \",ESTUDIANTES!I915)","v":" "}," "," "," "]
[13,{"$f":"IF(ESTUDIANTES!G916=0,\"\",ESTUDIANTES!G916)","v":""},{"$f":"IF(ESTUDIANTES!I916=0,\" \",ESTUDIANTES!I916)","v":" "}," "," "," "]
[14,{"$f":"IF(ESTUDIANTES!G917=0,\"\",ESTUDIANTES!G917)","v":""},{"$f":"IF(ESTUDIANTES!I917=0,\" \",ESTUDIANTES!I917)","v":" "}," "," "," "]
[15,{"$f":"IF(ESTUDIANTES!G918=0,\"\",ESTUDIANTES!G918)","v":""},{"$f":"IF(ESTUDIANTES!I918=0,\" \",ESTUDIANTES!I918)","v":" "}," "," "," "]
[16,{"$f":"IF(ESTUDIANTES!G919=0,\"\",ESTUDIANTES!G919)","v":""},{"$f":"IF(ESTUDIANTES!I919=0,\" \",ESTUDIANTES!I919)","v":" "}," "," "," "]
[17,{"$f":"IF(ESTUDIANTES!G920=0,\"\",ESTUDIANTES!G920)","v":""},{"$f":"IF(ESTUDIANTES!I920=0,\" \",ESTUDIANTES!I920)","v":" "}," "," "," "]
[18,{"$f":"IF(ESTUDIANTES!G921=0,\"\",ESTUDIANTES!G921)","v":""},{"$f":"IF(ESTUDIANTES!I921=0,\" \",ESTUDIANTES!I921)","v":" "}," "," "," "]
[19,{"$f":"IF(ESTUDIANTES!G922=0,\"\",ESTUDIANTES!G922)","v":""},{"$f":"IF(ESTUDIANTES!I922=0,\" \",ESTUDIANTES!I922)","v":" "}," "," "," "]
[20,{"$f":"IF(ESTUDIANTES!G923=0,\"\",ESTUDIANTES!G923)","v":""},{"$f":"IF(ESTUDIANTES!I923=0,\" \",ESTUDIANTES!I923)","v":" "}," "," "," "]
[21,{"$f":"IF(ESTUDIANTES!G924=0,\"\",ESTUDIANTES!G924)","v":""},{"$f":"IF(ESTUDIANTES!I924=0,\" \",ESTUDIANTES!I924)","v":" "}," "," "," "]
[22,{"$f":"IF(ESTUDIANTES!G925=0,\"\",ESTUDIANTES!G925)","v":""},{"$f":"IF(ESTUDIANTES!I925=0,\" \",ESTUDIANTES!I925)","v":" "}," "," "," "]
[23,{"$f":"IF(ESTUDIANTES!G926=0,\"\",ESTUDIANTES!G926)","v":""},{"$f":"IF(ESTUDIANTES!I926=0,\" \",ESTUDIANTES!I926)","v":" "}," "," "," "]
[24,{"$f":"IF(ESTUDIANTES!G927=0,\"\",ESTUDIANTES!G927)","v":""},{"$f":"IF(ESTUDIANTES!I927=0,\" \",ESTUDIANTES!I927)","v":" "}," "," "," "]
[25,{"$f":"IF(ESTUDIANTES!G928=0,\"\",ESTUDIANTES!G928)","v":""},{"$f":"IF(ESTUDIANTES!I928=0,\" \",ESTUDIANTES!I928)","v":" "}," "," "," "]
[26,{"$f":"IF(ESTUDIANTES!G929=0,\"\",ESTUDIANTES!G929)","v":""},{"$f":"IF(ESTUDIANTES!I929=0,\" \",ESTUDIANTES!I929)","v":" "}," "," "," "]
[27,{"$f":"IF(ESTUDIANTES!G930=0,\"\",ESTUDIANTES!G930)","v":""},{"$f":"IF(ESTUDIANTES!I930=0,\" \",ESTUDIANTES!I930)","v":" "}," "," "," "]
[28,{"$f":"IF(ESTUDIANTES!G931=0,\"\",ESTUDIANTES!G931)","v":""},{"$f":"IF(ESTUDIANTES!I931=0,\" \",ESTUDIANTES!I931)","v":" "}," "," "," "]
[29,{"$f":"IF(ESTUDIANTES!G932=0,\"\",ESTUDIANTES!G932)","v":""},{"$f":"IF(ESTUDIANTES!I932=0,\" \",ESTUDIANTES!I932)","v":" "}," "," "," "]
[30,{"$f":"IF(ESTUDIANTES!G933=0,\"\",ESTUDIANTES!G933)","v":""},{"$f":"IF(ESTUDIANTES!I933=0,\" \",ESTUDIANTES!I933)","v":" "}," "," "," "]
[31,{"$f":"IF(ESTUDIANTES!G934=0,\"\",ESTUDIANTES!G934)","v":""},{"$f":"IF(ESTUDIANTES!I934=0,\" \",ESTUDIANTES!I934)","v":" "}," "," "," "]
[32,{"$f":"IF(ESTUDIANTES!G935=0,\"\",ESTUDIANTES!G935)","v":""},{"$f":"IF(ESTUDIANTES!I935=0,\" \",ESTUDIANTES!I935)","v":" "}," "," "," "]
[33,{"$f":"IF(ESTUDIANTES!G936=0,\"\",ESTUDIANTES!G936)","v":""},{"$f":"IF(ESTUDIANTES!I936=0,\" \",ESTUDIANTES!I936)","v":" "}," "," "," "]
[34,{"$f":"IF(ESTUDIANTES!G937=0,\"\",ESTUDIANTES!G937)","v":""},{"$f":"IF(ESTUDIANTES!I937=0,\" \",ESTUDIANTES!I937)","v":" "}," "," "," "]
[35,{"$f":"IF(ESTUDIANTES!G938=0,\"\",ESTUDIANTES!G938)","v":""},{"$f":"IF(ESTUDIANTES!I938=0,\" \",ESTUDIANTES!I938)","v":" "}," "," "," "]
[36,{"$f":"IF(ESTUDIANTES!G939=0,\"\",ESTUDIANTES!G939)","v":""},{"$f":"IF(ESTUDIANTES!I939=0,\" \",ESTUDIANTES!I939)","v":" "}," "," "," "]
[37,{"$f":"IF(ESTUDIANTES!G940=0,\"\",ESTUDIANTES!G940)","v":""},{"$f":"IF(ESTUDIANTES!I940=0,\" \",ESTUDIANTES!I940)","v":" "}," "," "," "]
[38,{"$f":"IF(ESTUDIANTES!G941=0,\"\",ESTUDIANTES!G941)","v":""},{"$f":"IF(ESTUDIANTES!I941=0,\" \",ESTUDIANTES!I941)","v":" "}," "," "," "]
[39,{"$f":"IF(ESTUDIANTES!G942=0,\"\",ESTUDIANTES!G942)","v":""},{"$f":"IF(ESTUDIANTES!I942=0,\" \",ESTUDIANTES!I942)","v":" "}," "," "," "]
[40,{"$f":"IF(ESTUDIANTES!G943=0,\"\",ESTUDIANTES!G943)","v":""},{"$f":"IF(ESTUDIANTES!I943=0,\" \",ESTUDIANTES!I943)","v":" "}," "," "," "]
[41,{"$f":"IF(ESTUDIANTES!G944=0,\"\",ESTUDIANTES!G944)","v":""},{"$f":"IF(ESTUDIANTES!I944=0,\" \",ESTUDIANTES!I944)","v":" "}," "," "," "]
[42,{"$f":"IF(ESTUDIANTES!G945=0,\"\",ESTUDIANTES!G945)","v":""},{"$f":"IF(ESTUDIANTES!I945=0,\" \",ESTUDIANTES!I945)","v":" "}," "," "," "]
[43,{"$f":"IF(ESTUDIANTES!G946=0,\"\",ESTUDIANTES!G946)","v":""},{"$f":"IF(ESTUDIANTES!I946=0,\" \",ESTUDIANTES!I946)","v":" "}," "," "," "]
[44,{"$f":"IF(ESTUDIANTES!G947=0,\"\",ESTUDIANTES!G947)","v":""},{"$f":"IF(ESTUDIANTES!I947=0,\" \",ESTUDIANTES!I947)","v":" "}," "," "," "]
[45,{"$f":"IF(ESTUDIANTES!G948=0,\"\",ESTUDIANTES!G948)","v":""},{"$f":"IF(ESTUDIANTES!I948=0,\" \",ESTUDIANTES!I948)","v":" "}," "," "," "]
[46,{"$f":"IF(ESTUDIANTES!G949=0,\"\",ESTUDIANTES!G949)","v":""},{"$f":"IF(ESTUDIANTES!I949=0,\" \",ESTUDIANTES!I949)","v":" "}," "," "," "]
[47,{"$f":"IF(ESTUDIANTES!G950=0,\"\",ESTUDIANTES!G950)","v":""},{"$f":"IF(ESTUDIANTES!I950=0,\" \",ESTUDIANTES!I950)","v":" "}," "," "," "]
[48,{"$f":"IF(ESTUDIANTES!G951=0,\"\",ESTUDIANTES!G951)","v":""},{"$f":"IF(ESTUDIANTES!I951=0,\" \",ESTUDIANTES!I951)","v":" "}," "," "," "]
[49,{"$f":"IF(ESTUDIANTES!G952=0,\"\",ESTUDIANTES!G952)","v":""},{"$f":"IF(ESTUDIANTES!I952=0,\" \",ESTUDIANTES!I952)","v":" "}," "," "," "]
[50,{"$f":"IF(ESTUDIANTES!G953=0,\"\",ESTUDIANTES!G953)","v":""},{"$f":"IF(ESTUDIANTES!I953=0,\" \",ESTUDIANTES!I953)","v":" "}," "," "," "]
[]
[{"$f":"DATOS!$B$3","v":"COLEGIO BACHILLERATO PCEI \"SIN FRONTERAS\""}]
[]
[null,"GRADO/CURSO:",{"$f":"DATOS!$E22","v":0}]
[null,"NIVEL:",{"$f":"DATOS!$F22","v":0}]
[null,"PARALELO:",{"$f":"DATOS!$G22","v":0}]
[null,"TUTOR:",{"$f":"DATOS!$H22","v":0}]
[]
["Nro","NOMBRES Y APELLIDOS","F.N","AÑOS","MESES","DIAS"]
[1,{"$f":"IF(ESTUDIANTES!G954=0,\"\",ESTUDIANTES!G954)","v":""},{"$f":"IF(ESTUDIANTES!I954=0,\" \",ESTUDIANTES!I954)","v":" "},{"$f":"IFERROR(DATEDIF(C1130,TODAY(),\"Y\"),\" \")","v":" "},{"$f":"IFERROR(DATEDIF(C1130,TODAY(),\"YM\"),\" \")","v":" "},{"$f":"IFERROR(DATEDIF(C1130,TODAY(),\"MD\"),\" \")","v":" "}]
[2,{"$f":"IF(ESTUDIANTES!G955=0,\"\",ESTUDIANTES!G955)","v":""},{"$f":"IF(ESTUDIANTES!I955=0,\" \",ESTUDIANTES!I955)","v":" "},{"$f":"IFERROR(DATEDIF(C1131,TODAY(),\"Y\"),\" \")","v":" "},{"$f":"IFERROR(DATEDIF(C1131,TODAY(),\"YM\"),\" \")","v":" "},{"$f":"IFERROR(DATEDIF(C1131,TODAY(),\"MD\"),\" \")","v":" "}]
[3,{"$f":"IF(ESTUDIANTES!G956=0,\"\",ESTUDIANTES!G956)","v":""},{"$f":"IF(ESTUDIANTES!I956=0,\" \",ESTUDIANTES!I956)","v":" "}," "," "," "]
[4,{"$f":"IF(ESTUDIANTES!G957=0,\"\",ESTUDIANTES!G957)","v":""},{"$f":"IF(ESTUDIANTES!I957=0,\" \",ESTUDIANTES!I957)","v":" "}," "," "," "]
[5,{"$f":"IF(ESTUDIANTES!G958=0,\"\",ESTUDIANTES!G958)","v":""},{"$f":"IF(ESTUDIANTES!I958=0,\" \",ESTUDIANTES!I958)","v":" "}," "," "," "]
[6,{"$f":"IF(ESTUDIANTES!G959=0,\"\",ESTUDIANTES!G959)","v":""},{"$f":"IF(ESTUDIANTES!I959=0,\" \",ESTUDIANTES!I959)","v":" "}," "," "," "]
[7,{"$f":"IF(ESTUDIANTES!G960=0,\"\",ESTUDIANTES!G960)","v":""},{"$f":"IF(ESTUDIANTES!I960=0,\" \",ESTUDIANTES!I960)","v":" "}," "," "," "]
[8,{"$f":"IF(ESTUDIANTES!G961=0,\"\",ESTUDIANTES!G961)","v":""},{"$f":"IF(ESTUDIANTES!I961=0,\" \",ESTUDIANTES!I961)","v":" "}," "," "," "]
[9,{"$f":"IF(ESTUDIANTES!G962=0,\"\",ESTUDIANTES!G962)","v":""},{"$f":"IF(ESTUDIANTES!I962=0,\" \",ESTUDIANTES!I962)","v":" "}," "," "," "]
[10,{"$f":"IF(ESTUDIANTES!G963=0,\"\",ESTUDIANTES!G963)","v":""},{"$f":"IF(ESTUDIANTES!I963=0,\" \",ESTUDIANTES!I963)","v":" "}," "," "," "]
[11,{"$f":"IF(ESTUDIANTES!G964=0,\"\",ESTUDIANTES!G964)","v":""},{"$f":"IF(ESTUDIANTES!I964=0,\" \",ESTUDIANTES!I964)","v":" "}," "," "," "]
[12,{"$f":"IF(ESTUDIANTES!G965=0,\"\",ESTUDIANTES!G965)","v":""},{"$f":"IF(ESTUDIANTES!I965=0,\" \",ESTUDIANTES!I965)","v":" "}," "," "," "]
[13,{"$f":"IF(ESTUDIANTES!G966=0,\"\",ESTUDIANTES!G966)","v":""},{"$f":"IF(ESTUDIANTES!I966=0,\" \",ESTUDIANTES!I966)","v":" "}," "," "," "]
[14,{"$f":"IF(ESTUDIANTES!G967=0,\"\",ESTUDIANTES!G967)","v":""},{"$f":"IF(ESTUDIANTES!I967=0,\" \",ESTUDIANTES!I967)","v":" "}," "," "," "]
[15,{"$f":"IF(ESTUDIANTES!G968=0,\"\",ESTUDIANTES!G968)","v":""},{"$f":"IF(ESTUDIANTES!I968=0,\" \",ESTUDIANTES!I968)","v":" "}," "," "," "]
[16,{"$f":"IF(ESTUDIANTES!G969=0,\"\",ESTUDIANTES!G969)","v":""},{"$f":"IF(ESTUDIANTES!I969=0,\" \",ESTUDIANTES!I969)","v":" "}," "," "," "]
[17,{"$f":"IF(ESTUDIANTES!G970=0,\"\",ESTUDIANTES!G970)","v":""},{"$f":"IF(ESTUDIANTES!I970=0,\" \",ESTUDIANTES!I970)","v":" "}," "," "," "]
[18,{"$f":"IF(ESTUDIANTES!G971=0,\"\",ESTUDIANTES!G971)","v":""},{"$f":"IF(ESTUDIANTES!I971=0,\" \",ESTUDIANTES!I971)","v":" "}," "," "," "]
[19,{"$f":"IF(ESTUDIANTES!G972=0,\"\",ESTUDIANTES!G972)","v":""},{"$f":"IF(ESTUDIANTES!I972=0,\" \",ESTUDIANTES!I972)","v":" "}," "," "," "]
[20,{"$f":"IF(ESTUDIANTES!G973=0,\"\",ESTUDIANTES!G973)","v":""},{"$f":"IF(ESTUDIANTES!I973=0,\" \",ESTUDIANTES!I973)","v":" "}," "," "," "]
[21,{"$f":"IF(ESTUDIANTES!G974=0,\"\",ESTUDIANTES!G974)","v":""},{"$f":"IF(ESTUDIANTES!I974=0,\" \",ESTUDIANTES!I974)","v":" "}," "," "," "]
[22,{"$f":"IF(ESTUDIANTES!G975=0,\"\",ESTUDIANTES!G975)","v":""},{"$f":"IF(ESTUDIANTES!I975=0,\" \",ESTUDIANTES!I975)","v":" "}," "," "," "]
[23,{"$f":"IF(ESTUDIANTES!G976=0,\"\",ESTUDIANTES!G976)","v":""},{"$f":"IF(ESTUDIANTES!I976=0,\" \",ESTUDIANTES!I976)","v":" "}," "," "," "]
[24,{"$f":"IF(ESTUDIANTES!G977=0,\"\",ESTUDIANTES!G977)","v":""},{"$f":"IF(ESTUDIANTES!I977=0,\" \",ESTUDIANTES!I977)","v":" "}," "," "," "]
[25,{"$f":"IF(ESTUDIANTES!G978=0,\"\",ESTUDIANTES!G978)","v":""},{"$f":"IF(ESTUDIANTES!I978=0,\" \",ESTUDIANTES!I978)","v":" "}," "," "," "]
[26,{"$f":"IF(ESTUDIANTES!G979=0,\"\",ESTUDIANTES!G979)","v":""},{"$f":"IF(ESTUDIANTES!I979=0,\" \",ESTUDIANTES!I979)","v":" "}," "," "," "]
[27,{"$f":"IF(ESTUDIANTES!G980=0,\"\",ESTUDIANTES!G980)","v":""},{"$f":"IF(ESTUDIANTES!I980=0,\" \",ESTUDIANTES!I980)","v":" "}," "," "," "]
[28,{"$f":"IF(ESTUDIANTES!G981=0,\"\",ESTUDIANTES!G981)","v":""},{"$f":"IF(ESTUDIANTES!I981=0,\" \",ESTUDIANTES!I981)","v":" "}," "," "," "]
[29,{"$f":"IF(ESTUDIANTES!G982=0,\"\",ESTUDIANTES!G982)","v":""},{"$f":"IF(ESTUDIANTES!I982=0,\" \",ESTUDIANTES!I982)","v":" "}," "," "," "]
[30,{"$f":"IF(ESTUDIANTES!G983=0,\"\",ESTUDIANTES!G983)","v":""},{"$f":"IF(ESTUDIANTES!I983=0,\" \",ESTUDIANTES!I983)","v":" "}," "," "," "]
[31,{"$f":"IF(ESTUDIANTES!G984=0,\"\",ESTUDIANTES!G984)","v":""},{"$f":"IF(ESTUDIANTES!I984=0,\" \",ESTUDIANTES!I984)","v":" "}," "," "," "]
[32,{"$f":"IF(ESTUDIANTES!G985=0,\"\",ESTUDIANTES!G985)","v":""},{"$f":"IF(ESTUDIANTES!I985=0,\" \",ESTUDIANTES!I985)","v":" "}," "," "," "]
[33,{"$f":"IF(ESTUDIANTES!G986=0,\"\",ESTUDIANTES!G986)","v":""},{"$f":"IF(ESTUDIANTES!I986=0,\" \",ESTUDIANTES!I986)","v":" "}," "," "," "]
[34,{"$f":"IF(ESTUDIANTES!G987=0,\"\",ESTUDIANTES!G987)","v":""},{"$f":"IF(ESTUDIANTES!I987=0,\" \",ESTUDIANTES!I987)","v":" "}," "," "," "]
[35,{"$f":"IF(ESTUDIANTES!G988=0,\"\",ESTUDIANTES!G988)","v":""},{"$f":"IF(ESTUDIANTES!I988=0,\" \",ESTUDIANTES!I988)","v":" "}," "," "," "]
[36,{"$f":"IF(ESTUDIANTES!G989=0,\"\",ESTUDIANTES!G989)","v":""},{"$f":"IF(ESTUDIANTES!I989=0,\" \",ESTUDIANTES!I989)","v":" "}," "," "," "]
[37,{"$f":"IF(ESTUDIANTES!G990=0,\"\",ESTUDIANTES!G990)","v":""},{"$f":"IF(ESTUDIANTES!I990=0,\" \",ESTUDIANTES!I990)","v":" "}," "," "," "]
[38,{"$f":"IF(ESTUDIANTES!G991=0,\"\",ESTUDIANTES!G991)","v":""},{"$f":"IF(ESTUDIANTES!I991=0,\" \",ESTUDIANTES!I991)","v":" "}," "," "," "]
[39,{"$f":"IF(ESTUDIANTES!G992=0,\"\",ESTUDIANTES!G992)","v":""},{"$f":"IF(ESTUDIANTES!I992=0,\" \",ESTUDIANTES!I992)","v":" "}," "," "," "]
[40,{"$f":"IF(ESTUDIANTES!G993=0,\"\",ESTUDIANTES!G993)","v":""},{"$f":"IF(ESTUDIANTES!I993=0,\" \",ESTUDIANTES!I993)","v":" "}," "," "," "]
[41,{"$f":"IF(ESTUDIANTES!G994=0,\"\",ESTUDIANTES!G994)","v":""},{"$f":"IF(ESTUDIANTES!I994=0,\" \",ESTUDIANTES!I994)","v":" "}," "," "," "]
[42,{"$f":"IF(ESTUDIANTES!G995=0,\"\",ESTUDIANTES!G995)","v":""},{"$f":"IF(ESTUDIANTES!I995=0,\" \",ESTUDIANTES!I995)","v":" "}," "," "," "]
[43,{"$f":"IF(ESTUDIANTES!G996=0,\"\",ESTUDIANTES!G996)","v":""},{"$f":"IF(ESTUDIANTES!I996=0,\" \",ESTUDIANTES!I996)","v":" "}," "," "," "]
[44,{"$f":"IF(ESTUDIANTES!G997=0,\"\",ESTUDIANTES!G997)","v":""},{"$f":"IF(ESTUDIANTES!I997=0,\" \",ESTUDIANTES!I997)","v":" "}," "," "," "]
[45,{"$f":"IF(ESTUDIANTES!G998=0,\"\",ESTUDIANTES!G998)","v":""},{"$f":"IF(ESTUDIANTES!I998=0,\" \",ESTUDIANTES!I998)","v":" "}," "," "," "]
[46,{"$f":"IF(ESTUDIANTES!G999=0,\"\",ESTUDIANTES!G999)","v":""},{"$f":"IF(ESTUDIANTES!I999=0,\" \",ESTUDIANTES!I999)","v":" "}," "," "," "]
[47,{"$f":"IF(ESTUDIANTES!G1000=0,\"\",ESTUDIANTES!G1000)","v":""},{"$f":"IF(ESTUDIANTES!I1000=0,\" \",ESTUDIANTES!I1000)","v":" "}," "," "," "]
[48,{"$f":"IF(ESTUDIANTES!G1001=0,\"\",ESTUDIANTES!G1001)","v":""},{"$f":"IF(ESTUDIANTES!I1001=0,\" \",ESTUDIANTES!I1001)","v":" "}," "," "," "]
[49,{"$f":"IF(ESTUDIANTES!G1002=0,\"\",ESTUDIANTES!G1002)","v":""},{"$f":"IF(ESTUDIANTES!I1002=0,\" \",ESTUDIANTES!I1002)","v":" "}," "," "," "]
[50,{"$f":"IF(ESTUDIANTES!G1003=0,\"\",ESTUDIANTES!G1003)","v":""},{"$f":"IF(ESTUDIANTES!I1003=0,\" \",ESTUDIANTES!I1003)","v":" "}," "," "," "]
[]
[{"$f":"DATOS!$B$3","v":"COLEGIO BACHILLERATO PCEI \"SIN FRONTERAS\""}]
[]
[null,"GRADO/CURSO:",{"$f":"DATOS!$E23","v":0}]
[null,"NIVEL:",{"$f":"DATOS!$F23","v":0}]
[null,"PARALELO:",{"$f":"DATOS!$G23","v":0}]
[null,"TUTOR:",{"$f":"DATOS!$H23","v":0}]
[]
["Nro","NOMBRES Y APELLIDOS","F.N","AÑOS","MESES","DIAS"]
[1,{"$f":"IF(ESTUDIANTES!G1004=0,\"\",ESTUDIANTES!G1004)","v":""},{"$f":"IF(ESTUDIANTES!I1004=0,\" \",ESTUDIANTES!I1004)","v":" "},{"$f":"IFERROR(DATEDIF(C1189,TODAY(),\"Y\"),\" \")","v":" "},{"$f":"IFERROR(DATEDIF(C1189,TODAY(),\"YM\"),\" \")","v":" "},{"$f":"IFERROR(DATEDIF(C1189,TODAY(),\"MD\"),\" \")","v":" "}]
[2,{"$f":"IF(ESTUDIANTES!G1005=0,\"\",ESTUDIANTES!G1005)","v":""},{"$f":"IF(ESTUDIANTES!I1005=0,\" \",ESTUDIANTES!I1005)","v":" "},{"$f":"IFERROR(DATEDIF(C1190,TODAY(),\"Y\"),\" \")","v":" "},{"$f":"IFERROR(DATEDIF(C1190,TODAY(),\"YM\"),\" \")","v":" "},{"$f":"IFERROR(DATEDIF(C1190,TODAY(),\"MD\"),\" \")","v":" "}]
[3,{"$f":"IF(ESTUDIANTES!G1006=0,\"\",ESTUDIANTES!G1006)","v":""},{"$f":"IF(ESTUDIANTES!I1006=0,\" \",ESTUDIANTES!I1006)","v":" "}," "," "," "]
[4,{"$f":"IF(ESTUDIANTES!G1007=0,\"\",ESTUDIANTES!G1007)","v":""},{"$f":"IF(ESTUDIANTES!I1007=0,\" \",ESTUDIANTES!I1007)","v":" "}," "," "," "]
[5,{"$f":"IF(ESTUDIANTES!G1008=0,\"\",ESTUDIANTES!G1008)","v":""},{"$f":"IF(ESTUDIANTES!I1008=0,\" \",ESTUDIANTES!I1008)","v":" "}," "," "," "]
[6,{"$f":"IF(ESTUDIANTES!G1009=0,\"\",ESTUDIANTES!G1009)","v":""},{"$f":"IF(ESTUDIANTES!I1009=0,\" \",ESTUDIANTES!I1009)","v":" "}," "," "," "]
[7,{"$f":"IF(ESTUDIANTES!G1010=0,\"\",ESTUDIANTES!G1010)","v":""},{"$f":"IF(ESTUDIANTES!I1010=0,\" \",ESTUDIANTES!I1010)","v":" "}," "," "," "]
[8,{"$f":"IF(ESTUDIANTES!G1011=0,\"\",ESTUDIANTES!G1011)","v":""},{"$f":"IF(ESTUDIANTES!I1011=0,\" \",ESTUDIANTES!I1011)","v":" "}," "," "," "]
[9,{"$f":"IF(ESTUDIANTES!G1012=0,\"\",ESTUDIANTES!G1012)","v":""},{"$f":"IF(ESTUDIANTES!I1012=0,\" \",ESTUDIANTES!I1012)","v":" "}," "," "," "]
[10,{"$f":"IF(ESTUDIANTES!G1013=0,\"\",ESTUDIANTES!G1013)","v":""},{"$f":"IF(ESTUDIANTES!I1013=0,\" \",ESTUDIANTES!I1013)","v":" "}," "," "," "]
[11,{"$f":"IF(ESTUDIANTES!G1014=0,\"\",ESTUDIANTES!G1014)","v":""},{"$f":"IF(ESTUDIANTES!I1014=0,\" \",ESTUDIANTES!I1014)","v":" "}," "," "," "]
[12,{"$f":"IF(ESTUDIANTES!G1015=0,\"\",ESTUDIANTES!G1015)","v":""},{"$f":"IF(ESTUDIANTES!I1015=0,\" \",ESTUDIANTES!I1015)","v":" "}," "," "," "]
[13,{"$f":"IF(ESTUDIANTES!G1016=0,\"\",ESTUDIANTES!G1016)","v":""},{"$f":"IF(ESTUDIANTES!I1016=0,\" \",ESTUDIANTES!I1016)","v":" "}," "," "," "]
[14,{"$f":"IF(ESTUDIANTES!G1017=0,\"\",ESTUDIANTES!G1017)","v":""},{"$f":"IF(ESTUDIANTES!I1017=0,\" \",ESTUDIANTES!I1017)","v":" "}," "," "," "]
[15,{"$f":"IF(ESTUDIANTES!G1018=0,\"\",ESTUDIANTES!G1018)","v":""},{"$f":"IF(ESTUDIANTES!I1018=0,\" \",ESTUDIANTES!I1018)","v":" "}," "," "," "]
[16,{"$f":"IF(ESTUDIANTES!G1019=0,\"\",ESTUDIANTES!G1019)","v":""},{"$f":"IF(ESTUDIANTES!I1019=0,\" \",ESTUDIANTES!I1019)","v":" "}," "," "," "]
[17,{"$f":"IF(ESTUDIANTES!G1020=0,\"\",ESTUDIANTES!G1020)","v":""},{"$f":"IF(ESTUDIANTES!I1020=0,\" \",ESTUDIANTES!I1020)","v":" "}," "," "," "]
[18,{"$f":"IF(ESTUDIANTES!G1021=0,\"\",ESTUDIANTES!G1021)","v":""},{"$f":"IF(ESTUDIANTES!I1021=0,\" \",ESTUDIANTES!I1021)","v":" "}," "," "," "]
[19,{"$f":"IF(ESTUDIANTES!G1022=0,\"\",ESTUDIANTES!G1022)","v":""},{"$f":"IF(ESTUDIANTES!I1022=0,\" \",ESTUDIANTES!I1022)","v":" "}," "," "," "]
[20,{"$f":"IF(ESTUDIANTES!G1023=0,\"\",ESTUDIANTES!G1023)","v":""},{"$f":"IF(ESTUDIANTES!I1023=0,\" \",ESTUDIANTES!I1023)","v":" "}," "," "," "]
[21,{"$f":"IF(ESTUDIANTES!G1024=0,\"\",ESTUDIANTES!G1024)","v":""},{"$f":"IF(ESTUDIANTES!I1024=0,\" \",ESTUDIANTES!I1024)","v":" "}," "," "," "]
[22,{"$f":"IF(ESTUDIANTES!G1025=0,\"\",ESTUDIANTES!G1025)","v":""},{"$f":"IF(ESTUDIANTES!I1025=0,\" \",ESTUDIANTES!I1025)","v":" "}," "," "," "]
[23,{"$f":"IF(ESTUDIANTES!G1026=0,\"\",ESTUDIANTES!G1026)","v":""},{"$f":"IF(ESTUDIANTES!I1026=0,\" \",ESTUDIANTES!I1026)","v":" "}," "," "," "]
[24,{"$f":"IF(ESTUDIANTES!G1027=0,\"\",ESTUDIANTES!G1027)","v":""},{"$f":"IF(ESTUDIANTES!I1027=0,\" \",ESTUDIANTES!I1027)","v":" "}," "," "," "]
[25,{"$f":"IF(ESTUDIANTES!G1028=0,\"\",ESTUDIANTES!G1028)","v":""},{"$f":"IF(ESTUDIANTES!I1028=0,\" \",ESTUDIANTES!I1028)","v":" "}," "," "," "]
[26,{"$f":"IF(ESTUDIANTES!G1029=0,\"\",ESTUDIANTES!G1029)","v":""},{"$f":"IF(ESTUDIANTES!I1029=0,\" \",ESTUDIANTES!I1029)","v":" "}," "," "," "]
[27,{"$f":"IF(ESTUDIANTES!G1030=0,\"\",ESTUDIANTES!G1030)","v":""},{"$f":"IF(ESTUDIANTES!I1030=0,\" \",ESTUDIANTES!I1030)","v":" "}," "," "," "]
[28,{"$f":"IF(ESTUDIANTES!G1031=0,\"\",ESTUDIANTES!G1031)","v":""},{"$f":"IF(ESTUDIANTES!I1031=0,\" \",ESTUDIANTES!I1031)","v":" "}," "," "," "]
[29,{"$f":"IF(ESTUDIANTES!G1032=0,\"\",ESTUDIANTES!G1032)","v":""},{"$f":"IF(ESTUDIANTES!I1032=0,\" \",ESTUDIANTES!I1032)","v":" "}," "," "," "]
[30,{"$f":"IF(ESTUDIANTES!G1033=0,\"\",ESTUDIANTES!G1033)","v":""},{"$f":"IF(ESTUDIANTES!I1033=0,\" \",ESTUDIANTES!I1033)","v":" "}," "," "," "]
[31,{"$f":"IF(ESTUDIANTES!G1034=0,\"\",ESTUDIANTES!G1034)","v":""},{"$f":"IF(ESTUDIANTES!I1034=0,\" \",ESTUDIANTES!I1034)","v":" "}," "," "," "]
[32,{"$f":"IF(ESTUDIANTES!G1035=0,\"\",ESTUDIANTES!G1035)","v":""},{"$f":"IF(ESTUDIANTES!I1035=0,\" \",ESTUDIANTES!I1035)","v":" "}," "," "," "]
[33,{"$f":"IF(ESTUDIANTES!G1036=0,\"\",ESTUDIANTES!G1036)","v":""},{"$f":"IF(ESTUDIANTES!I1036=0,\" \",ESTUDIANTES!I1036)","v":" "}," "," "," "]
[34,{"$f":"IF(ESTUDIANTES!G1037=0,\"\",ESTUDIANTES!G1037)","v":""},{"$f":"IF(ESTUDIANTES!I1037=0,\" \",ESTUDIANTES!I1037)","v":" "}," "," "," "]
[35,{"$f":"IF(ESTUDIANTES!G1038=0,\"\",ESTUDIANTES!G1038)","v":""},{"$f":"IF(ESTUDIANTES!I1038=0,\" \",ESTUDIANTES!I1038)","v":" "}," "," "," "]
[36,{"$f":"IF(ESTUDIANTES!G1039=0,\"\",ESTUDIANTES!G1039)","v":""},{"$f":"IF(ESTUDIANTES!I1039=0,\" \",ESTUDIANTES!I1039)","v":" "}," "," "," "]
[37,{"$f":"IF(ESTUDIANTES!G1040=0,\"\",ESTUDIANTES!G1040)","v":""},{"$f":"IF(ESTUDIANTES!I1040=0,\" \",ESTUDIANTES!I1040)","v":" "}," "," "," "]
[38,{"$f":"IF(ESTUDIANTES!G1041=0,\"\",ESTUDIANTES!G1041)","v":""},{"$f":"IF(ESTUDIANTES!I1041=0,\" \",ESTUDIANTES!I1041)","v":" "}," "," "," "]
[39,{"$f":"IF(ESTUDIANTES!G1042=0,\"\",ESTUDIANTES!G1042)","v":""},{"$f":"IF(ESTUDIANTES!I1042=0,\" \",ESTUDIANTES!I1042)","v":" "}," "," "," "]
[40,{"$f":"IF(ESTUDIANTES!G1043=0,\"\",ESTUDIANTES!G1043)","v":""},{"$f":"IF(ESTUDIANTES!I1043=0,\" \",ESTUDIANTES!I1043)","v":" "}," "," "," "]
[41,{"$f":"IF(ESTUDIANTES!G1044=0,\"\",ESTUDIANTES!G1044)","v":""},{"$f":"IF(ESTUDIANTES!I1044=0,\" \",ESTUDIANTES!I1044)","v":" "}," "," "," "]
[42,{"$f":"IF(ESTUDIANTES!G1045=0,\"\",ESTUDIANTES!G1045)","v":""},{"$f":"IF(ESTUDIANTES!I1045=0,\" \",ESTUDIANTES!I1045)","v":" "}," "," "," "]
[43,{"$f":"IF(ESTUDIANTES!G1046=0,\"\",ESTUDIANTES!G1046)","v":""},{"$f":"IF(ESTUDIANTES!I1046=0,\" \",ESTUDIANTES!I1046)","v":" "}," "," "," "]
[44,{"$f":"IF(ESTUDIANTES!G1047=0,\"\",ESTUDIANTES!G1047)","v":""},{"$f":"IF(ESTUDIANTES!I1047=0,\" \",ESTUDIANTES!I1047)","v":" "}," "," "," "]
[45,{"$f":"IF(ESTUDIANTES!G1048=0,\"\",ESTUDIANTES!G1048)","v":""},{"$f":"IF(ESTUDIANTES!I1048=0,\" \",ESTUDIANTES!I1048)","v":" "}," "," "," "]
[46,{"$f":"IF(ESTUDIANTES!G1049=0,\"\",ESTUDIANTES!G1049)","v":""},{"$f":"IF(ESTUDIANTES!I1049=0,\" \",ESTUDIANTES!I1049)","v":" "}," "," "," "]
[47,{"$f":"IF(ESTUDIANTES!G1050=0,\"\",ESTUDIANTES!G1050)","v":""},{"$f":"IF(ESTUDIANTES!I1050=0,\" \",ESTUDIANTES!I1050)","v":" "}," "," "," "]
[48,{"$f":"IF(ESTUDIANTES!G1051=0,\"\",ESTUDIANTES!G1051)","v":""},{"$f":"IF(ESTUDIANTES!I1051=0,\" \",ESTUDIANTES!I1051)","v":" "}," "," "," "]
[49,{"$f":"IF(ESTUDIANTES!G1052=0,\"\",ESTUDIANTES!G1052)","v":""},{"$f":"IF(ESTUDIANTES!I1052=0,\" \",ESTUDIANTES!I1052)","v":" "}," "," "," "]
[50,{"$f":"IF(ESTUDIANTES!G1053=0,\"\",ESTUDIANTES!G1053)","v":""},{"$f":"IF(ESTUDIANTES!I1053=0,\" \",ESTUDIANTES!I1053)","v":" "}," "," "," "]
[]
[{"$f":"DATOS!$B$3","v":"COLEGIO BACHILLERATO PCEI \"SIN FRONTERAS\""}]
[]
[null,"GRADO/CURSO:",{"$f":"DATOS!$E24","v":0}]
[null,"NIVEL:",{"$f":"DATOS!$F24","v":0}]
[null,"PARALELO:",{"$f":"DATOS!$G24","v":0}]
[null,"TUTOR:",{"$f":"DATOS!$H24","v":0}]
[]
["Nro","NOMBRES Y APELLIDOS","F.N","AÑOS","MESES","DIAS"]
[1,{"$f":"IF(ESTUDIANTES!G1054=0,\"\",ESTUDIANTES!G1054)","v":""},{"$f":"IF(ESTUDIANTES!I1054=0,\" \",ESTUDIANTES!I1054)","v":" "},{"$f":"IFERROR(DATEDIF(C1248,TODAY(),\"Y\"),\" \")","v":" "},{"$f":"IFERROR(DATEDIF(C1248,TODAY(),\"YM\"),\" \")","v":" "},{"$f":"IFERROR(DATEDIF(C1248,TODAY(),\"MD\"),\" \")","v":" "}]
[2,{"$f":"IF(ESTUDIANTES!G1055=0,\"\",ESTUDIANTES!G1055)","v":""},{"$f":"IF(ESTUDIANTES!I1055=0,\" \",ESTUDIANTES!I1055)","v":" "},{"$f":"IFERROR(DATEDIF(C1249,TODAY(),\"Y\"),\" \")","v":" "},{"$f":"IFERROR(DATEDIF(C1249,TODAY(),\"YM\"),\" \")","v":" "},{"$f":"IFERROR(DATEDIF(C1249,TODAY(),\"MD\"),\" \")","v":" "}]
[3,{"$f":"IF(ESTUDIANTES!G1056=0,\"\",ESTUDIANTES!G1056)","v":""},{"$f":"IF(ESTUDIANTES!I1056=0,\" \",ESTUDIANTES!I1056)","v":" "}," "," "," "]
[4,{"$f":"IF(ESTUDIANTES!G1057=0,\"\",ESTUDIANTES!G1057)","v":""},{"$f":"IF(ESTUDIANTES!I1057=0,\" \",ESTUDIANTES!I1057)","v":" "}," "," "," "]
[5,{"$f":"IF(ESTUDIANTES!G1058=0,\"\",ESTUDIANTES!G1058)","v":""},{"$f":"IF(ESTUDIANTES!I1058=0,\" \",ESTUDIANTES!I1058)","v":" "}," "," "," "]
[6,{"$f":"IF(ESTUDIANTES!G1059=0,\"\",ESTUDIANTES!G1059)","v":""},{"$f":"IF(ESTUDIANTES!I1059=0,\" \",ESTUDIANTES!I1059)","v":" "}," "," "," "]
[7,{"$f":"IF(ESTUDIANTES!G1060=0,\"\",ESTUDIANTES!G1060)","v":""},{"$f":"IF(ESTUDIANTES!I1060=0,\" \",ESTUDIANTES!I1060)","v":" "}," "," "," "]
[8,{"$f":"IF(ESTUDIANTES!G1061=0,\"\",ESTUDIANTES!G1061)","v":""},{"$f":"IF(ESTUDIANTES!I1061=0,\" \",ESTUDIANTES!I1061)","v":" "}," "," "," "]
[9,{"$f":"IF(ESTUDIANTES!G1062=0,\"\",ESTUDIANTES!G1062)","v":""},{"$f":"IF(ESTUDIANTES!I1062=0,\" \",ESTUDIANTES!I1062)","v":" "}," "," "," "]
[10,{"$f":"IF(ESTUDIANTES!G1063=0,\"\",ESTUDIANTES!G1063)","v":""},{"$f":"IF(ESTUDIANTES!I1063=0,\" \",ESTUDIANTES!I1063)","v":" "}," "," "," "]
[11,{"$f":"IF(ESTUDIANTES!G1064=0,\"\",ESTUDIANTES!G1064)","v":""},{"$f":"IF(ESTUDIANTES!I1064=0,\" \",ESTUDIANTES!I1064)","v":" "}," "," "," "]
[12,{"$f":"IF(ESTUDIANTES!G1065=0,\"\",ESTUDIANTES!G1065)","v":""},{"$f":"IF(ESTUDIANTES!I1065=0,\" \",ESTUDIANTES!I1065)","v":" "}," "," "," "]
[13,{"$f":"IF(ESTUDIANTES!G1066=0,\"\",ESTUDIANTES!G1066)","v":""},{"$f":"IF(ESTUDIANTES!I1066=0,\" \",ESTUDIANTES!I1066)","v":" "}," "," "," "]
[14,{"$f":"IF(ESTUDIANTES!G1067=0,\"\",ESTUDIANTES!G1067)","v":""},{"$f":"IF(ESTUDIANTES!I1067=0,\" \",ESTUDIANTES!I1067)","v":" "}," "," "," "]
[15,{"$f":"IF(ESTUDIANTES!G1068=0,\"\",ESTUDIANTES!G1068)","v":""},{"$f":"IF(ESTUDIANTES!I1068=0,\" \",ESTUDIANTES!I1068)","v":" "}," "," "," "]
[16,{"$f":"IF(ESTUDIANTES!G1069=0,\"\",ESTUDIANTES!G1069)","v":""},{"$f":"IF(ESTUDIANTES!I1069=0,\" \",ESTUDIANTES!I1069)","v":" "}," "," "," "]
[17,{"$f":"IF(ESTUDIANTES!G1070=0,\"\",ESTUDIANTES!G1070)","v":""},{"$f":"IF(ESTUDIANTES!I1070=0,\" \",ESTUDIANTES!I1070)","v":" "}," "," "," "]
[18,{"$f":"IF(ESTUDIANTES!G1071=0,\"\",ESTUDIANTES!G1071)","v":""},{"$f":"IF(ESTUDIANTES!I1071=0,\" \",ESTUDIANTES!I1071)","v":" "}," "," "," "]
[19,{"$f":"IF(ESTUDIANTES!G1072=0,\"\",ESTUDIANTES!G1072)","v":""},{"$f":"IF(ESTUDIANTES!I1072=0,\" \",ESTUDIANTES!I1072)","v":" "}," "," "," "]
[20,{"$f":"IF(ESTUDIANTES!G1073=0,\"\",ESTUDIANTES!G1073)","v":""},{"$f":"IF(ESTUDIANTES!I1073=0,\" \",ESTUDIANTES!I1073)","v":" "}," "," "," "]
[21,{"$f":"IF(ESTUDIANTES!G1074=0,\"\",ESTUDIANTES!G1074)","v":""},{"$f":"IF(ESTUDIANTES!I1074=0,\" \",ESTUDIANTES!I1074)","v":" "}," "," "," "]
[22,{"$f":"IF(ESTUDIANTES!G1075=0,\"\",ESTUDIANTES!G1075)","v":""},{"$f":"IF(ESTUDIANTES!I1075=0,\" \",ESTUDIANTES!I1075)","v":" "}," "," "," "]
[23,{"$f":"IF(ESTUDIANTES!G1076=0,\"\",ESTUDIANTES!G1076)","v":""},{"$f":"IF(ESTUDIANTES!I1076=0,\" \",ESTUDIANTES!I1076)","v":" "}," "," "," "]
[24,{"$f":"IF(ESTUDIANTES!G1077=0,\"\",ESTUDIANTES!G1077)","v":""},{"$f":"IF(ESTUDIANTES!I1077=0,\" \",ESTUDIANTES!I1077)","v":" "}," "," "," "]
[25,{"$f":"IF(ESTUDIANTES!G1078=0,\"\",ESTUDIANTES!G1078)","v":""},{"$f":"IF(ESTUDIANTES!I1078=0,\" \",ESTUDIANTES!I1078)","v":" "}," "," "," "]
[26,{"$f":"IF(ESTUDIANTES!G1079=0,\"\",ESTUDIANTES!G1079)","v":""},{"$f":"IF(ESTUDIANTES!I1079=0,\" \",ESTUDIANTES!I1079)","v":" "}," "," "," "]
[27,{"$f":"IF(ESTUDIANTES!G1080=0,\"\",ESTUDIANTES!G1080)","v":""},{"$f":"IF(ESTUDIANTES!I1080=0,\" \",ESTUDIANTES!I1080)","v":" "}," "," "," "]
[28,{"$f":"IF(ESTUDIANTES!G1081=0,\"\",ESTUDIANTES!G1081)","v":""},{"$f":"IF(ESTUDIANTES!I1081=0,\" \",ESTUDIANTES!I1081)","v":" "}," "," "," "]
[29,{"$f":"IF(ESTUDIANTES!G1082=0,\"\",ESTUDIANTES!G1082)","v":""},{"$f":"IF(ESTUDIANTES!I1082=0,\" \",ESTUDIANTES!I1082)","v":" "}," "," "," "]
[30,{"$f":"IF(ESTUDIANTES!G1083=0,\"\",ESTUDIANTES!G1083)","v":""},{"$f":"IF(ESTUDIANTES!I1083=0,\" \",ESTUDIANTES!I1083)","v":" "}," "," "," "]
[31,{"$f":"IF(ESTUDIANTES!G1084=0,\"\",ESTUDIANTES!G1084)","v":""},{"$f":"IF(ESTUDIANTES!I1084=0,\" \",ESTUDIANTES!I1084)","v":" "}," "," "," "]
[32,{"$f":"IF(ESTUDIANTES!G1085=0,\"\",ESTUDIANTES!G1085)","v":""},{"$f":"IF(ESTUDIANTES!I1085=0,\" \",ESTUDIANTES!I1085)","v":" "}," "," "," "]
[33,{"$f":"IF(ESTUDIANTES!G1086=0,\"\",ESTUDIANTES!G1086)","v":""},{"$f":"IF(ESTUDIANTES!I1086=0,\" \",ESTUDIANTES!I1086)","v":" "}," "," "," "]
[34,{"$f":"IF(ESTUDIANTES!G1087=0,\"\",ESTUDIANTES!G1087)","v":""},{"$f":"IF(ESTUDIANTES!I1087=0,\" \",ESTUDIANTES!I1087)","v":" "}," "," "," "]
[35,{"$f":"IF(ESTUDIANTES!G1088=0,\"\",ESTUDIANTES!G1088)","v":""},{"$f":"IF(ESTUDIANTES!I1088=0,\" \",ESTUDIANTES!I1088)","v":" "}," "," "," "]
[36,{"$f":"IF(ESTUDIANTES!G1089=0,\"\",ESTUDIANTES!G1089)","v":""},{"$f":"IF(ESTUDIANTES!I1089=0,\" \",ESTUDIANTES!I1089)","v":" "}," "," "," "]
[37,{"$f":"IF(ESTUDIANTES!G1090=0,\"\",ESTUDIANTES!G1090)","v":""},{"$f":"IF(ESTUDIANTES!I1090=0,\" \",ESTUDIANTES!I1090)","v":" "}," "," "," "]
[38,{"$f":"IF(ESTUDIANTES!G1091=0,\"\",ESTUDIANTES!G1091)","v":""},{"$f":"IF(ESTUDIANTES!I1091=0,\" \",ESTUDIANTES!I1091)","v":" "}," "," "," "]
[39,{"$f":"IF(ESTUDIANTES!G1092=0,\"\",ESTUDIANTES!G1092)","v":""},{"$f":"IF(ESTUDIANTES!I1092=0,\" \",ESTUDIANTES!I1092)","v":" "}," "," "," "]
[40,{"$f":"IF(ESTUDIANTES!G1093=0,\"\",ESTUDIANTES!G1093)","v":""},{"$f":"IF(ESTUDIANTES!I1093=0,\" \",ESTUDIANTES!I1093)","v":" "}," "," "," "]
[41,{"$f":"IF(ESTUDIANTES!G1094=0,\"\",ESTUDIANTES!G1094)","v":""},{"$f":"IF(ESTUDIANTES!I1094=0,\" \",ESTUDIANTES!I1094)","v":" "}," "," "," "]
[42,{"$f":"IF(ESTUDIANTES!G1095=0,\"\",ESTUDIANTES!G1095)","v":""},{"$f":"IF(ESTUDIANTES!I1095=0,\" \",ESTUDIANTES!I1095)","v":" "}," "," "," "]
[43,{"$f":"IF(ESTUDIANTES!G1096=0,\"\",ESTUDIANTES!G1096)","v":""},{"$f":"IF(ESTUDIANTES!I1096=0,\" \",ESTUDIANTES!I1096)","v":" "}," "," "," "]
[44,{"$f":"IF(ESTUDIANTES!G1097=0,\"\",ESTUDIANTES!G1097)","v":""},{"$f":"IF(ESTUDIANTES!I1097=0,\" \",ESTUDIANTES!I1097)","v":" "}," "," "," "]
[45,{"$f":"IF(ESTUDIANTES!G1098=0,\"\",ESTUDIANTES!G1098)","v":""},{"$f":"IF(ESTUDIANTES!I1098=0,\" \",ESTUDIANTES!I1098)","v":" "}," "," "," "]
[46,{"$f":"IF(ESTUDIANTES!G1099=0,\"\",ESTUDIANTES!G1099)","v":""},{"$f":"IF(ESTUDIANTES!I1099=0,\" \",ESTUDIANTES!I1099)","v":" "}," "," "," "]
[47,{"$f":"IF(ESTUDIANTES!G1100=0,\"\",ESTUDIANTES!G1100)","v":""},{"$f":"IF(ESTUDIANTES!I1100=0,\" \",ESTUDIANTES!I1100)","v":" "}," "," "," "]
[48,{"$f":"IF(ESTUDIANTES!G1101=0,\"\",ESTUDIANTES!G1101)","v":""},{"$f":"IF(ESTUDIANTES!I1101=0,\" \",ESTUDIANTES!I1101)","v":" "}," "," "," "]
[49,{"$f":"IF(ESTUDIANTES!G1102=0,\"\",ESTUDIANTES!G1102)","v":""},{"$f":"IF(ESTUDIANTES!I1102=0,\" \",ESTUDIANTES!I1102)","v":" "}," "," "," "]
[50,{"$f":"IF(ESTUDIANTES!G1103=0,\"\",ESTUDIANTES!G1103)","v":""},{"$f":"IF(ESTUDIANTES!I1103=0,\" \",ESTUDIANTES!I1103)","v":" "}," "," "," "]
[]
[{"$f":"DATOS!$B$3","v":"COLEGIO BACHILLERATO PCEI \"SIN FRONTERAS\""}]
[]
[null,"GRADO/CURSO:",{"$f":"DATOS!$E25","v":0}]
[null,"NIVEL:",{"$f":"DATOS!$F25","v":0}]
[null,"PARALELO:",{"$f":"DATOS!$G25","v":0}]
[null,"TUTOR:",{"$f":"DATOS!$H25","v":0}]
[]
["Nro","NOMBRES Y APELLIDOS","F.N","AÑOS","MESES","DIAS"]
[1,{"$f":"IF(ESTUDIANTES!G1104=0,\"\",ESTUDIANTES!G1104)","v":""},{"$f":"IF(ESTUDIANTES!I1104=0,\" \",ESTUDIANTES!I1104)","v":" "},{"$f":"IFERROR(DATEDIF(C1307,TODAY(),\"Y\"),\" \")","v":" "},{"$f":"IFERROR(DATEDIF(C1307,TODAY(),\"YM\"),\" \")","v":" "},{"$f":"IFERROR(DATEDIF(C1307,TODAY(),\"MD\"),\" \")","v":" "}]
[2,{"$f":"IF(ESTUDIANTES!G1105=0,\"\",ESTUDIANTES!G1105)","v":""},{"$f":"IF(ESTUDIANTES!I1105=0,\" \",ESTUDIANTES!I1105)","v":" "},{"$f":"IFERROR(DATEDIF(C1308,TODAY(),\"Y\"),\" \")","v":" "},{"$f":"IFERROR(DATEDIF(C1308,TODAY(),\"YM\"),\" \")","v":" "},{"$f":"IFERROR(DATEDIF(C1308,TODAY(),\"MD\"),\" \")","v":" "}]
[3,{"$f":"IF(ESTUDIANTES!G1106=0,\"\",ESTUDIANTES!G1106)","v":""},{"$f":"IF(ESTUDIANTES!I1106=0,\" \",ESTUDIANTES!I1106)","v":" "}," "," "," "]
[4,{"$f":"IF(ESTUDIANTES!G1107=0,\"\",ESTUDIANTES!G1107)","v":""},{"$f":"IF(ESTUDIANTES!I1107=0,\" \",ESTUDIANTES!I1107)","v":" "}," "," "," "]
[5,{"$f":"IF(ESTUDIANTES!G1108=0,\"\",ESTUDIANTES!G1108)","v":""},{"$f":"IF(ESTUDIANTES!I1108=0,\" \",ESTUDIANTES!I1108)","v":" "}," "," "," "]
[6,{"$f":"IF(ESTUDIANTES!G1109=0,\"\",ESTUDIANTES!G1109)","v":""},{"$f":"IF(ESTUDIANTES!I1109=0,\" \",ESTUDIANTES!I1109)","v":" "}," "," "," "]
[7,{"$f":"IF(ESTUDIANTES!G1110=0,\"\",ESTUDIANTES!G1110)","v":""},{"$f":"IF(ESTUDIANTES!I1110=0,\" \",ESTUDIANTES!I1110)","v":" "}," "," "," "]
[8,{"$f":"IF(ESTUDIANTES!G1111=0,\"\",ESTUDIANTES!G1111)","v":""},{"$f":"IF(ESTUDIANTES!I1111=0,\" \",ESTUDIANTES!I1111)","v":" "}," "," "," "]
[9,{"$f":"IF(ESTUDIANTES!G1112=0,\"\",ESTUDIANTES!G1112)","v":""},{"$f":"IF(ESTUDIANTES!I1112=0,\" \",ESTUDIANTES!I1112)","v":" "}," "," "," "]
[10,{"$f":"IF(ESTUDIANTES!G1113=0,\"\",ESTUDIANTES!G1113)","v":""},{"$f":"IF(ESTUDIANTES!I1113=0,\" \",ESTUDIANTES!I1113)","v":" "}," "," "," "]
[11,{"$f":"IF(ESTUDIANTES!G1114=0,\"\",ESTUDIANTES!G1114)","v":""},{"$f":"IF(ESTUDIANTES!I1114=0,\" \",ESTUDIANTES!I1114)","v":" "}," "," "," "]
[12,{"$f":"IF(ESTUDIANTES!G1115=0,\"\",ESTUDIANTES!G1115)","v":""},{"$f":"IF(ESTUDIANTES!I1115=0,\" \",ESTUDIANTES!I1115)","v":" "}," "," "," "]
[13,{"$f":"IF(ESTUDIANTES!G1116=0,\"\",ESTUDIANTES!G1116)","v":""},{"$f":"IF(ESTUDIANTES!I1116=0,\" \",ESTUDIANTES!I1116)","v":" "}," "," "," "]
[14,{"$f":"IF(ESTUDIANTES!G1117=0,\"\",ESTUDIANTES!G1117)","v":""},{"$f":"IF(ESTUDIANTES!I1117=0,\" \",ESTUDIANTES!I1117)","v":" "}," "," "," "]
[15,{"$f":"IF(ESTUDIANTES!G1118=0,\"\",ESTUDIANTES!G1118)","v":""},{"$f":"IF(ESTUDIANTES!I1118=0,\" \",ESTUDIANTES!I1118)","v":" "}," "," "," "]
[16,{"$f":"IF(ESTUDIANTES!G1119=0,\"\",ESTUDIANTES!G1119)","v":""},{"$f":"IF(ESTUDIANTES!I1119=0,\" \",ESTUDIANTES!I1119)","v":" "}," "," "," "]
[17,{"$f":"IF(ESTUDIANTES!G1120=0,\"\",ESTUDIANTES!G1120)","v":""},{"$f":"IF(ESTUDIANTES!I1120=0,\" \",ESTUDIANTES!I1120)","v":" "}," "," "," "]
[18,{"$f":"IF(ESTUDIANTES!G1121=0,\"\",ESTUDIANTES!G1121)","v":""},{"$f":"IF(ESTUDIANTES!I1121=0,\" \",ESTUDIANTES!I1121)","v":" "}," "," "," "]
[19,{"$f":"IF(ESTUDIANTES!G1122=0,\"\",ESTUDIANTES!G1122)","v":""},{"$f":"IF(ESTUDIANTES!I1122=0,\" \",ESTUDIANTES!I1122)","v":" "}," "," "," "]
[20,{"$f":"IF(ESTUDIANTES!G1123=0,\"\",ESTUDIANTES!G1123)","v":""},{"$f":"IF(ESTUDIANTES!I1123=0,\" \",ESTUDIANTES!I1123)","v":" "}," "," "," "]
[21,{"$f":"IF(ESTUDIANTES!G1124=0,\"\",ESTUDIANTES!G1124)","v":""},{"$f":"IF(ESTUDIANTES!I1124=0,\" \",ESTUDIANTES!I1124)","v":" "}," "," "," "]
[22,{"$f":"IF(ESTUDIANTES!G1125=0,\"\",ESTUDIANTES!G1125)","v":""},{"$f":"IF(ESTUDIANTES!I1125=0,\" \",ESTUDIANTES!I1125)","v":" "}," "," "," "]
[23,{"$f":"IF(ESTUDIANTES!G1126=0,\"\",ESTUDIANTES!G1126)","v":""},{"$f":"IF(ESTUDIANTES!I1126=0,\" \",ESTUDIANTES!I1126)","v":" "}," "," "," "]
[24,{"$f":"IF(ESTUDIANTES!G1127=0,\"\",ESTUDIANTES!G1127)","v":""},{"$f":"IF(ESTUDIANTES!I1127=0,\" \",ESTUDIANTES!I1127)","v":" "}," "," "," "]
[25,{"$f":"IF(ESTUDIANTES!G1128=0,\"\",ESTUDIANTES!G1128)","v":""},{"$f":"IF(ESTUDIANTES!I1128=0,\" \",ESTUDIANTES!I1128)","v":" "}," "," "," "]
[26,{"$f":"IF(ESTUDIANTES!G1129=0,\"\",ESTUDIANTES!G1129)","v":""},{"$f":"IF(ESTUDIANTES!I1129=0,\" \",ESTUDIANTES!I1129)","v":" "}," "," "," "]
[27,{"$f":"IF(ESTUDIANTES!G1130=0,\"\",ESTUDIANTES!G1130)","v":""},{"$f":"IF(ESTUDIANTES!I1130=0,\" \",ESTUDIANTES!I1130)","v":" "}," "," "," "]
[28,{"$f":"IF(ESTUDIANTES!G1131=0,\"\",ESTUDIANTES!G1131)","v":""},{"$f":"IF(ESTUDIANTES!I1131=0,\" \",ESTUDIANTES!I1131)","v":" "}," "," "," "]
[29,{"$f":"IF(ESTUDIANTES!G1132=0,\"\",ESTUDIANTES!G1132)","v":""},{"$f":"IF(ESTUDIANTES!I1132=0,\" \",ESTUDIANTES!I1132)","v":" "}," "," "," "]
[30,{"$f":"IF(ESTUDIANTES!G1133=0,\"\",ESTUDIANTES!G1133)","v":""},{"$f":"IF(ESTUDIANTES!I1133=0,\" \",ESTUDIANTES!I1133)","v":" "}," "," "," "]
[31,{"$f":"IF(ESTUDIANTES!G1134=0,\"\",ESTUDIANTES!G1134)","v":""},{"$f":"IF(ESTUDIANTES!I1134=0,\" \",ESTUDIANTES!I1134)","v":" "}," "," "," "]
[32,{"$f":"IF(ESTUDIANTES!G1135=0,\"\",ESTUDIANTES!G1135)","v":""},{"$f":"IF(ESTUDIANTES!I1135=0,\" \",ESTUDIANTES!I1135)","v":" "}," "," "," "]
[33,{"$f":"IF(ESTUDIANTES!G1136=0,\"\",ESTUDIANTES!G1136)","v":""},{"$f":"IF(ESTUDIANTES!I1136=0,\" \",ESTUDIANTES!I1136)","v":" "}," "," "," "]
[34,{"$f":"IF(ESTUDIANTES!G1137=0,\"\",ESTUDIANTES!G1137)","v":""},{"$f":"IF(ESTUDIANTES!I1137=0,\" \",ESTUDIANTES!I1137)","v":" "}," "," "," "]
[35,{"$f":"IF(ESTUDIANTES!G1138=0,\"\",ESTUDIANTES!G1138)","v":""},{"$f":"IF(ESTUDIANTES!I1138=0,\" \",ESTUDIANTES!I1138)","v":" "}," "," "," "]
[36,{"$f":"IF(ESTUDIANTES!G1139=0,\"\",ESTUDIANTES!G1139)","v":""},{"$f":"IF(ESTUDIANTES!I1139=0,\" \",ESTUDIANTES!I1139)","v":" "}," "," "," "]
[37,{"$f":"IF(ESTUDIANTES!G1140=0,\"\",ESTUDIANTES!G1140)","v":""},{"$f":"IF(ESTUDIANTES!I1140=0,\" \",ESTUDIANTES!I1140)","v":" "}," "," "," "]
[38,{"$f":"IF(ESTUDIANTES!G1141=0,\"\",ESTUDIANTES!G1141)","v":""},{"$f":"IF(ESTUDIANTES!I1141=0,\" \",ESTUDIANTES!I1141)","v":" "}," "," "," "]
[39,{"$f":"IF(ESTUDIANTES!G1142=0,\"\",ESTUDIANTES!G1142)","v":""},{"$f":"IF(ESTUDIANTES!I1142=0,\" \",ESTUDIANTES!I1142)","v":" "}," "," "," "]
[40,{"$f":"IF(ESTUDIANTES!G1143=0,\"\",ESTUDIANTES!G1143)","v":""},{"$f":"IF(ESTUDIANTES!I1143=0,\" \",ESTUDIANTES!I1143)","v":" "}," "," "," "]
[41,{"$f":"IF(ESTUDIANTES!G1144=0,\"\",ESTUDIANTES!G1144)","v":""},{"$f":"IF(ESTUDIANTES!I1144=0,\" \",ESTUDIANTES!I1144)","v":" "}," "," "," "]
[42,{"$f":"IF(ESTUDIANTES!G1145=0,\"\",ESTUDIANTES!G1145)","v":""},{"$f":"IF(ESTUDIANTES!I1145=0,\" \",ESTUDIANTES!I1145)","v":" "}," "," "," "]
[43,{"$f":"IF(ESTUDIANTES!G1146=0,\"\",ESTUDIANTES!G1146)","v":""},{"$f":"IF(ESTUDIANTES!I1146=0,\" \",ESTUDIANTES!I1146)","v":" "}," "," "," "]
[44,{"$f":"IF(ESTUDIANTES!G1147=0,\"\",ESTUDIANTES!G1147)","v":""},{"$f":"IF(ESTUDIANTES!I1147=0,\" \",ESTUDIANTES!I1147)","v":" "}," "," "," "]
[45,{"$f":"IF(ESTUDIANTES!G1148=0,\"\",ESTUDIANTES!G1148)","v":""},{"$f":"IF(ESTUDIANTES!I1148=0,\" \",ESTUDIANTES!I1148)","v":" "}," "," "," "]
[46,{"$f":"IF(ESTUDIANTES!G1149=0,\"\",ESTUDIANTES!G1149)","v":""},{"$f":"IF(ESTUDIANTES!I1149=0,\" \",ESTUDIANTES!I1149)","v":" "}," "," "," "]
[47,{"$f":"IF(ESTUDIANTES!G1150=0,\"\",ESTUDIANTES!G1150)","v":""},{"$f":"IF(ESTUDIANTES!I1150=0,\" \",ESTUDIANTES!I1150)","v":" "}," "," "," "]
[48,{"$f":"IF(ESTUDIANTES!G1151=0,\"\",ESTUDIANTES!G1151)","v":""},{"$f":"IF(ESTUDIANTES!I1151=0,\" \",ESTUDIANTES!I1151)","v":" "}," "," "," "]
[49,{"$f":"IF(ESTUDIANTES!G1152=0,\"\",ESTUDIANTES!G1152)","v":""},{"$f":"IF(ESTUDIANTES!I1152=0,\" \",ESTUDIANTES!I1152)","v":" "}," "," "," "]
[50,{"$f":"IF(ESTUDIANTES!G1153=0,\"\",ESTUDIANTES!G1153)","v":""},{"$f":"IF(ESTUDIANTES!I1153=0,\" \",ESTUDIANTES!I1153)","v":" "}," "," "," "]
[]
[{"$f":"DATOS!$B$3","v":"COLEGIO BACHILLERATO PCEI \"SIN FRONTERAS\""}]
[]
[null,"GRADO/CURSO:",{"$f":"DATOS!$E26","v":0}]
[null,"NIVEL:",{"$f":"DATOS!$F26","v":0}]
[null,"PARALELO:",{"$f":"DATOS!$G26","v":0}]
[null,"TUTOR:",{"$f":"DATOS!$H26","v":0}]
[]
["Nro","NOMBRES Y APELLIDOS","F.N","AÑOS","MESES","DIAS"]
[1,{"$f":"IF(ESTUDIANTES!G1154=0,\"\",ESTUDIANTES!G1154)","v":""},{"$f":"IF(ESTUDIANTES!I1154=0,\" \",ESTUDIANTES!I1154)","v":" "},{"$f":"IFERROR(DATEDIF(C1366,TODAY(),\"Y\"),\" \")","v":" "},{"$f":"IFERROR(DATEDIF(C1366,TODAY(),\"YM\"),\" \")","v":" "},{"$f":"IFERROR(DATEDIF(C1366,TODAY(),\"MD\"),\" \")","v":" "}]
[2,{"$f":"IF(ESTUDIANTES!G1155=0,\"\",ESTUDIANTES!G1155)","v":""},{"$f":"IF(ESTUDIANTES!I1155=0,\" \",ESTUDIANTES!I1155)","v":" "},{"$f":"IFERROR(DATEDIF(C1367,TODAY(),\"Y\"),\" \")","v":" "},{"$f":"IFERROR(DATEDIF(C1367,TODAY(),\"YM\"),\" \")","v":" "},{"$f":"IFERROR(DATEDIF(C1367,TODAY(),\"MD\"),\" \")","v":" "}]
[3,{"$f":"IF(ESTUDIANTES!G1156=0,\"\",ESTUDIANTES!G1156)","v":""},{"$f":"IF(ESTUDIANTES!I1156=0,\" \",ESTUDIANTES!I1156)","v":" "}," "," "," "]
[4,{"$f":"IF(ESTUDIANTES!G1157=0,\"\",ESTUDIANTES!G1157)","v":""},{"$f":"IF(ESTUDIANTES!I1157=0,\" \",ESTUDIANTES!I1157)","v":" "}," "," "," "]
[5,{"$f":"IF(ESTUDIANTES!G1158=0,\"\",ESTUDIANTES!G1158)","v":""},{"$f":"IF(ESTUDIANTES!I1158=0,\" \",ESTUDIANTES!I1158)","v":" "}," "," "," "]
[6,{"$f":"IF(ESTUDIANTES!G1159=0,\"\",ESTUDIANTES!G1159)","v":""},{"$f":"IF(ESTUDIANTES!I1159=0,\" \",ESTUDIANTES!I1159)","v":" "}," "," "," "]
[7,{"$f":"IF(ESTUDIANTES!G1160=0,\"\",ESTUDIANTES!G1160)","v":""},{"$f":"IF(ESTUDIANTES!I1160=0,\" \",ESTUDIANTES!I1160)","v":" "}," "," "," "]
[8,{"$f":"IF(ESTUDIANTES!G1161=0,\"\",ESTUDIANTES!G1161)","v":""},{"$f":"IF(ESTUDIANTES!I1161=0,\" \",ESTUDIANTES!I1161)","v":" "}," "," "," "]
[9,{"$f":"IF(ESTUDIANTES!G1162=0,\"\",ESTUDIANTES!G1162)","v":""},{"$f":"IF(ESTUDIANTES!I1162=0,\" \",ESTUDIANTES!I1162)","v":" "}," "," "," "]
[10,{"$f":"IF(ESTUDIANTES!G1163=0,\"\",ESTUDIANTES!G1163)","v":""},{"$f":"IF(ESTUDIANTES!I1163=0,\" \",ESTUDIANTES!I1163)","v":" "}," "," "," "]
[11,{"$f":"IF(ESTUDIANTES!G1164=0,\"\",ESTUDIANTES!G1164)","v":""},{"$f":"IF(ESTUDIANTES!I1164=0,\" \",ESTUDIANTES!I1164)","v":" "}," "," "," "]
[12,{"$f":"IF(ESTUDIANTES!G1165=0,\"\",ESTUDIANTES!G1165)","v":""},{"$f":"IF(ESTUDIANTES!I1165=0,\" \",ESTUDIANTES!I1165)","v":" "}," "," "," "]
[13,{"$f":"IF(ESTUDIANTES!G1166=0,\"\",ESTUDIANTES!G1166)","v":""},{"$f":"IF(ESTUDIANTES!I1166=0,\" \",ESTUDIANTES!I1166)","v":" "}," "," "," "]
[14,{"$f":"IF(ESTUDIANTES!G1167=0,\"\",ESTUDIANTES!G1167)","v":""},{"$f":"IF(ESTUDIANTES!I1167=0,\" \",ESTUDIANTES!I1167)","v":" "}," "," "," "]
[15,{"$f":"IF(ESTUDIANTES!G1168=0,\"\",ESTUDIANTES!G1168)","v":""},{"$f":"IF(ESTUDIANTES!I1168=0,\" \",ESTUDIANTES!I1168)","v":" "}," "," "," "]
[16,{"$f":"IF(ESTUDIANTES!G1169=0,\"\",ESTUDIANTES!G1169)","v":""},{"$f":"IF(ESTUDIANTES!I1169=0,\" \",ESTUDIANTES!I1169)","v":" "}," "," "," "]
[17,{"$f":"IF(ESTUDIANTES!G1170=0,\"\",ESTUDIANTES!G1170)","v":""},{"$f":"IF(ESTUDIANTES!I1170=0,\" \",ESTUDIANTES!I1170)","v":" "}," "," "," "]
[18,{"$f":"IF(ESTUDIANTES!G1171=0,\"\",ESTUDIANTES!G1171)","v":""},{"$f":"IF(ESTUDIANTES!I1171=0,\" \",ESTUDIANTES!I1171)","v":" "}," "," "," "]
[19,{"$f":"IF(ESTUDIANTES!G1172=0,\"\",ESTUDIANTES!G1172)","v":""},{"$f":"IF(ESTUDIANTES!I1172=0,\" \",ESTUDIANTES!I1172)","v":" "}," "," "," "]
[20,{"$f":"IF(ESTUDIANTES!G1173=0,\"\",ESTUDIANTES!G1173)","v":""},{"$f":"IF(ESTUDIANTES!I1173=0,\" \",ESTUDIANTES!I1173)","v":" "}," "," "," "]
[21,{"$f":"IF(ESTUDIANTES!G1174=0,\"\",ESTUDIANTES!G1174)","v":""},{"$f":"IF(ESTUDIANTES!I1174=0,\" \",ESTUDIANTES!I1174)","v":" "}," "," "," "]
[22,{"$f":"IF(ESTUDIANTES!G1175=0,\"\",ESTUDIANTES!G1175)","v":""},{"$f":"IF(ESTUDIANTES!I1175=0,\" \",ESTUDIANTES!I1175)","v":" "}," "," "," "]
[23,{"$f":"IF(ESTUDIANTES!G1176=0,\"\",ESTUDIANTES!G1176)","v":""},{"$f":"IF(ESTUDIANTES!I1176=0,\" \",ESTUDIANTES!I1176)","v":" "}," "," "," "]
[24,{"$f":"IF(ESTUDIANTES!G1177=0,\"\",ESTUDIANTES!G1177)","v":""},{"$f":"IF(ESTUDIANTES!I1177=0,\" \",ESTUDIANTES!I1177)","v":" "}," "," "," "]
[25,{"$f":"IF(ESTUDIANTES!G1178=0,\"\",ESTUDIANTES!G1178)","v":""},{"$f":"IF(ESTUDIANTES!I1178=0,\" \",ESTUDIANTES!I1178)","v":" "}," "," "," "]
[26,{"$f":"IF(ESTUDIANTES!G1179=0,\"\",ESTUDIANTES!G1179)","v":""},{"$f":"IF(ESTUDIANTES!I1179=0,\" \",ESTUDIANTES!I1179)","v":" "}," "," "," "]
[27,{"$f":"IF(ESTUDIANTES!G1180=0,\"\",ESTUDIANTES!G1180)","v":""},{"$f":"IF(ESTUDIANTES!I1180=0,\" \",ESTUDIANTES!I1180)","v":" "}," "," "," "]
[28,{"$f":"IF(ESTUDIANTES!G1181=0,\"\",ESTUDIANTES!G1181)","v":""},{"$f":"IF(ESTUDIANTES!I1181=0,\" \",ESTUDIANTES!I1181)","v":" "}," "," "," "]
[29,{"$f":"IF(ESTUDIANTES!G1182=0,\"\",ESTUDIANTES!G1182)","v":""},{"$f":"IF(ESTUDIANTES!I1182=0,\" \",ESTUDIANTES!I1182)","v":" "}," "," "," "]
[30,{"$f":"IF(ESTUDIANTES!G1183=0,\"\",ESTUDIANTES!G1183)","v":""},{"$f":"IF(ESTUDIANTES!I1183=0,\" \",ESTUDIANTES!I1183)","v":" "}," "," "," "]
[31,{"$f":"IF(ESTUDIANTES!G1184=0,\"\",ESTUDIANTES!G1184)","v":""},{"$f":"IF(ESTUDIANTES!I1184=0,\" \",ESTUDIANTES!I1184)","v":" "}," "," "," "]
[32,{"$f":"IF(ESTUDIANTES!G1185=0,\"\",ESTUDIANTES!G1185)","v":""},{"$f":"IF(ESTUDIANTES!I1185=0,\" \",ESTUDIANTES!I1185)","v":" "}," "," "," "]
[33,{"$f":"IF(ESTUDIANTES!G1186=0,\"\",ESTUDIANTES!G1186)","v":""},{"$f":"IF(ESTUDIANTES!I1186=0,\" \",ESTUDIANTES!I1186)","v":" "}," "," "," "]
[34,{"$f":"IF(ESTUDIANTES!G1187=0,\"\",ESTUDIANTES!G1187)","v":""},{"$f":"IF(ESTUDIANTES!I1187=0,\" \",ESTUDIANTES!I1187)","v":" "}," "," "," "]
[35,{"$f":"IF(ESTUDIANTES!G1188=0,\"\",ESTUDIANTES!G1188)","v":""},{"$f":"IF(ESTUDIANTES!I1188=0,\" \",ESTUDIANTES!I1188)","v":" "}," "," "," "]
[36,{"$f":"IF(ESTUDIANTES!G1189=0,\"\",ESTUDIANTES!G1189)","v":""},{"$f":"IF(ESTUDIANTES!I1189=0,\" \",ESTUDIANTES!I1189)","v":" "}," "," "," "]
[37,{"$f":"IF(ESTUDIANTES!G1190=0,\"\",ESTUDIANTES!G1190)","v":""},{"$f":"IF(ESTUDIANTES!I1190=0,\" \",ESTUDIANTES!I1190)","v":" "}," "," "," "]
[38,{"$f":"IF(ESTUDIANTES!G1191=0,\"\",ESTUDIANTES!G1191)","v":""},{"$f":"IF(ESTUDIANTES!I1191=0,\" \",ESTUDIANTES!I1191)","v":" "}," "," "," "]
[39,{"$f":"IF(ESTUDIANTES!G1192=0,\"\",ESTUDIANTES!G1192)","v":""},{"$f":"IF(ESTUDIANTES!I1192=0,\" \",ESTUDIANTES!I1192)","v":" "}," "," "," "]
[40,{"$f":"IF(ESTUDIANTES!G1193=0,\"\",ESTUDIANTES!G1193)","v":""},{"$f":"IF(ESTUDIANTES!I1193=0,\" \",ESTUDIANTES!I1193)","v":" "}," "," "," "]
[41,{"$f":"IF(ESTUDIANTES!G1194=0,\"\",ESTUDIANTES!G1194)","v":""},{"$f":"IF(ESTUDIANTES!I1194=0,\" \",ESTUDIANTES!I1194)","v":" "}," "," "," "]
[42,{"$f":"IF(ESTUDIANTES!G1195=0,\"\",ESTUDIANTES!G1195)","v":""},{"$f":"IF(ESTUDIANTES!I1195=0,\" \",ESTUDIANTES!I1195)","v":" "}," "," "," "]
[43,{"$f":"IF(ESTUDIANTES!G1196=0,\"\",ESTUDIANTES!G1196)","v":""},{"$f":"IF(ESTUDIANTES!I1196=0,\" \",ESTUDIANTES!I1196)","v":" "}," "," "," "]
[44,{"$f":"IF(ESTUDIANTES!G1197=0,\"\",ESTUDIANTES!G1197)","v":""},{"$f":"IF(ESTUDIANTES!I1197=0,\" \",ESTUDIANTES!I1197)","v":" "}," "," "," "]
[45,{"$f":"IF(ESTUDIANTES!G1198=0,\"\",ESTUDIANTES!G1198)","v":""},{"$f":"IF(ESTUDIANTES!I1198=0,\" \",ESTUDIANTES!I1198)","v":" "}," "," "," "]
[46,{"$f":"IF(ESTUDIANTES!G1199=0,\"\",ESTUDIANTES!G1199)","v":""},{"$f":"IF(ESTUDIANTES!I1199=0,\" \",ESTUDIANTES!I1199)","v":" "}," "," "," "]
[47,{"$f":"IF(ESTUDIANTES!G1200=0,\"\",ESTUDIANTES!G1200)","v":""},{"$f":"IF(ESTUDIANTES!I1200=0,\" \",ESTUDIANTES!I1200)","v":" "}," "," "," "]
[48,{"$f":"IF(ESTUDIANTES!G1201=0,\"\",ESTUDIANTES!G1201)","v":""},{"$f":"IF(ESTUDIANTES!I1201=0,\" \",ESTUDIANTES!I1201)","v":" "}," "," "," "]
[49,{"$f":"IF(ESTUDIANTES!G1202=0,\"\",ESTUDIANTES!G1202)","v":""},{"$f":"IF(ESTUDIANTES!I1202=0,\" \",ESTUDIANTES!I1202)","v":" "}," "," "," "]
[50,{"$f":"IF(ESTUDIANTES!G1203=0,\"\",ESTUDIANTES!G1203)","v":""},{"$f":"IF(ESTUDIANTES!I1203=0,\" \",ESTUDIANTES!I1203)","v":" "}," "," "," "]
[]
[{"$f":"DATOS!$B$3","v":"COLEGIO BACHILLERATO PCEI \"SIN FRONTERAS\""}]
[]
[null,"GRADO/CURSO:",{"$f":"DATOS!$E27","v":0}]
[null,"NIVEL:",{"$f":"DATOS!$F27","v":0}]
[null,"PARALELO:",{"$f":"DATOS!$G27","v":0}]
[null,"TUTOR:",{"$f":"DATOS!$H27","v":0}]
[]
["Nro","NOMBRES Y APELLIDOS","F.N","AÑOS","MESES","DIAS"]
[1,{"$f":"IF(ESTUDIANTES!G1204=0,\"\",ESTUDIANTES!G1204)","v":""},{"$f":"IF(ESTUDIANTES!I1204=0,\" \",ESTUDIANTES!I1204)","v":" "},{"$f":"IFERROR(DATEDIF(C1425,TODAY(),\"Y\"),\" \")","v":" "},{"$f":"IFERROR(DATEDIF(C1425,TODAY(),\"YM\"),\" \")","v":" "},{"$f":"IFERROR(DATEDIF(C1425,TODAY(),\"MD\"),\" \")","v":" "}]
[2,{"$f":"IF(ESTUDIANTES!G1205=0,\"\",ESTUDIANTES!G1205)","v":""},{"$f":"IF(ESTUDIANTES!I1205=0,\" \",ESTUDIANTES!I1205)","v":" "},{"$f":"IFERROR(DATEDIF(C1426,TODAY(),\"Y\"),\" \")","v":" "},{"$f":"IFERROR(DATEDIF(C1426,TODAY(),\"YM\"),\" \")","v":" "},{"$f":"IFERROR(DATEDIF(C1426,TODAY(),\"MD\"),\" \")","v":" "}]
[3,{"$f":"IF(ESTUDIANTES!G1206=0,\"\",ESTUDIANTES!G1206)","v":""},{"$f":"IF(ESTUDIANTES!I1206=0,\" \",ESTUDIANTES!I1206)","v":" "}," "," "," "]
[4,{"$f":"IF(ESTUDIANTES!G1207=0,\"\",ESTUDIANTES!G1207)","v":""},{"$f":"IF(ESTUDIANTES!I1207=0,\" \",ESTUDIANTES!I1207)","v":" "}," "," "," "]
[5,{"$f":"IF(ESTUDIANTES!G1208=0,\"\",ESTUDIANTES!G1208)","v":""},{"$f":"IF(ESTUDIANTES!I1208=0,\" \",ESTUDIANTES!I1208)","v":" "}," "," "," "]
[6,{"$f":"IF(ESTUDIANTES!G1209=0,\"\",ESTUDIANTES!G1209)","v":""},{"$f":"IF(ESTUDIANTES!I1209=0,\" \",ESTUDIANTES!I1209)","v":" "}," "," "," "]
[7,{"$f":"IF(ESTUDIANTES!G1210=0,\"\",ESTUDIANTES!G1210)","v":""},{"$f":"IF(ESTUDIANTES!I1210=0,\" \",ESTUDIANTES!I1210)","v":" "}," "," "," "]
[8,{"$f":"IF(ESTUDIANTES!G1211=0,\"\",ESTUDIANTES!G1211)","v":""},{"$f":"IF(ESTUDIANTES!I1211=0,\" \",ESTUDIANTES!I1211)","v":" "}," "," "," "]
[9,{"$f":"IF(ESTUDIANTES!G1212=0,\"\",ESTUDIANTES!G1212)","v":""},{"$f":"IF(ESTUDIANTES!I1212=0,\" \",ESTUDIANTES!I1212)","v":" "}," "," "," "]
[10,{"$f":"IF(ESTUDIANTES!G1213=0,\"\",ESTUDIANTES!G1213)","v":""},{"$f":"IF(ESTUDIANTES!I1213=0,\" \",ESTUDIANTES!I1213)","v":" "}," "," "," "]
[11,{"$f":"IF(ESTUDIANTES!G1214=0,\"\",ESTUDIANTES!G1214)","v":""},{"$f":"IF(ESTUDIANTES!I1214=0,\" \",ESTUDIANTES!I1214)","v":" "}," "," "," "]
[12,{"$f":"IF(ESTUDIANTES!G1215=0,\"\",ESTUDIANTES!G1215)","v":""},{"$f":"IF(ESTUDIANTES!I1215=0,\" \",ESTUDIANTES!I1215)","v":" "}," "," "," "]
[13,{"$f":"IF(ESTUDIANTES!G1216=0,\"\",ESTUDIANTES!G1216)","v":""},{"$f":"IF(ESTUDIANTES!I1216=0,\" \",ESTUDIANTES!I1216)","v":" "}," "," "," "]
[14,{"$f":"IF(ESTUDIANTES!G1217=0,\"\",ESTUDIANTES!G1217)","v":""},{"$f":"IF(ESTUDIANTES!I1217=0,\" \",ESTUDIANTES!I1217)","v":" "}," "," "," "]
[15,{"$f":"IF(ESTUDIANTES!G1218=0,\"\",ESTUDIANTES!G1218)","v":""},{"$f":"IF(ESTUDIANTES!I1218=0,\" \",ESTUDIANTES!I1218)","v":" "}," "," "," "]
[16,{"$f":"IF(ESTUDIANTES!G1219=0,\"\",ESTUDIANTES!G1219)","v":""},{"$f":"IF(ESTUDIANTES!I1219=0,\" \",ESTUDIANTES!I1219)","v":" "}," "," "," "]
[17,{"$f":"IF(ESTUDIANTES!G1220=0,\"\",ESTUDIANTES!G1220)","v":""},{"$f":"IF(ESTUDIANTES!I1220=0,\" \",ESTUDIANTES!I1220)","v":" "}," "," "," "]
[18,{"$f":"IF(ESTUDIANTES!G1221=0,\"\",ESTUDIANTES!G1221)","v":""},{"$f":"IF(ESTUDIANTES!I1221=0,\" \",ESTUDIANTES!I1221)","v":" "}," "," "," "]
[19,{"$f":"IF(ESTUDIANTES!G1222=0,\"\",ESTUDIANTES!G1222)","v":""},{"$f":"IF(ESTUDIANTES!I1222=0,\" \",ESTUDIANTES!I1222)","v":" "}," "," "," "]
[20,{"$f":"IF(ESTUDIANTES!G1223=0,\"\",ESTUDIANTES!G1223)","v":""},{"$f":"IF(ESTUDIANTES!I1223=0,\" \",ESTUDIANTES!I1223)","v":" "}," "," "," "]
[21,{"$f":"IF(ESTUDIANTES!G1224=0,\"\",ESTUDIANTES!G1224)","v":""},{"$f":"IF(ESTUDIANTES!I1224=0,\" \",ESTUDIANTES!I1224)","v":" "}," "," "," "]
[22,{"$f":"IF(ESTUDIANTES!G1225=0,\"\",ESTUDIANTES!G1225)","v":""},{"$f":"IF(ESTUDIANTES!I1225=0,\" \",ESTUDIANTES!I1225)","v":" "}," "," "," "]
[23,{"$f":"IF(ESTUDIANTES!G1226=0,\"\",ESTUDIANTES!G1226)","v":""},{"$f":"IF(ESTUDIANTES!I1226=0,\" \",ESTUDIANTES!I1226)","v":" "}," "," "," "]
[24,{"$f":"IF(ESTUDIANTES!G1227=0,\"\",ESTUDIANTES!G1227)","v":""},{"$f":"IF(ESTUDIANTES!I1227=0,\" \",ESTUDIANTES!I1227)","v":" "}," "," "," "]
[25,{"$f":"IF(ESTUDIANTES!G1228=0,\"\",ESTUDIANTES!G1228)","v":""},{"$f":"IF(ESTUDIANTES!I1228=0,\" \",ESTUDIANTES!I1228)","v":" "}," "," "," "]
[26,{"$f":"IF(ESTUDIANTES!G1229=0,\"\",ESTUDIANTES!G1229)","v":""},{"$f":"IF(ESTUDIANTES!I1229=0,\" \",ESTUDIANTES!I1229)","v":" "}," "," "," "]
[27,{"$f":"IF(ESTUDIANTES!G1230=0,\"\",ESTUDIANTES!G1230)","v":""},{"$f":"IF(ESTUDIANTES!I1230=0,\" \",ESTUDIANTES!I1230)","v":" "}," "," "," "]
[28,{"$f":"IF(ESTUDIANTES!G1231=0,\"\",ESTUDIANTES!G1231)","v":""},{"$f":"IF(ESTUDIANTES!I1231=0,\" \",ESTUDIANTES!I1231)","v":" "}," "," "," "]
[29,{"$f":"IF(ESTUDIANTES!G1232=0,\"\",ESTUDIANTES!G1232)","v":""},{"$f":"IF(ESTUDIANTES!I1232=0,\" \",ESTUDIANTES!I1232)","v":" "}," "," "," "]
[30,{"$f":"IF(ESTUDIANTES!G1233=0,\"\",ESTUDIANTES!G1233)","v":""},{"$f":"IF(ESTUDIANTES!I1233=0,\" \",ESTUDIANTES!I1233)","v":" "}," "," "," "]
[31,{"$f":"IF(ESTUDIANTES!G1234=0,\"\",ESTUDIANTES!G1234)","v":""},{"$f":"IF(ESTUDIANTES!I1234=0,\" \",ESTUDIANTES!I1234)","v":" "}," "," "," "]
[32,{"$f":"IF(ESTUDIANTES!G1235=0,\"\",ESTUDIANTES!G1235)","v":""},{"$f":"IF(ESTUDIANTES!I1235=0,\" \",ESTUDIANTES!I1235)","v":" "}," "," "," "]
[33,{"$f":"IF(ESTUDIANTES!G1236=0,\"\",ESTUDIANTES!G1236)","v":""},{"$f":"IF(ESTUDIANTES!I1236=0,\" \",ESTUDIANTES!I1236)","v":" "}," "," "," "]
[34,{"$f":"IF(ESTUDIANTES!G1237=0,\"\",ESTUDIANTES!G1237)","v":""},{"$f":"IF(ESTUDIANTES!I1237=0,\" \",ESTUDIANTES!I1237)","v":" "}," "," "," "]
[35,{"$f":"IF(ESTUDIANTES!G1238=0,\"\",ESTUDIANTES!G1238)","v":""},{"$f":"IF(ESTUDIANTES!I1238=0,\" \",ESTUDIANTES!I1238)","v":" "}," "," "," "]
[36,{"$f":"IF(ESTUDIANTES!G1239=0,\"\",ESTUDIANTES!G1239)","v":""},{"$f":"IF(ESTUDIANTES!I1239=0,\" \",ESTUDIANTES!I1239)","v":" "}," "," "," "]
[37,{"$f":"IF(ESTUDIANTES!G1240=0,\"\",ESTUDIANTES!G1240)","v":""},{"$f":"IF(ESTUDIANTES!I1240=0,\" \",ESTUDIANTES!I1240)","v":" "}," "," "," "]
[38,{"$f":"IF(ESTUDIANTES!G1241=0,\"\",ESTUDIANTES!G1241)","v":""},{"$f":"IF(ESTUDIANTES!I1241=0,\" \",ESTUDIANTES!I1241)","v":" "}," "," "," "]
[39,{"$f":"IF(ESTUDIANTES!G1242=0,\"\",ESTUDIANTES!G1242)","v":""},{"$f":"IF(ESTUDIANTES!I1242=0,\" \",ESTUDIANTES!I1242)","v":" "}," "," "," "]
[40,{"$f":"IF(ESTUDIANTES!G1243=0,\"\",ESTUDIANTES!G1243)","v":""},{"$f":"IF(ESTUDIANTES!I1243=0,\" \",ESTUDIANTES!I1243)","v":" "}," "," "," "]
[41,{"$f":"IF(ESTUDIANTES!G1244=0,\"\",ESTUDIANTES!G1244)","v":""},{"$f":"IF(ESTUDIANTES!I1244=0,\" \",ESTUDIANTES!I1244)","v":" "}," "," "," "]
[42,{"$f":"IF(ESTUDIANTES!G1245=0,\"\",ESTUDIANTES!G1245)","v":""},{"$f":"IF(ESTUDIANTES!I1245=0,\" \",ESTUDIANTES!I1245)","v":" "}," "," "," "]
[43,{"$f":"IF(ESTUDIANTES!G1246=0,\"\",ESTUDIANTES!G1246)","v":""},{"$f":"IF(ESTUDIANTES!I1246=0,\" \",ESTUDIANTES!I1246)","v":" "}," "," "," "]
[44,{"$f":"IF(ESTUDIANTES!G1247=0,\"\",ESTUDIANTES!G1247)","v":""},{"$f":"IF(ESTUDIANTES!I1247=0,\" \",ESTUDIANTES!I1247)","v":" "}," "," "," "]
[45,{"$f":"IF(ESTUDIANTES!G1248=0,\"\",ESTUDIANTES!G1248)","v":""},{"$f":"IF(ESTUDIANTES!I1248=0,\" \",ESTUDIANTES!I1248)","v":" "}," "," "," "]
[46,{"$f":"IF(ESTUDIANTES!G1249=0,\"\",ESTUDIANTES!G1249)","v":""},{"$f":"IF(ESTUDIANTES!I1249=0,\" \",ESTUDIANTES!I1249)","v":" "}," "," "," "]
[47,{"$f":"IF(ESTUDIANTES!G1250=0,\"\",ESTUDIANTES!G1250)","v":""},{"$f":"IF(ESTUDIANTES!I1250=0,\" \",ESTUDIANTES!I1250)","v":" "}," "," "," "]
[48,{"$f":"IF(ESTUDIANTES!G1251=0,\"\",ESTUDIANTES!G1251)","v":""},{"$f":"IF(ESTUDIANTES!I1251=0,\" \",ESTUDIANTES!I1251)","v":" "}," "," "," "]
[49,{"$f":"IF(ESTUDIANTES!G1252=0,\"\",ESTUDIANTES!G1252)","v":""},{"$f":"IF(ESTUDIANTES!I1252=0,\" \",ESTUDIANTES!I1252)","v":" "}," "," "," "]
[50,{"$f":"IF(ESTUDIANTES!G1253=0,\"\",ESTUDIANTES!G1253)","v":""},{"$f":"IF(ESTUDIANTES!I1253=0,\" \",ESTUDIANTES!I1253)","v":" "}," "," "," "]
[]
[{"$f":"DATOS!$B$3","v":"COLEGIO BACHILLERATO PCEI \"SIN FRONTERAS\""}]
[]
[null,"GRADO/CURSO:",{"$f":"DATOS!$E28","v":0}]
[null,"NIVEL:",{"$f":"DATOS!$F28","v":0}]
[null,"PARALELO:",{"$f":"DATOS!$G28","v":0}]
[null,"TUTOR:",{"$f":"DATOS!$H28","v":0}]
[]
["Nro","NOMBRES Y APELLIDOS","F.N","AÑOS","MESES","DIAS"]
[1,{"$f":"IF(ESTUDIANTES!G1254=0,\"\",ESTUDIANTES!G1254)","v":""},{"$f":"IF(ESTUDIANTES!I1254=0,\" \",ESTUDIANTES!I1254)","v":" "},{"$f":"IFERROR(DATEDIF(C1484,TODAY(),\"Y\"),\" \")","v":" "},{"$f":"IFERROR(DATEDIF(C1484,TODAY(),\"YM\"),\" \")","v":" "},{"$f":"IFERROR(DATEDIF(C1484,TODAY(),\"MD\"),\" \")","v":" "}]
[2,{"$f":"IF(ESTUDIANTES!G1255=0,\"\",ESTUDIANTES!G1255)","v":""},{"$f":"IF(ESTUDIANTES!I1255=0,\" \",ESTUDIANTES!I1255)","v":" "},{"$f":"IFERROR(DATEDIF(C1485,TODAY(),\"Y\"),\" \")","v":" "},{"$f":"IFERROR(DATEDIF(C1485,TODAY(),\"YM\"),\" \")","v":" "},{"$f":"IFERROR(DATEDIF(C1485,TODAY(),\"MD\"),\" \")","v":" "}]
[3,{"$f":"IF(ESTUDIANTES!G1256=0,\"\",ESTUDIANTES!G1256)","v":""},{"$f":"IF(ESTUDIANTES!I1256=0,\" \",ESTUDIANTES!I1256)","v":" "}," "," "," "]
[4,{"$f":"IF(ESTUDIANTES!G1257=0,\"\",ESTUDIANTES!G1257)","v":""},{"$f":"IF(ESTUDIANTES!I1257=0,\" \",ESTUDIANTES!I1257)","v":" "}," "," "," "]
[5,{"$f":"IF(ESTUDIANTES!G1258=0,\"\",ESTUDIANTES!G1258)","v":""},{"$f":"IF(ESTUDIANTES!I1258=0,\" \",ESTUDIANTES!I1258)","v":" "}," "," "," "]
[6,{"$f":"IF(ESTUDIANTES!G1259=0,\"\",ESTUDIANTES!G1259)","v":""},{"$f":"IF(ESTUDIANTES!I1259=0,\" \",ESTUDIANTES!I1259)","v":" "}," "," "," "]
[7,{"$f":"IF(ESTUDIANTES!G1260=0,\"\",ESTUDIANTES!G1260)","v":""},{"$f":"IF(ESTUDIANTES!I1260=0,\" \",ESTUDIANTES!I1260)","v":" "}," "," "," "]
[8,{"$f":"IF(ESTUDIANTES!G1261=0,\"\",ESTUDIANTES!G1261)","v":""},{"$f":"IF(ESTUDIANTES!I1261=0,\" \",ESTUDIANTES!I1261)","v":" "}," "," "," "]
[9,{"$f":"IF(ESTUDIANTES!G1262=0,\"\",ESTUDIANTES!G1262)","v":""},{"$f":"IF(ESTUDIANTES!I1262=0,\" \",ESTUDIANTES!I1262)","v":" "}," "," "," "]
[10,{"$f":"IF(ESTUDIANTES!G1263=0,\"\",ESTUDIANTES!G1263)","v":""},{"$f":"IF(ESTUDIANTES!I1263=0,\" \",ESTUDIANTES!I1263)","v":" "}," "," "," "]
[11,{"$f":"IF(ESTUDIANTES!G1264=0,\"\",ESTUDIANTES!G1264)","v":""},{"$f":"IF(ESTUDIANTES!I1264=0,\" \",ESTUDIANTES!I1264)","v":" "}," "," "," "]
[12,{"$f":"IF(ESTUDIANTES!G1265=0,\"\",ESTUDIANTES!G1265)","v":""},{"$f":"IF(ESTUDIANTES!I1265=0,\" \",ESTUDIANTES!I1265)","v":" "}," "," "," "]
[13,{"$f":"IF(ESTUDIANTES!G1266=0,\"\",ESTUDIANTES!G1266)","v":""},{"$f":"IF(ESTUDIANTES!I1266=0,\" \",ESTUDIANTES!I1266)","v":" "}," "," "," "]
[14,{"$f":"IF(ESTUDIANTES!G1267=0,\"\",ESTUDIANTES!G1267)","v":""},{"$f":"IF(ESTUDIANTES!I1267=0,\" \",ESTUDIANTES!I1267)","v":" "}," "," "," "]
[15,{"$f":"IF(ESTUDIANTES!G1268=0,\"\",ESTUDIANTES!G1268)","v":""},{"$f":"IF(ESTUDIANTES!I1268=0,\" \",ESTUDIANTES!I1268)","v":" "}," "," "," "]
[16,{"$f":"IF(ESTUDIANTES!G1269=0,\"\",ESTUDIANTES!G1269)","v":""},{"$f":"IF(ESTUDIANTES!I1269=0,\" \",ESTUDIANTES!I1269)","v":" "}," "," "," "]
[17,{"$f":"IF(ESTUDIANTES!G1270=0,\"\",ESTUDIANTES!G1270)","v":""},{"$f":"IF(ESTUDIANTES!I1270=0,\" \",ESTUDIANTES!I1270)","v":" "}," "," "," "]
[18,{"$f":"IF(ESTUDIANTES!G1271=0,\"\",ESTUDIANTES!G1271)","v":""},{"$f":"IF(ESTUDIANTES!I1271=0,\" \",ESTUDIANTES!I1271)","v":" "}," "," "," "]
[19,{"$f":"IF(ESTUDIANTES!G1272=0,\"\",ESTUDIANTES!G1272)","v":""},{"$f":"IF(ESTUDIANTES!I1272=0,\" \",ESTUDIANTES!I1272)","v":" "}," "," "," "]
[20,{"$f":"IF(ESTUDIANTES!G1273=0,\"\",ESTUDIANTES!G1273)","v":""},{"$f":"IF(ESTUDIANTES!I1273=0,\" \",ESTUDIANTES!I1273)","v":" "}," "," "," "]
[21,{"$f":"IF(ESTUDIANTES!G1274=0,\"\",ESTUDIANTES!G1274)","v":""},{"$f":"IF(ESTUDIANTES!I1274=0,\" \",ESTUDIANTES!I1274)","v":" "}," "," "," "]
[22,{"$f":"IF(ESTUDIANTES!G1275=0,\"\",ESTUDIANTES!G1275)","v":""},{"$f":"IF(ESTUDIANTES!I1275=0,\" \",ESTUDIANTES!I1275)","v":" "}," "," "," "]
[23,{"$f":"IF(ESTUDIANTES!G1276=0,\"\",ESTUDIANTES!G1276)","v":""},{"$f":"IF(ESTUDIANTES!I1276=0,\" \",ESTUDIANTES!I1276)","v":" "}," "," "," "]
[24,{"$f":"IF(ESTUDIANTES!G1277=0,\"\",ESTUDIANTES!G1277)","v":""},{"$f":"IF(ESTUDIANTES!I1277=0,\" \",ESTUDIANTES!I1277)","v":" "}," "," "," "]
[25,{"$f":"IF(ESTUDIANTES!G1278=0,\"\",ESTUDIANTES!G1278)","v":""},{"$f":"IF(ESTUDIANTES!I1278=0,\" \",ESTUDIANTES!I1278)","v":" "}," "," "," "]
[26,{"$f":"IF(ESTUDIANTES!G1279=0,\"\",ESTUDIANTES!G1279)","v":""},{"$f":"IF(ESTUDIANTES!I1279=0,\" \",ESTUDIANTES!I1279)","v":" "}," "," "," "]
[27,{"$f":"IF(ESTUDIANTES!G1280=0,\"\",ESTUDIANTES!G1280)","v":""},{"$f":"IF(ESTUDIANTES!I1280=0,\" \",ESTUDIANTES!I1280)","v":" "}," "," "," "]
[28,{"$f":"IF(ESTUDIANTES!G1281=0,\"\",ESTUDIANTES!G1281)","v":""},{"$f":"IF(ESTUDIANTES!I1281=0,\" \",ESTUDIANTES!I1281)","v":" "}," "," "," "]
[29,{"$f":"IF(ESTUDIANTES!G1282=0,\"\",ESTUDIANTES!G1282)","v":""},{"$f":"IF(ESTUDIANTES!I1282=0,\" \",ESTUDIANTES!I1282)","v":" "}," "," "," "]
[30,{"$f":"IF(ESTUDIANTES!G1283=0,\"\",ESTUDIANTES!G1283)","v":""},{"$f":"IF(ESTUDIANTES!I1283=0,\" \",ESTUDIANTES!I1283)","v":" "}," "," "," "]
[31,{"$f":"IF(ESTUDIANTES!G1284=0,\"\",ESTUDIANTES!G1284)","v":""},{"$f":"IF(ESTUDIANTES!I1284=0,\" \",ESTUDIANTES!I1284)","v":" "}," "," "," "]
[32,{"$f":"IF(ESTUDIANTES!G1285=0,\"\",ESTUDIANTES!G1285)","v":""},{"$f":"IF(ESTUDIANTES!I1285=0,\" \",ESTUDIANTES!I1285)","v":" "}," "," "," "]
[33,{"$f":"IF(ESTUDIANTES!G1286=0,\"\",ESTUDIANTES!G1286)","v":""},{"$f":"IF(ESTUDIANTES!I1286=0,\" \",ESTUDIANTES!I1286)","v":" "}," "," "," "]
[34,{"$f":"IF(ESTUDIANTES!G1287=0,\"\",ESTUDIANTES!G1287)","v":""},{"$f":"IF(ESTUDIANTES!I1287=0,\" \",ESTUDIANTES!I1287)","v":" "}," "," "," "]
[35,{"$f":"IF(ESTUDIANTES!G1288=0,\"\",ESTUDIANTES!G1288)","v":""},{"$f":"IF(ESTUDIANTES!I1288=0,\" \",ESTUDIANTES!I1288)","v":" "}," "," "," "]
[36,{"$f":"IF(ESTUDIANTES!G1289=0,\"\",ESTUDIANTES!G1289)","v":""},{"$f":"IF(ESTUDIANTES!I1289=0,\" \",ESTUDIANTES!I1289)","v":" "}," "," "," "]
[37,{"$f":"IF(ESTUDIANTES!G1290=0,\"\",ESTUDIANTES!G1290)","v":""},{"$f":"IF(ESTUDIANTES!I1290=0,\" \",ESTUDIANTES!I1290)","v":" "}," "," "," "]
[38,{"$f":"IF(ESTUDIANTES!G1291=0,\"\",ESTUDIANTES!G1291)","v":""},{"$f":"IF(ESTUDIANTES!I1291=0,\" \",ESTUDIANTES!I1291)","v":" "}," "," "," "]
[39,{"$f":"IF(ESTUDIANTES!G1292=0,\"\",ESTUDIANTES!G1292)","v":""},{"$f":"IF(ESTUDIANTES!I1292=0,\" \",ESTUDIANTES!I1292)","v":" "}," "," "," "]
[40,{"$f":"IF(ESTUDIANTES!G1293=0,\"\",ESTUDIANTES!G1293)","v":""},{"$f":"IF(ESTUDIANTES!I1293=0,\" \",ESTUDIANTES!I1293)","v":" "}," "," "," "]
[41,{"$f":"IF(ESTUDIANTES!G1294=0,\"\",ESTUDIANTES!G1294)","v":""},{"$f":"IF(ESTUDIANTES!I1294=0,\" \",ESTUDIANTES!I1294)","v":" "}," "," "," "]
[42,{"$f":"IF(ESTUDIANTES!G1295=0,\"\",ESTUDIANTES!G1295)","v":""},{"$f":"IF(ESTUDIANTES!I1295=0,\" \",ESTUDIANTES!I1295)","v":" "}," "," "," "]
[43,{"$f":"IF(ESTUDIANTES!G1296=0,\"\",ESTUDIANTES!G1296)","v":""},{"$f":"IF(ESTUDIANTES!I1296=0,\" \",ESTUDIANTES!I1296)","v":" "}," "," "," "]
[44,{"$f":"IF(ESTUDIANTES!G1297=0,\"\",ESTUDIANTES!G1297)","v":""},{"$f":"IF(ESTUDIANTES!I1297=0,\" \",ESTUDIANTES!I1297)","v":" "}," "," "," "]
[45,{"$f":"IF(ESTUDIANTES!G1298=0,\"\",ESTUDIANTES!G1298)","v":""},{"$f":"IF(ESTUDIANTES!I1298=0,\" \",ESTUDIANTES!I1298)","v":" "}," "," "," "]
[46,{"$f":"IF(ESTUDIANTES!G1299=0,\"\",ESTUDIANTES!G1299)","v":""},{"$f":"IF(ESTUDIANTES!I1299=0,\" \",ESTUDIANTES!I1299)","v":" "}," "," "," "]
[47,{"$f":"IF(ESTUDIANTES!G1300=0,\"\",ESTUDIANTES!G1300)","v":""},{"$f":"IF(ESTUDIANTES!I1300=0,\" \",ESTUDIANTES!I1300)","v":" "}," "," "," "]
[48,{"$f":"IF(ESTUDIANTES!G1301=0,\"\",ESTUDIANTES!G1301)","v":""},{"$f":"IF(ESTUDIANTES!I1301=0,\" \",ESTUDIANTES!I1301)","v":" "}," "," "," "]
[49,{"$f":"IF(ESTUDIANTES!G1302=0,\"\",ESTUDIANTES!G1302)","v":""},{"$f":"IF(ESTUDIANTES!I1302=0,\" \",ESTUDIANTES!I1302)","v":" "}," "," "," "]
[50,{"$f":"IF(ESTUDIANTES!G1303=0,\"\",ESTUDIANTES!G1303)","v":""},{"$f":"IF(ESTUDIANTES!I1303=0,\" \",ESTUDIANTES!I1303)","v":" "}," "," "," "]
[]
[{"$f":"DATOS!$B$3","v":"COLEGIO BACHILLERATO PCEI \"SIN FRONTERAS\""}]
[]
[null,"GRADO/CURSO:",{"$f":"DATOS!$E29","v":0}]
[null,"NIVEL:",{"$f":"DATOS!$F29","v":0}]
[null,"PARALELO:",{"$f":"DATOS!$G29","v":0}]
[null,"TUTOR:",{"$f":"DATOS!$H29","v":0}]
[]
["Nro","NOMBRES Y APELLIDOS","F.N","AÑOS","MESES","DIAS"]
[1,{"$f":"IF(ESTUDIANTES!G1304=0,\"\",ESTUDIANTES!G1304)","v":""},{"$f":"IF(ESTUDIANTES!I1304=0,\" \",ESTUDIANTES!I1304)","v":" "},{"$f":"IFERROR(DATEDIF(C1543,TODAY(),\"Y\"),\" \")","v":" "},{"$f":"IFERROR(DATEDIF(C1543,TODAY(),\"YM\"),\" \")","v":" "},{"$f":"IFERROR(DATEDIF(C1543,TODAY(),\"MD\"),\" \")","v":" "}]
[2,{"$f":"IF(ESTUDIANTES!G1305=0,\"\",ESTUDIANTES!G1305)","v":""},{"$f":"IF(ESTUDIANTES!I1305=0,\" \",ESTUDIANTES!I1305)","v":" "},{"$f":"IFERROR(DATEDIF(C1544,TODAY(),\"Y\"),\" \")","v":" "},{"$f":"IFERROR(DATEDIF(C1544,TODAY(),\"YM\"),\" \")","v":" "},{"$f":"IFERROR(DATEDIF(C1544,TODAY(),\"MD\"),\" \")","v":" "}]
[3,{"$f":"IF(ESTUDIANTES!G1306=0,\"\",ESTUDIANTES!G1306)","v":""},{"$f":"IF(ESTUDIANTES!I1306=0,\" \",ESTUDIANTES!I1306)","v":" "}," "," "," "]
[4,{"$f":"IF(ESTUDIANTES!G1307=0,\"\",ESTUDIANTES!G1307)","v":""},{"$f":"IF(ESTUDIANTES!I1307=0,\" \",ESTUDIANTES!I1307)","v":" "}," "," "," "]
[5,{"$f":"IF(ESTUDIANTES!G1308=0,\"\",ESTUDIANTES!G1308)","v":""},{"$f":"IF(ESTUDIANTES!I1308=0,\" \",ESTUDIANTES!I1308)","v":" "}," "," "," "]
[6,{"$f":"IF(ESTUDIANTES!G1309=0,\"\",ESTUDIANTES!G1309)","v":""},{"$f":"IF(ESTUDIANTES!I1309=0,\" \",ESTUDIANTES!I1309)","v":" "}," "," "," "]
[7,{"$f":"IF(ESTUDIANTES!G1310=0,\"\",ESTUDIANTES!G1310)","v":""},{"$f":"IF(ESTUDIANTES!I1310=0,\" \",ESTUDIANTES!I1310)","v":" "}," "," "," "]
[8,{"$f":"IF(ESTUDIANTES!G1311=0,\"\",ESTUDIANTES!G1311)","v":""},{"$f":"IF(ESTUDIANTES!I1311=0,\" \",ESTUDIANTES!I1311)","v":" "}," "," "," "]
[9,{"$f":"IF(ESTUDIANTES!G1312=0,\"\",ESTUDIANTES!G1312)","v":""},{"$f":"IF(ESTUDIANTES!I1312=0,\" \",ESTUDIANTES!I1312)","v":" "}," "," "," "]
[10,{"$f":"IF(ESTUDIANTES!G1313=0,\"\",ESTUDIANTES!G1313)","v":""},{"$f":"IF(ESTUDIANTES!I1313=0,\" \",ESTUDIANTES!I1313)","v":" "}," "," "," "]
[11,{"$f":"IF(ESTUDIANTES!G1314=0,\"\",ESTUDIANTES!G1314)","v":""},{"$f":"IF(ESTUDIANTES!I1314=0,\" \",ESTUDIANTES!I1314)","v":" "}," "," "," "]
[12,{"$f":"IF(ESTUDIANTES!G1315=0,\"\",ESTUDIANTES!G1315)","v":""},{"$f":"IF(ESTUDIANTES!I1315=0,\" \",ESTUDIANTES!I1315)","v":" "}," "," "," "]
[13,{"$f":"IF(ESTUDIANTES!G1316=0,\"\",ESTUDIANTES!G1316)","v":""},{"$f":"IF(ESTUDIANTES!I1316=0,\" \",ESTUDIANTES!I1316)","v":" "}," "," "," "]
[14,{"$f":"IF(ESTUDIANTES!G1317=0,\"\",ESTUDIANTES!G1317)","v":""},{"$f":"IF(ESTUDIANTES!I1317=0,\" \",ESTUDIANTES!I1317)","v":" "}," "," "," "]
[15,{"$f":"IF(ESTUDIANTES!G1318=0,\"\",ESTUDIANTES!G1318)","v":""},{"$f":"IF(ESTUDIANTES!I1318=0,\" \",ESTUDIANTES!I1318)","v":" "}," "," "," "]
[16,{"$f":"IF(ESTUDIANTES!G1319=0,\"\",ESTUDIANTES!G1319)","v":""},{"$f":"IF(ESTUDIANTES!I1319=0,\" \",ESTUDIANTES!I1319)","v":" "}," "," "," "]
[17,{"$f":"IF(ESTUDIANTES!G1320=0,\"\",ESTUDIANTES!G1320)","v":""},{"$f":"IF(ESTUDIANTES!I1320=0,\" \",ESTUDIANTES!I1320)","v":" "}," "," "," "]
[18,{"$f":"IF(ESTUDIANTES!G1321=0,\"\",ESTUDIANTES!G1321)","v":""},{"$f":"IF(ESTUDIANTES!I1321=0,\" \",ESTUDIANTES!I1321)","v":" "}," "," "," "]
[19,{"$f":"IF(ESTUDIANTES!G1322=0,\"\",ESTUDIANTES!G1322)","v":""},{"$f":"IF(ESTUDIANTES!I1322=0,\" \",ESTUDIANTES!I1322)","v":" "}," "," "," "]
[20,{"$f":"IF(ESTUDIANTES!G1323=0,\"\",ESTUDIANTES!G1323)","v":""},{"$f":"IF(ESTUDIANTES!I1323=0,\" \",ESTUDIANTES!I1323)","v":" "}," "," "," "]
[21,{"$f":"IF(ESTUDIANTES!G1324=0,\"\",ESTUDIANTES!G1324)","v":""},{"$f":"IF(ESTUDIANTES!I1324=0,\" \",ESTUDIANTES!I1324)","v":" "}," "," "," "]
[22,{"$f":"IF(ESTUDIANTES!G1325=0,\"\",ESTUDIANTES!G1325)","v":""},{"$f":"IF(ESTUDIANTES!I1325=0,\" \",ESTUDIANTES!I1325)","v":" "}," "," "," "]
[23,{"$f":"IF(ESTUDIANTES!G1326=0,\"\",ESTUDIANTES!G1326)","v":""},{"$f":"IF(ESTUDIANTES!I1326=0,\" \",ESTUDIANTES!I1326)","v":" "}," "," "," "]
[24,{"$f":"IF(ESTUDIANTES!G1327=0,\"\",ESTUDIANTES!G1327)","v":""},{"$f":"IF(ESTUDIANTES!I1327=0,\" \",ESTUDIANTES!I1327)","v":" "}," "," "," "]
[25,{"$f":"IF(ESTUDIANTES!G1328=0,\"\",ESTUDIANTES!G1328)","v":""},{"$f":"IF(ESTUDIANTES!I1328=0,\" \",ESTUDIANTES!I1328)","v":" "}," "," "," "]
[26,{"$f":"IF(ESTUDIANTES!G1329=0,\"\",ESTUDIANTES!G1329)","v":""},{"$f":"IF(ESTUDIANTES!I1329=0,\" \",ESTUDIANTES!I1329)","v":" "}," "," "," "]
[27,{"$f":"IF(ESTUDIANTES!G1330=0,\"\",ESTUDIANTES!G1330)","v":""},{"$f":"IF(ESTUDIANTES!I1330=0,\" \",ESTUDIANTES!I1330)","v":" "}," "," "," "]
[28,{"$f":"IF(ESTUDIANTES!G1331=0,\"\",ESTUDIANTES!G1331)","v":""},{"$f":"IF(ESTUDIANTES!I1331=0,\" \",ESTUDIANTES!I1331)","v":" "}," "," "," "]
[29,{"$f":"IF(ESTUDIANTES!G1332=0,\"\",ESTUDIANTES!G1332)","v":""},{"$f":"IF(ESTUDIANTES!I1332=0,\" \",ESTUDIANTES!I1332)","v":" "}," "," "," "]
[30,{"$f":"IF(ESTUDIANTES!G1333=0,\"\",ESTUDIANTES!G1333)","v":""},{"$f":"IF(ESTUDIANTES!I1333=0,\" \",ESTUDIANTES!I1333)","v":" "}," "," "," "]
[31,{"$f":"IF(ESTUDIANTES!G1334=0,\"\",ESTUDIANTES!G1334)","v":""},{"$f":"IF(ESTUDIANTES!I1334=0,\" \",ESTUDIANTES!I1334)","v":" "}," "," "," "]
[32,{"$f":"IF(ESTUDIANTES!G1335=0,\"\",ESTUDIANTES!G1335)","v":""},{"$f":"IF(ESTUDIANTES!I1335=0,\" \",ESTUDIANTES!I1335)","v":" "}," "," "," "]
[33,{"$f":"IF(ESTUDIANTES!G1336=0,\"\",ESTUDIANTES!G1336)","v":""},{"$f":"IF(ESTUDIANTES!I1336=0,\" \",ESTUDIANTES!I1336)","v":" "}," "," "," "]
[34,{"$f":"IF(ESTUDIANTES!G1337=0,\"\",ESTUDIANTES!G1337)","v":""},{"$f":"IF(ESTUDIANTES!I1337=0,\" \",ESTUDIANTES!I1337)","v":" "}," "," "," "]
[35,{"$f":"IF(ESTUDIANTES!G1338=0,\"\",ESTUDIANTES!G1338)","v":""},{"$f":"IF(ESTUDIANTES!I1338=0,\" \",ESTUDIANTES!I1338)","v":" "}," "," "," "]
[36,{"$f":"IF(ESTUDIANTES!G1339=0,\"\",ESTUDIANTES!G1339)","v":""},{"$f":"IF(ESTUDIANTES!I1339=0,\" \",ESTUDIANTES!I1339)","v":" "}," "," "," "]
[37,{"$f":"IF(ESTUDIANTES!G1340=0,\"\",ESTUDIANTES!G1340)","v":""},{"$f":"IF(ESTUDIANTES!I1340=0,\" \",ESTUDIANTES!I1340)","v":" "}," "," "," "]
[38,{"$f":"IF(ESTUDIANTES!G1341=0,\"\",ESTUDIANTES!G1341)","v":""},{"$f":"IF(ESTUDIANTES!I1341=0,\" \",ESTUDIANTES!I1341)","v":" "}," "," "," "]
[39,{"$f":"IF(ESTUDIANTES!G1342=0,\"\",ESTUDIANTES!G1342)","v":""},{"$f":"IF(ESTUDIANTES!I1342=0,\" \",ESTUDIANTES!I1342)","v":" "}," "," "," "]
[40,{"$f":"IF(ESTUDIANTES!G1343=0,\"\",ESTUDIANTES!G1343)","v":""},{"$f":"IF(ESTUDIANTES!I1343=0,\" \",ESTUDIANTES!I1343)","v":" "}," "," "," "]
[41,{"$f":"IF(ESTUDIANTES!G1344=0,\"\",ESTUDIANTES!G1344)","v":""},{"$f":"IF(ESTUDIANTES!I1344=0,\" \",ESTUDIANTES!I1344)","v":" "}," "," "," "]
[42,{"$f":"IF(ESTUDIANTES!G1345=0,\"\",ESTUDIANTES!G1345)","v":""},{"$f":"IF(ESTUDIANTES!I1345=0,\" \",ESTUDIANTES!I1345)","v":" "}," "," "," "]
[43,{"$f":"IF(ESTUDIANTES!G1346=0,\"\",ESTUDIANTES!G1346)","v":""},{"$f":"IF(ESTUDIANTES!I1346=0,\" \",ESTUDIANTES!I1346)","v":" "}," "," "," "]
[44,{"$f":"IF(ESTUDIANTES!G1347=0,\"\",ESTUDIANTES!G1347)","v":""},{"$f":"IF(ESTUDIANTES!I1347=0,\" \",ESTUDIANTES!I1347)","v":" "}," "," "," "]
[45,{"$f":"IF(ESTUDIANTES!G1348=0,\"\",ESTUDIANTES!G1348)","v":""},{"$f":"IF(ESTUDIANTES!I1348=0,\" \",ESTUDIANTES!I1348)","v":" "}," "," "," "]
[46,{"$f":"IF(ESTUDIANTES!G1349=0,\"\",ESTUDIANTES!G1349)","v":""},{"$f":"IF(ESTUDIANTES!I1349=0,\" \",ESTUDIANTES!I1349)","v":" "}," "," "," "]
[47,{"$f":"IF(ESTUDIANTES!G1350=0,\"\",ESTUDIANTES!G1350)","v":""},{"$f":"IF(ESTUDIANTES!I1350=0,\" \",ESTUDIANTES!I1350)","v":" "}," "," "," "]
[48,{"$f":"IF(ESTUDIANTES!G1351=0,\"\",ESTUDIANTES!G1351)","v":""},{"$f":"IF(ESTUDIANTES!I1351=0,\" \",ESTUDIANTES!I1351)","v":" "}," "," "," "]
[49,{"$f":"IF(ESTUDIANTES!G1352=0,\"\",ESTUDIANTES!G1352)","v":""},{"$f":"IF(ESTUDIANTES!I1352=0,\" \",ESTUDIANTES!I1352)","v":" "}," "," "," "]
[50,{"$f":"IF(ESTUDIANTES!G1353=0,\"\",ESTUDIANTES!G1353)","v":""},{"$f":"IF(ESTUDIANTES!I1353=0,\" \",ESTUDIANTES!I1353)","v":" "}," "," "," "]
[]
[{"$f":"DATOS!$B$3","v":"COLEGIO BACHILLERATO PCEI \"SIN FRONTERAS\""}]
[]
[null,"GRADO/CURSO:",{"$f":"DATOS!$E30","v":0}]
[null,"NIVEL:",{"$f":"DATOS!$F30","v":0}]
[null,"PARALELO:",{"$f":"DATOS!$G30","v":0}]
[null,"TUTOR:",{"$f":"DATOS!$H30","v":0}]
[]
["Nro","NOMBRES Y APELLIDOS","F.N","AÑOS","MESES","DIAS"]
[1,{"$f":"IF(ESTUDIANTES!G1354=0,\"\",ESTUDIANTES!G1354)","v":""},{"$f":"IF(ESTUDIANTES!I1354=0,\" \",ESTUDIANTES!I1354)","v":" "},{"$f":"IFERROR(DATEDIF(C1602,TODAY(),\"Y\"),\" \")","v":" "},{"$f":"IFERROR(DATEDIF(C1602,TODAY(),\"YM\"),\" \")","v":" "},{"$f":"IFERROR(DATEDIF(C1602,TODAY(),\"MD\"),\" \")","v":" "}]
[2,{"$f":"IF(ESTUDIANTES!G1355=0,\"\",ESTUDIANTES!G1355)","v":""},{"$f":"IF(ESTUDIANTES!I1355=0,\" \",ESTUDIANTES!I1355)","v":" "},{"$f":"IFERROR(DATEDIF(C1603,TODAY(),\"Y\"),\" \")","v":" "},{"$f":"IFERROR(DATEDIF(C1603,TODAY(),\"YM\"),\" \")","v":" "},{"$f":"IFERROR(DATEDIF(C1603,TODAY(),\"MD\"),\" \")","v":" "}]
[3,{"$f":"IF(ESTUDIANTES!G1356=0,\"\",ESTUDIANTES!G1356)","v":""},{"$f":"IF(ESTUDIANTES!I1356=0,\" \",ESTUDIANTES!I1356)","v":" "}," "," "," "]
[4,{"$f":"IF(ESTUDIANTES!G1357=0,\"\",ESTUDIANTES!G1357)","v":""},{"$f":"IF(ESTUDIANTES!I1357=0,\" \",ESTUDIANTES!I1357)","v":" "}," "," "," "]
[5,{"$f":"IF(ESTUDIANTES!G1358=0,\"\",ESTUDIANTES!G1358)","v":""},{"$f":"IF(ESTUDIANTES!I1358=0,\" \",ESTUDIANTES!I1358)","v":" "}," "," "," "]
[6,{"$f":"IF(ESTUDIANTES!G1359=0,\"\",ESTUDIANTES!G1359)","v":""},{"$f":"IF(ESTUDIANTES!I1359=0,\" \",ESTUDIANTES!I1359)","v":" "}," "," "," "]
[7,{"$f":"IF(ESTUDIANTES!G1360=0,\"\",ESTUDIANTES!G1360)","v":""},{"$f":"IF(ESTUDIANTES!I1360=0,\" \",ESTUDIANTES!I1360)","v":" "}," "," "," "]
[8,{"$f":"IF(ESTUDIANTES!G1361=0,\"\",ESTUDIANTES!G1361)","v":""},{"$f":"IF(ESTUDIANTES!I1361=0,\" \",ESTUDIANTES!I1361)","v":" "}," "," "," "]
[9,{"$f":"IF(ESTUDIANTES!G1362=0,\"\",ESTUDIANTES!G1362)","v":""},{"$f":"IF(ESTUDIANTES!I1362=0,\" \",ESTUDIANTES!I1362)","v":" "}," "," "," "]
[10,{"$f":"IF(ESTUDIANTES!G1363=0,\"\",ESTUDIANTES!G1363)","v":""},{"$f":"IF(ESTUDIANTES!I1363=0,\" \",ESTUDIANTES!I1363)","v":" "}," "," "," "]
[11,{"$f":"IF(ESTUDIANTES!G1364=0,\"\",ESTUDIANTES!G1364)","v":""},{"$f":"IF(ESTUDIANTES!I1364=0,\" \",ESTUDIANTES!I1364)","v":" "}," "," "," "]
[12,{"$f":"IF(ESTUDIANTES!G1365=0,\"\",ESTUDIANTES!G1365)","v":""},{"$f":"IF(ESTUDIANTES!I1365=0,\" \",ESTUDIANTES!I1365)","v":" "}," "," "," "]
[13,{"$f":"IF(ESTUDIANTES!G1366=0,\"\",ESTUDIANTES!G1366)","v":""},{"$f":"IF(ESTUDIANTES!I1366=0,\" \",ESTUDIANTES!I1366)","v":" "}," "," "," "]
[14,{"$f":"IF(ESTUDIANTES!G1367=0,\"\",ESTUDIANTES!G1367)","v":""},{"$f":"IF(ESTUDIANTES!I1367=0,\" \",ESTUDIANTES!I1367)","v":" "}," "," "," "]
[15,{"$f":"IF(ESTUDIANTES!G1368=0,\"\",ESTUDIANTES!G1368)","v":""},{"$f":"IF(ESTUDIANTES!I1368=0,\" \",ESTUDIANTES!I1368)","v":" "}," "," "," "]
[16,{"$f":"IF(ESTUDIANTES!G1369=0,\"\",ESTUDIANTES!G1369)","v":""},{"$f":"IF(ESTUDIANTES!I1369=0,\" \",ESTUDIANTES!I1369)","v":" "}," "," "," "]
[17,{"$f":"IF(ESTUDIANTES!G1370=0,\"\",ESTUDIANTES!G1370)","v":""},{"$f":"IF(ESTUDIANTES!I1370=0,\" \",ESTUDIANTES!I1370)","v":" "}," "," "," "]
[18,{"$f":"IF(ESTUDIANTES!G1371=0,\"\",ESTUDIANTES!G1371)","v":""},{"$f":"IF(ESTUDIANTES!I1371=0,\" \",ESTUDIANTES!I1371)","v":" "}," "," "," "]
[19,{"$f":"IF(ESTUDIANTES!G1372=0,\"\",ESTUDIANTES!G1372)","v":""},{"$f":"IF(ESTUDIANTES!I1372=0,\" \",ESTUDIANTES!I1372)","v":" "}," "," "," "]
[20,{"$f":"IF(ESTUDIANTES!G1373=0,\"\",ESTUDIANTES!G1373)","v":""},{"$f":"IF(ESTUDIANTES!I1373=0,\" \",ESTUDIANTES!I1373)","v":" "}," "," "," "]
[21,{"$f":"IF(ESTUDIANTES!G1374=0,\"\",ESTUDIANTES!G1374)","v":""},{"$f":"IF(ESTUDIANTES!I1374=0,\" \",ESTUDIANTES!I1374)","v":" "}," "," "," "]
[22,{"$f":"IF(ESTUDIANTES!G1375=0,\"\",ESTUDIANTES!G1375)","v":""},{"$f":"IF(ESTUDIANTES!I1375=0,\" \",ESTUDIANTES!I1375)","v":" "}," "," "," "]
[23,{"$f":"IF(ESTUDIANTES!G1376=0,\"\",ESTUDIANTES!G1376)","v":""},{"$f":"IF(ESTUDIANTES!I1376=0,\" \",ESTUDIANTES!I1376)","v":" "}," "," "," "]
[24,{"$f":"IF(ESTUDIANTES!G1377=0,\"\",ESTUDIANTES!G1377)","v":""},{"$f":"IF(ESTUDIANTES!I1377=0,\" \",ESTUDIANTES!I1377)","v":" "}," "," "," "]
[25,{"$f":"IF(ESTUDIANTES!G1378=0,\"\",ESTUDIANTES!G1378)","v":""},{"$f":"IF(ESTUDIANTES!I1378=0,\" \",ESTUDIANTES!I1378)","v":" "}," "," "," "]
[26,{"$f":"IF(ESTUDIANTES!G1379=0,\"\",ESTUDIANTES!G1379)","v":""},{"$f":"IF(ESTUDIANTES!I1379=0,\" \",ESTUDIANTES!I1379)","v":" "}," "," "," "]
[27,{"$f":"IF(ESTUDIANTES!G1380=0,\"\",ESTUDIANTES!G1380)","v":""},{"$f":"IF(ESTUDIANTES!I1380=0,\" \",ESTUDIANTES!I1380)","v":" "}," "," "," "]
[28,{"$f":"IF(ESTUDIANTES!G1381=0,\"\",ESTUDIANTES!G1381)","v":""},{"$f":"IF(ESTUDIANTES!I1381=0,\" \",ESTUDIANTES!I1381)","v":" "}," "," "," "]
[29,{"$f":"IF(ESTUDIANTES!G1382=0,\"\",ESTUDIANTES!G1382)","v":""},{"$f":"IF(ESTUDIANTES!I1382=0,\" \",ESTUDIANTES!I1382)","v":" "}," "," "," "]
[30,{"$f":"IF(ESTUDIANTES!G1383=0,\"\",ESTUDIANTES!G1383)","v":""},{"$f":"IF(ESTUDIANTES!I1383=0,\" \",ESTUDIANTES!I1383)","v":" "}," "," "," "]
[31,{"$f":"IF(ESTUDIANTES!G1384=0,\"\",ESTUDIANTES!G1384)","v":""},{"$f":"IF(ESTUDIANTES!I1384=0,\" \",ESTUDIANTES!I1384)","v":" "}," "," "," "]
[32,{"$f":"IF(ESTUDIANTES!G1385=0,\"\",ESTUDIANTES!G1385)","v":""},{"$f":"IF(ESTUDIANTES!I1385=0,\" \",ESTUDIANTES!I1385)","v":" "}," "," "," "]
[33,{"$f":"IF(ESTUDIANTES!G1386=0,\"\",ESTUDIANTES!G1386)","v":""},{"$f":"IF(ESTUDIANTES!I1386=0,\" \",ESTUDIANTES!I1386)","v":" "}," "," "," "]
[34,{"$f":"IF(ESTUDIANTES!G1387=0,\"\",ESTUDIANTES!G1387)","v":""},{"$f":"IF(ESTUDIANTES!I1387=0,\" \",ESTUDIANTES!I1387)","v":" "}," "," "," "]
[35,{"$f":"IF(ESTUDIANTES!G1388=0,\"\",ESTUDIANTES!G1388)","v":""},{"$f":"IF(ESTUDIANTES!I1388=0,\" \",ESTUDIANTES!I1388)","v":" "}," "," "," "]
[36,{"$f":"IF(ESTUDIANTES!G1389=0,\"\",ESTUDIANTES!G1389)","v":""},{"$f":"IF(ESTUDIANTES!I1389=0,\" \",ESTUDIANTES!I1389)","v":" "}," "," "," "]
[37,{"$f":"IF(ESTUDIANTES!G1390=0,\"\",ESTUDIANTES!G1390)","v":""},{"$f":"IF(ESTUDIANTES!I1390=0,\" \",ESTUDIANTES!I1390)","v":" "}," "," "," "]
[38,{"$f":"IF(ESTUDIANTES!G1391=0,\"\",ESTUDIANTES!G1391)","v":""},{"$f":"IF(ESTUDIANTES!I1391=0,\" \",ESTUDIANTES!I1391)","v":" "}," "," "," "]
[39,{"$f":"IF(ESTUDIANTES!G1392=0,\"\",ESTUDIANTES!G1392)","v":""},{"$f":"IF(ESTUDIANTES!I1392=0,\" \",ESTUDIANTES!I1392)","v":" "}," "," "," "]
[40,{"$f":"IF(ESTUDIANTES!G1393=0,\"\",ESTUDIANTES!G1393)","v":""},{"$f":"IF(ESTUDIANTES!I1393=0,\" \",ESTUDIANTES!I1393)","v":" "}," "," "," "]
[41,{"$f":"IF(ESTUDIANTES!G1394=0,\"\",ESTUDIANTES!G1394)","v":""},{"$f":"IF(ESTUDIANTES!I1394=0,\" \",ESTUDIANTES!I1394)","v":" "}," "," "," "]
[42,{"$f":"IF(ESTUDIANTES!G1395=0,\"\",ESTUDIANTES!G1395)","v":""},{"$f":"IF(ESTUDIANTES!I1395=0,\" \",ESTUDIANTES!I1395)","v":" "}," "," "," "]
[43,{"$f":"IF(ESTUDIANTES!G1396=0,\"\",ESTUDIANTES!G1396)","v":""},{"$f":"IF(ESTUDIANTES!I1396=0,\" \",ESTUDIANTES!I1396)","v":" "}," "," "," "]
[44,{"$f":"IF(ESTUDIANTES!G1397=0,\"\",ESTUDIANTES!G1397)","v":""},{"$f":"IF(ESTUDIANTES!I1397=0,\" \",ESTUDIANTES!I1397)","v":" "}," "," "," "]
[45,{"$f":"IF(ESTUDIANTES!G1398=0,\"\",ESTUDIANTES!G1398)","v":""},{"$f":"IF(ESTUDIANTES!I1398=0,\" \",ESTUDIANTES!I1398)","v":" "}," "," "," "]
[46,{"$f":"IF(ESTUDIANTES!G1399=0,\"\",ESTUDIANTES!G1399)","v":""},{"$f":"IF(ESTUDIANTES!I1399=0,\" \",ESTUDIANTES!I1399)","v":" "}," "," "," "]
[47,{"$f":"IF(ESTUDIANTES!G1400=0,\"\",ESTUDIANTES!G1400)","v":""},{"$f":"IF(ESTUDIANTES!I1400=0,\" \",ESTUDIANTES!I1400)","v":" "}," "," "," "]
[48,{"$f":"IF(ESTUDIANTES!G1401=0,\"\",ESTUDIANTES!G1401)","v":""},{"$f":"IF(ESTUDIANTES!I1401=0,\" \",ESTUDIANTES!I1401)","v":" "}," "," "," "]
[49,{"$f":"IF(ESTUDIANTES!G1402=0,\"\",ESTUDIANTES!G1402)","v":""},{"$f":"IF(ESTUDIANTES!I1402=0,\" \",ESTUDIANTES!I1402)","v":" "}," "," "," "]
[50,{"$f":"IF(ESTUDIANTES!G1403=0,\"\",ESTUDIANTES!G1403)","v":""},{"$f":"IF(ESTUDIANTES!I1403=0,\" \",ESTUDIANTES!I1403)","v":" "}," "," "," "]
[]
[{"$f":"DATOS!$B$3","v":"COLEGIO BACHILLERATO PCEI \"SIN FRONTERAS\""}]
[]
[null,"GRADO/CURSO:",{"$f":"DATOS!$E31","v":0}]
[null,"NIVEL:",{"$f":"DATOS!$F31","v":0}]
[null,"PARALELO:",{"$f":"DATOS!$G31","v":0}]
[null,"TUTOR:",{"$f":"DATOS!$H31","v":0}]
[]
["Nro","NOMBRES Y APELLIDOS","F.N","AÑOS","MESES","DIAS"]
[1,{"$f":"IF(ESTUDIANTES!G1404=0,\"\",ESTUDIANTES!G1404)","v":""},{"$f":"IF(ESTUDIANTES!I1404=0,\" \",ESTUDIANTES!I1404)","v":" "},{"$f":"IFERROR(DATEDIF(C1661,TODAY(),\"Y\"),\" \")","v":" "},{"$f":"IFERROR(DATEDIF(C1661,TODAY(),\"YM\"),\" \")","v":" "},{"$f":"IFERROR(DATEDIF(C1661,TODAY(),\"MD\"),\" \")","v":" "}]
[2,{"$f":"IF(ESTUDIANTES!G1405=0,\"\",ESTUDIANTES!G1405)","v":""},{"$f":"IF(ESTUDIANTES!I1405=0,\" \",ESTUDIANTES!I1405)","v":" "},{"$f":"IFERROR(DATEDIF(C1662,TODAY(),\"Y\"),\" \")","v":" "},{"$f":"IFERROR(DATEDIF(C1662,TODAY(),\"YM\"),\" \")","v":" "},{"$f":"IFERROR(DATEDIF(C1662,TODAY(),\"MD\"),\" \")","v":" "}]
[3,{"$f":"IF(ESTUDIANTES!G1406=0,\"\",ESTUDIANTES!G1406)","v":""},{"$f":"IF(ESTUDIANTES!I1406=0,\" \",ESTUDIANTES!I1406)","v":" "}," "," "," "]
[4,{"$f":"IF(ESTUDIANTES!G1407=0,\"\",ESTUDIANTES!G1407)","v":""},{"$f":"IF(ESTUDIANTES!I1407=0,\" \",ESTUDIANTES!I1407)","v":" "}," "," "," "]
[5,{"$f":"IF(ESTUDIANTES!G1408=0,\"\",ESTUDIANTES!G1408)","v":""},{"$f":"IF(ESTUDIANTES!I1408=0,\" \",ESTUDIANTES!I1408)","v":" "}," "," "," "]
[6,{"$f":"IF(ESTUDIANTES!G1409=0,\"\",ESTUDIANTES!G1409)","v":""},{"$f":"IF(ESTUDIANTES!I1409=0,\" \",ESTUDIANTES!I1409)","v":" "}," "," "," "]
[7,{"$f":"IF(ESTUDIANTES!G1410=0,\"\",ESTUDIANTES!G1410)","v":""},{"$f":"IF(ESTUDIANTES!I1410=0,\" \",ESTUDIANTES!I1410)","v":" "}," "," "," "]
[8,{"$f":"IF(ESTUDIANTES!G1411=0,\"\",ESTUDIANTES!G1411)","v":""},{"$f":"IF(ESTUDIANTES!I1411=0,\" \",ESTUDIANTES!I1411)","v":" "}," "," "," "]
[9,{"$f":"IF(ESTUDIANTES!G1412=0,\"\",ESTUDIANTES!G1412)","v":""},{"$f":"IF(ESTUDIANTES!I1412=0,\" \",ESTUDIANTES!I1412)","v":" "}," "," "," "]
[10,{"$f":"IF(ESTUDIANTES!G1413=0,\"\",ESTUDIANTES!G1413)","v":""},{"$f":"IF(ESTUDIANTES!I1413=0,\" \",ESTUDIANTES!I1413)","v":" "}," "," "," "]
[11,{"$f":"IF(ESTUDIANTES!G1414=0,\"\",ESTUDIANTES!G1414)","v":""},{"$f":"IF(ESTUDIANTES!I1414=0,\" \",ESTUDIANTES!I1414)","v":" "}," "," "," "]
[12,{"$f":"IF(ESTUDIANTES!G1415=0,\"\",ESTUDIANTES!G1415)","v":""},{"$f":"IF(ESTUDIANTES!I1415=0,\" \",ESTUDIANTES!I1415)","v":" "}," "," "," "]
[13,{"$f":"IF(ESTUDIANTES!G1416=0,\"\",ESTUDIANTES!G1416)","v":""},{"$f":"IF(ESTUDIANTES!I1416=0,\" \",ESTUDIANTES!I1416)","v":" "}," "," "," "]
[14,{"$f":"IF(ESTUDIANTES!G1417=0,\"\",ESTUDIANTES!G1417)","v":""},{"$f":"IF(ESTUDIANTES!I1417=0,\" \",ESTUDIANTES!I1417)","v":" "}," "," "," "]
[15,{"$f":"IF(ESTUDIANTES!G1418=0,\"\",ESTUDIANTES!G1418)","v":""},{"$f":"IF(ESTUDIANTES!I1418=0,\" \",ESTUDIANTES!I1418)","v":" "}," "," "," "]
[16,{"$f":"IF(ESTUDIANTES!G1419=0,\"\",ESTUDIANTES!G1419)","v":""},{"$f":"IF(ESTUDIANTES!I1419=0,\" \",ESTUDIANTES!I1419)","v":" "}," "," "," "]
[17,{"$f":"IF(ESTUDIANTES!G1420=0,\"\",ESTUDIANTES!G1420)","v":""},{"$f":"IF(ESTUDIANTES!I1420=0,\" \",ESTUDIANTES!I1420)","v":" "}," "," "," "]
[18,{"$f":"IF(ESTUDIANTES!G1421=0,\"\",ESTUDIANTES!G1421)","v":""},{"$f":"IF(ESTUDIANTES!I1421=0,\" \",ESTUDIANTES!I1421)","v":" "}," "," "," "]
[19,{"$f":"IF(ESTUDIANTES!G1422=0,\"\",ESTUDIANTES!G1422)","v":""},{"$f":"IF(ESTUDIANTES!I1422=0,\" \",ESTUDIANTES!I1422)","v":" "}," "," "," "]
[20,{"$f":"IF(ESTUDIANTES!G1423=0,\"\",ESTUDIANTES!G1423)","v":""},{"$f":"IF(ESTUDIANTES!I1423=0,\" \",ESTUDIANTES!I1423)","v":" "}," "," "," "]
[21,{"$f":"IF(ESTUDIANTES!G1424=0,\"\",ESTUDIANTES!G1424)","v":""},{"$f":"IF(ESTUDIANTES!I1424=0,\" \",ESTUDIANTES!I1424)","v":" "}," "," "," "]
[22,{"$f":"IF(ESTUDIANTES!G1425=0,\"\",ESTUDIANTES!G1425)","v":""},{"$f":"IF(ESTUDIANTES!I1425=0,\" \",ESTUDIANTES!I1425)","v":" "}," "," "," "]
[23,{"$f":"IF(ESTUDIANTES!G1426=0,\"\",ESTUDIANTES!G1426)","v":""},{"$f":"IF(ESTUDIANTES!I1426=0,\" \",ESTUDIANTES!I1426)","v":" "}," "," "," "]
[24,{"$f":"IF(ESTUDIANTES!G1427=0,\"\",ESTUDIANTES!G1427)","v":""},{"$f":"IF(ESTUDIANTES!I1427=0,\" \",ESTUDIANTES!I1427)","v":" "}," "," "," "]
[25,{"$f":"IF(ESTUDIANTES!G1428=0,\"\",ESTUDIANTES!G1428)","v":""},{"$f":"IF(ESTUDIANTES!I1428=0,\" \",ESTUDIANTES!I1428)","v":" "}," "," "," "]
[26,{"$f":"IF(ESTUDIANTES!G1429=0,\"\",ESTUDIANTES!G1429)","v":""},{"$f":"IF(ESTUDIANTES!I1429=0,\" \",ESTUDIANTES!I1429)","v":" "}," "," "," "]
[27,{"$f":"IF(ESTUDIANTES!G1430=0,\"\",ESTUDIANTES!G1430)","v":""},{"$f":"IF(ESTUDIANTES!I1430=0,\" \",ESTUDIANTES!I1430)","v":" "}," "," "," "]
[28,{"$f":"IF(ESTUDIANTES!G1431=0,\"\",ESTUDIANTES!G1431)","v":""},{"$f":"IF(ESTUDIANTES!I1431=0,\" \",ESTUDIANTES!I1431)","v":" "}," "," "," "]
[29,{"$f":"IF(ESTUDIANTES!G1432=0,\"\",ESTUDIANTES!G1432)","v":""},{"$f":"IF(ESTUDIANTES!I1432=0,\" \",ESTUDIANTES!I1432)","v":" "}," "," "," "]
[30,{"$f":"IF(ESTUDIANTES!G1433=0,\"\",ESTUDIANTES!G1433)","v":""},{"$f":"IF(ESTUDIANTES!I1433=0,\" \",ESTUDIANTES!I1433)","v":" "}," "," "," "]
[31,{"$f":"IF(ESTUDIANTES!G1434=0,\"\",ESTUDIANTES!G1434)","v":""},{"$f":"IF(ESTUDIANTES!I1434=0,\" \",ESTUDIANTES!I1434)","v":" "}," "," "," "]
[32,{"$f":"IF(ESTUDIANTES!G1435=0,\"\",ESTUDIANTES!G1435)","v":""},{"$f":"IF(ESTUDIANTES!I1435=0,\" \",ESTUDIANTES!I1435)","v":" "}," "," "," "]
[33,{"$f":"IF(ESTUDIANTES!G1436=0,\"\",ESTUDIANTES!G1436)","v":""},{"$f":"IF(ESTUDIANTES!I1436=0,\" \",ESTUDIANTES!I1436)","v":" "}," "," "," "]
[34,{"$f":"IF(ESTUDIANTES!G1437=0,\"\",ESTUDIANTES!G1437)","v":""},{"$f":"IF(ESTUDIANTES!I1437=0,\" \",ESTUDIANTES!I1437)","v":" "}," "," "," "]
[35,{"$f":"IF(ESTUDIANTES!G1438=0,\"\",ESTUDIANTES!G1438)","v":""},{"$f":"IF(ESTUDIANTES!I1438=0,\" \",ESTUDIANTES!I1438)","v":" "}," "," "," "]
[36,{"$f":"IF(ESTUDIANTES!G1439=0,\"\",ESTUDIANTES!G1439)","v":""},{"$f":"IF(ESTUDIANTES!I1439=0,\" \",ESTUDIANTES!I1439)","v":" "}," "," "," "]
[37,{"$f":"IF(ESTUDIANTES!G1440=0,\"\",ESTUDIANTES!G1440)","v":""},{"$f":"IF(ESTUDIANTES!I1440=0,\" \",ESTUDIANTES!I1440)","v":" "}," "," "," "]
[38,{"$f":"IF(ESTUDIANTES!G1441=0,\"\",ESTUDIANTES!G1441)","v":""},{"$f":"IF(ESTUDIANTES!I1441=0,\" \",ESTUDIANTES!I1441)","v":" "}," "," "," "]
[39,{"$f":"IF(ESTUDIANTES!G1442=0,\"\",ESTUDIANTES!G1442)","v":""},{"$f":"IF(ESTUDIANTES!I1442=0,\" \",ESTUDIANTES!I1442)","v":" "}," "," "," "]
[40,{"$f":"IF(ESTUDIANTES!G1443=0,\"\",ESTUDIANTES!G1443)","v":""},{"$f":"IF(ESTUDIANTES!I1443=0,\" \",ESTUDIANTES!I1443)","v":" "}," "," "," "]
[41,{"$f":"IF(ESTUDIANTES!G1444=0,\"\",ESTUDIANTES!G1444)","v":""},{"$f":"IF(ESTUDIANTES!I1444=0,\" \",ESTUDIANTES!I1444)","v":" "}," "," "," "]
[42,{"$f":"IF(ESTUDIANTES!G1445=0,\"\",ESTUDIANTES!G1445)","v":""},{"$f":"IF(ESTUDIANTES!I1445=0,\" \",ESTUDIANTES!I1445)","v":" "}," "," "," "]
[43,{"$f":"IF(ESTUDIANTES!G1446=0,\"\",ESTUDIANTES!G1446)","v":""},{"$f":"IF(ESTUDIANTES!I1446=0,\" \",ESTUDIANTES!I1446)","v":" "}," "," "," "]
[44,{"$f":"IF(ESTUDIANTES!G1447=0,\"\",ESTUDIANTES!G1447)","v":""},{"$f":"IF(ESTUDIANTES!I1447=0,\" \",ESTUDIANTES!I1447)","v":" "}," "," "," "]
[45,{"$f":"IF(ESTUDIANTES!G1448=0,\"\",ESTUDIANTES!G1448)","v":""},{"$f":"IF(ESTUDIANTES!I1448=0,\" \",ESTUDIANTES!I1448)","v":" "}," "," "," "]
[46,{"$f":"IF(ESTUDIANTES!G1449=0,\"\",ESTUDIANTES!G1449)","v":""},{"$f":"IF(ESTUDIANTES!I1449=0,\" \",ESTUDIANTES!I1449)","v":" "}," "," "," "]
[47,{"$f":"IF(ESTUDIANTES!G1450=0,\"\",ESTUDIANTES!G1450)","v":""},{"$f":"IF(ESTUDIANTES!I1450=0,\" \",ESTUDIANTES!I1450)","v":" "}," "," "," "]
[48,{"$f":"IF(ESTUDIANTES!G1451=0,\"\",ESTUDIANTES!G1451)","v":""},{"$f":"IF(ESTUDIANTES!I1451=0,\" \",ESTUDIANTES!I1451)","v":" "}," "," "," "]
[49,{"$f":"IF(ESTUDIANTES!G1452=0,\"\",ESTUDIANTES!G1452)","v":""},{"$f":"IF(ESTUDIANTES!I1452=0,\" \",ESTUDIANTES!I1452)","v":" "}," "," "," "]
[50,{"$f":"IF(ESTUDIANTES!G1453=0,\"\",ESTUDIANTES!G1453)","v":""},{"$f":"IF(ESTUDIANTES!I1453=0,\" \",ESTUDIANTES!I1453)","v":" "}," "," "," "]
[]
[{"$f":"DATOS!$B$3","v":"COLEGIO BACHILLERATO PCEI \"SIN FRONTERAS\""}]
[]
[null,"GRADO/CURSO:",{"$f":"DATOS!$E32","v":0}]
[null,"NIVEL:",{"$f":"DATOS!$F32","v":0}]
[null,"PARALELO:",{"$f":"DATOS!$G32","v":0}]
[null,"TUTOR:",{"$f":"DATOS!$H32","v":0}]
[]
["Nro","NOMBRES Y APELLIDOS","F.N","AÑOS","MESES","DIAS"]
[1,{"$f":"IF(ESTUDIANTES!G1454=0,\"\",ESTUDIANTES!G1454)","v":""},{"$f":"IF(ESTUDIANTES!I1454=0,\" \",ESTUDIANTES!I1454)","v":" "},{"$f":"IFERROR(DATEDIF(C1720,TODAY(),\"Y\"),\" \")","v":" "},{"$f":"IFERROR(DATEDIF(C1720,TODAY(),\"YM\"),\" \")","v":" "},{"$f":"IFERROR(DATEDIF(C1720,TODAY(),\"MD\"),\" \")","v":" "}]
[2,{"$f":"IF(ESTUDIANTES!G1455=0,\"\",ESTUDIANTES!G1455)","v":""},{"$f":"IF(ESTUDIANTES!I1455=0,\" \",ESTUDIANTES!I1455)","v":" "},{"$f":"IFERROR(DATEDIF(C1721,TODAY(),\"Y\"),\" \")","v":" "},{"$f":"IFERROR(DATEDIF(C1721,TODAY(),\"YM\"),\" \")","v":" "},{"$f":"IFERROR(DATEDIF(C1721,TODAY(),\"MD\"),\" \")","v":" "}]
[3,{"$f":"IF(ESTUDIANTES!G1456=0,\"\",ESTUDIANTES!G1456)","v":""},{"$f":"IF(ESTUDIANTES!I1456=0,\" \",ESTUDIANTES!I1456)","v":" "}," "," "," "]
[4,{"$f":"IF(ESTUDIANTES!G1457=0,\"\",ESTUDIANTES!G1457)","v":""},{"$f":"IF(ESTUDIANTES!I1457=0,\" \",ESTUDIANTES!I1457)","v":" "}," "," "," "]
[5,{"$f":"IF(ESTUDIANTES!G1458=0,\"\",ESTUDIANTES!G1458)","v":""},{"$f":"IF(ESTUDIANTES!I1458=0,\" \",ESTUDIANTES!I1458)","v":" "}," "," "," "]
[6,{"$f":"IF(ESTUDIANTES!G1459=0,\"\",ESTUDIANTES!G1459)","v":""},{"$f":"IF(ESTUDIANTES!I1459=0,\" \",ESTUDIANTES!I1459)","v":" "}," "," "," "]
[7,{"$f":"IF(ESTUDIANTES!G1460=0,\"\",ESTUDIANTES!G1460)","v":""},{"$f":"IF(ESTUDIANTES!I1460=0,\" \",ESTUDIANTES!I1460)","v":" "}," "," "," "]
[8,{"$f":"IF(ESTUDIANTES!G1461=0,\"\",ESTUDIANTES!G1461)","v":""},{"$f":"IF(ESTUDIANTES!I1461=0,\" \",ESTUDIANTES!I1461)","v":" "}," "," "," "]
[9,{"$f":"IF(ESTUDIANTES!G1462=0,\"\",ESTUDIANTES!G1462)","v":""},{"$f":"IF(ESTUDIANTES!I1462=0,\" \",ESTUDIANTES!I1462)","v":" "}," "," "," "]
[10,{"$f":"IF(ESTUDIANTES!G1463=0,\"\",ESTUDIANTES!G1463)","v":""},{"$f":"IF(ESTUDIANTES!I1463=0,\" \",ESTUDIANTES!I1463)","v":" "}," "," "," "]
[11,{"$f":"IF(ESTUDIANTES!G1464=0,\"\",ESTUDIANTES!G1464)","v":""},{"$f":"IF(ESTUDIANTES!I1464=0,\" \",ESTUDIANTES!I1464)","v":" "}," "," "," "]
[12,{"$f":"IF(ESTUDIANTES!G1465=0,\"\",ESTUDIANTES!G1465)","v":""},{"$f":"IF(ESTUDIANTES!I1465=0,\" \",ESTUDIANTES!I1465)","v":" "}," "," "," "]
[13,{"$f":"IF(ESTUDIANTES!G1466=0,\"\",ESTUDIANTES!G1466)","v":""},{"$f":"IF(ESTUDIANTES!I1466=0,\" \",ESTUDIANTES!I1466)","v":" "}," "," "," "]
[14,{"$f":"IF(ESTUDIANTES!G1467=0,\"\",ESTUDIANTES!G1467)","v":""},{"$f":"IF(ESTUDIANTES!I1467=0,\" \",ESTUDIANTES!I1467)","v":" "}," "," "," "]
[15,{"$f":"IF(ESTUDIANTES!G1468=0,\"\",ESTUDIANTES!G1468)","v":""},{"$f":"IF(ESTUDIANTES!I1468=0,\" \",ESTUDIANTES!I1468)","v":" "}," "," "," "]
[16,{"$f":"IF(ESTUDIANTES!G1469=0,\"\",ESTUDIANTES!G1469)","v":""},{"$f":"IF(ESTUDIANTES!I1469=0,\" \",ESTUDIANTES!I1469)","v":" "}," "," "," "]
[17,{"$f":"IF(ESTUDIANTES!G1470=0,\"\",ESTUDIANTES!G1470)","v":""},{"$f":"IF(ESTUDIANTES!I1470=0,\" \",ESTUDIANTES!I1470)","v":" "}," "," "," "]
[18,{"$f":"IF(ESTUDIANTES!G1471=0,\"\",ESTUDIANTES!G1471)","v":""},{"$f":"IF(ESTUDIANTES!I1471=0,\" \",ESTUDIANTES!I1471)","v":" "}," "," "," "]
[19,{"$f":"IF(ESTUDIANTES!G1472=0,\"\",ESTUDIANTES!G1472)","v":""},{"$f":"IF(ESTUDIANTES!I1472=0,\" \",ESTUDIANTES!I1472)","v":" "}," "," "," "]
[20,{"$f":"IF(ESTUDIANTES!G1473=0,\"\",ESTUDIANTES!G1473)","v":""},{"$f":"IF(ESTUDIANTES!I1473=0,\" \",ESTUDIANTES!I1473)","v":" "}," "," "," "]
[21,{"$f":"IF(ESTUDIANTES!G1474=0,\"\",ESTUDIANTES!G1474)","v":""},{"$f":"IF(ESTUDIANTES!I1474=0,\" \",ESTUDIANTES!I1474)","v":" "}," "," "," "]
[22,{"$f":"IF(ESTUDIANTES!G1475=0,\"\",ESTUDIANTES!G1475)","v":""},{"$f":"IF(ESTUDIANTES!I1475=0,\" \",ESTUDIANTES!I1475)","v":" "}," "," "," "]
[23,{"$f":"IF(ESTUDIANTES!G1476=0,\"\",ESTUDIANTES!G1476)","v":""},{"$f":"IF(ESTUDIANTES!I1476=0,\" \",ESTUDIANTES!I1476)","v":" "}," "," "," "]
[24,{"$f":"IF(ESTUDIANTES!G1477=0,\"\",ESTUDIANTES!G1477)","v":""},{"$f":"IF(ESTUDIANTES!I1477=0,\" \",ESTUDIANTES!I1477)","v":" "}," "," "," "]
[25,{"$f":"IF(ESTUDIANTES!G1478=0,\"\",ESTUDIANTES!G1478)","v":""},{"$f":"IF(ESTUDIANTES!I1478=0,\" \",ESTUDIANTES!I1478)","v":" "}," "," "," "]
[26,{"$f":"IF(ESTUDIANTES!G1479=0,\"\",ESTUDIANTES!G1479)","v":""},{"$f":"IF(ESTUDIANTES!I1479=0,\" \",ESTUDIANTES!I1479)","v":" "}," "," "," "]
[27,{"$f":"IF(ESTUDIANTES!G1480=0,\"\",ESTUDIANTES!G1480)","v":""},{"$f":"IF(ESTUDIANTES!I1480=0,\" \",ESTUDIANTES!I1480)","v":" "}," "," "," "]
[28,{"$f":"IF(ESTUDIANTES!G1481=0,\"\",ESTUDIANTES!G1481)","v":""},{"$f":"IF(ESTUDIANTES!I1481=0,\" \",ESTUDIANTES!I1481)","v":" "}," "," "," "]
[29,{"$f":"IF(ESTUDIANTES!G1482=0,\"\",ESTUDIANTES!G1482)","v":""},{"$f":"IF(ESTUDIANTES!I1482=0,\" \",ESTUDIANTES!I1482)","v":" "}," "," "," "]
[30,{"$f":"IF(ESTUDIANTES!G1483=0,\"\",ESTUDIANTES!G1483)","v":""},{"$f":"IF(ESTUDIANTES!I1483=0,\" \",ESTUDIANTES!I1483)","v":" "}," "," "," "]
[31,{"$f":"IF(ESTUDIANTES!G1484=0,\"\",ESTUDIANTES!G1484)","v":""},{"$f":"IF(ESTUDIANTES!I1484=0,\" \",ESTUDIANTES!I1484)","v":" "}," "," "," "]
[32,{"$f":"IF(ESTUDIANTES!G1485=0,\"\",ESTUDIANTES!G1485)","v":""},{"$f":"IF(ESTUDIANTES!I1485=0,\" \",ESTUDIANTES!I1485)","v":" "}," "," "," "]
[33,{"$f":"IF(ESTUDIANTES!G1486=0,\"\",ESTUDIANTES!G1486)","v":""},{"$f":"IF(ESTUDIANTES!I1486=0,\" \",ESTUDIANTES!I1486)","v":" "}," "," "," "]
[34,{"$f":"IF(ESTUDIANTES!G1487=0,\"\",ESTUDIANTES!G1487)","v":""},{"$f":"IF(ESTUDIANTES!I1487=0,\" \",ESTUDIANTES!I1487)","v":" "}," "," "," "]
[35,{"$f":"IF(ESTUDIANTES!G1488=0,\"\",ESTUDIANTES!G1488)","v":""},{"$f":"IF(ESTUDIANTES!I1488=0,\" \",ESTUDIANTES!I1488)","v":" "}," "," "," "]
[36,{"$f":"IF(ESTUDIANTES!G1489=0,\"\",ESTUDIANTES!G1489)","v":""},{"$f":"IF(ESTUDIANTES!I1489=0,\" \",ESTUDIANTES!I1489)","v":" "}," "," "," "]
[37,{"$f":"IF(ESTUDIANTES!G1490=0,\"\",ESTUDIANTES!G1490)","v":""},{"$f":"IF(ESTUDIANTES!I1490=0,\" \",ESTUDIANTES!I1490)","v":" "}," "," "," "]
[38,{"$f":"IF(ESTUDIANTES!G1491=0,\"\",ESTUDIANTES!G1491)","v":""},{"$f":"IF(ESTUDIANTES!I1491=0,\" \",ESTUDIANTES!I1491)","v":" "}," "," "," "]
[39,{"$f":"IF(ESTUDIANTES!G1492=0,\"\",ESTUDIANTES!G1492)","v":""},{"$f":"IF(ESTUDIANTES!I1492=0,\" \",ESTUDIANTES!I1492)","v":" "}," "," "," "]
[40,{"$f":"IF(ESTUDIANTES!G1493=0,\"\",ESTUDIANTES!G1493)","v":""},{"$f":"IF(ESTUDIANTES!I1493=0,\" \",ESTUDIANTES!I1493)","v":" "}," "," "," "]
[41,{"$f":"IF(ESTUDIANTES!G1494=0,\"\",ESTUDIANTES!G1494)","v":""},{"$f":"IF(ESTUDIANTES!I1494=0,\" \",ESTUDIANTES!I1494)","v":" "}," "," "," "]
[42,{"$f":"IF(ESTUDIANTES!G1495=0,\"\",ESTUDIANTES!G1495)","v":""},{"$f":"IF(ESTUDIANTES!I1495=0,\" \",ESTUDIANTES!I1495)","v":" "}," "," "," "]
[43,{"$f":"IF(ESTUDIANTES!G1496=0,\"\",ESTUDIANTES!G1496)","v":""},{"$f":"IF(ESTUDIANTES!I1496=0,\" \",ESTUDIANTES!I1496)","v":" "}," "," "," "]
[44,{"$f":"IF(ESTUDIANTES!G1497=0,\"\",ESTUDIANTES!G1497)","v":""},{"$f":"IF(ESTUDIANTES!I1497=0,\" \",ESTUDIANTES!I1497)","v":" "}," "," "," "]
[45,{"$f":"IF(ESTUDIANTES!G1498=0,\"\",ESTUDIANTES!G1498)","v":""},{"$f":"IF(ESTUDIANTES!I1498=0,\" \",ESTUDIANTES!I1498)","v":" "}," "," "," "]
[46,{"$f":"IF(ESTUDIANTES!G1499=0,\"\",ESTUDIANTES!G1499)","v":""},{"$f":"IF(ESTUDIANTES!I1499=0,\" \",ESTUDIANTES!I1499)","v":" "}," "," "," "]
[47,{"$f":"IF(ESTUDIANTES!G1500=0,\"\",ESTUDIANTES!G1500)","v":""},{"$f":"IF(ESTUDIANTES!I1500=0,\" \",ESTUDIANTES!I1500)","v":" "}," "," "," "]
[48,{"$f":"IF(ESTUDIANTES!G1501=0,\"\",ESTUDIANTES!G1501)","v":""},{"$f":"IF(ESTUDIANTES!I1501=0,\" \",ESTUDIANTES!I1501)","v":" "}," "," "," "]
[49,{"$f":"IF(ESTUDIANTES!G1502=0,\"\",ESTUDIANTES!G1502)","v":""},{"$f":"IF(ESTUDIANTES!I1502=0,\" \",ESTUDIANTES!I1502)","v":" "}," "," "," "]
[50,{"$f":"IF(ESTUDIANTES!G1503=0,\"\",ESTUDIANTES!G1503)","v":""},{"$f":"IF(ESTUDIANTES!I1503=0,\" \",ESTUDIANTES!I1503)","v":" "}," "," "," "]
[]
[{"$f":"DATOS!$B$3","v":"COLEGIO BACHILLERATO PCEI \"SIN FRONTERAS\""}]
[]
[null,"GRADO/CURSO:",{"$f":"DATOS!$E33","v":0}]
[null,"NIVEL:",{"$f":"DATOS!$F33","v":0}]
[null,"PARALELO:",{"$f":"DATOS!$G33","v":0}]
[null,"TUTOR:",{"$f":"DATOS!$H33","v":0}]
[]
["Nro","NOMBRES Y APELLIDOS","F.N","AÑOS","MESES","DIAS"]
[1,{"$f":"IF(ESTUDIANTES!G1504=0,\"\",ESTUDIANTES!G1504)","v":""},{"$f":"IF(ESTUDIANTES!I1504=0,\" \",ESTUDIANTES!I1504)","v":" "},{"$f":"IFERROR(DATEDIF(C1779,TODAY(),\"Y\"),\" \")","v":" "},{"$f":"IFERROR(DATEDIF(C1779,TODAY(),\"YM\"),\" \")","v":" "},{"$f":"IFERROR(DATEDIF(C1779,TODAY(),\"MD\"),\" \")","v":" "}]
[2,{"$f":"IF(ESTUDIANTES!G1505=0,\"\",ESTUDIANTES!G1505)","v":""},{"$f":"IF(ESTUDIANTES!I1505=0,\" \",ESTUDIANTES!I1505)","v":" "},{"$f":"IFERROR(DATEDIF(C1780,TODAY(),\"Y\"),\" \")","v":" "},{"$f":"IFERROR(DATEDIF(C1780,TODAY(),\"YM\"),\" \")","v":" "},{"$f":"IFERROR(DATEDIF(C1780,TODAY(),\"MD\"),\" \")","v":" "}]
[3,{"$f":"IF(ESTUDIANTES!G1506=0,\"\",ESTUDIANTES!G1506)","v":""},{"$f":"IF(ESTUDIANTES!I1506=0,\" \",ESTUDIANTES!I1506)","v":" "}," "," "," "]
[4,{"$f":"IF(ESTUDIANTES!G1507=0,\"\",ESTUDIANTES!G1507)","v":""},{"$f":"IF(ESTUDIANTES!I1507=0,\" \",ESTUDIANTES!I1507)","v":" "}," "," "," "]
[5,{"$f":"IF(ESTUDIANTES!G1508=0,\"\",ESTUDIANTES!G1508)","v":""},{"$f":"IF(ESTUDIANTES!I1508=0,\" \",ESTUDIANTES!I1508)","v":" "}," "," "," "]
[6,{"$f":"IF(ESTUDIANTES!G1509=0,\"\",ESTUDIANTES!G1509)","v":""},{"$f":"IF(ESTUDIANTES!I1509=0,\" \",ESTUDIANTES!I1509)","v":" "}," "," "," "]
[7,{"$f":"IF(ESTUDIANTES!G1510=0,\"\",ESTUDIANTES!G1510)","v":""},{"$f":"IF(ESTUDIANTES!I1510=0,\" \",ESTUDIANTES!I1510)","v":" "}," "," "," "]
[8,{"$f":"IF(ESTUDIANTES!G1511=0,\"\",ESTUDIANTES!G1511)","v":""},{"$f":"IF(ESTUDIANTES!I1511=0,\" \",ESTUDIANTES!I1511)","v":" "}," "," "," "]
[9,{"$f":"IF(ESTUDIANTES!G1512=0,\"\",ESTUDIANTES!G1512)","v":""},{"$f":"IF(ESTUDIANTES!I1512=0,\" \",ESTUDIANTES!I1512)","v":" "}," "," "," "]
[10,{"$f":"IF(ESTUDIANTES!G1513=0,\"\",ESTUDIANTES!G1513)","v":""},{"$f":"IF(ESTUDIANTES!I1513=0,\" \",ESTUDIANTES!I1513)","v":" "}," "," "," "]
[11,{"$f":"IF(ESTUDIANTES!G1514=0,\"\",ESTUDIANTES!G1514)","v":""},{"$f":"IF(ESTUDIANTES!I1514=0,\" \",ESTUDIANTES!I1514)","v":" "}," "," "," "]
[12,{"$f":"IF(ESTUDIANTES!G1515=0,\"\",ESTUDIANTES!G1515)","v":""},{"$f":"IF(ESTUDIANTES!I1515=0,\" \",ESTUDIANTES!I1515)","v":" "}," "," "," "]
[13,{"$f":"IF(ESTUDIANTES!G1516=0,\"\",ESTUDIANTES!G1516)","v":""},{"$f":"IF(ESTUDIANTES!I1516=0,\" \",ESTUDIANTES!I1516)","v":" "}," "," "," "]
[14,{"$f":"IF(ESTUDIANTES!G1517=0,\"\",ESTUDIANTES!G1517)","v":""},{"$f":"IF(ESTUDIANTES!I1517=0,\" \",ESTUDIANTES!I1517)","v":" "}," "," "," "]
[15,{"$f":"IF(ESTUDIANTES!G1518=0,\"\",ESTUDIANTES!G1518)","v":""},{"$f":"IF(ESTUDIANTES!I1518=0,\" \",ESTUDIANTES!I1518)","v":" "}," "," "," "]
[16,{"$f":"IF(ESTUDIANTES!G1519=0,\"\",ESTUDIANTES!G1519)","v":""},{"$f":"IF(ESTUDIANTES!I1519=0,\" \",ESTUDIANTES!I1519)","v":" "}," "," "," "]
[17,{"$f":"IF(ESTUDIANTES!G1520=0,\"\",ESTUDIANTES!G1520)","v":""},{"$f":"IF(ESTUDIANTES!I1520=0,\" \",ESTUDIANTES!I1520)","v":" "}," "," "," "]
[18,{"$f":"IF(ESTUDIANTES!G1521=0,\"\",ESTUDIANTES!G1521)","v":""},{"$f":"IF(ESTUDIANTES!I1521=0,\" \",ESTUDIANTES!I1521)","v":" "}," "," "," "]
[19,{"$f":"IF(ESTUDIANTES!G1522=0,\"\",ESTUDIANTES!G1522)","v":""},{"$f":"IF(ESTUDIANTES!I1522=0,\" \",ESTUDIANTES!I1522)","v":" "}," "," "," "]
[20,{"$f":"IF(ESTUDIANTES!G1523=0,\"\",ESTUDIANTES!G1523)","v":""},{"$f":"IF(ESTUDIANTES!I1523=0,\" \",ESTUDIANTES!I1523)","v":" "}," "," "," "]
[21,{"$f":"IF(ESTUDIANTES!G1524=0,\"\",ESTUDIANTES!G1524)","v":""},{"$f":"IF(ESTUDIANTES!I1524=0,\" \",ESTUDIANTES!I1524)","v":" "}," "," "," "]
[22,{"$f":"IF(ESTUDIANTES!G1525=0,\"\",ESTUDIANTES!G1525)","v":""},{"$f":"IF(ESTUDIANTES!I1525=0,\" \",ESTUDIANTES!I1525)","v":" "}," "," "," "]
[23,{"$f":"IF(ESTUDIANTES!G1526=0,\"\",ESTUDIANTES!G1526)","v":""},{"$f":"IF(ESTUDIANTES!I1526=0,\" \",ESTUDIANTES!I1526)","v":" "}," "," "," "]
[24,{"$f":"IF(ESTUDIANTES!G1527=0,\"\",ESTUDIANTES!G1527)","v":""},{"$f":"IF(ESTUDIANTES!I1527=0,\" \",ESTUDIANTES!I1527)","v":" "}," "," "," "]
[25,{"$f":"IF(ESTUDIANTES!G1528=0,\"\",ESTUDIANTES!G1528)","v":""},{"$f":"IF(ESTUDIANTES!I1528=0,\" \",ESTUDIANTES!I1528)","v":" "}," "," "," "]
[26,{"$f":"IF(ESTUDIANTES!G1529=0,\"\",ESTUDIANTES!G1529)","v":""},{"$f":"IF(ESTUDIANTES!I1529=0,\" \",ESTUDIANTES!I1529)","v":" "}," "," "," "]
[27,{"$f":"IF(ESTUDIANTES!G1530=0,\"\",ESTUDIANTES!G1530)","v":""},{"$f":"IF(ESTUDIANTES!I1530=0,\" \",ESTUDIANTES!I1530)","v":" "}," "," "," "]
[28,{"$f":"IF(ESTUDIANTES!G1531=0,\"\",ESTUDIANTES!G1531)","v":""},{"$f":"IF(ESTUDIANTES!I1531=0,\" \",ESTUDIANTES!I1531)","v":" "}," "," "," "]
[29,{"$f":"IF(ESTUDIANTES!G1532=0,\"\",ESTUDIANTES!G1532)","v":""},{"$f":"IF(ESTUDIANTES!I1532=0,\" \",ESTUDIANTES!I1532)","v":" "}," "," "," "]
[30,{"$f":"IF(ESTUDIANTES!G1533=0,\"\",ESTUDIANTES!G1533)","v":""},{"$f":"IF(ESTUDIANTES!I1533=0,\" \",ESTUDIANTES!I1533)","v":" "}," "," "," "]
[31,{"$f":"IF(ESTUDIANTES!G1534=0,\"\",ESTUDIANTES!G1534)","v":""},{"$f":"IF(ESTUDIANTES!I1534=0,\" \",ESTUDIANTES!I1534)","v":" "}," "," "," "]
[32,{"$f":"IF(ESTUDIANTES!G1535=0,\"\",ESTUDIANTES!G1535)","v":""},{"$f":"IF(ESTUDIANTES!I1535=0,\" \",ESTUDIANTES!I1535)","v":" "}," "," "," "]
[33,{"$f":"IF(ESTUDIANTES!G1536=0,\"\",ESTUDIANTES!G1536)","v":""},{"$f":"IF(ESTUDIANTES!I1536=0,\" \",ESTUDIANTES!I1536)","v":" "}," "," "," "]
[34,{"$f":"IF(ESTUDIANTES!G1537=0,\"\",ESTUDIANTES!G1537)","v":""},{"$f":"IF(ESTUDIANTES!I1537=0,\" \",ESTUDIANTES!I1537)","v":" "}," "," "," "]
[35,{"$f":"IF(ESTUDIANTES!G1538=0,\"\",ESTUDIANTES!G1538)","v":""},{"$f":"IF(ESTUDIANTES!I1538=0,\" \",ESTUDIANTES!I1538)","v":" "}," "," "," "]
[36,{"$f":"IF(ESTUDIANTES!G1539=0,\"\",ESTUDIANTES!G1539)","v":""},{"$f":"IF(ESTUDIANTES!I1539=0,\" \",ESTUDIANTES!I1539)","v":" "}," "," "," "]
[37,{"$f":"IF(ESTUDIANTES!G1540=0,\"\",ESTUDIANTES!G1540)","v":""},{"$f":"IF(ESTUDIANTES!I1540=0,\" \",ESTUDIANTES!I1540)","v":" "}," "," "," "]
[38,{"$f":"IF(ESTUDIANTES!G1541=0,\"\",ESTUDIANTES!G1541)","v":""},{"$f":"IF(ESTUDIANTES!I1541=0,\" \",ESTUDIANTES!I1541)","v":" "}," "," "," "]
[39,{"$f":"IF(ESTUDIANTES!G1542=0,\"\",ESTUDIANTES!G1542)","v":""},{"$f":"IF(ESTUDIANTES!I1542=0,\" \",ESTUDIANTES!I1542)","v":" "}," "," "," "]
[40,{"$f":"IF(ESTUDIANTES!G1543=0,\"\",ESTUDIANTES!G1543)","v":""},{"$f":"IF(ESTUDIANTES!I1543=0,\" \",ESTUDIANTES!I1543)","v":" "}," "," "," "]
[41,{"$f":"IF(ESTUDIANTES!G1544=0,\"\",ESTUDIANTES!G1544)","v":""},{"$f":"IF(ESTUDIANTES!I1544=0,\" \",ESTUDIANTES!I1544)","v":" "}," "," "," "]
[42,{"$f":"IF(ESTUDIANTES!G1545=0,\"\",ESTUDIANTES!G1545)","v":""},{"$f":"IF(ESTUDIANTES!I1545=0,\" \",ESTUDIANTES!I1545)","v":" "}," "," "," "]
[43,{"$f":"IF(ESTUDIANTES!G1546=0,\"\",ESTUDIANTES!G1546)","v":""},{"$f":"IF(ESTUDIANTES!I1546=0,\" \",ESTUDIANTES!I1546)","v":" "}," "," "," "]
[44,{"$f":"IF(ESTUDIANTES!G1547=0,\"\",ESTUDIANTES!G1547)","v":""},{"$f":"IF(ESTUDIANTES!I1547=0,\" \",ESTUDIANTES!I1547)","v":" "}," "," "," "]
[45,{"$f":"IF(ESTUDIANTES!G1548=0,\"\",ESTUDIANTES!G1548)","v":""},{"$f":"IF(ESTUDIANTES!I1548=0,\" \",ESTUDIANTES!I1548)","v":" "}," "," "," "]
[46,{"$f":"IF(ESTUDIANTES!G1549=0,\"\",ESTUDIANTES!G1549)","v":""},{"$f":"IF(ESTUDIANTES!I1549=0,\" \",ESTUDIANTES!I1549)","v":" "}," "," "," "]
[47,{"$f":"IF(ESTUDIANTES!G1550=0,\"\",ESTUDIANTES!G1550)","v":""},{"$f":"IF(ESTUDIANTES!I1550=0,\" \",ESTUDIANTES!I1550)","v":" "}," "," "," "]
[48,{"$f":"IF(ESTUDIANTES!G1551=0,\"\",ESTUDIANTES!G1551)","v":""},{"$f":"IF(ESTUDIANTES!I1551=0,\" \",ESTUDIANTES!I1551)","v":" "}," "," "," "]
[49,{"$f":"IF(ESTUDIANTES!G1552=0,\"\",ESTUDIANTES!G1552)","v":""},{"$f":"IF(ESTUDIANTES!I1552=0,\" \",ESTUDIANTES!I1552)","v":" "}," "," "," "]
[50,{"$f":"IF(ESTUDIANTES!G1553=0,\"\",ESTUDIANTES!G1553)","v":""},{"$f":"IF(ESTUDIANTES!I1553=0,\" \",ESTUDIANTES!I1553)","v":" "}," "," "," "]
[]
[{"$f":"DATOS!$B$3","v":"COLEGIO BACHILLERATO PCEI \"SIN FRONTERAS\""}]
[]
[null,"GRADO/CURSO:",{"$f":"DATOS!$E34","v":0}]
[null,"NIVEL:",{"$f":"DATOS!$F34","v":0}]
[null,"PARALELO:",{"$f":"DATOS!$G34","v":0}]
[null,"TUTOR:",{"$f":"DATOS!$H34","v":0}]
[]
["Nro","NOMBRES Y APELLIDOS","F.N","AÑOS","MESES","DIAS"]
[1,{"$f":"IF(ESTUDIANTES!G1554=0,\"\",ESTUDIANTES!G1554)","v":""},{"$f":"IF(ESTUDIANTES!I1554=0,\" \",ESTUDIANTES!I1554)","v":" "},{"$f":"IFERROR(DATEDIF(C1838,TODAY(),\"Y\"),\" \")","v":" "},{"$f":"IFERROR(DATEDIF(C1838,TODAY(),\"YM\"),\" \")","v":" "},{"$f":"IFERROR(DATEDIF(C1838,TODAY(),\"MD\"),\" \")","v":" "}]
[2,{"$f":"IF(ESTUDIANTES!G1555=0,\"\",ESTUDIANTES!G1555)","v":""},{"$f":"IF(ESTUDIANTES!I1555=0,\" \",ESTUDIANTES!I1555)","v":" "},{"$f":"IFERROR(DATEDIF(C1839,TODAY(),\"Y\"),\" \")","v":" "},{"$f":"IFERROR(DATEDIF(C1839,TODAY(),\"YM\"),\" \")","v":" "},{"$f":"IFERROR(DATEDIF(C1839,TODAY(),\"MD\"),\" \")","v":" "}]
[3,{"$f":"IF(ESTUDIANTES!G1556=0,\"\",ESTUDIANTES!G1556)","v":""},{"$f":"IF(ESTUDIANTES!I1556=0,\" \",ESTUDIANTES!I1556)","v":" "}," "," "," "]
[4,{"$f":"IF(ESTUDIANTES!G1557=0,\"\",ESTUDIANTES!G1557)","v":""},{"$f":"IF(ESTUDIANTES!I1557=0,\" \",ESTUDIANTES!I1557)","v":" "}," "," "," "]
[5,{"$f":"IF(ESTUDIANTES!G1558=0,\"\",ESTUDIANTES!G1558)","v":""},{"$f":"IF(ESTUDIANTES!I1558=0,\" \",ESTUDIANTES!I1558)","v":" "}," "," "," "]
[6,{"$f":"IF(ESTUDIANTES!G1559=0,\"\",ESTUDIANTES!G1559)","v":""},{"$f":"IF(ESTUDIANTES!I1559=0,\" \",ESTUDIANTES!I1559)","v":" "}," "," "," "]
[7,{"$f":"IF(ESTUDIANTES!G1560=0,\"\",ESTUDIANTES!G1560)","v":""},{"$f":"IF(ESTUDIANTES!I1560=0,\" \",ESTUDIANTES!I1560)","v":" "}," "," "," "]
[8,{"$f":"IF(ESTUDIANTES!G1561=0,\"\",ESTUDIANTES!G1561)","v":""},{"$f":"IF(ESTUDIANTES!I1561=0,\" \",ESTUDIANTES!I1561)","v":" "}," "," "," "]
[9,{"$f":"IF(ESTUDIANTES!G1562=0,\"\",ESTUDIANTES!G1562)","v":""},{"$f":"IF(ESTUDIANTES!I1562=0,\" \",ESTUDIANTES!I1562)","v":" "}," "," "," "]
[10,{"$f":"IF(ESTUDIANTES!G1563=0,\"\",ESTUDIANTES!G1563)","v":""},{"$f":"IF(ESTUDIANTES!I1563=0,\" \",ESTUDIANTES!I1563)","v":" "}," "," "," "]
[11,{"$f":"IF(ESTUDIANTES!G1564=0,\"\",ESTUDIANTES!G1564)","v":""},{"$f":"IF(ESTUDIANTES!I1564=0,\" \",ESTUDIANTES!I1564)","v":" "}," "," "," "]
[12,{"$f":"IF(ESTUDIANTES!G1565=0,\"\",ESTUDIANTES!G1565)","v":""},{"$f":"IF(ESTUDIANTES!I1565=0,\" \",ESTUDIANTES!I1565)","v":" "}," "," "," "]
[13,{"$f":"IF(ESTUDIANTES!G1566=0,\"\",ESTUDIANTES!G1566)","v":""},{"$f":"IF(ESTUDIANTES!I1566=0,\" \",ESTUDIANTES!I1566)","v":" "}," "," "," "]
[14,{"$f":"IF(ESTUDIANTES!G1567=0,\"\",ESTUDIANTES!G1567)","v":""},{"$f":"IF(ESTUDIANTES!I1567=0,\" \",ESTUDIANTES!I1567)","v":" "}," "," "," "]
[15,{"$f":"IF(ESTUDIANTES!G1568=0,\"\",ESTUDIANTES!G1568)","v":""},{"$f":"IF(ESTUDIANTES!I1568=0,\" \",ESTUDIANTES!I1568)","v":" "}," "," "," "]
[16,{"$f":"IF(ESTUDIANTES!G1569=0,\"\",ESTUDIANTES!G1569)","v":""},{"$f":"IF(ESTUDIANTES!I1569=0,\" \",ESTUDIANTES!I1569)","v":" "}," "," "," "]
[17,{"$f":"IF(ESTUDIANTES!G1570=0,\"\",ESTUDIANTES!G1570)","v":""},{"$f":"IF(ESTUDIANTES!I1570=0,\" \",ESTUDIANTES!I1570)","v":" "}," "," "," "]
[18,{"$f":"IF(ESTUDIANTES!G1571=0,\"\",ESTUDIANTES!G1571)","v":""},{"$f":"IF(ESTUDIANTES!I1571=0,\" \",ESTUDIANTES!I1571)","v":" "}," "," "," "]
[19,{"$f":"IF(ESTUDIANTES!G1572=0,\"\",ESTUDIANTES!G1572)","v":""},{"$f":"IF(ESTUDIANTES!I1572=0,\" \",ESTUDIANTES!I1572)","v":" "}," "," "," "]
[20,{"$f":"IF(ESTUDIANTES!G1573=0,\"\",ESTUDIANTES!G1573)","v":""},{"$f":"IF(ESTUDIANTES!I1573=0,\" \",ESTUDIANTES!I1573)","v":" "}," "," "," "]
[21,{"$f":"IF(ESTUDIANTES!G1574=0,\"\",ESTUDIANTES!G1574)","v":""},{"$f":"IF(ESTUDIANTES!I1574=0,\" \",ESTUDIANTES!I1574)","v":" "}," "," "," "]
[22,{"$f":"IF(ESTUDIANTES!G1575=0,\"\",ESTUDIANTES!G1575)","v":""},{"$f":"IF(ESTUDIANTES!I1575=0,\" \",ESTUDIANTES!I1575)","v":" "}," "," "," "]
[23,{"$f":"IF(ESTUDIANTES!G1576=0,\"\",ESTUDIANTES!G1576)","v":""},{"$f":"IF(ESTUDIANTES!I1576=0,\" \",ESTUDIANTES!I1576)","v":" "}," "," "," "]
[24,{"$f":"IF(ESTUDIANTES!G1577=0,\"\",ESTUDIANTES!G1577)","v":""},{"$f":"IF(ESTUDIANTES!I1577=0,\" \",ESTUDIANTES!I1577)","v":" "}," "," "," "]
[25,{"$f":"IF(ESTUDIANTES!G1578=0,\"\",ESTUDIANTES!G1578)","v":""},{"$f":"IF(ESTUDIANTES!I1578=0,\" \",ESTUDIANTES!I1578)","v":" "}," "," "," "]
[26,{"$f":"IF(ESTUDIANTES!G1579=0,\"\",ESTUDIANTES!G1579)","v":""},{"$f":"IF(ESTUDIANTES!I1579=0,\" \",ESTUDIANTES!I1579)","v":" "}," "," "," "]
[27,{"$f":"IF(ESTUDIANTES!G1580=0,\"\",ESTUDIANTES!G1580)","v":""},{"$f":"IF(ESTUDIANTES!I1580=0,\" \",ESTUDIANTES!I1580)","v":" "}," "," "," "]
[28,{"$f":"IF(ESTUDIANTES!G1581=0,\"\",ESTUDIANTES!G1581)","v":""},{"$f":"IF(ESTUDIANTES!I1581=0,\" \",ESTUDIANTES!I1581)","v":" "}," "," "," "]
[29,{"$f":"IF(ESTUDIANTES!G1582=0,\"\",ESTUDIANTES!G1582)","v":""},{"$f":"IF(ESTUDIANTES!I1582=0,\" \",ESTUDIANTES!I1582)","v":" "}," "," "," "]
[30,{"$f":"IF(ESTUDIANTES!G1583=0,\"\",ESTUDIANTES!G1583)","v":""},{"$f":"IF(ESTUDIANTES!I1583=0,\" \",ESTUDIANTES!I1583)","v":" "}," "," "," "]
[31,{"$f":"IF(ESTUDIANTES!G1584=0,\"\",ESTUDIANTES!G1584)","v":""},{"$f":"IF(ESTUDIANTES!I1584=0,\" \",ESTUDIANTES!I1584)","v":" "}," "," "," "]
[32,{"$f":"IF(ESTUDIANTES!G1585=0,\"\",ESTUDIANTES!G1585)","v":""},{"$f":"IF(ESTUDIANTES!I1585=0,\" \",ESTUDIANTES!I1585)","v":" "}," "," "," "]
[33,{"$f":"IF(ESTUDIANTES!G1586=0,\"\",ESTUDIANTES!G1586)","v":""},{"$f":"IF(ESTUDIANTES!I1586=0,\" \",ESTUDIANTES!I1586)","v":" "}," "," "," "]
[34,{"$f":"IF(ESTUDIANTES!G1587=0,\"\",ESTUDIANTES!G1587)","v":""},{"$f":"IF(ESTUDIANTES!I1587=0,\" \",ESTUDIANTES!I1587)","v":" "}," "," "," "]
[35,{"$f":"IF(ESTUDIANTES!G1588=0,\"\",ESTUDIANTES!G1588)","v":""},{"$f":"IF(ESTUDIANTES!I1588=0,\" \",ESTUDIANTES!I1588)","v":" "}," "," "," "]
[36,{"$f":"IF(ESTUDIANTES!G1589=0,\"\",ESTUDIANTES!G1589)","v":""},{"$f":"IF(ESTUDIANTES!I1589=0,\" \",ESTUDIANTES!I1589)","v":" "}," "," "," "]
[37,{"$f":"IF(ESTUDIANTES!G1590=0,\"\",ESTUDIANTES!G1590)","v":""},{"$f":"IF(ESTUDIANTES!I1590=0,\" \",ESTUDIANTES!I1590)","v":" "}," "," "," "]
[38,{"$f":"IF(ESTUDIANTES!G1591=0,\"\",ESTUDIANTES!G1591)","v":""},{"$f":"IF(ESTUDIANTES!I1591=0,\" \",ESTUDIANTES!I1591)","v":" "}," "," "," "]
[39,{"$f":"IF(ESTUDIANTES!G1592=0,\"\",ESTUDIANTES!G1592)","v":""},{"$f":"IF(ESTUDIANTES!I1592=0,\" \",ESTUDIANTES!I1592)","v":" "}," "," "," "]
[40,{"$f":"IF(ESTUDIANTES!G1593=0,\"\",ESTUDIANTES!G1593)","v":""},{"$f":"IF(ESTUDIANTES!I1593=0,\" \",ESTUDIANTES!I1593)","v":" "}," "," "," "]
[41,{"$f":"IF(ESTUDIANTES!G1594=0,\"\",ESTUDIANTES!G1594)","v":""},{"$f":"IF(ESTUDIANTES!I1594=0,\" \",ESTUDIANTES!I1594)","v":" "}," "," "," "]
[42,{"$f":"IF(ESTUDIANTES!G1595=0,\"\",ESTUDIANTES!G1595)","v":""},{"$f":"IF(ESTUDIANTES!I1595=0,\" \",ESTUDIANTES!I1595)","v":" "}," "," "," "]
[43,{"$f":"IF(ESTUDIANTES!G1596=0,\"\",ESTUDIANTES!G1596)","v":""},{"$f":"IF(ESTUDIANTES!I1596=0,\" \",ESTUDIANTES!I1596)","v":" "}," "," "," "]
[44,{"$f":"IF(ESTUDIANTES!G1597=0,\"\",ESTUDIANTES!G1597)","v":""},{"$f":"IF(ESTUDIANTES!I1597=0,\" \",ESTUDIANTES!I1597)","v":" "}," "," "," "]
[45,{"$f":"IF(ESTUDIANTES!G1598=0,\"\",ESTUDIANTES!G1598)","v":""},{"$f":"IF(ESTUDIANTES!I1598=0,\" \",ESTUDIANTES!I1598)","v":" "}," "," "," "]
[46,{"$f":"IF(ESTUDIANTES!G1599=0,\"\",ESTUDIANTES!G1599)","v":""},{"$f":"IF(ESTUDIANTES!I1599=0,\" \",ESTUDIANTES!I1599)","v":" "}," "," "," "]
[47,{"$f":"IF(ESTUDIANTES!G1600=0,\"\",ESTUDIANTES!G1600)","v":""},{"$f":"IF(ESTUDIANTES!I1600=0,\" \",ESTUDIANTES!I1600)","v":" "}," "," "," "]
[48,{"$f":"IF(ESTUDIANTES!G1601=0,\"\",ESTUDIANTES!G1601)","v":""},{"$f":"IF(ESTUDIANTES!I1601=0,\" \",ESTUDIANTES!I1601)","v":" "}," "," "," "]
[49,{"$f":"IF(ESTUDIANTES!G1602=0,\"\",ESTUDIANTES!G1602)","v":""},{"$f":"IF(ESTUDIANTES!I1602=0,\" \",ESTUDIANTES!I1602)","v":" "}," "," "," "]
[50,{"$f":"IF(ESTUDIANTES!G1603=0,\"\",ESTUDIANTES!G1603)","v":""},{"$f":"IF(ESTUDIANTES!I1603=0,\" \",ESTUDIANTES!I1603)","v":" "}," "," "," "]
[]
[{"$f":"DATOS!$B$3","v":"COLEGIO BACHILLERATO PCEI \"SIN FRONTERAS\""}]
[]
[null,"GRADO/CURSO:",{"$f":"DATOS!$E35","v":0}]
[null,"NIVEL:",{"$f":"DATOS!$F35","v":0}]
[null,"PARALELO:",{"$f":"DATOS!$G35","v":0}]
[null,"TUTOR:",{"$f":"DATOS!$H35","v":0}]
[]
["Nro","NOMBRES Y APELLIDOS","F.N","AÑOS","MESES","DIAS"]
[1,{"$f":"IF(ESTUDIANTES!G1604=0,\"\",ESTUDIANTES!G1604)","v":""},{"$f":"IF(ESTUDIANTES!I1604=0,\" \",ESTUDIANTES!I1604)","v":" "},{"$f":"IFERROR(DATEDIF(C1897,TODAY(),\"Y\"),\" \")","v":" "},{"$f":"IFERROR(DATEDIF(C1897,TODAY(),\"YM\"),\" \")","v":" "},{"$f":"IFERROR(DATEDIF(C1897,TODAY(),\"MD\"),\" \")","v":" "}]
[2,{"$f":"IF(ESTUDIANTES!G1605=0,\"\",ESTUDIANTES!G1605)","v":""},{"$f":"IF(ESTUDIANTES!I1605=0,\" \",ESTUDIANTES!I1605)","v":" "},{"$f":"IFERROR(DATEDIF(C1898,TODAY(),\"Y\"),\" \")","v":" "},{"$f":"IFERROR(DATEDIF(C1898,TODAY(),\"YM\"),\" \")","v":" "},{"$f":"IFERROR(DATEDIF(C1898,TODAY(),\"MD\"),\" \")","v":" "}]
[3,{"$f":"IF(ESTUDIANTES!G1606=0,\"\",ESTUDIANTES!G1606)","v":""},{"$f":"IF(ESTUDIANTES!I1606=0,\" \",ESTUDIANTES!I1606)","v":" "}," "," "," "]
[4,{"$f":"IF(ESTUDIANTES!G1607=0,\"\",ESTUDIANTES!G1607)","v":""},{"$f":"IF(ESTUDIANTES!I1607=0,\" \",ESTUDIANTES!I1607)","v":" "}," "," "," "]
[5,{"$f":"IF(ESTUDIANTES!G1608=0,\"\",ESTUDIANTES!G1608)","v":""},{"$f":"IF(ESTUDIANTES!I1608=0,\" \",ESTUDIANTES!I1608)","v":" "}," "," "," "]
[6,{"$f":"IF(ESTUDIANTES!G1609=0,\"\",ESTUDIANTES!G1609)","v":""},{"$f":"IF(ESTUDIANTES!I1609=0,\" \",ESTUDIANTES!I1609)","v":" "}," "," "," "]
[7,{"$f":"IF(ESTUDIANTES!G1610=0,\"\",ESTUDIANTES!G1610)","v":""},{"$f":"IF(ESTUDIANTES!I1610=0,\" \",ESTUDIANTES!I1610)","v":" "}," "," "," "]
[8,{"$f":"IF(ESTUDIANTES!G1611=0,\"\",ESTUDIANTES!G1611)","v":""},{"$f":"IF(ESTUDIANTES!I1611=0,\" \",ESTUDIANTES!I1611)","v":" "}," "," "," "]
[9,{"$f":"IF(ESTUDIANTES!G1612=0,\"\",ESTUDIANTES!G1612)","v":""},{"$f":"IF(ESTUDIANTES!I1612=0,\" \",ESTUDIANTES!I1612)","v":" "}," "," "," "]
[10,{"$f":"IF(ESTUDIANTES!G1613=0,\"\",ESTUDIANTES!G1613)","v":""},{"$f":"IF(ESTUDIANTES!I1613=0,\" \",ESTUDIANTES!I1613)","v":" "}," "," "," "]
[11,{"$f":"IF(ESTUDIANTES!G1614=0,\"\",ESTUDIANTES!G1614)","v":""},{"$f":"IF(ESTUDIANTES!I1614=0,\" \",ESTUDIANTES!I1614)","v":" "}," "," "," "]
[12,{"$f":"IF(ESTUDIANTES!G1615=0,\"\",ESTUDIANTES!G1615)","v":""},{"$f":"IF(ESTUDIANTES!I1615=0,\" \",ESTUDIANTES!I1615)","v":" "}," "," "," "]
[13,{"$f":"IF(ESTUDIANTES!G1616=0,\"\",ESTUDIANTES!G1616)","v":""},{"$f":"IF(ESTUDIANTES!I1616=0,\" \",ESTUDIANTES!I1616)","v":" "}," "," "," "]
[14,{"$f":"IF(ESTUDIANTES!G1617=0,\"\",ESTUDIANTES!G1617)","v":""},{"$f":"IF(ESTUDIANTES!I1617=0,\" \",ESTUDIANTES!I1617)","v":" "}," "," "," "]
[15,{"$f":"IF(ESTUDIANTES!G1618=0,\"\",ESTUDIANTES!G1618)","v":""},{"$f":"IF(ESTUDIANTES!I1618=0,\" \",ESTUDIANTES!I1618)","v":" "}," "," "," "]
[16,{"$f":"IF(ESTUDIANTES!G1619=0,\"\",ESTUDIANTES!G1619)","v":""},{"$f":"IF(ESTUDIANTES!I1619=0,\" \",ESTUDIANTES!I1619)","v":" "}," "," "," "]
[17,{"$f":"IF(ESTUDIANTES!G1620=0,\"\",ESTUDIANTES!G1620)","v":""},{"$f":"IF(ESTUDIANTES!I1620=0,\" \",ESTUDIANTES!I1620)","v":" "}," "," "," "]
[18,{"$f":"IF(ESTUDIANTES!G1621=0,\"\",ESTUDIANTES!G1621)","v":""},{"$f":"IF(ESTUDIANTES!I1621=0,\" \",ESTUDIANTES!I1621)","v":" "}," "," "," "]
[19,{"$f":"IF(ESTUDIANTES!G1622=0,\"\",ESTUDIANTES!G1622)","v":""},{"$f":"IF(ESTUDIANTES!I1622=0,\" \",ESTUDIANTES!I1622)","v":" "}," "," "," "]
[20,{"$f":"IF(ESTUDIANTES!G1623=0,\"\",ESTUDIANTES!G1623)","v":""},{"$f":"IF(ESTUDIANTES!I1623=0,\" \",ESTUDIANTES!I1623)","v":" "}," "," "," "]
[21,{"$f":"IF(ESTUDIANTES!G1624=0,\"\",ESTUDIANTES!G1624)","v":""},{"$f":"IF(ESTUDIANTES!I1624=0,\" \",ESTUDIANTES!I1624)","v":" "}," "," "," "]
[22,{"$f":"IF(ESTUDIANTES!G1625=0,\"\",ESTUDIANTES!G1625)","v":""},{"$f":"IF(ESTUDIANTES!I1625=0,\" \",ESTUDIANTES!I1625)","v":" "}," "," "," "]
[23,{"$f":"IF(ESTUDIANTES!G1626=0,\"\",ESTUDIANTES!G1626)","v":""},{"$f":"IF(ESTUDIANTES!I1626=0,\" \",ESTUDIANTES!I1626)","v":" "}," "," "," "]
[24,{"$f":"IF(ESTUDIANTES!G1627=0,\"\",ESTUDIANTES!G1627)","v":""},{"$f":"IF(ESTUDIANTES!I1627=0,\" \",ESTUDIANTES!I1627)","v":" "}," "," "," "]
[25,{"$f":"IF(ESTUDIANTES!G1628=0,\"\",ESTUDIANTES!G1628)","v":""},{"$f":"IF(ESTUDIANTES!I1628=0,\" \",ESTUDIANTES!I1628)","v":" "}," "," "," "]
[26,{"$f":"IF(ESTUDIANTES!G1629=0,\"\",ESTUDIANTES!G1629)","v":""},{"$f":"IF(ESTUDIANTES!I1629=0,\" \",ESTUDIANTES!I1629)","v":" "}," "," "," "]
[27,{"$f":"IF(ESTUDIANTES!G1630=0,\"\",ESTUDIANTES!G1630)","v":""},{"$f":"IF(ESTUDIANTES!I1630=0,\" \",ESTUDIANTES!I1630)","v":" "}," "," "," "]
[28,{"$f":"IF(ESTUDIANTES!G1631=0,\"\",ESTUDIANTES!G1631)","v":""},{"$f":"IF(ESTUDIANTES!I1631=0,\" \",ESTUDIANTES!I1631)","v":" "}," "," "," "]
[29,{"$f":"IF(ESTUDIANTES!G1632=0,\"\",ESTUDIANTES!G1632)","v":""},{"$f":"IF(ESTUDIANTES!I1632=0,\" \",ESTUDIANTES!I1632)","v":" "}," "," "," "]
[30,{"$f":"IF(ESTUDIANTES!G1633=0,\"\",ESTUDIANTES!G1633)","v":""},{"$f":"IF(ESTUDIANTES!I1633=0,\" \",ESTUDIANTES!I1633)","v":" "}," "," "," "]
[31,{"$f":"IF(ESTUDIANTES!G1634=0,\"\",ESTUDIANTES!G1634)","v":""},{"$f":"IF(ESTUDIANTES!I1634=0,\" \",ESTUDIANTES!I1634)","v":" "}," "," "," "]
[32,{"$f":"IF(ESTUDIANTES!G1635=0,\"\",ESTUDIANTES!G1635)","v":""},{"$f":"IF(ESTUDIANTES!I1635=0,\" \",ESTUDIANTES!I1635)","v":" "}," "," "," "]
[33,{"$f":"IF(ESTUDIANTES!G1636=0,\"\",ESTUDIANTES!G1636)","v":""},{"$f":"IF(ESTUDIANTES!I1636=0,\" \",ESTUDIANTES!I1636)","v":" "}," "," "," "]
[34,{"$f":"IF(ESTUDIANTES!G1637=0,\"\",ESTUDIANTES!G1637)","v":""},{"$f":"IF(ESTUDIANTES!I1637=0,\" \",ESTUDIANTES!I1637)","v":" "}," "," "," "]
[35,{"$f":"IF(ESTUDIANTES!G1638=0,\"\",ESTUDIANTES!G1638)","v":""},{"$f":"IF(ESTUDIANTES!I1638=0,\" \",ESTUDIANTES!I1638)","v":" "}," "," "," "]
[36,{"$f":"IF(ESTUDIANTES!G1639=0,\"\",ESTUDIANTES!G1639)","v":""},{"$f":"IF(ESTUDIANTES!I1639=0,\" \",ESTUDIANTES!I1639)","v":" "}," "," "," "]
[37,{"$f":"IF(ESTUDIANTES!G1640=0,\"\",ESTUDIANTES!G1640)","v":""},{"$f":"IF(ESTUDIANTES!I1640=0,\" \",ESTUDIANTES!I1640)","v":" "}," "," "," "]
[38,{"$f":"IF(ESTUDIANTES!G1641=0,\"\",ESTUDIANTES!G1641)","v":""},{"$f":"IF(ESTUDIANTES!I1641=0,\" \",ESTUDIANTES!I1641)","v":" "}," "," "," "]
[39,{"$f":"IF(ESTUDIANTES!G1642=0,\"\",ESTUDIANTES!G1642)","v":""},{"$f":"IF(ESTUDIANTES!I1642=0,\" \",ESTUDIANTES!I1642)","v":" "}," "," "," "]
[40,{"$f":"IF(ESTUDIANTES!G1643=0,\"\",ESTUDIANTES!G1643)","v":""},{"$f":"IF(ESTUDIANTES!I1643=0,\" \",ESTUDIANTES!I1643)","v":" "}," "," "," "]
[41,{"$f":"IF(ESTUDIANTES!G1644=0,\"\",ESTUDIANTES!G1644)","v":""},{"$f":"IF(ESTUDIANTES!I1644=0,\" \",ESTUDIANTES!I1644)","v":" "}," "," "," "]
[42,{"$f":"IF(ESTUDIANTES!G1645=0,\"\",ESTUDIANTES!G1645)","v":""},{"$f":"IF(ESTUDIANTES!I1645=0,\" \",ESTUDIANTES!I1645)","v":" "}," "," "," "]
[43,{"$f":"IF(ESTUDIANTES!G1646=0,\"\",ESTUDIANTES!G1646)","v":""},{"$f":"IF(ESTUDIANTES!I1646=0,\" \",ESTUDIANTES!I1646)","v":" "}," "," "," "]
[44,{"$f":"IF(ESTUDIANTES!G1647=0,\"\",ESTUDIANTES!G1647)","v":""},{"$f":"IF(ESTUDIANTES!I1647=0,\" \",ESTUDIANTES!I1647)","v":" "}," "," "," "]
[45,{"$f":"IF(ESTUDIANTES!G1648=0,\"\",ESTUDIANTES!G1648)","v":""},{"$f":"IF(ESTUDIANTES!I1648=0,\" \",ESTUDIANTES!I1648)","v":" "}," "," "," "]
[46,{"$f":"IF(ESTUDIANTES!G1649=0,\"\",ESTUDIANTES!G1649)","v":""},{"$f":"IF(ESTUDIANTES!I1649=0,\" \",ESTUDIANTES!I1649)","v":" "}," "," "," "]
[47,{"$f":"IF(ESTUDIANTES!G1650=0,\"\",ESTUDIANTES!G1650)","v":""},{"$f":"IF(ESTUDIANTES!I1650=0,\" \",ESTUDIANTES!I1650)","v":" "}," "," "," "]
[48,{"$f":"IF(ESTUDIANTES!G1651=0,\"\",ESTUDIANTES!G1651)","v":""},{"$f":"IF(ESTUDIANTES!I1651=0,\" \",ESTUDIANTES!I1651)","v":" "}," "," "," "]
[49,{"$f":"IF(ESTUDIANTES!G1652=0,\"\",ESTUDIANTES!G1652)","v":""},{"$f":"IF(ESTUDIANTES!I1652=0,\" \",ESTUDIANTES!I1652)","v":" "}," "," "," "]
[50,{"$f":"IF(ESTUDIANTES!G1653=0,\"\",ESTUDIANTES!G1653)","v":""},{"$f":"IF(ESTUDIANTES!I1653=0,\" \",ESTUDIANTES!I1653)","v":" "}," "," "," "]
[]
[{"$f":"DATOS!$B$3","v":"COLEGIO BACHILLERATO PCEI \"SIN FRONTERAS\""}]
[]
[null,"GRADO/CURSO:",{"$f":"DATOS!$E36","v":0}]
[null,"NIVEL:",{"$f":"DATOS!$F36","v":0}]
[null,"PARALELO:",{"$f":"DATOS!$G36","v":0}]
[null,"TUTOR:",{"$f":"DATOS!$H36","v":0}]
[]
["Nro","NOMBRES Y APELLIDOS","F.N","AÑOS","MESES","DIAS"]
[1,{"$f":"IF(ESTUDIANTES!G1654=0,\"\",ESTUDIANTES!G1654)","v":""},{"$f":"IF(ESTUDIANTES!I1654=0,\" \",ESTUDIANTES!I1654)","v":" "},{"$f":"IFERROR(DATEDIF(C1956,TODAY(),\"Y\"),\" \")","v":" "},{"$f":"IFERROR(DATEDIF(C1956,TODAY(),\"YM\"),\" \")","v":" "},{"$f":"IFERROR(DATEDIF(C1956,TODAY(),\"MD\"),\" \")","v":" "}]
[2,{"$f":"IF(ESTUDIANTES!G1655=0,\"\",ESTUDIANTES!G1655)","v":""},{"$f":"IF(ESTUDIANTES!I1655=0,\" \",ESTUDIANTES!I1655)","v":" "},{"$f":"IFERROR(DATEDIF(C1957,TODAY(),\"Y\"),\" \")","v":" "},{"$f":"IFERROR(DATEDIF(C1957,TODAY(),\"YM\"),\" \")","v":" "},{"$f":"IFERROR(DATEDIF(C1957,TODAY(),\"MD\"),\" \")","v":" "}]
[3,{"$f":"IF(ESTUDIANTES!G1656=0,\"\",ESTUDIANTES!G1656)","v":""},{"$f":"IF(ESTUDIANTES!I1656=0,\" \",ESTUDIANTES!I1656)","v":" "}," "," "," "]
[4,{"$f":"IF(ESTUDIANTES!G1657=0,\"\",ESTUDIANTES!G1657)","v":""},{"$f":"IF(ESTUDIANTES!I1657=0,\" \",ESTUDIANTES!I1657)","v":" "}," "," "," "]
[5,{"$f":"IF(ESTUDIANTES!G1658=0,\"\",ESTUDIANTES!G1658)","v":""},{"$f":"IF(ESTUDIANTES!I1658=0,\" \",ESTUDIANTES!I1658)","v":" "}," "," "," "]
[6,{"$f":"IF(ESTUDIANTES!G1659=0,\"\",ESTUDIANTES!G1659)","v":""},{"$f":"IF(ESTUDIANTES!I1659=0,\" \",ESTUDIANTES!I1659)","v":" "}," "," "," "]
[7,{"$f":"IF(ESTUDIANTES!G1660=0,\"\",ESTUDIANTES!G1660)","v":""},{"$f":"IF(ESTUDIANTES!I1660=0,\" \",ESTUDIANTES!I1660)","v":" "}," "," "," "]
[8,{"$f":"IF(ESTUDIANTES!G1661=0,\"\",ESTUDIANTES!G1661)","v":""},{"$f":"IF(ESTUDIANTES!I1661=0,\" \",ESTUDIANTES!I1661)","v":" "}," "," "," "]
[9,{"$f":"IF(ESTUDIANTES!G1662=0,\"\",ESTUDIANTES!G1662)","v":""},{"$f":"IF(ESTUDIANTES!I1662=0,\" \",ESTUDIANTES!I1662)","v":" "}," "," "," "]
[10,{"$f":"IF(ESTUDIANTES!G1663=0,\"\",ESTUDIANTES!G1663)","v":""},{"$f":"IF(ESTUDIANTES!I1663=0,\" \",ESTUDIANTES!I1663)","v":" "}," "," "," "]
[11,{"$f":"IF(ESTUDIANTES!G1664=0,\"\",ESTUDIANTES!G1664)","v":""},{"$f":"IF(ESTUDIANTES!I1664=0,\" \",ESTUDIANTES!I1664)","v":" "}," "," "," "]
[12,{"$f":"IF(ESTUDIANTES!G1665=0,\"\",ESTUDIANTES!G1665)","v":""},{"$f":"IF(ESTUDIANTES!I1665=0,\" \",ESTUDIANTES!I1665)","v":" "}," "," "," "]
[13,{"$f":"IF(ESTUDIANTES!G1666=0,\"\",ESTUDIANTES!G1666)","v":""},{"$f":"IF(ESTUDIANTES!I1666=0,\" \",ESTUDIANTES!I1666)","v":" "}," "," "," "]
[14,{"$f":"IF(ESTUDIANTES!G1667=0,\"\",ESTUDIANTES!G1667)","v":""},{"$f":"IF(ESTUDIANTES!I1667=0,\" \",ESTUDIANTES!I1667)","v":" "}," "," "," "]
[15,{"$f":"IF(ESTUDIANTES!G1668=0,\"\",ESTUDIANTES!G1668)","v":""},{"$f":"IF(ESTUDIANTES!I1668=0,\" \",ESTUDIANTES!I1668)","v":" "}," "," "," "]
[16,{"$f":"IF(ESTUDIANTES!G1669=0,\"\",ESTUDIANTES!G1669)","v":""},{"$f":"IF(ESTUDIANTES!I1669=0,\" \",ESTUDIANTES!I1669)","v":" "}," "," "," "]
[17,{"$f":"IF(ESTUDIANTES!G1670=0,\"\",ESTUDIANTES!G1670)","v":""},{"$f":"IF(ESTUDIANTES!I1670=0,\" \",ESTUDIANTES!I1670)","v":" "}," "," "," "]
[18,{"$f":"IF(ESTUDIANTES!G1671=0,\"\",ESTUDIANTES!G1671)","v":""},{"$f":"IF(ESTUDIANTES!I1671=0,\" \",ESTUDIANTES!I1671)","v":" "}," "," "," "]
[19,{"$f":"IF(ESTUDIANTES!G1672=0,\"\",ESTUDIANTES!G1672)","v":""},{"$f":"IF(ESTUDIANTES!I1672=0,\" \",ESTUDIANTES!I1672)","v":" "}," "," "," "]
[20,{"$f":"IF(ESTUDIANTES!G1673=0,\"\",ESTUDIANTES!G1673)","v":""},{"$f":"IF(ESTUDIANTES!I1673=0,\" \",ESTUDIANTES!I1673)","v":" "}," "," "," "]
[21,{"$f":"IF(ESTUDIANTES!G1674=0,\"\",ESTUDIANTES!G1674)","v":""},{"$f":"IF(ESTUDIANTES!I1674=0,\" \",ESTUDIANTES!I1674)","v":" "}," "," "," "]
[22,{"$f":"IF(ESTUDIANTES!G1675=0,\"\",ESTUDIANTES!G1675)","v":""},{"$f":"IF(ESTUDIANTES!I1675=0,\" \",ESTUDIANTES!I1675)","v":" "}," "," "," "]
[23,{"$f":"IF(ESTUDIANTES!G1676=0,\"\",ESTUDIANTES!G1676)","v":""},{"$f":"IF(ESTUDIANTES!I1676=0,\" \",ESTUDIANTES!I1676)","v":" "}," "," "," "]
[24,{"$f":"IF(ESTUDIANTES!G1677=0,\"\",ESTUDIANTES!G1677)","v":""},{"$f":"IF(ESTUDIANTES!I1677=0,\" \",ESTUDIANTES!I1677)","v":" "}," "," "," "]
[25,{"$f":"IF(ESTUDIANTES!G1678=0,\"\",ESTUDIANTES!G1678)","v":""},{"$f":"IF(ESTUDIANTES!I1678=0,\" \",ESTUDIANTES!I1678)","v":" "}," "," "," "]
[26,{"$f":"IF(ESTUDIANTES!G1679=0,\"\",ESTUDIANTES!G1679)","v":""},{"$f":"IF(ESTUDIANTES!I1679=0,\" \",ESTUDIANTES!I1679)","v":" "}," "," "," "]
[27,{"$f":"IF(ESTUDIANTES!G1680=0,\"\",ESTUDIANTES!G1680)","v":""},{"$f":"IF(ESTUDIANTES!I1680=0,\" \",ESTUDIANTES!I1680)","v":" "}," "," "," "]
[28,{"$f":"IF(ESTUDIANTES!G1681=0,\"\",ESTUDIANTES!G1681)","v":""},{"$f":"IF(ESTUDIANTES!I1681=0,\" \",ESTUDIANTES!I1681)","v":" "}," "," "," "]
[29,{"$f":"IF(ESTUDIANTES!G1682=0,\"\",ESTUDIANTES!G1682)","v":""},{"$f":"IF(ESTUDIANTES!I1682=0,\" \",ESTUDIANTES!I1682)","v":" "}," "," "," "]
[30,{"$f":"IF(ESTUDIANTES!G1683=0,\"\",ESTUDIANTES!G1683)","v":""},{"$f":"IF(ESTUDIANTES!I1683=0,\" \",ESTUDIANTES!I1683)","v":" "}," "," "," "]
[31,{"$f":"IF(ESTUDIANTES!G1684=0,\"\",ESTUDIANTES!G1684)","v":""},{"$f":"IF(ESTUDIANTES!I1684=0,\" \",ESTUDIANTES!I1684)","v":" "}," "," "," "]
[32,{"$f":"IF(ESTUDIANTES!G1685=0,\"\",ESTUDIANTES!G1685)","v":""},{"$f":"IF(ESTUDIANTES!I1685=0,\" \",ESTUDIANTES!I1685)","v":" "}," "," "," "]
[33,{"$f":"IF(ESTUDIANTES!G1686=0,\"\",ESTUDIANTES!G1686)","v":""},{"$f":"IF(ESTUDIANTES!I1686=0,\" \",ESTUDIANTES!I1686)","v":" "}," "," "," "]
[34,{"$f":"IF(ESTUDIANTES!G1687=0,\"\",ESTUDIANTES!G1687)","v":""},{"$f":"IF(ESTUDIANTES!I1687=0,\" \",ESTUDIANTES!I1687)","v":" "}," "," "," "]
[35,{"$f":"IF(ESTUDIANTES!G1688=0,\"\",ESTUDIANTES!G1688)","v":""},{"$f":"IF(ESTUDIANTES!I1688=0,\" \",ESTUDIANTES!I1688)","v":" "}," "," "," "]
[36,{"$f":"IF(ESTUDIANTES!G1689=0,\"\",ESTUDIANTES!G1689)","v":""},{"$f":"IF(ESTUDIANTES!I1689=0,\" \",ESTUDIANTES!I1689)","v":" "}," "," "," "]
[37,{"$f":"IF(ESTUDIANTES!G1690=0,\"\",ESTUDIANTES!G1690)","v":""},{"$f":"IF(ESTUDIANTES!I1690=0,\" \",ESTUDIANTES!I1690)","v":" "}," "," "," "]
[38,{"$f":"IF(ESTUDIANTES!G1691=0,\"\",ESTUDIANTES!G1691)","v":""},{"$f":"IF(ESTUDIANTES!I1691=0,\" \",ESTUDIANTES!I1691)","v":" "}," "," "," "]
[39,{"$f":"IF(ESTUDIANTES!G1692=0,\"\",ESTUDIANTES!G1692)","v":""},{"$f":"IF(ESTUDIANTES!I1692=0,\" \",ESTUDIANTES!I1692)","v":" "}," "," "," "]
[40,{"$f":"IF(ESTUDIANTES!G1693=0,\"\",ESTUDIANTES!G1693)","v":""},{"$f":"IF(ESTUDIANTES!I1693=0,\" \",ESTUDIANTES!I1693)","v":" "}," "," "," "]
[41,{"$f":"IF(ESTUDIANTES!G1694=0,\"\",ESTUDIANTES!G1694)","v":""},{"$f":"IF(ESTUDIANTES!I1694=0,\" \",ESTUDIANTES!I1694)","v":" "}," "," "," "]
[42,{"$f":"IF(ESTUDIANTES!G1695=0,\"\",ESTUDIANTES!G1695)","v":""},{"$f":"IF(ESTUDIANTES!I1695=0,\" \",ESTUDIANTES!I1695)","v":" "}," "," "," "]
[43,{"$f":"IF(ESTUDIANTES!G1696=0,\"\",ESTUDIANTES!G1696)","v":""},{"$f":"IF(ESTUDIANTES!I1696=0,\" \",ESTUDIANTES!I1696)","v":" "}," "," "," "]
[44,{"$f":"IF(ESTUDIANTES!G1697=0,\"\",ESTUDIANTES!G1697)","v":""},{"$f":"IF(ESTUDIANTES!I1697=0,\" \",ESTUDIANTES!I1697)","v":" "}," "," "," "]
[45,{"$f":"IF(ESTUDIANTES!G1698=0,\"\",ESTUDIANTES!G1698)","v":""},{"$f":"IF(ESTUDIANTES!I1698=0,\" \",ESTUDIANTES!I1698)","v":" "}," "," "," "]
[46,{"$f":"IF(ESTUDIANTES!G1699=0,\"\",ESTUDIANTES!G1699)","v":""},{"$f":"IF(ESTUDIANTES!I1699=0,\" \",ESTUDIANTES!I1699)","v":" "}," "," "," "]
[47,{"$f":"IF(ESTUDIANTES!G1700=0,\"\",ESTUDIANTES!G1700)","v":""},{"$f":"IF(ESTUDIANTES!I1700=0,\" \",ESTUDIANTES!I1700)","v":" "}," "," "," "]
[48,{"$f":"IF(ESTUDIANTES!G1701=0,\"\",ESTUDIANTES!G1701)","v":""},{"$f":"IF(ESTUDIANTES!I1701=0,\" \",ESTUDIANTES!I1701)","v":" "}," "," "," "]
[49,{"$f":"IF(ESTUDIANTES!G1702=0,\"\",ESTUDIANTES!G1702)","v":""},{"$f":"IF(ESTUDIANTES!I1702=0,\" \",ESTUDIANTES!I1702)","v":" "}," "," "," "]
[50,{"$f":"IF(ESTUDIANTES!G1703=0,\"\",ESTUDIANTES!G1703)","v":""},{"$f":"IF(ESTUDIANTES!I1703=0,\" \",ESTUDIANTES!I1703)","v":" "}," "," "," "]
[]
[{"$f":"DATOS!$B$3","v":"COLEGIO BACHILLERATO PCEI \"SIN FRONTERAS\""}]
[]
[null,"GRADO/CURSO:",{"$f":"DATOS!$E37","v":0}]
[null,"NIVEL:",{"$f":"DATOS!$F37","v":0}]
[null,"PARALELO:",{"$f":"DATOS!$G37","v":0}]
[null,"TUTOR:",{"$f":"DATOS!$H37","v":0}]
[]
["Nro","NOMBRES Y APELLIDOS","F.N","AÑOS","MESES","DIAS"]
[1,{"$f":"IF(ESTUDIANTES!G1704=0,\"\",ESTUDIANTES!G1704)","v":""},{"$f":"IF(ESTUDIANTES!I1704=0,\" \",ESTUDIANTES!I1704)","v":" "},{"$f":"IFERROR(DATEDIF(C2015,TODAY(),\"Y\"),\" \")","v":" "},{"$f":"IFERROR(DATEDIF(C2015,TODAY(),\"YM\"),\" \")","v":" "},{"$f":"IFERROR(DATEDIF(C2015,TODAY(),\"MD\"),\" \")","v":" "}]
[2,{"$f":"IF(ESTUDIANTES!G1705=0,\"\",ESTUDIANTES!G1705)","v":""},{"$f":"IF(ESTUDIANTES!I1705=0,\" \",ESTUDIANTES!I1705)","v":" "},{"$f":"IFERROR(DATEDIF(C2016,TODAY(),\"Y\"),\" \")","v":" "},{"$f":"IFERROR(DATEDIF(C2016,TODAY(),\"YM\"),\" \")","v":" "},{"$f":"IFERROR(DATEDIF(C2016,TODAY(),\"MD\"),\" \")","v":" "}]
[3,{"$f":"IF(ESTUDIANTES!G1706=0,\"\",ESTUDIANTES!G1706)","v":""},{"$f":"IF(ESTUDIANTES!I1706=0,\" \",ESTUDIANTES!I1706)","v":" "}," "," "," "]
[4,{"$f":"IF(ESTUDIANTES!G1707=0,\"\",ESTUDIANTES!G1707)","v":""},{"$f":"IF(ESTUDIANTES!I1707=0,\" \",ESTUDIANTES!I1707)","v":" "}," "," "," "]
[5,{"$f":"IF(ESTUDIANTES!G1708=0,\"\",ESTUDIANTES!G1708)","v":""},{"$f":"IF(ESTUDIANTES!I1708=0,\" \",ESTUDIANTES!I1708)","v":" "}," "," "," "]
[6,{"$f":"IF(ESTUDIANTES!G1709=0,\"\",ESTUDIANTES!G1709)","v":""},{"$f":"IF(ESTUDIANTES!I1709=0,\" \",ESTUDIANTES!I1709)","v":" "}," "," "," "]
[7,{"$f":"IF(ESTUDIANTES!G1710=0,\"\",ESTUDIANTES!G1710)","v":""},{"$f":"IF(ESTUDIANTES!I1710=0,\" \",ESTUDIANTES!I1710)","v":" "}," "," "," "]
[8,{"$f":"IF(ESTUDIANTES!G1711=0,\"\",ESTUDIANTES!G1711)","v":""},{"$f":"IF(ESTUDIANTES!I1711=0,\" \",ESTUDIANTES!I1711)","v":" "}," "," "," "]
[9,{"$f":"IF(ESTUDIANTES!G1712=0,\"\",ESTUDIANTES!G1712)","v":""},{"$f":"IF(ESTUDIANTES!I1712=0,\" \",ESTUDIANTES!I1712)","v":" "}," "," "," "]
[10,{"$f":"IF(ESTUDIANTES!G1713=0,\"\",ESTUDIANTES!G1713)","v":""},{"$f":"IF(ESTUDIANTES!I1713=0,\" \",ESTUDIANTES!I1713)","v":" "}," "," "," "]
[11,{"$f":"IF(ESTUDIANTES!G1714=0,\"\",ESTUDIANTES!G1714)","v":""},{"$f":"IF(ESTUDIANTES!I1714=0,\" \",ESTUDIANTES!I1714)","v":" "}," "," "," "]
[12,{"$f":"IF(ESTUDIANTES!G1715=0,\"\",ESTUDIANTES!G1715)","v":""},{"$f":"IF(ESTUDIANTES!I1715=0,\" \",ESTUDIANTES!I1715)","v":" "}," "," "," "]
[13,{"$f":"IF(ESTUDIANTES!G1716=0,\"\",ESTUDIANTES!G1716)","v":""},{"$f":"IF(ESTUDIANTES!I1716=0,\" \",ESTUDIANTES!I1716)","v":" "}," "," "," "]
[14,{"$f":"IF(ESTUDIANTES!G1717=0,\"\",ESTUDIANTES!G1717)","v":""},{"$f":"IF(ESTUDIANTES!I1717=0,\" \",ESTUDIANTES!I1717)","v":" "}," "," "," "]
[15,{"$f":"IF(ESTUDIANTES!G1718=0,\"\",ESTUDIANTES!G1718)","v":""},{"$f":"IF(ESTUDIANTES!I1718=0,\" \",ESTUDIANTES!I1718)","v":" "}," "," "," "]
[16,{"$f":"IF(ESTUDIANTES!G1719=0,\"\",ESTUDIANTES!G1719)","v":""},{"$f":"IF(ESTUDIANTES!I1719=0,\" \",ESTUDIANTES!I1719)","v":" "}," "," "," "]
[17,{"$f":"IF(ESTUDIANTES!G1720=0,\"\",ESTUDIANTES!G1720)","v":""},{"$f":"IF(ESTUDIANTES!I1720=0,\" \",ESTUDIANTES!I1720)","v":" "}," "," "," "]
[18,{"$f":"IF(ESTUDIANTES!G1721=0,\"\",ESTUDIANTES!G1721)","v":""},{"$f":"IF(ESTUDIANTES!I1721=0,\" \",ESTUDIANTES!I1721)","v":" "}," "," "," "]
[19,{"$f":"IF(ESTUDIANTES!G1722=0,\"\",ESTUDIANTES!G1722)","v":""},{"$f":"IF(ESTUDIANTES!I1722=0,\" \",ESTUDIANTES!I1722)","v":" "}," "," "," "]
[20,{"$f":"IF(ESTUDIANTES!G1723=0,\"\",ESTUDIANTES!G1723)","v":""},{"$f":"IF(ESTUDIANTES!I1723=0,\" \",ESTUDIANTES!I1723)","v":" "}," "," "," "]
[21,{"$f":"IF(ESTUDIANTES!G1724=0,\"\",ESTUDIANTES!G1724)","v":""},{"$f":"IF(ESTUDIANTES!I1724=0,\" \",ESTUDIANTES!I1724)","v":" "}," "," "," "]
[22,{"$f":"IF(ESTUDIANTES!G1725=0,\"\",ESTUDIANTES!G1725)","v":""},{"$f":"IF(ESTUDIANTES!I1725=0,\" \",ESTUDIANTES!I1725)","v":" "}," "," "," "]
[23,{"$f":"IF(ESTUDIANTES!G1726=0,\"\",ESTUDIANTES!G1726)","v":""},{"$f":"IF(ESTUDIANTES!I1726=0,\" \",ESTUDIANTES!I1726)","v":" "}," "," "," "]
[24,{"$f":"IF(ESTUDIANTES!G1727=0,\"\",ESTUDIANTES!G1727)","v":""},{"$f":"IF(ESTUDIANTES!I1727=0,\" \",ESTUDIANTES!I1727)","v":" "}," "," "," "]
[25,{"$f":"IF(ESTUDIANTES!G1728=0,\"\",ESTUDIANTES!G1728)","v":""},{"$f":"IF(ESTUDIANTES!I1728=0,\" \",ESTUDIANTES!I1728)","v":" "}," "," "," "]
[26,{"$f":"IF(ESTUDIANTES!G1729=0,\"\",ESTUDIANTES!G1729)","v":""},{"$f":"IF(ESTUDIANTES!I1729=0,\" \",ESTUDIANTES!I1729)","v":" "}," "," "," "]
[27,{"$f":"IF(ESTUDIANTES!G1730=0,\"\",ESTUDIANTES!G1730)","v":""},{"$f":"IF(ESTUDIANTES!I1730=0,\" \",ESTUDIANTES!I1730)","v":" "}," "," "," "]
[28,{"$f":"IF(ESTUDIANTES!G1731=0,\"\",ESTUDIANTES!G1731)","v":""},{"$f":"IF(ESTUDIANTES!I1731=0,\" \",ESTUDIANTES!I1731)","v":" "}," "," "," "]
[29,{"$f":"IF(ESTUDIANTES!G1732=0,\"\",ESTUDIANTES!G1732)","v":""},{"$f":"IF(ESTUDIANTES!I1732=0,\" \",ESTUDIANTES!I1732)","v":" "}," "," "," "]
[30,{"$f":"IF(ESTUDIANTES!G1733=0,\"\",ESTUDIANTES!G1733)","v":""},{"$f":"IF(ESTUDIANTES!I1733=0,\" \",ESTUDIANTES!I1733)","v":" "}," "," "," "]
[31,{"$f":"IF(ESTUDIANTES!G1734=0,\"\",ESTUDIANTES!G1734)","v":""},{"$f":"IF(ESTUDIANTES!I1734=0,\" \",ESTUDIANTES!I1734)","v":" "}," "," "," "]
[32,{"$f":"IF(ESTUDIANTES!G1735=0,\"\",ESTUDIANTES!G1735)","v":""},{"$f":"IF(ESTUDIANTES!I1735=0,\" \",ESTUDIANTES!I1735)","v":" "}," "," "," "]
[33,{"$f":"IF(ESTUDIANTES!G1736=0,\"\",ESTUDIANTES!G1736)","v":""},{"$f":"IF(ESTUDIANTES!I1736=0,\" \",ESTUDIANTES!I1736)","v":" "}," "," "," "]
[34,{"$f":"IF(ESTUDIANTES!G1737=0,\"\",ESTUDIANTES!G1737)","v":""},{"$f":"IF(ESTUDIANTES!I1737=0,\" \",ESTUDIANTES!I1737)","v":" "}," "," "," "]
[35,{"$f":"IF(ESTUDIANTES!G1738=0,\"\",ESTUDIANTES!G1738)","v":""},{"$f":"IF(ESTUDIANTES!I1738=0,\" \",ESTUDIANTES!I1738)","v":" "}," "," "," "]
[36,{"$f":"IF(ESTUDIANTES!G1739=0,\"\",ESTUDIANTES!G1739)","v":""},{"$f":"IF(ESTUDIANTES!I1739=0,\" \",ESTUDIANTES!I1739)","v":" "}," "," "," "]
[37,{"$f":"IF(ESTUDIANTES!G1740=0,\"\",ESTUDIANTES!G1740)","v":""},{"$f":"IF(ESTUDIANTES!I1740=0,\" \",ESTUDIANTES!I1740)","v":" "}," "," "," "]
[38,{"$f":"IF(ESTUDIANTES!G1741=0,\"\",ESTUDIANTES!G1741)","v":""},{"$f":"IF(ESTUDIANTES!I1741=0,\" \",ESTUDIANTES!I1741)","v":" "}," "," "," "]
[39,{"$f":"IF(ESTUDIANTES!G1742=0,\"\",ESTUDIANTES!G1742)","v":""},{"$f":"IF(ESTUDIANTES!I1742=0,\" \",ESTUDIANTES!I1742)","v":" "}," "," "," "]
[40,{"$f":"IF(ESTUDIANTES!G1743=0,\"\",ESTUDIANTES!G1743)","v":""},{"$f":"IF(ESTUDIANTES!I1743=0,\" \",ESTUDIANTES!I1743)","v":" "}," "," "," "]
[41,{"$f":"IF(ESTUDIANTES!G1744=0,\"\",ESTUDIANTES!G1744)","v":""},{"$f":"IF(ESTUDIANTES!I1744=0,\" \",ESTUDIANTES!I1744)","v":" "}," "," "," "]
[42,{"$f":"IF(ESTUDIANTES!G1745=0,\"\",ESTUDIANTES!G1745)","v":""},{"$f":"IF(ESTUDIANTES!I1745=0,\" \",ESTUDIANTES!I1745)","v":" "}," "," "," "]
[43,{"$f":"IF(ESTUDIANTES!G1746=0,\"\",ESTUDIANTES!G1746)","v":""},{"$f":"IF(ESTUDIANTES!I1746=0,\" \",ESTUDIANTES!I1746)","v":" "}," "," "," "]
[44,{"$f":"IF(ESTUDIANTES!G1747=0,\"\",ESTUDIANTES!G1747)","v":""},{"$f":"IF(ESTUDIANTES!I1747=0,\" \",ESTUDIANTES!I1747)","v":" "}," "," "," "]
[45,{"$f":"IF(ESTUDIANTES!G1748=0,\"\",ESTUDIANTES!G1748)","v":""},{"$f":"IF(ESTUDIANTES!I1748=0,\" \",ESTUDIANTES!I1748)","v":" "}," "," "," "]
[46,{"$f":"IF(ESTUDIANTES!G1749=0,\"\",ESTUDIANTES!G1749)","v":""},{"$f":"IF(ESTUDIANTES!I1749=0,\" \",ESTUDIANTES!I1749)","v":" "}," "," "," "]
[47,{"$f":"IF(ESTUDIANTES!G1750=0,\"\",ESTUDIANTES!G1750)","v":""},{"$f":"IF(ESTUDIANTES!I1750=0,\" \",ESTUDIANTES!I1750)","v":" "}," "," "," "]
[48,{"$f":"IF(ESTUDIANTES!G1751=0,\"\",ESTUDIANTES!G1751)","v":""},{"$f":"IF(ESTUDIANTES!I1751=0,\" \",ESTUDIANTES!I1751)","v":" "}," "," "," "]
[49,{"$f":"IF(ESTUDIANTES!G1752=0,\"\",ESTUDIANTES!G1752)","v":""},{"$f":"IF(ESTUDIANTES!I1752=0,\" \",ESTUDIANTES!I1752)","v":" "}," "," "," "]
[50,{"$f":"IF(ESTUDIANTES!G1753=0,\"\",ESTUDIANTES!G1753)","v":""},{"$f":"IF(ESTUDIANTES!I1753=0,\" \",ESTUDIANTES!I1753)","v":" "}," "," "," "]
[]
[{"$f":"DATOS!$B$3","v":"COLEGIO BACHILLERATO PCEI \"SIN FRONTERAS\""}]
[]
[null,"GRADO/CURSO:",{"$f":"DATOS!$E38","v":0}]
[null,"NIVEL:",{"$f":"DATOS!$F38","v":0}]
[null,"PARALELO:",{"$f":"DATOS!$G38","v":0}]
[null,"TUTOR:",{"$f":"DATOS!$H38","v":0}]
[]
["Nro","NOMBRES Y APELLIDOS","F.N","AÑOS","MESES","DIAS"]
[1,{"$f":"IF(ESTUDIANTES!G1754=0,\"\",ESTUDIANTES!G1754)","v":""},{"$f":"IF(ESTUDIANTES!I1754=0,\" \",ESTUDIANTES!I1754)","v":" "},{"$f":"IFERROR(DATEDIF(C2074,TODAY(),\"Y\"),\" \")","v":" "},{"$f":"IFERROR(DATEDIF(C2074,TODAY(),\"YM\"),\" \")","v":" "},{"$f":"IFERROR(DATEDIF(C2074,TODAY(),\"MD\"),\" \")","v":" "}]
[2,{"$f":"IF(ESTUDIANTES!G1755=0,\"\",ESTUDIANTES!G1755)","v":""},{"$f":"IF(ESTUDIANTES!I1755=0,\" \",ESTUDIANTES!I1755)","v":" "},{"$f":"IFERROR(DATEDIF(C2075,TODAY(),\"Y\"),\" \")","v":" "},{"$f":"IFERROR(DATEDIF(C2075,TODAY(),\"YM\"),\" \")","v":" "},{"$f":"IFERROR(DATEDIF(C2075,TODAY(),\"MD\"),\" \")","v":" "}]
[3,{"$f":"IF(ESTUDIANTES!G1756=0,\"\",ESTUDIANTES!G1756)","v":""},{"$f":"IF(ESTUDIANTES!I1756=0,\" \",ESTUDIANTES!I1756)","v":" "}," "," "," "]
[4,{"$f":"IF(ESTUDIANTES!G1757=0,\"\",ESTUDIANTES!G1757)","v":""},{"$f":"IF(ESTUDIANTES!I1757=0,\" \",ESTUDIANTES!I1757)","v":" "}," "," "," "]
[5,{"$f":"IF(ESTUDIANTES!G1758=0,\"\",ESTUDIANTES!G1758)","v":""},{"$f":"IF(ESTUDIANTES!I1758=0,\" \",ESTUDIANTES!I1758)","v":" "}," "," "," "]
[6,{"$f":"IF(ESTUDIANTES!G1759=0,\"\",ESTUDIANTES!G1759)","v":""},{"$f":"IF(ESTUDIANTES!I1759=0,\" \",ESTUDIANTES!I1759)","v":" "}," "," "," "]
[7,{"$f":"IF(ESTUDIANTES!G1760=0,\"\",ESTUDIANTES!G1760)","v":""},{"$f":"IF(ESTUDIANTES!I1760=0,\" \",ESTUDIANTES!I1760)","v":" "}," "," "," "]
[8,{"$f":"IF(ESTUDIANTES!G1761=0,\"\",ESTUDIANTES!G1761)","v":""},{"$f":"IF(ESTUDIANTES!I1761=0,\" \",ESTUDIANTES!I1761)","v":" "}," "," "," "]
[9,{"$f":"IF(ESTUDIANTES!G1762=0,\"\",ESTUDIANTES!G1762)","v":""},{"$f":"IF(ESTUDIANTES!I1762=0,\" \",ESTUDIANTES!I1762)","v":" "}," "," "," "]
[10,{"$f":"IF(ESTUDIANTES!G1763=0,\"\",ESTUDIANTES!G1763)","v":""},{"$f":"IF(ESTUDIANTES!I1763=0,\" \",ESTUDIANTES!I1763)","v":" "}," "," "," "]
[11,{"$f":"IF(ESTUDIANTES!G1764=0,\"\",ESTUDIANTES!G1764)","v":""},{"$f":"IF(ESTUDIANTES!I1764=0,\" \",ESTUDIANTES!I1764)","v":" "}," "," "," "]
[12,{"$f":"IF(ESTUDIANTES!G1765=0,\"\",ESTUDIANTES!G1765)","v":""},{"$f":"IF(ESTUDIANTES!I1765=0,\" \",ESTUDIANTES!I1765)","v":" "}," "," "," "]
[13,{"$f":"IF(ESTUDIANTES!G1766=0,\"\",ESTUDIANTES!G1766)","v":""},{"$f":"IF(ESTUDIANTES!I1766=0,\" \",ESTUDIANTES!I1766)","v":" "}," "," "," "]
[14,{"$f":"IF(ESTUDIANTES!G1767=0,\"\",ESTUDIANTES!G1767)","v":""},{"$f":"IF(ESTUDIANTES!I1767=0,\" \",ESTUDIANTES!I1767)","v":" "}," "," "," "]
[15,{"$f":"IF(ESTUDIANTES!G1768=0,\"\",ESTUDIANTES!G1768)","v":""},{"$f":"IF(ESTUDIANTES!I1768=0,\" \",ESTUDIANTES!I1768)","v":" "}," "," "," "]
[16,{"$f":"IF(ESTUDIANTES!G1769=0,\"\",ESTUDIANTES!G1769)","v":""},{"$f":"IF(ESTUDIANTES!I1769=0,\" \",ESTUDIANTES!I1769)","v":" "}," "," "," "]
[17,{"$f":"IF(ESTUDIANTES!G1770=0,\"\",ESTUDIANTES!G1770)","v":""},{"$f":"IF(ESTUDIANTES!I1770=0,\" \",ESTUDIANTES!I1770)","v":" "}," "," "," "]
[18,{"$f":"IF(ESTUDIANTES!G1771=0,\"\",ESTUDIANTES!G1771)","v":""},{"$f":"IF(ESTUDIANTES!I1771=0,\" \",ESTUDIANTES!I1771)","v":" "}," "," "," "]
[19,{"$f":"IF(ESTUDIANTES!G1772=0,\"\",ESTUDIANTES!G1772)","v":""},{"$f":"IF(ESTUDIANTES!I1772=0,\" \",ESTUDIANTES!I1772)","v":" "}," "," "," "]
[20,{"$f":"IF(ESTUDIANTES!G1773=0,\"\",ESTUDIANTES!G1773)","v":""},{"$f":"IF(ESTUDIANTES!I1773=0,\" \",ESTUDIANTES!I1773)","v":" "}," "," "," "]
[21,{"$f":"IF(ESTUDIANTES!G1774=0,\"\",ESTUDIANTES!G1774)","v":""},{"$f":"IF(ESTUDIANTES!I1774=0,\" \",ESTUDIANTES!I1774)","v":" "}," "," "," "]
[22,{"$f":"IF(ESTUDIANTES!G1775=0,\"\",ESTUDIANTES!G1775)","v":""},{"$f":"IF(ESTUDIANTES!I1775=0,\" \",ESTUDIANTES!I1775)","v":" "}," "," "," "]
[23,{"$f":"IF(ESTUDIANTES!G1776=0,\"\",ESTUDIANTES!G1776)","v":""},{"$f":"IF(ESTUDIANTES!I1776=0,\" \",ESTUDIANTES!I1776)","v":" "}," "," "," "]
[24,{"$f":"IF(ESTUDIANTES!G1777=0,\"\",ESTUDIANTES!G1777)","v":""},{"$f":"IF(ESTUDIANTES!I1777=0,\" \",ESTUDIANTES!I1777)","v":" "}," "," "," "]
[25,{"$f":"IF(ESTUDIANTES!G1778=0,\"\",ESTUDIANTES!G1778)","v":""},{"$f":"IF(ESTUDIANTES!I1778=0,\" \",ESTUDIANTES!I1778)","v":" "}," "," "," "]
[26,{"$f":"IF(ESTUDIANTES!G1779=0,\"\",ESTUDIANTES!G1779)","v":""},{"$f":"IF(ESTUDIANTES!I1779=0,\" \",ESTUDIANTES!I1779)","v":" "}," "," "," "]
[27,{"$f":"IF(ESTUDIANTES!G1780=0,\"\",ESTUDIANTES!G1780)","v":""},{"$f":"IF(ESTUDIANTES!I1780=0,\" \",ESTUDIANTES!I1780)","v":" "}," "," "," "]
[28,{"$f":"IF(ESTUDIANTES!G1781=0,\"\",ESTUDIANTES!G1781)","v":""},{"$f":"IF(ESTUDIANTES!I1781=0,\" \",ESTUDIANTES!I1781)","v":" "}," "," "," "]
[29,{"$f":"IF(ESTUDIANTES!G1782=0,\"\",ESTUDIANTES!G1782)","v":""},{"$f":"IF(ESTUDIANTES!I1782=0,\" \",ESTUDIANTES!I1782)","v":" "}," "," "," "]
[30,{"$f":"IF(ESTUDIANTES!G1783=0,\"\",ESTUDIANTES!G1783)","v":""},{"$f":"IF(ESTUDIANTES!I1783=0,\" \",ESTUDIANTES!I1783)","v":" "}," "," "," "]
[31,{"$f":"IF(ESTUDIANTES!G1784=0,\"\",ESTUDIANTES!G1784)","v":""},{"$f":"IF(ESTUDIANTES!I1784=0,\" \",ESTUDIANTES!I1784)","v":" "}," "," "," "]
[32,{"$f":"IF(ESTUDIANTES!G1785=0,\"\",ESTUDIANTES!G1785)","v":""},{"$f":"IF(ESTUDIANTES!I1785=0,\" \",ESTUDIANTES!I1785)","v":" "}," "," "," "]
[33,{"$f":"IF(ESTUDIANTES!G1786=0,\"\",ESTUDIANTES!G1786)","v":""},{"$f":"IF(ESTUDIANTES!I1786=0,\" \",ESTUDIANTES!I1786)","v":" "}," "," "," "]
[34,{"$f":"IF(ESTUDIANTES!G1787=0,\"\",ESTUDIANTES!G1787)","v":""},{"$f":"IF(ESTUDIANTES!I1787=0,\" \",ESTUDIANTES!I1787)","v":" "}," "," "," "]
[35,{"$f":"IF(ESTUDIANTES!G1788=0,\"\",ESTUDIANTES!G1788)","v":""},{"$f":"IF(ESTUDIANTES!I1788=0,\" \",ESTUDIANTES!I1788)","v":" "}," "," "," "]
[36,{"$f":"IF(ESTUDIANTES!G1789=0,\"\",ESTUDIANTES!G1789)","v":""},{"$f":"IF(ESTUDIANTES!I1789=0,\" \",ESTUDIANTES!I1789)","v":" "}," "," "," "]
[37,{"$f":"IF(ESTUDIANTES!G1790=0,\"\",ESTUDIANTES!G1790)","v":""},{"$f":"IF(ESTUDIANTES!I1790=0,\" \",ESTUDIANTES!I1790)","v":" "}," "," "," "]
[38,{"$f":"IF(ESTUDIANTES!G1791=0,\"\",ESTUDIANTES!G1791)","v":""},{"$f":"IF(ESTUDIANTES!I1791=0,\" \",ESTUDIANTES!I1791)","v":" "}," "," "," "]
[39,{"$f":"IF(ESTUDIANTES!G1792=0,\"\",ESTUDIANTES!G1792)","v":""},{"$f":"IF(ESTUDIANTES!I1792=0,\" \",ESTUDIANTES!I1792)","v":" "}," "," "," "]
[40,{"$f":"IF(ESTUDIANTES!G1793=0,\"\",ESTUDIANTES!G1793)","v":""},{"$f":"IF(ESTUDIANTES!I1793=0,\" \",ESTUDIANTES!I1793)","v":" "}," "," "," "]
[41,{"$f":"IF(ESTUDIANTES!G1794=0,\"\",ESTUDIANTES!G1794)","v":""},{"$f":"IF(ESTUDIANTES!I1794=0,\" \",ESTUDIANTES!I1794)","v":" "}," "," "," "]
[42,{"$f":"IF(ESTUDIANTES!G1795=0,\"\",ESTUDIANTES!G1795)","v":""},{"$f":"IF(ESTUDIANTES!I1795=0,\" \",ESTUDIANTES!I1795)","v":" "}," "," "," "]
[43,{"$f":"IF(ESTUDIANTES!G1796=0,\"\",ESTUDIANTES!G1796)","v":""},{"$f":"IF(ESTUDIANTES!I1796=0,\" \",ESTUDIANTES!I1796)","v":" "}," "," "," "]
[44,{"$f":"IF(ESTUDIANTES!G1797=0,\"\",ESTUDIANTES!G1797)","v":""},{"$f":"IF(ESTUDIANTES!I1797=0,\" \",ESTUDIANTES!I1797)","v":" "}," "," "," "]
[45,{"$f":"IF(ESTUDIANTES!G1798=0,\"\",ESTUDIANTES!G1798)","v":""},{"$f":"IF(ESTUDIANTES!I1798=0,\" \",ESTUDIANTES!I1798)","v":" "}," "," "," "]
[46,{"$f":"IF(ESTUDIANTES!G1799=0,\"\",ESTUDIANTES!G1799)","v":""},{"$f":"IF(ESTUDIANTES!I1799=0,\" \",ESTUDIANTES!I1799)","v":" "}," "," "," "]
[47,{"$f":"IF(ESTUDIANTES!G1800=0,\"\",ESTUDIANTES!G1800)","v":""},{"$f":"IF(ESTUDIANTES!I1800=0,\" \",ESTUDIANTES!I1800)","v":" "}," "," "," "]
[48,{"$f":"IF(ESTUDIANTES!G1801=0,\"\",ESTUDIANTES!G1801)","v":""},{"$f":"IF(ESTUDIANTES!I1801=0,\" \",ESTUDIANTES!I1801)","v":" "}," "," "," "]
[49,{"$f":"IF(ESTUDIANTES!G1802=0,\"\",ESTUDIANTES!G1802)","v":""},{"$f":"IF(ESTUDIANTES!I1802=0,\" \",ESTUDIANTES!I1802)","v":" "}," "," "," "]
[50,{"$f":"IF(ESTUDIANTES!G1803=0,\"\",ESTUDIANTES!G1803)","v":""},{"$f":"IF(ESTUDIANTES!I1803=0,\" \",ESTUDIANTES!I1803)","v":" "}," "," "," "]
[]
[{"$f":"DATOS!$B$3","v":"COLEGIO BACHILLERATO PCEI \"SIN FRONTERAS\""}]
[]
[null,"GRADO/CURSO:",{"$f":"DATOS!$E39","v":0}]
[null,"NIVEL:",{"$f":"DATOS!$F39","v":0}]
[null,"PARALELO:",{"$f":"DATOS!$G39","v":0}]
[null,"TUTOR:",{"$f":"DATOS!$H39","v":0}]
[]
["Nro","NOMBRES Y APELLIDOS","F.N","AÑOS","MESES","DIAS"]
[1,{"$f":"IF(ESTUDIANTES!G1804=0,\"\",ESTUDIANTES!G1804)","v":""},{"$f":"IF(ESTUDIANTES!I1804=0,\" \",ESTUDIANTES!I1804)","v":" "},{"$f":"IFERROR(DATEDIF(C2133,TODAY(),\"Y\"),\" \")","v":" "},{"$f":"IFERROR(DATEDIF(C2133,TODAY(),\"YM\"),\" \")","v":" "},{"$f":"IFERROR(DATEDIF(C2133,TODAY(),\"MD\"),\" \")","v":" "}]
[2,{"$f":"IF(ESTUDIANTES!G1805=0,\"\",ESTUDIANTES!G1805)","v":""},{"$f":"IF(ESTUDIANTES!I1805=0,\" \",ESTUDIANTES!I1805)","v":" "},{"$f":"IFERROR(DATEDIF(C2134,TODAY(),\"Y\"),\" \")","v":" "},{"$f":"IFERROR(DATEDIF(C2134,TODAY(),\"YM\"),\" \")","v":" "},{"$f":"IFERROR(DATEDIF(C2134,TODAY(),\"MD\"),\" \")","v":" "}]
[3,{"$f":"IF(ESTUDIANTES!G1806=0,\"\",ESTUDIANTES!G1806)","v":""},{"$f":"IF(ESTUDIANTES!I1806=0,\" \",ESTUDIANTES!I1806)","v":" "}," "," "," "]
[4,{"$f":"IF(ESTUDIANTES!G1807=0,\"\",ESTUDIANTES!G1807)","v":""},{"$f":"IF(ESTUDIANTES!I1807=0,\" \",ESTUDIANTES!I1807)","v":" "}," "," "," "]
[5,{"$f":"IF(ESTUDIANTES!G1808=0,\"\",ESTUDIANTES!G1808)","v":""},{"$f":"IF(ESTUDIANTES!I1808=0,\" \",ESTUDIANTES!I1808)","v":" "}," "," "," "]
[6,{"$f":"IF(ESTUDIANTES!G1809=0,\"\",ESTUDIANTES!G1809)","v":""},{"$f":"IF(ESTUDIANTES!I1809=0,\" \",ESTUDIANTES!I1809)","v":" "}," "," "," "]
[7,{"$f":"IF(ESTUDIANTES!G1810=0,\"\",ESTUDIANTES!G1810)","v":""},{"$f":"IF(ESTUDIANTES!I1810=0,\" \",ESTUDIANTES!I1810)","v":" "}," "," "," "]
[8,{"$f":"IF(ESTUDIANTES!G1811=0,\"\",ESTUDIANTES!G1811)","v":""},{"$f":"IF(ESTUDIANTES!I1811=0,\" \",ESTUDIANTES!I1811)","v":" "}," "," "," "]
[9,{"$f":"IF(ESTUDIANTES!G1812=0,\"\",ESTUDIANTES!G1812)","v":""},{"$f":"IF(ESTUDIANTES!I1812=0,\" \",ESTUDIANTES!I1812)","v":" "}," "," "," "]
[10,{"$f":"IF(ESTUDIANTES!G1813=0,\"\",ESTUDIANTES!G1813)","v":""},{"$f":"IF(ESTUDIANTES!I1813=0,\" \",ESTUDIANTES!I1813)","v":" "}," "," "," "]
[11,{"$f":"IF(ESTUDIANTES!G1814=0,\"\",ESTUDIANTES!G1814)","v":""},{"$f":"IF(ESTUDIANTES!I1814=0,\" \",ESTUDIANTES!I1814)","v":" "}," "," "," "]
[12,{"$f":"IF(ESTUDIANTES!G1815=0,\"\",ESTUDIANTES!G1815)","v":""},{"$f":"IF(ESTUDIANTES!I1815=0,\" \",ESTUDIANTES!I1815)","v":" "}," "," "," "]
[13,{"$f":"IF(ESTUDIANTES!G1816=0,\"\",ESTUDIANTES!G1816)","v":""},{"$f":"IF(ESTUDIANTES!I1816=0,\" \",ESTUDIANTES!I1816)","v":" "}," "," "," "]
[14,{"$f":"IF(ESTUDIANTES!G1817=0,\"\",ESTUDIANTES!G1817)","v":""},{"$f":"IF(ESTUDIANTES!I1817=0,\" \",ESTUDIANTES!I1817)","v":" "}," "," "," "]
[15,{"$f":"IF(ESTUDIANTES!G1818=0,\"\",ESTUDIANTES!G1818)","v":""},{"$f":"IF(ESTUDIANTES!I1818=0,\" \",ESTUDIANTES!I1818)","v":" "}," "," "," "]
[16,{"$f":"IF(ESTUDIANTES!G1819=0,\"\",ESTUDIANTES!G1819)","v":""},{"$f":"IF(ESTUDIANTES!I1819=0,\" \",ESTUDIANTES!I1819)","v":" "}," "," "," "]
[17,{"$f":"IF(ESTUDIANTES!G1820=0,\"\",ESTUDIANTES!G1820)","v":""},{"$f":"IF(ESTUDIANTES!I1820=0,\" \",ESTUDIANTES!I1820)","v":" "}," "," "," "]
[18,{"$f":"IF(ESTUDIANTES!G1821=0,\"\",ESTUDIANTES!G1821)","v":""},{"$f":"IF(ESTUDIANTES!I1821=0,\" \",ESTUDIANTES!I1821)","v":" "}," "," "," "]
[19,{"$f":"IF(ESTUDIANTES!G1822=0,\"\",ESTUDIANTES!G1822)","v":""},{"$f":"IF(ESTUDIANTES!I1822=0,\" \",ESTUDIANTES!I1822)","v":" "}," "," "," "]
[20,{"$f":"IF(ESTUDIANTES!G1823=0,\"\",ESTUDIANTES!G1823)","v":""},{"$f":"IF(ESTUDIANTES!I1823=0,\" \",ESTUDIANTES!I1823)","v":" "}," "," "," "]
[21,{"$f":"IF(ESTUDIANTES!G1824=0,\"\",ESTUDIANTES!G1824)","v":""},{"$f":"IF(ESTUDIANTES!I1824=0,\" \",ESTUDIANTES!I1824)","v":" "}," "," "," "]
[22,{"$f":"IF(ESTUDIANTES!G1825=0,\"\",ESTUDIANTES!G1825)","v":""},{"$f":"IF(ESTUDIANTES!I1825=0,\" \",ESTUDIANTES!I1825)","v":" "}," "," "," "]
[23,{"$f":"IF(ESTUDIANTES!G1826=0,\"\",ESTUDIANTES!G1826)","v":""},{"$f":"IF(ESTUDIANTES!I1826=0,\" \",ESTUDIANTES!I1826)","v":" "}," "," "," "]
[24,{"$f":"IF(ESTUDIANTES!G1827=0,\"\",ESTUDIANTES!G1827)","v":""},{"$f":"IF(ESTUDIANTES!I1827=0,\" \",ESTUDIANTES!I1827)","v":" "}," "," "," "]
[25,{"$f":"IF(ESTUDIANTES!G1828=0,\"\",ESTUDIANTES!G1828)","v":""},{"$f":"IF(ESTUDIANTES!I1828=0,\" \",ESTUDIANTES!I1828)","v":" "}," "," "," "]
[26,{"$f":"IF(ESTUDIANTES!G1829=0,\"\",ESTUDIANTES!G1829)","v":""},{"$f":"IF(ESTUDIANTES!I1829=0,\" \",ESTUDIANTES!I1829)","v":" "}," "," "," "]
[27,{"$f":"IF(ESTUDIANTES!G1830=0,\"\",ESTUDIANTES!G1830)","v":""},{"$f":"IF(ESTUDIANTES!I1830=0,\" \",ESTUDIANTES!I1830)","v":" "}," "," "," "]
[28,{"$f":"IF(ESTUDIANTES!G1831=0,\"\",ESTUDIANTES!G1831)","v":""},{"$f":"IF(ESTUDIANTES!I1831=0,\" \",ESTUDIANTES!I1831)","v":" "}," "," "," "]
[29,{"$f":"IF(ESTUDIANTES!G1832=0,\"\",ESTUDIANTES!G1832)","v":""},{"$f":"IF(ESTUDIANTES!I1832=0,\" \",ESTUDIANTES!I1832)","v":" "}," "," "," "]
[30,{"$f":"IF(ESTUDIANTES!G1833=0,\"\",ESTUDIANTES!G1833)","v":""},{"$f":"IF(ESTUDIANTES!I1833=0,\" \",ESTUDIANTES!I1833)","v":" "}," "," "," "]
[31,{"$f":"IF(ESTUDIANTES!G1834=0,\"\",ESTUDIANTES!G1834)","v":""},{"$f":"IF(ESTUDIANTES!I1834=0,\" \",ESTUDIANTES!I1834)","v":" "}," "," "," "]
[32,{"$f":"IF(ESTUDIANTES!G1835=0,\"\",ESTUDIANTES!G1835)","v":""},{"$f":"IF(ESTUDIANTES!I1835=0,\" \",ESTUDIANTES!I1835)","v":" "}," "," "," "]
[33,{"$f":"IF(ESTUDIANTES!G1836=0,\"\",ESTUDIANTES!G1836)","v":""},{"$f":"IF(ESTUDIANTES!I1836=0,\" \",ESTUDIANTES!I1836)","v":" "}," "," "," "]
[34,{"$f":"IF(ESTUDIANTES!G1837=0,\"\",ESTUDIANTES!G1837)","v":""},{"$f":"IF(ESTUDIANTES!I1837=0,\" \",ESTUDIANTES!I1837)","v":" "}," "," "," "]
[35,{"$f":"IF(ESTUDIANTES!G1838=0,\"\",ESTUDIANTES!G1838)","v":""},{"$f":"IF(ESTUDIANTES!I1838=0,\" \",ESTUDIANTES!I1838)","v":" "}," "," "," "]
[36,{"$f":"IF(ESTUDIANTES!G1839=0,\"\",ESTUDIANTES!G1839)","v":""},{"$f":"IF(ESTUDIANTES!I1839=0,\" \",ESTUDIANTES!I1839)","v":" "}," "," "," "]
[37,{"$f":"IF(ESTUDIANTES!G1840=0,\"\",ESTUDIANTES!G1840)","v":""},{"$f":"IF(ESTUDIANTES!I1840=0,\" \",ESTUDIANTES!I1840)","v":" "}," "," "," "]
[38,{"$f":"IF(ESTUDIANTES!G1841=0,\"\",ESTUDIANTES!G1841)","v":""},{"$f":"IF(ESTUDIANTES!I1841=0,\" \",ESTUDIANTES!I1841)","v":" "}," "," "," "]
[39,{"$f":"IF(ESTUDIANTES!G1842=0,\"\",ESTUDIANTES!G1842)","v":""},{"$f":"IF(ESTUDIANTES!I1842=0,\" \",ESTUDIANTES!I1842)","v":" "}," "," "," "]
[40,{"$f":"IF(ESTUDIANTES!G1843=0,\"\",ESTUDIANTES!G1843)","v":""},{"$f":"IF(ESTUDIANTES!I1843=0,\" \",ESTUDIANTES!I1843)","v":" "}," "," "," "]
[41,{"$f":"IF(ESTUDIANTES!G1844=0,\"\",ESTUDIANTES!G1844)","v":""},{"$f":"IF(ESTUDIANTES!I1844=0,\" \",ESTUDIANTES!I1844)","v":" "}," "," "," "]
[42,{"$f":"IF(ESTUDIANTES!G1845=0,\"\",ESTUDIANTES!G1845)","v":""},{"$f":"IF(ESTUDIANTES!I1845=0,\" \",ESTUDIANTES!I1845)","v":" "}," "," "," "]
[43,{"$f":"IF(ESTUDIANTES!G1846=0,\"\",ESTUDIANTES!G1846)","v":""},{"$f":"IF(ESTUDIANTES!I1846=0,\" \",ESTUDIANTES!I1846)","v":" "}," "," "," "]
[44,{"$f":"IF(ESTUDIANTES!G1847=0,\"\",ESTUDIANTES!G1847)","v":""},{"$f":"IF(ESTUDIANTES!I1847=0,\" \",ESTUDIANTES!I1847)","v":" "}," "," "," "]
[45,{"$f":"IF(ESTUDIANTES!G1848=0,\"\",ESTUDIANTES!G1848)","v":""},{"$f":"IF(ESTUDIANTES!I1848=0,\" \",ESTUDIANTES!I1848)","v":" "}," "," "," "]
[46,{"$f":"IF(ESTUDIANTES!G1849=0,\"\",ESTUDIANTES!G1849)","v":""},{"$f":"IF(ESTUDIANTES!I1849=0,\" \",ESTUDIANTES!I1849)","v":" "}," "," "," "]
[47,{"$f":"IF(ESTUDIANTES!G1850=0,\"\",ESTUDIANTES!G1850)","v":""},{"$f":"IF(ESTUDIANTES!I1850=0,\" \",ESTUDIANTES!I1850)","v":" "}," "," "," "]
[48,{"$f":"IF(ESTUDIANTES!G1851=0,\"\",ESTUDIANTES!G1851)","v":""},{"$f":"IF(ESTUDIANTES!I1851=0,\" \",ESTUDIANTES!I1851)","v":" "}," "," "," "]
[49,{"$f":"IF(ESTUDIANTES!G1852=0,\"\",ESTUDIANTES!G1852)","v":""},{"$f":"IF(ESTUDIANTES!I1852=0,\" \",ESTUDIANTES!I1852)","v":" "}," "," "," "]
[50,{"$f":"IF(ESTUDIANTES!G1853=0,\"\",ESTUDIANTES!G1853)","v":""},{"$f":"IF(ESTUDIANTES!I1853=0,\" \",ESTUDIANTES!I1853)","v":" "}," "," "," "]
[]
[{"$f":"DATOS!$B$3","v":"COLEGIO BACHILLERATO PCEI \"SIN FRONTERAS\""}]
[]
[null,"GRADO/CURSO:",{"$f":"DATOS!$E40","v":0}]
[null,"NIVEL:",{"$f":"DATOS!$F40","v":0}]
[null,"PARALELO:",{"$f":"DATOS!$G40","v":0}]
[null,"TUTOR:",{"$f":"DATOS!$H40","v":0}]
[]
["Nro","NOMBRES Y APELLIDOS","F.N","AÑOS","MESES","DIAS"]
[1,{"$f":"IF(ESTUDIANTES!G1854=0,\"\",ESTUDIANTES!G1854)","v":""},{"$f":"IF(ESTUDIANTES!I1854=0,\" \",ESTUDIANTES!I1854)","v":" "},{"$f":"IFERROR(DATEDIF(C2192,TODAY(),\"Y\"),\" \")","v":" "},{"$f":"IFERROR(DATEDIF(C2192,TODAY(),\"YM\"),\" \")","v":" "},{"$f":"IFERROR(DATEDIF(C2192,TODAY(),\"MD\"),\" \")","v":" "}]
[2,{"$f":"IF(ESTUDIANTES!G1855=0,\"\",ESTUDIANTES!G1855)","v":""},{"$f":"IF(ESTUDIANTES!I1855=0,\" \",ESTUDIANTES!I1855)","v":" "},{"$f":"IFERROR(DATEDIF(C2193,TODAY(),\"Y\"),\" \")","v":" "},{"$f":"IFERROR(DATEDIF(C2193,TODAY(),\"YM\"),\" \")","v":" "},{"$f":"IFERROR(DATEDIF(C2193,TODAY(),\"MD\"),\" \")","v":" "}]
[3,{"$f":"IF(ESTUDIANTES!G1856=0,\"\",ESTUDIANTES!G1856)","v":""},{"$f":"IF(ESTUDIANTES!I1856=0,\" \",ESTUDIANTES!I1856)","v":" "}," "," "," "]
[4,{"$f":"IF(ESTUDIANTES!G1857=0,\"\",ESTUDIANTES!G1857)","v":""},{"$f":"IF(ESTUDIANTES!I1857=0,\" \",ESTUDIANTES!I1857)","v":" "}," "," "," "]
[5,{"$f":"IF(ESTUDIANTES!G1858=0,\"\",ESTUDIANTES!G1858)","v":""},{"$f":"IF(ESTUDIANTES!I1858=0,\" \",ESTUDIANTES!I1858)","v":" "}," "," "," "]
[6,{"$f":"IF(ESTUDIANTES!G1859=0,\"\",ESTUDIANTES!G1859)","v":""},{"$f":"IF(ESTUDIANTES!I1859=0,\" \",ESTUDIANTES!I1859)","v":" "}," "," "," "]
[7,{"$f":"IF(ESTUDIANTES!G1860=0,\"\",ESTUDIANTES!G1860)","v":""},{"$f":"IF(ESTUDIANTES!I1860=0,\" \",ESTUDIANTES!I1860)","v":" "}," "," "," "]
[8,{"$f":"IF(ESTUDIANTES!G1861=0,\"\",ESTUDIANTES!G1861)","v":""},{"$f":"IF(ESTUDIANTES!I1861=0,\" \",ESTUDIANTES!I1861)","v":" "}," "," "," "]
[9,{"$f":"IF(ESTUDIANTES!G1862=0,\"\",ESTUDIANTES!G1862)","v":""},{"$f":"IF(ESTUDIANTES!I1862=0,\" \",ESTUDIANTES!I1862)","v":" "}," "," "," "]
[10,{"$f":"IF(ESTUDIANTES!G1863=0,\"\",ESTUDIANTES!G1863)","v":""},{"$f":"IF(ESTUDIANTES!I1863=0,\" \",ESTUDIANTES!I1863)","v":" "}," "," "," "]
[11,{"$f":"IF(ESTUDIANTES!G1864=0,\"\",ESTUDIANTES!G1864)","v":""},{"$f":"IF(ESTUDIANTES!I1864=0,\" \",ESTUDIANTES!I1864)","v":" "}," "," "," "]
[12,{"$f":"IF(ESTUDIANTES!G1865=0,\"\",ESTUDIANTES!G1865)","v":""},{"$f":"IF(ESTUDIANTES!I1865=0,\" \",ESTUDIANTES!I1865)","v":" "}," "," "," "]
[13,{"$f":"IF(ESTUDIANTES!G1866=0,\"\",ESTUDIANTES!G1866)","v":""},{"$f":"IF(ESTUDIANTES!I1866=0,\" \",ESTUDIANTES!I1866)","v":" "}," "," "," "]
[14,{"$f":"IF(ESTUDIANTES!G1867=0,\"\",ESTUDIANTES!G1867)","v":""},{"$f":"IF(ESTUDIANTES!I1867=0,\" \",ESTUDIANTES!I1867)","v":" "}," "," "," "]
[15,{"$f":"IF(ESTUDIANTES!G1868=0,\"\",ESTUDIANTES!G1868)","v":""},{"$f":"IF(ESTUDIANTES!I1868=0,\" \",ESTUDIANTES!I1868)","v":" "}," "," "," "]
[16,{"$f":"IF(ESTUDIANTES!G1869=0,\"\",ESTUDIANTES!G1869)","v":""},{"$f":"IF(ESTUDIANTES!I1869=0,\" \",ESTUDIANTES!I1869)","v":" "}," "," "," "]
[17,{"$f":"IF(ESTUDIANTES!G1870=0,\"\",ESTUDIANTES!G1870)","v":""},{"$f":"IF(ESTUDIANTES!I1870=0,\" \",ESTUDIANTES!I1870)","v":" "}," "," "," "]
[18,{"$f":"IF(ESTUDIANTES!G1871=0,\"\",ESTUDIANTES!G1871)","v":""},{"$f":"IF(ESTUDIANTES!I1871=0,\" \",ESTUDIANTES!I1871)","v":" "}," "," "," "]
[19,{"$f":"IF(ESTUDIANTES!G1872=0,\"\",ESTUDIANTES!G1872)","v":""},{"$f":"IF(ESTUDIANTES!I1872=0,\" \",ESTUDIANTES!I1872)","v":" "}," "," "," "]
[20,{"$f":"IF(ESTUDIANTES!G1873=0,\"\",ESTUDIANTES!G1873)","v":""},{"$f":"IF(ESTUDIANTES!I1873=0,\" \",ESTUDIANTES!I1873)","v":" "}," "," "," "]
[21,{"$f":"IF(ESTUDIANTES!G1874=0,\"\",ESTUDIANTES!G1874)","v":""},{"$f":"IF(ESTUDIANTES!I1874=0,\" \",ESTUDIANTES!I1874)","v":" "}," "," "," "]
[22,{"$f":"IF(ESTUDIANTES!G1875=0,\"\",ESTUDIANTES!G1875)","v":""},{"$f":"IF(ESTUDIANTES!I1875=0,\" \",ESTUDIANTES!I1875)","v":" "}," "," "," "]
[23,{"$f":"IF(ESTUDIANTES!G1876=0,\"\",ESTUDIANTES!G1876)","v":""},{"$f":"IF(ESTUDIANTES!I1876=0,\" \",ESTUDIANTES!I1876)","v":" "}," "," "," "]
[24,{"$f":"IF(ESTUDIANTES!G1877=0,\"\",ESTUDIANTES!G1877)","v":""},{"$f":"IF(ESTUDIANTES!I1877=0,\" \",ESTUDIANTES!I1877)","v":" "}," "," "," "]
[25,{"$f":"IF(ESTUDIANTES!G1878=0,\"\",ESTUDIANTES!G1878)","v":""},{"$f":"IF(ESTUDIANTES!I1878=0,\" \",ESTUDIANTES!I1878)","v":" "}," "," "," "]
[26,{"$f":"IF(ESTUDIANTES!G1879=0,\"\",ESTUDIANTES!G1879)","v":""},{"$f":"IF(ESTUDIANTES!I1879=0,\" \",ESTUDIANTES!I1879)","v":" "}," "," "," "]
[27,{"$f":"IF(ESTUDIANTES!G1880=0,\"\",ESTUDIANTES!G1880)","v":""},{"$f":"IF(ESTUDIANTES!I1880=0,\" \",ESTUDIANTES!I1880)","v":" "}," "," "," "]
[28,{"$f":"IF(ESTUDIANTES!G1881=0,\"\",ESTUDIANTES!G1881)","v":""},{"$f":"IF(ESTUDIANTES!I1881=0,\" \",ESTUDIANTES!I1881)","v":" "}," "," "," "]
[29,{"$f":"IF(ESTUDIANTES!G1882=0,\"\",ESTUDIANTES!G1882)","v":""},{"$f":"IF(ESTUDIANTES!I1882=0,\" \",ESTUDIANTES!I1882)","v":" "}," "," "," "]
[30,{"$f":"IF(ESTUDIANTES!G1883=0,\"\",ESTUDIANTES!G1883)","v":""},{"$f":"IF(ESTUDIANTES!I1883=0,\" \",ESTUDIANTES!I1883)","v":" "}," "," "," "]
[31,{"$f":"IF(ESTUDIANTES!G1884=0,\"\",ESTUDIANTES!G1884)","v":""},{"$f":"IF(ESTUDIANTES!I1884=0,\" \",ESTUDIANTES!I1884)","v":" "}," "," "," "]
[32,{"$f":"IF(ESTUDIANTES!G1885=0,\"\",ESTUDIANTES!G1885)","v":""},{"$f":"IF(ESTUDIANTES!I1885=0,\" \",ESTUDIANTES!I1885)","v":" "}," "," "," "]
[33,{"$f":"IF(ESTUDIANTES!G1886=0,\"\",ESTUDIANTES!G1886)","v":""},{"$f":"IF(ESTUDIANTES!I1886=0,\" \",ESTUDIANTES!I1886)","v":" "}," "," "," "]
[34,{"$f":"IF(ESTUDIANTES!G1887=0,\"\",ESTUDIANTES!G1887)","v":""},{"$f":"IF(ESTUDIANTES!I1887=0,\" \",ESTUDIANTES!I1887)","v":" "}," "," "," "]
[35,{"$f":"IF(ESTUDIANTES!G1888=0,\"\",ESTUDIANTES!G1888)","v":""},{"$f":"IF(ESTUDIANTES!I1888=0,\" \",ESTUDIANTES!I1888)","v":" "}," "," "," "]
[36,{"$f":"IF(ESTUDIANTES!G1889=0,\"\",ESTUDIANTES!G1889)","v":""},{"$f":"IF(ESTUDIANTES!I1889=0,\" \",ESTUDIANTES!I1889)","v":" "}," "," "," "]
[37,{"$f":"IF(ESTUDIANTES!G1890=0,\"\",ESTUDIANTES!G1890)","v":""},{"$f":"IF(ESTUDIANTES!I1890=0,\" \",ESTUDIANTES!I1890)","v":" "}," "," "," "]
[38,{"$f":"IF(ESTUDIANTES!G1891=0,\"\",ESTUDIANTES!G1891)","v":""},{"$f":"IF(ESTUDIANTES!I1891=0,\" \",ESTUDIANTES!I1891)","v":" "}," "," "," "]
[39,{"$f":"IF(ESTUDIANTES!G1892=0,\"\",ESTUDIANTES!G1892)","v":""},{"$f":"IF(ESTUDIANTES!I1892=0,\" \",ESTUDIANTES!I1892)","v":" "}," "," "," "]
[40,{"$f":"IF(ESTUDIANTES!G1893=0,\"\",ESTUDIANTES!G1893)","v":""},{"$f":"IF(ESTUDIANTES!I1893=0,\" \",ESTUDIANTES!I1893)","v":" "}," "," "," "]
[41,{"$f":"IF(ESTUDIANTES!G1894=0,\"\",ESTUDIANTES!G1894)","v":""},{"$f":"IF(ESTUDIANTES!I1894=0,\" \",ESTUDIANTES!I1894)","v":" "}," "," "," "]
[42,{"$f":"IF(ESTUDIANTES!G1895=0,\"\",ESTUDIANTES!G1895)","v":""},{"$f":"IF(ESTUDIANTES!I1895=0,\" \",ESTUDIANTES!I1895)","v":" "}," "," "," "]
[43,{"$f":"IF(ESTUDIANTES!G1896=0,\"\",ESTUDIANTES!G1896)","v":""},{"$f":"IF(ESTUDIANTES!I1896=0,\" \",ESTUDIANTES!I1896)","v":" "}," "," "," "]
[44,{"$f":"IF(ESTUDIANTES!G1897=0,\"\",ESTUDIANTES!G1897)","v":""},{"$f":"IF(ESTUDIANTES!I1897=0,\" \",ESTUDIANTES!I1897)","v":" "}," "," "," "]
[45,{"$f":"IF(ESTUDIANTES!G1898=0,\"\",ESTUDIANTES!G1898)","v":""},{"$f":"IF(ESTUDIANTES!I1898=0,\" \",ESTUDIANTES!I1898)","v":" "}," "," "," "]
[46,{"$f":"IF(ESTUDIANTES!G1899=0,\"\",ESTUDIANTES!G1899)","v":""},{"$f":"IF(ESTUDIANTES!I1899=0,\" \",ESTUDIANTES!I1899)","v":" "}," "," "," "]
[47,{"$f":"IF(ESTUDIANTES!G1900=0,\"\",ESTUDIANTES!G1900)","v":""},{"$f":"IF(ESTUDIANTES!I1900=0,\" \",ESTUDIANTES!I1900)","v":" "}," "," "," "]
[48,{"$f":"IF(ESTUDIANTES!G1901=0,\"\",ESTUDIANTES!G1901)","v":""},{"$f":"IF(ESTUDIANTES!I1901=0,\" \",ESTUDIANTES!I1901)","v":" "}," "," "," "]
[49,{"$f":"IF(ESTUDIANTES!G1902=0,\"\",ESTUDIANTES!G1902)","v":""},{"$f":"IF(ESTUDIANTES!I1902=0,\" \",ESTUDIANTES!I1902)","v":" "}," "," "," "]
[50,{"$f":"IF(ESTUDIANTES!G1903=0,\"\",ESTUDIANTES!G1903)","v":""},{"$f":"IF(ESTUDIANTES!I1903=0,\" \",ESTUDIANTES!I1903)","v":" "}," "," "," "]
[]
[{"$f":"DATOS!$B$3","v":"COLEGIO BACHILLERATO PCEI \"SIN FRONTERAS\""}]
[]
[null,"GRADO/CURSO:",{"$f":"DATOS!$E41","v":0}]
[null,"NIVEL:",{"$f":"DATOS!$F41","v":0}]
[null,"PARALELO:",{"$f":"DATOS!$G41","v":0}]
[null,"TUTOR:",{"$f":"DATOS!$H41","v":0}]
[]
["Nro","NOMBRES Y APELLIDOS","F.N","AÑOS","MESES","DIAS"]
[1,{"$f":"IF(ESTUDIANTES!G1904=0,\"\",ESTUDIANTES!G1904)","v":""},{"$f":"IF(ESTUDIANTES!I1904=0,\" \",ESTUDIANTES!I1904)","v":" "},{"$f":"IFERROR(DATEDIF(C2251,TODAY(),\"Y\"),\" \")","v":" "},{"$f":"IFERROR(DATEDIF(C2251,TODAY(),\"YM\"),\" \")","v":" "},{"$f":"IFERROR(DATEDIF(C2251,TODAY(),\"MD\"),\" \")","v":" "}]
[2,{"$f":"IF(ESTUDIANTES!G1905=0,\"\",ESTUDIANTES!G1905)","v":""},{"$f":"IF(ESTUDIANTES!I1905=0,\" \",ESTUDIANTES!I1905)","v":" "},{"$f":"IFERROR(DATEDIF(C2252,TODAY(),\"Y\"),\" \")","v":" "},{"$f":"IFERROR(DATEDIF(C2252,TODAY(),\"YM\"),\" \")","v":" "},{"$f":"IFERROR(DATEDIF(C2252,TODAY(),\"MD\"),\" \")","v":" "}]
[3,{"$f":"IF(ESTUDIANTES!G1906=0,\"\",ESTUDIANTES!G1906)","v":""},{"$f":"IF(ESTUDIANTES!I1906=0,\" \",ESTUDIANTES!I1906)","v":" "}," "," "," "]
[4,{"$f":"IF(ESTUDIANTES!G1907=0,\"\",ESTUDIANTES!G1907)","v":""},{"$f":"IF(ESTUDIANTES!I1907=0,\" \",ESTUDIANTES!I1907)","v":" "}," "," "," "]
[5,{"$f":"IF(ESTUDIANTES!G1908=0,\"\",ESTUDIANTES!G1908)","v":""},{"$f":"IF(ESTUDIANTES!I1908=0,\" \",ESTUDIANTES!I1908)","v":" "}," "," "," "]
[6,{"$f":"IF(ESTUDIANTES!G1909=0,\"\",ESTUDIANTES!G1909)","v":""},{"$f":"IF(ESTUDIANTES!I1909=0,\" \",ESTUDIANTES!I1909)","v":" "}," "," "," "]
[7,{"$f":"IF(ESTUDIANTES!G1910=0,\"\",ESTUDIANTES!G1910)","v":""},{"$f":"IF(ESTUDIANTES!I1910=0,\" \",ESTUDIANTES!I1910)","v":" "}," "," "," "]
[8,{"$f":"IF(ESTUDIANTES!G1911=0,\"\",ESTUDIANTES!G1911)","v":""},{"$f":"IF(ESTUDIANTES!I1911=0,\" \",ESTUDIANTES!I1911)","v":" "}," "," "," "]
[9,{"$f":"IF(ESTUDIANTES!G1912=0,\"\",ESTUDIANTES!G1912)","v":""},{"$f":"IF(ESTUDIANTES!I1912=0,\" \",ESTUDIANTES!I1912)","v":" "}," "," "," "]
[10,{"$f":"IF(ESTUDIANTES!G1913=0,\"\",ESTUDIANTES!G1913)","v":""},{"$f":"IF(ESTUDIANTES!I1913=0,\" \",ESTUDIANTES!I1913)","v":" "}," "," "," "]
[11,{"$f":"IF(ESTUDIANTES!G1914=0,\"\",ESTUDIANTES!G1914)","v":""},{"$f":"IF(ESTUDIANTES!I1914=0,\" \",ESTUDIANTES!I1914)","v":" "}," "," "," "]
[12,{"$f":"IF(ESTUDIANTES!G1915=0,\"\",ESTUDIANTES!G1915)","v":""},{"$f":"IF(ESTUDIANTES!I1915=0,\" \",ESTUDIANTES!I1915)","v":" "}," "," "," "]
[13,{"$f":"IF(ESTUDIANTES!G1916=0,\"\",ESTUDIANTES!G1916)","v":""},{"$f":"IF(ESTUDIANTES!I1916=0,\" \",ESTUDIANTES!I1916)","v":" "}," "," "," "]
[14,{"$f":"IF(ESTUDIANTES!G1917=0,\"\",ESTUDIANTES!G1917)","v":""},{"$f":"IF(ESTUDIANTES!I1917=0,\" \",ESTUDIANTES!I1917)","v":" "}," "," "," "]
[15,{"$f":"IF(ESTUDIANTES!G1918=0,\"\",ESTUDIANTES!G1918)","v":""},{"$f":"IF(ESTUDIANTES!I1918=0,\" \",ESTUDIANTES!I1918)","v":" "}," "," "," "]
[16,{"$f":"IF(ESTUDIANTES!G1919=0,\"\",ESTUDIANTES!G1919)","v":""},{"$f":"IF(ESTUDIANTES!I1919=0,\" \",ESTUDIANTES!I1919)","v":" "}," "," "," "]
[17,{"$f":"IF(ESTUDIANTES!G1920=0,\"\",ESTUDIANTES!G1920)","v":""},{"$f":"IF(ESTUDIANTES!I1920=0,\" \",ESTUDIANTES!I1920)","v":" "}," "," "," "]
[18,{"$f":"IF(ESTUDIANTES!G1921=0,\"\",ESTUDIANTES!G1921)","v":""},{"$f":"IF(ESTUDIANTES!I1921=0,\" \",ESTUDIANTES!I1921)","v":" "}," "," "," "]
[19,{"$f":"IF(ESTUDIANTES!G1922=0,\"\",ESTUDIANTES!G1922)","v":""},{"$f":"IF(ESTUDIANTES!I1922=0,\" \",ESTUDIANTES!I1922)","v":" "}," "," "," "]
[20,{"$f":"IF(ESTUDIANTES!G1923=0,\"\",ESTUDIANTES!G1923)","v":""},{"$f":"IF(ESTUDIANTES!I1923=0,\" \",ESTUDIANTES!I1923)","v":" "}," "," "," "]
[21,{"$f":"IF(ESTUDIANTES!G1924=0,\"\",ESTUDIANTES!G1924)","v":""},{"$f":"IF(ESTUDIANTES!I1924=0,\" \",ESTUDIANTES!I1924)","v":" "}," "," "," "]
[22,{"$f":"IF(ESTUDIANTES!G1925=0,\"\",ESTUDIANTES!G1925)","v":""},{"$f":"IF(ESTUDIANTES!I1925=0,\" \",ESTUDIANTES!I1925)","v":" "}," "," "," "]
[23,{"$f":"IF(ESTUDIANTES!G1926=0,\"\",ESTUDIANTES!G1926)","v":""},{"$f":"IF(ESTUDIANTES!I1926=0,\" \",ESTUDIANTES!I1926)","v":" "}," "," "," "]
[24,{"$f":"IF(ESTUDIANTES!G1927=0,\"\",ESTUDIANTES!G1927)","v":""},{"$f":"IF(ESTUDIANTES!I1927=0,\" \",ESTUDIANTES!I1927)","v":" "}," "," "," "]
[25,{"$f":"IF(ESTUDIANTES!G1928=0,\"\",ESTUDIANTES!G1928)","v":""},{"$f":"IF(ESTUDIANTES!I1928=0,\" \",ESTUDIANTES!I1928)","v":" "}," "," "," "]
[26,{"$f":"IF(ESTUDIANTES!G1929=0,\"\",ESTUDIANTES!G1929)","v":""},{"$f":"IF(ESTUDIANTES!I1929=0,\" \",ESTUDIANTES!I1929)","v":" "}," "," "," "]
[27,{"$f":"IF(ESTUDIANTES!G1930=0,\"\",ESTUDIANTES!G1930)","v":""},{"$f":"IF(ESTUDIANTES!I1930=0,\" \",ESTUDIANTES!I1930)","v":" "}," "," "," "]
[28,{"$f":"IF(ESTUDIANTES!G1931=0,\"\",ESTUDIANTES!G1931)","v":""},{"$f":"IF(ESTUDIANTES!I1931=0,\" \",ESTUDIANTES!I1931)","v":" "}," "," "," "]
[29,{"$f":"IF(ESTUDIANTES!G1932=0,\"\",ESTUDIANTES!G1932)","v":""},{"$f":"IF(ESTUDIANTES!I1932=0,\" \",ESTUDIANTES!I1932)","v":" "}," "," "," "]
[30,{"$f":"IF(ESTUDIANTES!G1933=0,\"\",ESTUDIANTES!G1933)","v":""},{"$f":"IF(ESTUDIANTES!I1933=0,\" \",ESTUDIANTES!I1933)","v":" "}," "," "," "]
[31,{"$f":"IF(ESTUDIANTES!G1934=0,\"\",ESTUDIANTES!G1934)","v":""},{"$f":"IF(ESTUDIANTES!I1934=0,\" \",ESTUDIANTES!I1934)","v":" "}," "," "," "]
[32,{"$f":"IF(ESTUDIANTES!G1935=0,\"\",ESTUDIANTES!G1935)","v":""},{"$f":"IF(ESTUDIANTES!I1935=0,\" \",ESTUDIANTES!I1935)","v":" "}," "," "," "]
[33,{"$f":"IF(ESTUDIANTES!G1936=0,\"\",ESTUDIANTES!G1936)","v":""},{"$f":"IF(ESTUDIANTES!I1936=0,\" \",ESTUDIANTES!I1936)","v":" "}," "," "," "]
[34,{"$f":"IF(ESTUDIANTES!G1937=0,\"\",ESTUDIANTES!G1937)","v":""},{"$f":"IF(ESTUDIANTES!I1937=0,\" \",ESTUDIANTES!I1937)","v":" "}," "," "," "]
[35,{"$f":"IF(ESTUDIANTES!G1938=0,\"\",ESTUDIANTES!G1938)","v":""},{"$f":"IF(ESTUDIANTES!I1938=0,\" \",ESTUDIANTES!I1938)","v":" "}," "," "," "]
[36,{"$f":"IF(ESTUDIANTES!G1939=0,\"\",ESTUDIANTES!G1939)","v":""},{"$f":"IF(ESTUDIANTES!I1939=0,\" \",ESTUDIANTES!I1939)","v":" "}," "," "," "]
[37,{"$f":"IF(ESTUDIANTES!G1940=0,\"\",ESTUDIANTES!G1940)","v":""},{"$f":"IF(ESTUDIANTES!I1940=0,\" \",ESTUDIANTES!I1940)","v":" "}," "," "," "]
[38,{"$f":"IF(ESTUDIANTES!G1941=0,\"\",ESTUDIANTES!G1941)","v":""},{"$f":"IF(ESTUDIANTES!I1941=0,\" \",ESTUDIANTES!I1941)","v":" "}," "," "," "]
[39,{"$f":"IF(ESTUDIANTES!G1942=0,\"\",ESTUDIANTES!G1942)","v":""},{"$f":"IF(ESTUDIANTES!I1942=0,\" \",ESTUDIANTES!I1942)","v":" "}," "," "," "]
[40,{"$f":"IF(ESTUDIANTES!G1943=0,\"\",ESTUDIANTES!G1943)","v":""},{"$f":"IF(ESTUDIANTES!I1943=0,\" \",ESTUDIANTES!I1943)","v":" "}," "," "," "]
[41,{"$f":"IF(ESTUDIANTES!G1944=0,\"\",ESTUDIANTES!G1944)","v":""},{"$f":"IF(ESTUDIANTES!I1944=0,\" \",ESTUDIANTES!I1944)","v":" "}," "," "," "]
[42,{"$f":"IF(ESTUDIANTES!G1945=0,\"\",ESTUDIANTES!G1945)","v":""},{"$f":"IF(ESTUDIANTES!I1945=0,\" \",ESTUDIANTES!I1945)","v":" "}," "," "," "]
[43,{"$f":"IF(ESTUDIANTES!G1946=0,\"\",ESTUDIANTES!G1946)","v":""},{"$f":"IF(ESTUDIANTES!I1946=0,\" \",ESTUDIANTES!I1946)","v":" "}," "," "," "]
[44,{"$f":"IF(ESTUDIANTES!G1947=0,\"\",ESTUDIANTES!G1947)","v":""},{"$f":"IF(ESTUDIANTES!I1947=0,\" \",ESTUDIANTES!I1947)","v":" "}," "," "," "]
[45,{"$f":"IF(ESTUDIANTES!G1948=0,\"\",ESTUDIANTES!G1948)","v":""},{"$f":"IF(ESTUDIANTES!I1948=0,\" \",ESTUDIANTES!I1948)","v":" "}," "," "," "]
[46,{"$f":"IF(ESTUDIANTES!G1949=0,\"\",ESTUDIANTES!G1949)","v":""},{"$f":"IF(ESTUDIANTES!I1949=0,\" \",ESTUDIANTES!I1949)","v":" "}," "," "," "]
[47,{"$f":"IF(ESTUDIANTES!G1950=0,\"\",ESTUDIANTES!G1950)","v":""},{"$f":"IF(ESTUDIANTES!I1950=0,\" \",ESTUDIANTES!I1950)","v":" "}," "," "," "]
[48,{"$f":"IF(ESTUDIANTES!G1951=0,\"\",ESTUDIANTES!G1951)","v":""},{"$f":"IF(ESTUDIANTES!I1951=0,\" \",ESTUDIANTES!I1951)","v":" "}," "," "," "]
[49,{"$f":"IF(ESTUDIANTES!G1952=0,\"\",ESTUDIANTES!G1952)","v":""},{"$f":"IF(ESTUDIANTES!I1952=0,\" \",ESTUDIANTES!I1952)","v":" "}," "," "," "]
[50,{"$f":"IF(ESTUDIANTES!G1953=0,\"\",ESTUDIANTES!G1953)","v":""},{"$f":"IF(ESTUDIANTES!I1953=0,\" \",ESTUDIANTES!I1953)","v":" "}," "," "," "]
[]
[{"$f":"DATOS!$B$3","v":"COLEGIO BACHILLERATO PCEI \"SIN FRONTERAS\""}]
[]
[null,"GRADO/CURSO:",{"$f":"DATOS!$E42","v":0}]
[null,"NIVEL:",{"$f":"DATOS!$F42","v":0}]
[null,"PARALELO:",{"$f":"DATOS!$G42","v":0}]
[null,"TUTOR:",{"$f":"DATOS!$H42","v":0}]
[]
["Nro","NOMBRES Y APELLIDOS","F.N","AÑOS","MESES","DIAS"]
[1,{"$f":"IF(ESTUDIANTES!G1954=0,\"\",ESTUDIANTES!G1954)","v":""},{"$f":"IF(ESTUDIANTES!I1954=0,\" \",ESTUDIANTES!I1954)","v":" "},{"$f":"IFERROR(DATEDIF(C2310,TODAY(),\"Y\"),\" \")","v":" "},{"$f":"IFERROR(DATEDIF(C2310,TODAY(),\"YM\"),\" \")","v":" "},{"$f":"IFERROR(DATEDIF(C2310,TODAY(),\"MD\"),\" \")","v":" "}]
[2,{"$f":"IF(ESTUDIANTES!G1955=0,\"\",ESTUDIANTES!G1955)","v":""},{"$f":"IF(ESTUDIANTES!I1955=0,\" \",ESTUDIANTES!I1955)","v":" "},{"$f":"IFERROR(DATEDIF(C2311,TODAY(),\"Y\"),\" \")","v":" "},{"$f":"IFERROR(DATEDIF(C2311,TODAY(),\"YM\"),\" \")","v":" "},{"$f":"IFERROR(DATEDIF(C2311,TODAY(),\"MD\"),\" \")","v":" "}]
[3,{"$f":"IF(ESTUDIANTES!G1956=0,\"\",ESTUDIANTES!G1956)","v":""},{"$f":"IF(ESTUDIANTES!I1956=0,\" \",ESTUDIANTES!I1956)","v":" "}," "," "," "]
[4,{"$f":"IF(ESTUDIANTES!G1957=0,\"\",ESTUDIANTES!G1957)","v":""},{"$f":"IF(ESTUDIANTES!I1957=0,\" \",ESTUDIANTES!I1957)","v":" "}," "," "," "]
[5,{"$f":"IF(ESTUDIANTES!G1958=0,\"\",ESTUDIANTES!G1958)","v":""},{"$f":"IF(ESTUDIANTES!I1958=0,\" \",ESTUDIANTES!I1958)","v":" "}," "," "," "]
[6,{"$f":"IF(ESTUDIANTES!G1959=0,\"\",ESTUDIANTES!G1959)","v":""},{"$f":"IF(ESTUDIANTES!I1959=0,\" \",ESTUDIANTES!I1959)","v":" "}," "," "," "]
[7,{"$f":"IF(ESTUDIANTES!G1960=0,\"\",ESTUDIANTES!G1960)","v":""},{"$f":"IF(ESTUDIANTES!I1960=0,\" \",ESTUDIANTES!I1960)","v":" "}," "," "," "]
[8,{"$f":"IF(ESTUDIANTES!G1961=0,\"\",ESTUDIANTES!G1961)","v":""},{"$f":"IF(ESTUDIANTES!I1961=0,\" \",ESTUDIANTES!I1961)","v":" "}," "," "," "]
[9,{"$f":"IF(ESTUDIANTES!G1962=0,\"\",ESTUDIANTES!G1962)","v":""},{"$f":"IF(ESTUDIANTES!I1962=0,\" \",ESTUDIANTES!I1962)","v":" "}," "," "," "]
[10,{"$f":"IF(ESTUDIANTES!G1963=0,\"\",ESTUDIANTES!G1963)","v":""},{"$f":"IF(ESTUDIANTES!I1963=0,\" \",ESTUDIANTES!I1963)","v":" "}," "," "," "]
[11,{"$f":"IF(ESTUDIANTES!G1964=0,\"\",ESTUDIANTES!G1964)","v":""},{"$f":"IF(ESTUDIANTES!I1964=0,\" \",ESTUDIANTES!I1964)","v":" "}," "," "," "]
[12,{"$f":"IF(ESTUDIANTES!G1965=0,\"\",ESTUDIANTES!G1965)","v":""},{"$f":"IF(ESTUDIANTES!I1965=0,\" \",ESTUDIANTES!I1965)","v":" "}," "," "," "]
[13,{"$f":"IF(ESTUDIANTES!G1966=0,\"\",ESTUDIANTES!G1966)","v":""},{"$f":"IF(ESTUDIANTES!I1966=0,\" \",ESTUDIANTES!I1966)","v":" "}," "," "," "]
[14,{"$f":"IF(ESTUDIANTES!G1967=0,\"\",ESTUDIANTES!G1967)","v":""},{"$f":"IF(ESTUDIANTES!I1967=0,\" \",ESTUDIANTES!I1967)","v":" "}," "," "," "]
[15,{"$f":"IF(ESTUDIANTES!G1968=0,\"\",ESTUDIANTES!G1968)","v":""},{"$f":"IF(ESTUDIANTES!I1968=0,\" \",ESTUDIANTES!I1968)","v":" "}," "," "," "]
[16,{"$f":"IF(ESTUDIANTES!G1969=0,\"\",ESTUDIANTES!G1969)","v":""},{"$f":"IF(ESTUDIANTES!I1969=0,\" \",ESTUDIANTES!I1969)","v":" "}," "," "," "]
[17,{"$f":"IF(ESTUDIANTES!G1970=0,\"\",ESTUDIANTES!G1970)","v":""},{"$f":"IF(ESTUDIANTES!I1970=0,\" \",ESTUDIANTES!I1970)","v":" "}," "," "," "]
[18,{"$f":"IF(ESTUDIANTES!G1971=0,\"\",ESTUDIANTES!G1971)","v":""},{"$f":"IF(ESTUDIANTES!I1971=0,\" \",ESTUDIANTES!I1971)","v":" "}," "," "," "]
[19,{"$f":"IF(ESTUDIANTES!G1972=0,\"\",ESTUDIANTES!G1972)","v":""},{"$f":"IF(ESTUDIANTES!I1972=0,\" \",ESTUDIANTES!I1972)","v":" "}," "," "," "]
[20,{"$f":"IF(ESTUDIANTES!G1973=0,\"\",ESTUDIANTES!G1973)","v":""},{"$f":"IF(ESTUDIANTES!I1973=0,\" \",ESTUDIANTES!I1973)","v":" "}," "," "," "]
[21,{"$f":"IF(ESTUDIANTES!G1974=0,\"\",ESTUDIANTES!G1974)","v":""},{"$f":"IF(ESTUDIANTES!I1974=0,\" \",ESTUDIANTES!I1974)","v":" "}," "," "," "]
[22,{"$f":"IF(ESTUDIANTES!G1975=0,\"\",ESTUDIANTES!G1975)","v":""},{"$f":"IF(ESTUDIANTES!I1975=0,\" \",ESTUDIANTES!I1975)","v":" "}," "," "," "]
[23,{"$f":"IF(ESTUDIANTES!G1976=0,\"\",ESTUDIANTES!G1976)","v":""},{"$f":"IF(ESTUDIANTES!I1976=0,\" \",ESTUDIANTES!I1976)","v":" "}," "," "," "]
[24,{"$f":"IF(ESTUDIANTES!G1977=0,\"\",ESTUDIANTES!G1977)","v":""},{"$f":"IF(ESTUDIANTES!I1977=0,\" \",ESTUDIANTES!I1977)","v":" "}," "," "," "]
[25,{"$f":"IF(ESTUDIANTES!G1978=0,\"\",ESTUDIANTES!G1978)","v":""},{"$f":"IF(ESTUDIANTES!I1978=0,\" \",ESTUDIANTES!I1978)","v":" "}," "," "," "]
[26,{"$f":"IF(ESTUDIANTES!G1979=0,\"\",ESTUDIANTES!G1979)","v":""},{"$f":"IF(ESTUDIANTES!I1979=0,\" \",ESTUDIANTES!I1979)","v":" "}," "," "," "]
[27,{"$f":"IF(ESTUDIANTES!G1980=0,\"\",ESTUDIANTES!G1980)","v":""},{"$f":"IF(ESTUDIANTES!I1980=0,\" \",ESTUDIANTES!I1980)","v":" "}," "," "," "]
[28,{"$f":"IF(ESTUDIANTES!G1981=0,\"\",ESTUDIANTES!G1981)","v":""},{"$f":"IF(ESTUDIANTES!I1981=0,\" \",ESTUDIANTES!I1981)","v":" "}," "," "," "]
[29,{"$f":"IF(ESTUDIANTES!G1982=0,\"\",ESTUDIANTES!G1982)","v":""},{"$f":"IF(ESTUDIANTES!I1982=0,\" \",ESTUDIANTES!I1982)","v":" "}," "," "," "]
[30,{"$f":"IF(ESTUDIANTES!G1983=0,\"\",ESTUDIANTES!G1983)","v":""},{"$f":"IF(ESTUDIANTES!I1983=0,\" \",ESTUDIANTES!I1983)","v":" "}," "," "," "]
[31,{"$f":"IF(ESTUDIANTES!G1984=0,\"\",ESTUDIANTES!G1984)","v":""},{"$f":"IF(ESTUDIANTES!I1984=0,\" \",ESTUDIANTES!I1984)","v":" "}," "," "," "]
[32,{"$f":"IF(ESTUDIANTES!G1985=0,\"\",ESTUDIANTES!G1985)","v":""},{"$f":"IF(ESTUDIANTES!I1985=0,\" \",ESTUDIANTES!I1985)","v":" "}," "," "," "]
[33,{"$f":"IF(ESTUDIANTES!G1986=0,\"\",ESTUDIANTES!G1986)","v":""},{"$f":"IF(ESTUDIANTES!I1986=0,\" \",ESTUDIANTES!I1986)","v":" "}," "," "," "]
[34,{"$f":"IF(ESTUDIANTES!G1987=0,\"\",ESTUDIANTES!G1987)","v":""},{"$f":"IF(ESTUDIANTES!I1987=0,\" \",ESTUDIANTES!I1987)","v":" "}," "," "," "]
[35,{"$f":"IF(ESTUDIANTES!G1988=0,\"\",ESTUDIANTES!G1988)","v":""},{"$f":"IF(ESTUDIANTES!I1988=0,\" \",ESTUDIANTES!I1988)","v":" "}," "," "," "]
[36,{"$f":"IF(ESTUDIANTES!G1989=0,\"\",ESTUDIANTES!G1989)","v":""},{"$f":"IF(ESTUDIANTES!I1989=0,\" \",ESTUDIANTES!I1989)","v":" "}," "," "," "]
[37,{"$f":"IF(ESTUDIANTES!G1990=0,\"\",ESTUDIANTES!G1990)","v":""},{"$f":"IF(ESTUDIANTES!I1990=0,\" \",ESTUDIANTES!I1990)","v":" "}," "," "," "]
[38,{"$f":"IF(ESTUDIANTES!G1991=0,\"\",ESTUDIANTES!G1991)","v":""},{"$f":"IF(ESTUDIANTES!I1991=0,\" \",ESTUDIANTES!I1991)","v":" "}," "," "," "]
[39,{"$f":"IF(ESTUDIANTES!G1992=0,\"\",ESTUDIANTES!G1992)","v":""},{"$f":"IF(ESTUDIANTES!I1992=0,\" \",ESTUDIANTES!I1992)","v":" "}," "," "," "]
[40,{"$f":"IF(ESTUDIANTES!G1993=0,\"\",ESTUDIANTES!G1993)","v":""},{"$f":"IF(ESTUDIANTES!I1993=0,\" \",ESTUDIANTES!I1993)","v":" "}," "," "," "]
[41,{"$f":"IF(ESTUDIANTES!G1994=0,\"\",ESTUDIANTES!G1994)","v":""},{"$f":"IF(ESTUDIANTES!I1994=0,\" \",ESTUDIANTES!I1994)","v":" "}," "," "," "]
[42,{"$f":"IF(ESTUDIANTES!G1995=0,\"\",ESTUDIANTES!G1995)","v":""},{"$f":"IF(ESTUDIANTES!I1995=0,\" \",ESTUDIANTES!I1995)","v":" "}," "," "," "]
[43,{"$f":"IF(ESTUDIANTES!G1996=0,\"\",ESTUDIANTES!G1996)","v":""},{"$f":"IF(ESTUDIANTES!I1996=0,\" \",ESTUDIANTES!I1996)","v":" "}," "," "," "]
[44,{"$f":"IF(ESTUDIANTES!G1997=0,\"\",ESTUDIANTES!G1997)","v":""},{"$f":"IF(ESTUDIANTES!I1997=0,\" \",ESTUDIANTES!I1997)","v":" "}," "," "," "]
[45,{"$f":"IF(ESTUDIANTES!G1998=0,\"\",ESTUDIANTES!G1998)","v":""},{"$f":"IF(ESTUDIANTES!I1998=0,\" \",ESTUDIANTES!I1998)","v":" "}," "," "," "]
[46,{"$f":"IF(ESTUDIANTES!G1999=0,\"\",ESTUDIANTES!G1999)","v":""},{"$f":"IF(ESTUDIANTES!I1999=0,\" \",ESTUDIANTES!I1999)","v":" "}," "," "," "]
[47,{"$f":"IF(ESTUDIANTES!G2000=0,\"\",ESTUDIANTES!G2000)","v":""},{"$f":"IF(ESTUDIANTES!I2000=0,\" \",ESTUDIANTES!I2000)","v":" "}," "," "," "]
[48,{"$f":"IF(ESTUDIANTES!G2001=0,\"\",ESTUDIANTES!G2001)","v":""},{"$f":"IF(ESTUDIANTES!I2001=0,\" \",ESTUDIANTES!I2001)","v":" "}," "," "," "]
[49,{"$f":"IF(ESTUDIANTES!G2002=0,\"\",ESTUDIANTES!G2002)","v":""},{"$f":"IF(ESTUDIANTES!I2002=0,\" \",ESTUDIANTES!I2002)","v":" "}," "," "," "]
[50,{"$f":"IF(ESTUDIANTES!G2003=0,\"\",ESTUDIANTES!G2003)","v":""},{"$f":"IF(ESTUDIANTES!I2003=0,\" \",ESTUDIANTES!I2003)","v":" "}," "," "," "]

{"sheet":"ESTADISTICAS","index":7,"n_rows":64,"n_cols":10,"rows_kept":64,"cut":false,"hidden":false,"merged":[[0,3,0,9],[2,3,2,9],[4,3,4,9],[5,7,6,7],[63,1,63,3],[62,7,62,8],[63,7,63,8],[8,7,8,8],[62,1,62,3],[46,0,46,3]]}
[null,null,null,{"$f":"DATOS!B3","v":"COLEGIO BACHILLERATO PCEI \"SIN FRONTERAS\""}]
[]
[null,null,null,"ESTADÍSTICA DE ESTUDIANTES MATRICULADOS"]
[]
[null,null,null,{"$f":"DATOS!B14","v":"2024 - 2025"}]
["N","G/C","Nivel","Paralelo","F","M","TOTAL","TOTALES","FEMENINO","MASCULINO"]
[1,{"$f":"IF(DATOS!E3=0,\"\",DATOS!E3)","v":"Octavo Año"},{"$f":"IF(DATOS!F3=0,\"\",DATOS!F3)","v":"EGB"},{"$f":"IF(DATOS!G3=0,\"\",DATOS!G3)","v":""},{"$f":"COUNTIF(ESTUDIANTES!AG4:AG53,\"F\")","v":0},{"$f":"COUNTIF(ESTUDIANTES!AG4:AG53,\"M\")","v":1},{"$f":"IF(E7+F7=0,\" \",E7+F7)","v":1},null,{"$f":"E47","v":0},{"$f":"F47","v":1}]
[2,{"$f":"IF(DATOS!E4=0,\"\",DATOS!E4)","v":"Noveno Año"},{"$f":"IF(DATOS!F4=0,\"\",DATOS!F4)","v":"EGB"},{"$f":"IF(DATOS!G4=0,\"\",DATOS!G4)","v":""},{"$f":"COUNTIF(ESTUDIANTES!AG54:AG103,\"F\")","v":0},{"$f":"COUNTIF(ESTUDIANTES!AG54:AG103,\"M\")","v":0},{"$f":"IF(E8+F8=0,\" \",E8+F8)","v":" "},"PORCENTAJES",{"$f":"IFERROR((I7/$G$47),\" \")","v":0},{"$f":"IFERROR((J7/$G$47),\" \")","v":1}]
[3,{"$f":"IF(DATOS!E5=0,\"\",DATOS!E5)","v":"Décimo Año"},{"$f":"IF(DATOS!F5=0,\"\",DATOS!F5)","v":"EGB"},{"$f":"IF(DATOS!G5=0,\"\",DATOS!G5)","v":""},{"$f":"COUNTIF(ESTUDIANTES!AG104:AG153,\"F\")","v":0},{"$f":"COUNTIF(ESTUDIANTES!AG104:AG153,\"M\")","v":0}," "]
[4,{"$f":"IF(DATOS!E6=0,\"\",DATOS!E6)","v":"Primer Año"},{"$f":"IF(DATOS!F6=0,\"\",DATOS!F6)","v":"BGU"},{"$f":"IF(DATOS!G6=0,\"\",DATOS!G6)","v":""},{"$f":"COUNTIF(ESTUDIANTES!AG154:AG203,\"F\")","v":0},{"$f":"COUNTIF(ESTUDIANTES!AG154:AG203,\"M\")","v":0}," ","ETNIA","NÚMERO","PORCENTAJE"]
[5,{"$f":"IF(DATOS!E7=0,\"\",DATOS!E7)","v":"Segundo Año"},{"$f":"IF(DATOS!F7=0,\"\",DATOS!F7)","v":"BGU"},{"$f":"IF(DATOS!G7=0,\"\",DATOS!G7)","v":""},{"$f":"COUNTIF(ESTUDIANTES!AG204:AG253,\"F\")","v":0},{"$f":"COUNTIF(ESTUDIANTES!AG204:AG253,\"M\")","v":0}," ","MESTIZOS",{"$f":"COUNTIF(ESTUDIANTES!$AH$4:$AH$2003,\"MESTIZO\")","v":0},{"$f":"IFERROR((I11/$I$15),\" \")","v":0}]
[6,{"$f":"IF(DATOS!E8=0,\"\",DATOS!E8)","v":"Tercer Año"},{"$f":"IF(DATOS!F8=0,\"\",DATOS!F8)","v":"BGU"},{"$f":"IF(DATOS!G8=0,\"\",DATOS!G8)","v":""},{"$f":"COUNTIF(ESTUDIANTES!AG254:AG303,\"F\")","v":0},{"$f":"COUNTIF(ESTUDIANTES!AG254:AG303,\"M\")","v":0}," ","AFRO ECUATORIANOS",{"$f":"COUNTIF(ESTUDIANTES!$AH$4:$AH$2003,\"AFRO ECUATORIANO\")","v":1},{"$f":"IFERROR((I12/$I$15),\" \")","v":1}]
[7,{"$f":"IF(DATOS!E9=0,\"\",DATOS!E9)","v":""},{"$f":"IF(DATOS!F9=0,\"\",DATOS!F9)","v":""},{"$f":"IF(DATOS!G9=0,\"\",DATOS!G9)","v":""},{"$f":"COUNTIF(ESTUDIANTES!AG304:AG353,\"F\")","v":0},{"$f":"COUNTIF(ESTUDIANTES!AG304:AG353,\"M\")","v":0}," ","INDÍGENAS",{"$f":"COUNTIF(ESTUDIANTES!$AH$4:$AH$2003,\"INDÍGENA\")","v":0},{"$f":"IFERROR((I13/$I$15),\" \")","v":0}]
[8,{"$f":"IF(DATOS!E10=0,\"\",DATOS!E10)","v":""},{"$f":"IF(DATOS!F10=0,\"\",DATOS!F10)","v":""},{"$f":"IF(DATOS!G10=0,\"\",DATOS!G10)","v":""},{"$f":"COUNTIF(ESTUDIANTES!AG354:AG403,\"F\")","v":0},{"$f":"COUNTIF(ESTUDIANTES!AG354:AG403,\"M\")","v":0}," ","EXTRANJEROS",{"$f":"COUNTIF(ESTUDIANTES!$AH$4:$AH$2003,\"EXTRANJERO\")","v":0},{"$f":"IFERROR((I14/$I$15),\" \")","v":0}]
[9,{"$f":"IF(DATOS!E11=0,\"\",DATOS!E11)","v":""},{"$f":"IF(DATOS!F11=0,\"\",DATOS!F11)","v":""},{"$f":"IF(DATOS!G11=0,\"\",DATOS!G11)","v":""},{"$f":"COUNTIF(ESTUDIANTES!AG404:AG453,\"F\")","v":0},{"$f":"COUNTIF(ESTUDIANTES!AG404:AG453,\"M\")","v":0}," ","TOTAL",{"$f":"SUM(I11:I13)","v":1},{"$f":"SUM(J11:J14)","v":1}]
[10,{"$f":"IF(DATOS!E12=0,\"\",DATOS!E12)","v":""},{"$f":"IF(DATOS!F12=0,\"\",DATOS!F12)","v":""},{"$f":"IF(DATOS!G12=0,\"\",DATOS!G12)","v":""},{"$f":"COUNTIF(ESTUDIANTES!AG454:AG503,\"F\")","v":0},{"$f":"COUNTIF(ESTUDIANTES!AG454:AG503,\"M\")","v":0}," "]
[11,{"$f":"IF(DATOS!E13=0,\"\",DATOS!E13)","v":""},{"$f":"IF(DATOS!F13=0,\"\",DATOS!F13)","v":""},{"$f":"IF(DATOS!G13=0,\"\",DATOS!G13)","v":""},{"$f":"COUNTIF(ESTUDIANTES!AG504:AG553,\"F\")","v":0},{"$f":"COUNTIF(ESTUDIANTES!AG504:AG553,\"M\")","v":0}," "]
[12,{"$f":"IF(DATOS!E14=0,\"\",DATOS!E14)","v":""},{"$f":"IF(DATOS!F14=0,\"\",DATOS!F14)","v":""},{"$f":"IF(DATOS!G14=0,\"\",DATOS!G14)","v":""},{"$f":"COUNTIF(ESTUDIANTES!AG554:AG603,\"F\")","v":0},{"$f":"COUNTIF(ESTUDIANTES!AG554:AG603,\"M\")","v":0}," "]
[13,{"$f":"IF(DATOS!E15=0,\"\",DATOS!E15)","v":""},{"$f":"IF(DATOS!F15=0,\"\",DATOS!F15)","v":""},{"$f":"IF(DATOS!G15=0,\"\",DATOS!G15)","v":""},{"$f":"COUNTIF(ESTUDIANTES!AG604:AG653,\"F\")","v":0},{"$f":"COUNTIF(ESTUDIANTES!AG604:AG653,\"M\")","v":0}," "]
[14,{"$f":"IF(DATOS!E16=0,\"\",DATOS!E16)","v":""},{"$f":"IF(DATOS!F16=0,\"\",DATOS!F16)","v":""},{"$f":"IF(DATOS!G16=0,\"\",DATOS!G16)","v":""},{"$f":"COUNTIF(ESTUDIANTES!AG654:AG703,\"F\")","v":0},{"$f":"COUNTIF(ESTUDIANTES!AG654:AG703,\"M\")","v":0}," "]
[15,{"$f":"IF(DATOS!E17=0,\"\",DATOS!E17)","v":""},{"$f":"IF(DATOS!F17=0,\"\",DATOS!F17)","v":""},{"$f":"IF(DATOS!G17=0,\"\",DATOS!G17)","v":""},{"$f":"COUNTIF(ESTUDIANTES!AG704:AG753,\"F\")","v":0},{"$f":"COUNTIF(ESTUDIANTES!AG704:AG753,\"M\")","v":0}," "]
[16,{"$f":"IF(DATOS!E18=0,\"\",DATOS!E18)","v":""},{"$f":"IF(DATOS!F18=0,\"\",DATOS!F18)","v":""},{"$f":"IF(DATOS!G18=0,\"\",DATOS!G18)","v":""},{"$f":"COUNTIF(ESTUDIANTES!AG754:AG803,\"F\")","v":0},{"$f":"COUNTIF(ESTUDIANTES!AG754:AG803,\"M\")","v":0}," "]
[17,{"$f":"IF(DATOS!E19=0,\"\",DATOS!E19)","v":""},{"$f":"IF(DATOS!F19=0,\"\",DATOS!F19)","v":""},{"$f":"IF(DATOS!G19=0,\"\",DATOS!G19)","v":""},{"$f":"COUNTIF(ESTUDIANTES!AG804:AG853,\"F\")","v":0},{"$f":"COUNTIF(ESTUDIANTES!AG804:AG853,\"M\")","v":0}," "]
[18,{"$f":"IF(DATOS!E20=0,\"\",DATOS!E20)","v":""},{"$f":"IF(DATOS!F20=0,\"\",DATOS!F20)","v":""},{"$f":"IF(DATOS!G20=0,\"\",DATOS!G20)","v":""},{"$f":"COUNTIF(ESTUDIANTES!AG854:AG903,\"F\")","v":0},{"$f":"COUNTIF(ESTUDIANTES!AG854:AG903,\"M\")","v":0}," "]
[19,{"$f":"IF(DATOS!E21=0,\"\",DATOS!E21)","v":""},{"$f":"IF(DATOS!F21=0,\"\",DATOS!F21)","v":""},{"$f":"IF(DATOS!G21=0,\"\",DATOS!G21)","v":""},{"$f":"COUNTIF(ESTUDIANTES!AG904:AG9939,\"F\")","v":0},{"$f":"COUNTIF(ESTUDIANTES!AG904:AG9939,\"M\")","v":0}," "]
[20,{"$f":"IF(DATOS!E22=0,\"\",DATOS!E22)","v":""},{"$f":"IF(DATOS!F22=0,\"\",DATOS!F22)","v":""},{"$f":"IF(DATOS!G22=0,\"\",DATOS!G22)","v":""},{"$f":"COUNTIF(ESTUDIANTES!AG954:AG1003,\"F\")","v":0},{"$f":"COUNTIF(ESTUDIANTES!AG954:AG1003,\"M\")","v":0}," "]
[21,{"$f":"IF(DATOS!E23=0,\"\",DATOS!E23)","v":""},{"$f":"IF(DATOS!F23=0,\"\",DATOS!F23)","v":""},{"$f":"IF(DATOS!G23=0,\"\",DATOS!G23)","v":""},{"$f":"COUNTIF(ESTUDIANTES!AG1004:AG1053,\"F\")","v":0},{"$f":"COUNTIF(ESTUDIANTES!AG1004:AG1053,\"M\")","v":0}," "]
[22,{"$f":"IF(DATOS!E24=0,\"\",DATOS!E24)","v":""},{"$f":"IF(DATOS!F24=0,\"\",DATOS!F24)","v":""},{"$f":"IF(DATOS!G24=0,\"\",DATOS!G24)","v":""},{"$f":"COUNTIF(ESTUDIANTES!AG1054:AG1103,\"F\")","v":0},{"$f":"COUNTIF(ESTUDIANTES!AG1054:AG1103,\"M\")","v":0}," "]
[23,{"$f":"IF(DATOS!E25=0,\"\",DATOS!E25)","v":""},{"$f":"IF(DATOS!F25=0,\"\",DATOS!F25)","v":""},{"$f":"IF(DATOS!G25=0,\"\",DATOS!G25)","v":""},{"$f":"COUNTIF(ESTUDIANTES!AG1104:AG1153,\"F\")","v":0},{"$f":"COUNTIF(ESTUDIANTES!AG1104:AG1153,\"M\")","v":0}," "]
[24,{"$f":"IF(DATOS!E26=0,\"\",DATOS!E26)","v":""},{"$f":"IF(DATOS!F26=0,\"\",DATOS!F26)","v":""},{"$f":"IF(DATOS!G26=0,\"\",DATOS!G26)","v":""},{"$f":"COUNTIF(ESTUDIANTES!AG1154:AG1203,\"F\")","v":0},{"$f":"COUNTIF(ESTUDIANTES!AG1154:AG1203,\"M\")","v":0}," "]
[25,{"$f":"IF(DATOS!E27=0,\"\",DATOS!E27)","v":""},{"$f":"IF(DATOS!F27=0,\"\",DATOS!F27)","v":""},{"$f":"IF(DATOS!G27=0,\"\",DATOS!G27)","v":""},{"$f":"COUNTIF(ESTUDIANTES!AG1204:AG1253,\"F\")","v":0},{"$f":"COUNTIF(ESTUDIANTES!AG1204:AG1253,\"M\")","v":0}," "]
[26,{"$f":"IF(DATOS!E28=0,\"\",DATOS!E28)","v":""},{"$f":"IF(DATOS!F28=0,\"\",DATOS!F28)","v":""},{"$f":"IF(DATOS!G28=0,\"\",DATOS!G28)","v":""},{"$f":"COUNTIF(ESTUDIANTES!AG1254:AG1303,\"F\")","v":0},{"$f":"COUNTIF(ESTUDIANTES!AG1254:AG1303,\"M\")","v":0}," "]
[27,{"$f":"IF(DATOS!E29=0,\"\",DATOS!E29)","v":""},{"$f":"IF(DATOS!F29=0,\"\",DATOS!F29)","v":""},{"$f":"IF(DATOS!G29=0,\"\",DATOS!G29)","v":""},{"$f":"COUNTIF(ESTUDIANTES!AG1304:AG1353,\"F\")","v":0},{"$f":"COUNTIF(ESTUDIANTES!AG1304:AG1353,\"M\")","v":0}," "]
[28,{"$f":"IF(DATOS!E30=0,\"\",DATOS!E30)","v":""},{"$f":"IF(DATOS!F30=0,\"\",DATOS!F30)","v":""},{"$f":"IF(DATOS!G30=0,\"\",DATOS!G30)","v":""},{"$f":"COUNTIF(ESTUDIANTES!AG1354:AG1403,\"F\")","v":0},{"$f":"COUNTIF(ESTUDIANTES!AG1354:AG1403,\"M\")","v":0}," "]
[29,{"$f":"IF(DATOS!E31=0,\"\",DATOS!E31)","v":""},{"$f":"IF(DATOS!F31=0,\"\",DATOS!F31)","v":""},{"$f":"IF(DATOS!G31=0,\"\",DATOS!G31)","v":""},{"$f":"COUNTIF(ESTUDIANTES!AG1404:AG1453,\"F\")","v":0},{"$f":"COUNTIF(ESTUDIANTES!AG1404:AG1453,\"M\")","v":0}," "]
[30,{"$f":"IF(DATOS!E32=0,\"\",DATOS!E32)","v":""},{"$f":"IF(DATOS!F32=0,\"\",DATOS!F32)","v":""},{"$f":"IF(DATOS!G32=0,\"\",DATOS!G32)","v":""},{"$f":"COUNTIF(ESTUDIANTES!AG1454:AG1503,\"F\")","v":0},{"$f":"COUNTIF(ESTUDIANTES!AG1454:AG1503,\"M\")","v":0}," "]
[31,{"$f":"IF(DATOS!E33=0,\"\",DATOS!E33)","v":""},{"$f":"IF(DATOS!F33=0,\"\",DATOS!F33)","v":""},{"$f":"IF(DATOS!G33=0,\"\",DATOS!G33)","v":""},{"$f":"COUNTIF(ESTUDIANTES!AG1504:AG1553,\"F\")","v":0},{"$f":"COUNTIF(ESTUDIANTES!AG1504:AG1553,\"M\")","v":0}," "]
[32,{"$f":"IF(DATOS!E34=0,\"\",DATOS!E34)","v":""},{"$f":"IF(DATOS!F34=0,\"\",DATOS!F34)","v":""},{"$f":"IF(DATOS!G34=0,\"\",DATOS!G34)","v":""},{"$f":"COUNTIF(ESTUDIANTES!AG1554:AG1603,\"F\")","v":0},{"$f":"COUNTIF(ESTUDIANTES!AG1554:AG1603,\"M\")","v":0}," "]
[33,{"$f":"IF(DATOS!E35=0,\"\",DATOS!E35)","v":""},{"$f":"IF(DATOS!F35=0,\"\",DATOS!F35)","v":""},{"$f":"IF(DATOS!G35=0,\"\",DATOS!G35)","v":""},{"$f":"COUNTIF(ESTUDIANTES!AG1604:AG1653,\"F\")","v":0},{"$f":"COUNTIF(ESTUDIANTES!AG1604:AG1653,\"M\")","v":0}," "]
[34,{"$f":"IF(DATOS!E36=0,\"\",DATOS!E36)","v":""},{"$f":"IF(DATOS!F36=0,\"\",DATOS!F36)","v":""},{"$f":"IF(DATOS!G36=0,\"\",DATOS!G36)","v":""},{"$f":"COUNTIF(ESTUDIANTES!AG1654:AG1703,\"F\")","v":0},{"$f":"COUNTIF(ESTUDIANTES!AG1654:AG1703,\"M\")","v":0}," "]
[35,{"$f":"IF(DATOS!E37=0,\"\",DATOS!E37)","v":""},{"$f":"IF(DATOS!F37=0,\"\",DATOS!F37)","v":""},{"$f":"IF(DATOS!G37=0,\"\",DATOS!G37)","v":""},{"$f":"COUNTIF(ESTUDIANTES!AG1704:AG1753,\"F\")","v":0},{"$f":"COUNTIF(ESTUDIANTES!AG1704:AG1753,\"M\")","v":0}," "]
[36,{"$f":"IF(DATOS!E38=0,\"\",DATOS!E38)","v":""},{"$f":"IF(DATOS!F38=0,\"\",DATOS!F38)","v":""},{"$f":"IF(DATOS!G38=0,\"\",DATOS!G38)","v":""},{"$f":"COUNTIF(ESTUDIANTES!AG1754:AG1803,\"F\")","v":0},{"$f":"COUNTIF(ESTUDIANTES!AG1754:AG1803,\"M\")","v":0}," "]
[37,{"$f":"IF(DATOS!E39=0,\"\",DATOS!E39)","v":""},{"$f":"IF(DATOS!F39=0,\"\",DATOS!F39)","v":""},{"$f":"IF(DATOS!G39=0,\"\",DATOS!G39)","v":""},{"$f":"COUNTIF(ESTUDIANTES!AG1804:AG1853,\"F\")","v":0},{"$f":"COUNTIF(ESTUDIANTES!AG1804:AG1853,\"M\")","v":0}," "]
[38,{"$f":"IF(DATOS!E40=0,\"\",DATOS!E40)","v":""},{"$f":"IF(DATOS!F40=0,\"\",DATOS!F40)","v":""},{"$f":"IF(DATOS!G40=0,\"\",DATOS!G40)","v":""},{"$f":"COUNTIF(ESTUDIANTES!AG1854:AG1903,\"F\")","v":0},{"$f":"COUNTIF(ESTUDIANTES!AG1854:AG1903,\"M\")","v":0}," "]
[39,{"$f":"IF(DATOS!E41=0,\"\",DATOS!E41)","v":""},{"$f":"IF(DATOS!F41=0,\"\",DATOS!F41)","v":""},{"$f":"IF(DATOS!G41=0,\"\",DATOS!G41)","v":""},{"$f":"COUNTIF(ESTUDIANTES!AG1904:AG1953,\"F\")","v":0},{"$f":"COUNTIF(ESTUDIANTES!AG1904:AG1953,\"M\")","v":0}," "]
[40,{"$f":"IF(DATOS!E42=0,\"\",DATOS!E42)","v":""},{"$f":"IF(DATOS!F42=0,\"\",DATOS!F42)","v":""},{"$f":"IF(DATOS!G42=0,\"\",DATOS!G42)","v":""},{"$f":"COUNTIF(ESTUDIANTES!AG1954:AG2003,\"F\")","v":0},{"$f":"COUNTIF(ESTUDIANTES!AG1954:AG2003,\"M\")","v":0}," "]
["TOTALES",null,null,null,{"$f":"SUM(E7:E46)","v":0},{"$f":"SUM(F7:F46)","v":1},{"$f":"SUM(G7:G46)","v":1}]
[]
[]
[]
[]
[]
[]
[]
[]
[]
[]
[]
[]
[]
[]
[]
[null,"FIRMA",null,null,null,null,null,"FIRMA"]
[null,"FIRMA",null,null,null,null,null,"FIRMA"]